{"text_format":"1","workbook":"xlsx","n_sheets":4,"sheets":["Lisez moi","Courbes en 8","Courbes diurnes","Tracé"],"not_rendered":{"charts":2,"images":0,"macros":1,"external_links":0,"defined_names":0,"comments":0,"pivot_tables":0},"unopened":[{"sheet":"Tracé","index":3,"reason":"not_a_worksheet"}],"bounds":{"document_bytes":16777216,"sheet_cells":100000,"rows_first":2000,"rows_last":500,"rows_between":2000,"halvings":0,"cell_chars":16384,"cell_head_chars":4096},"cells_cut":0,"cells_raw":0,"read":"whole","date_system":"1900"}

{"sheet":"Lisez moi","index":0,"n_rows":6,"n_cols":2,"rows_kept":6,"cut":false,"hidden":false,"merged":[]}
["Calcul d'un cadran solaire de temps moyen"]
[]
["Ce fichier EXCEL contient toutes les fonctions nécessaires au calcul du cadran solaire."]
["Ce fichier contient 2 feuilles de calcul:"]
[null,"Courbes en 8  calcule pour toutes les heures, la position de l'ombre de l'extrémité du gnomon dans le repère cadran."]
[null,"Courbes diurnes  calcule pour une date donnée la position de l'ombre de l'extrémité du gnomon durant la journée."]

{"sheet":"Courbes en 8","index":1,"n_rows":380,"n_cols":24,"rows_kept":380,"cut":false,"hidden":false,"merged":[[8,1,9,3],[8,4,9,5],[8,6,8,23],[0,1,0,3],[9,14,9,15],[9,16,9,17],[9,18,9,19],[9,20,9,21],[9,22,9,23],[9,6,9,7],[9,8,9,9],[9,10,9,11],[9,12,9,13]]}
[null,"Données"]
[null,"latitude du lieu",47.650555555555556,{"$f":"TRUNC(C2)&\"° \"&ABS(TRUNC((C2-TRUNC(C2))*60))&\"min \"","v":"47° 39min "}]
[null,"Longitude du lieu",-7.4441666666666668,{"$f":"TRUNC(C3)&\"° \"&ABS(TRUNC((C3-TRUNC(C3))*60))&\"min \"","v":"-7° 26min "}]
[null,"Longueur gnomon",550]
[null,"déclinaison du mur",-2.0666913999999998]
[null,"inclinaison",90]
[null,"année",2010]
[null,"première heure ",8]
[null,"Dates",null,null,"Heures limites\ncalculées",null,"Coordonnées cartésiennes de l'ombre du gnomon en fonctions des heures d'été affichées par le cadran solaire"]
[null,null,null,null,null,null,{"$f":"($C$8+1)/24","v":"09:00:00"},null,{"$f":"($C$8+2)/24","v":"10:00:00"},null,{"$f":"($C$8+3)/24","v":"11:00:00"},null,{"$f":"($C$8+4)/24","v":"12:00:00"},null,{"$f":"($C$8+5)/24","v":"13:00:00"},null,{"$f":"($C$8+6)/24","v":"14:00:00"},null,{"$f":"($C$8+7)/24","v":"15:00:00"},null,{"$f":"($C$8+8)/24","v":"16:00:00"},null,{"$f":"($C$8+9)/24","v":"17:00:00"}]
[null,"jour","mois","date","matin","soir","x","y","x","y","x","y","x","y","x","y","x","y","x","y","x","y","x","y"]
[null,11,4,{"$f":"DATE($C$7,C12,B12)","v":"2010-04-11"},{"$f":"INDEX(heures_limites_cadran($D12,$C$3,$C$2,$C$5),1,1)/24","v":"08:00:00"},{"$f":"INDEX(heures_limites_cadran($D12,$C$3,$C$2,$C$5),1,2)/24","v":"18:30:00"},{"$f":"INDEX(coordonnées_cadran_plat($D12,$G$10,$C$3,$C$2,$C$5,$C$6,0,0,$C$4),1,1)","v":931.99533908417038},{"$f":"INDEX(coordonnées_cadran_plat($D12,$G$10,$C$3,$C$2,$C$5,$C$6,0,0,$C$4),1,2)","v":-2366.8186080430478},{"$f":"INDEX(coordonnées_cadran_plat($D12,I$10,$C$3,$C$2,$C$5,$C$6,0,0,$C$4),1,1)","v":752.64108799339658},{"$f":"INDEX(coordonnées_cadran_plat($D12,I$10,$C$3,$C$2,$C$5,$C$6,0,0,$C$4),1,2)","v":-1145.7658388442128},{"$f":"INDEX(coordonnées_cadran_plat($D12,K$10,$C$3,$C$2,$C$5,$C$6,0,0,$C$4),1,1)","v":695.01491947881789},{"$f":"INDEX(coordonnées_cadran_plat($D12,K$10,$C$3,$C$2,$C$5,$C$6,0,0,$C$4),1,2)","v":-646.52526369359441},{"$f":"INDEX(coordonnées_cadran_plat($D12,M$10,$C$3,$C$2,$C$5,$C$6,0,0,$C$4),1,1)","v":673.2802969957288},{"$f":"INDEX(coordonnées_cadran_plat($D12,M$10,$C$3,$C$2,$C$5,$C$6,0,0,$C$4),1,2)","v":-338.71741384105053},{"$f":"INDEX(coordonnées_cadran_plat($D12,O$10,$C$3,$C$2,$C$5,$C$6,0,0,$C$4),1,1)","v":669.5055073741039},{"$f":"INDEX(coordonnées_cadran_plat($D12,O$10,$C$3,$C$2,$C$5,$C$6,0,0,$C$4),1,2)","v":-97.875901381144132},{"$f":"INDEX(coordonnées_cadran_plat($D12,Q$10,$C$3,$C$2,$C$5,$C$6,0,0,$C$4),1,1)","v":679.59591794955861},{"$f":"INDEX(coordonnées_cadran_plat($D12,Q$10,$C$3,$C$2,$C$5,$C$6,0,0,$C$4),1,2)","v":128.96003712639845},{"$f":"INDEX(coordonnées_cadran_plat($D12,S$10,$C$3,$C$2,$C$5,$C$6,0,0,$C$4),1,1)","v":706.06694229748814},{"$f":"INDEX(coordonnées_cadran_plat($D12,S$10,$C$3,$C$2,$C$5,$C$6,0,0,$C$4),1,2)","v":383.54092566472758},{"$f":"INDEX(coordonnées_cadran_plat($D12,U$10,$C$3,$C$2,$C$5,$C$6,0,0,$C$4),1,1)","v":760.71519623852282},{"$f":"INDEX(coordonnées_cadran_plat($D12,U$10,$C$3,$C$2,$C$5,$C$6,0,0,$C$4),1,2)","v":731.64660836680105},{"$f":"INDEX(coordonnées_cadran_plat($D12,W$10,$C$3,$C$2,$C$5,$C$6,0,0,$C$4),1,1)","v":885.34325686405964},{"$f":"INDEX(coordonnées_cadran_plat($D12,W$10,$C$3,$C$2,$C$5,$C$6,0,0,$C$4),1,2)","v":1358.6629306969448}]
[null,12,4,"2010-04-12",{"$f":"INDEX(heures_limites_cadran($D13,$C$3,$C$2,$C$5),1,1)/24","v":"08:00:00"},{"$f":"INDEX(heures_limites_cadran($D13,$C$3,$C$2,$C$5),1,2)/24","v":"18:30:00"},{"$f":"INDEX(coordonnées_cadran_plat($D13,$G$10,$C$3,$C$2,$C$5,$C$6,0,0,$C$4),1,1)","v":962.70685824720454},{"$f":"INDEX(coordonnées_cadran_plat($D13,$G$10,$C$3,$C$2,$C$5,$C$6,0,0,$C$4),1,2)","v":-2407.1897090417551},{"$f":"INDEX(coordonnées_cadran_plat($D13,I$10,$C$3,$C$2,$C$5,$C$6,0,0,$C$4),1,1)","v":768.27813439370004},{"$f":"INDEX(coordonnées_cadran_plat($D13,I$10,$C$3,$C$2,$C$5,$C$6,0,0,$C$4),1,2)","v":-1156.5418610380157},{"$f":"INDEX(coordonnées_cadran_plat($D13,K$10,$C$3,$C$2,$C$5,$C$6,0,0,$C$4),1,1)","v":706.23755833894813},{"$f":"INDEX(coordonnées_cadran_plat($D13,K$10,$C$3,$C$2,$C$5,$C$6,0,0,$C$4),1,2)","v":-650.75485635507312},{"$f":"INDEX(coordonnées_cadran_plat($D13,M$10,$C$3,$C$2,$C$5,$C$6,0,0,$C$4),1,1)","v":682.73095231908849},{"$f":"INDEX(coordonnées_cadran_plat($D13,M$10,$C$3,$C$2,$C$5,$C$6,0,0,$C$4),1,2)","v":-340.24852490046163},{"$f":"INDEX(coordonnées_cadran_plat($D13,O$10,$C$3,$C$2,$C$5,$C$6,0,0,$C$4),1,1)","v":678.36837274057734},{"$f":"INDEX(coordonnées_cadran_plat($D13,O$10,$C$3,$C$2,$C$5,$C$6,0,0,$C$4),1,2)","v":-97.713143588722275},{"$f":"INDEX(coordonnées_cadran_plat($D13,Q$10,$C$3,$C$2,$C$5,$C$6,0,0,$C$4),1,1)","v":688.71193134874477},{"$f":"INDEX(coordonnées_cadran_plat($D13,Q$10,$C$3,$C$2,$C$5,$C$6,0,0,$C$4),1,2)","v":130.73556799125225},{"$f":"INDEX(coordonnées_cadran_plat($D13,S$10,$C$3,$C$2,$C$5,$C$6,0,0,$C$4),1,1)","v":716.40457192590316},{"$f":"INDEX(coordonnées_cadran_plat($D13,S$10,$C$3,$C$2,$C$5,$C$6,0,0,$C$4),1,2)","v":387.60160058221851},{"$f":"INDEX(coordonnées_cadran_plat($D13,U$10,$C$3,$C$2,$C$5,$C$6,0,0,$C$4),1,1)","v":774.03434265694773},{"$f":"INDEX(coordonnées_cadran_plat($D13,U$10,$C$3,$C$2,$C$5,$C$6,0,0,$C$4),1,2)","v":740.30404968609457},{"$f":"INDEX(coordonnées_cadran_plat($D13,W$10,$C$3,$C$2,$C$5,$C$6,0,0,$C$4),1,1)","v":906.68691642948124},{"$f":"INDEX(coordonnées_cadran_plat($D13,W$10,$C$3,$C$2,$C$5,$C$6,0,0,$C$4),1,2)","v":1381.1085116720185}]
[null,13,4,"2010-04-13",{"$f":"INDEX(heures_limites_cadran($D14,$C$3,$C$2,$C$5),1,1)/24","v":"08:00:00"},{"$f":"INDEX(heures_limites_cadran($D14,$C$3,$C$2,$C$5),1,2)/24","v":"18:30:00"},{"$f":"INDEX(coordonnées_cadran_plat($D14,$G$10,$C$3,$C$2,$C$5,$C$6,0,0,$C$4),1,1)","v":994.38175497646091},{"$f":"INDEX(coordonnées_cadran_plat($D14,$G$10,$C$3,$C$2,$C$5,$C$6,0,0,$C$4),1,2)","v":-2448.945304971161},{"$f":"INDEX(coordonnées_cadran_plat($D14,I$10,$C$3,$C$2,$C$5,$C$6,0,0,$C$4),1,1)","v":784.16661957655924},{"$f":"INDEX(coordonnées_cadran_plat($D14,I$10,$C$3,$C$2,$C$5,$C$6,0,0,$C$4),1,2)","v":-1167.5327492276256},{"$f":"INDEX(coordonnées_cadran_plat($D14,K$10,$C$3,$C$2,$C$5,$C$6,0,0,$C$4),1,1)","v":717.58606093358082},{"$f":"INDEX(coordonnées_cadran_plat($D14,K$10,$C$3,$C$2,$C$5,$C$6,0,0,$C$4),1,2)","v":-655.05551719380003},{"$f":"INDEX(coordonnées_cadran_plat($D14,M$10,$C$3,$C$2,$C$5,$C$6,0,0,$C$4),1,1)","v":692.27003376403798},{"$f":"INDEX(coordonnées_cadran_plat($D14,M$10,$C$3,$C$2,$C$5,$C$6,0,0,$C$4),1,2)","v":-341.81121964501415},{"$f":"INDEX(coordonnées_cadran_plat($D14,O$10,$C$3,$C$2,$C$5,$C$6,0,0,$C$4),1,1)","v":687.31085998229059},{"$f":"INDEX(coordonnées_cadran_plat($D14,O$10,$C$3,$C$2,$C$5,$C$6,0,0,$C$4),1,2)","v":-97.56397130145119},{"$f":"INDEX(coordonnées_cadran_plat($D14,Q$10,$C$3,$C$2,$C$5,$C$6,0,0,$C$4),1,1)","v":697.9168116048163},{"$f":"INDEX(coordonnées_cadran_plat($D14,Q$10,$C$3,$C$2,$C$5,$C$6,0,0,$C$4),1,2)","v":132.51312401168866},{"$f":"INDEX(coordonnées_cadran_plat($D14,S$10,$C$3,$C$2,$C$5,$C$6,0,0,$C$4),1,1)","v":726.86476240234947},{"$f":"INDEX(coordonnées_cadran_plat($D14,S$10,$C$3,$C$2,$C$5,$C$6,0,0,$C$4),1,2)","v":391.69229073370281},{"$f":"INDEX(coordonnées_cadran_plat($D14,U$10,$C$3,$C$2,$C$5,$C$6,0,0,$C$4),1,1)","v":787.57050569653313},{"$f":"INDEX(coordonnées_cadran_plat($D14,U$10,$C$3,$C$2,$C$5,$C$6,0,0,$C$4),1,2)","v":749.07662865103714},{"$f":"INDEX(coordonnées_cadran_plat($D14,W$10,$C$3,$C$2,$C$5,$C$6,0,0,$C$4),1,1)","v":928.59931333394843},{"$f":"INDEX(coordonnées_cadran_plat($D14,W$10,$C$3,$C$2,$C$5,$C$6,0,0,$C$4),1,2)","v":1404.1031509290638}]
[null,14,4,"2010-04-14",{"$f":"INDEX(heures_limites_cadran($D15,$C$3,$C$2,$C$5),1,1)/24","v":"08:00:00"},{"$f":"INDEX(heures_limites_cadran($D15,$C$3,$C$2,$C$5),1,2)/24","v":"18:30:00"},{"$f":"INDEX(coordonnées_cadran_plat($D15,$G$10,$C$3,$C$2,$C$5,$C$6,0,0,$C$4),1,1)","v":1027.0639602248527},{"$f":"INDEX(coordonnées_cadran_plat($D15,$G$10,$C$3,$C$2,$C$5,$C$6,0,0,$C$4),1,2)","v":-2492.1561371936905},{"$f":"INDEX(coordonnées_cadran_plat($D15,I$10,$C$3,$C$2,$C$5,$C$6,0,0,$C$4),1,1)","v":800.31023498101558},{"$f":"INDEX(coordonnées_cadran_plat($D15,I$10,$C$3,$C$2,$C$5,$C$6,0,0,$C$4),1,2)","v":-1178.7446381793015},{"$f":"INDEX(coordonnées_cadran_plat($D15,K$10,$C$3,$C$2,$C$5,$C$6,0,0,$C$4),1,1)","v":729.06035707337753},{"$f":"INDEX(coordonnées_cadran_plat($D15,K$10,$C$3,$C$2,$C$5,$C$6,0,0,$C$4),1,2)","v":-659.42908304293223},{"$f":"INDEX(coordonnées_cadran_plat($D15,M$10,$C$3,$C$2,$C$5,$C$6,0,0,$C$4),1,1)","v":701.89667280670403},{"$f":"INDEX(coordonnées_cadran_plat($D15,M$10,$C$3,$C$2,$C$5,$C$6,0,0,$C$4),1,2)","v":-343.40666808765923},{"$f":"INDEX(coordonnées_cadran_plat($D15,O$10,$C$3,$C$2,$C$5,$C$6,0,0,$C$4),1,1)","v":696.33185681353825},{"$f":"INDEX(coordonnées_cadran_plat($D15,O$10,$C$3,$C$2,$C$5,$C$6,0,0,$C$4),1,2)","v":-97.429538482086713},{"$f":"INDEX(coordonnées_cadran_plat($D15,Q$10,$C$3,$C$2,$C$5,$C$6,0,0,$C$4),1,1)","v":707.20940385222229},{"$f":"INDEX(coordonnées_cadran_plat($D15,Q$10,$C$3,$C$2,$C$5,$C$6,0,0,$C$4),1,2)","v":134.29131159818556},{"$f":"INDEX(coordonnées_cadran_plat($D15,S$10,$C$3,$C$2,$C$5,$C$6,0,0,$C$4),1,1)","v":737.44664781226822},{"$f":"INDEX(coordonnées_cadran_plat($D15,S$10,$C$3,$C$2,$C$5,$C$6,0,0,$C$4),1,2)","v":395.81121125754845},{"$f":"INDEX(coordonnées_cadran_plat($D15,U$10,$C$3,$C$2,$C$5,$C$6,0,0,$C$4),1,1)","v":801.3246311759026},{"$f":"INDEX(coordonnées_cadran_plat($D15,U$10,$C$3,$C$2,$C$5,$C$6,0,0,$C$4),1,2)","v":757.9627148570504},{"$f":"INDEX(coordonnées_cadran_plat($D15,W$10,$C$3,$C$2,$C$5,$C$6,0,0,$C$4),1,1)","v":951.09520144604016},{"$f":"INDEX(coordonnées_cadran_plat($D15,W$10,$C$3,$C$2,$C$5,$C$6,0,0,$C$4),1,2)","v":1427.6573157141522}]
[null,15,4,"2010-04-15",{"$f":"INDEX(heures_limites_cadran($D16,$C$3,$C$2,$C$5),1,1)/24","v":"08:00:00"},{"$f":"INDEX(heures_limites_cadran($D16,$C$3,$C$2,$C$5),1,2)/24","v":"18:30:00"},{"$f":"INDEX(coordonnées_cadran_plat($D16,$G$10,$C$3,$C$2,$C$5,$C$6,0,0,$C$4),1,1)","v":1060.8001458592134},{"$f":"INDEX(coordonnées_cadran_plat($D16,$G$10,$C$3,$C$2,$C$5,$C$6,0,0,$C$4),1,2)","v":-2536.8972581953271},{"$f":"INDEX(coordonnées_cadran_plat($D16,I$10,$C$3,$C$2,$C$5,$C$6,0,0,$C$4),1,1)","v":816.71265536164515},{"$f":"INDEX(coordonnées_cadran_plat($D16,I$10,$C$3,$C$2,$C$5,$C$6,0,0,$C$4),1,2)","v":-1190.1837180239197},{"$f":"INDEX(coordonnées_cadran_plat($D16,K$10,$C$3,$C$2,$C$5,$C$6,0,0,$C$4),1,1)","v":740.66025821221547},{"$f":"INDEX(coordonnées_cadran_plat($D16,K$10,$C$3,$C$2,$C$5,$C$6,0,0,$C$4),1,2)","v":-663.87735876830095},{"$f":"INDEX(coordonnées_cadran_plat($D16,M$10,$C$3,$C$2,$C$5,$C$6,0,0,$C$4),1,1)","v":711.60987409303959},{"$f":"INDEX(coordonnées_cadran_plat($D16,M$10,$C$3,$C$2,$C$5,$C$6,0,0,$C$4),1,2)","v":-345.03602234265702},{"$f":"INDEX(coordonnées_cadran_plat($D16,O$10,$C$3,$C$2,$C$5,$C$6,0,0,$C$4),1,1)","v":705.43011403393302},{"$f":"INDEX(coordonnées_cadran_plat($D16,O$10,$C$3,$C$2,$C$5,$C$6,0,0,$C$4),1,2)","v":-97.311002515979183},{"$f":"INDEX(coordonnées_cadran_plat($D16,Q$10,$C$3,$C$2,$C$5,$C$6,0,0,$C$4),1,1)","v":716.58839183158955},{"$f":"INDEX(coordonnées_cadran_plat($D16,Q$10,$C$3,$C$2,$C$5,$C$6,0,0,$C$4),1,2)","v":136.06870305841133},{"$f":"INDEX(coordonnées_cadran_plat($D16,S$10,$C$3,$C$2,$C$5,$C$6,0,0,$C$4),1,1)","v":748.14915165527896},{"$f":"INDEX(coordonnées_cadran_plat($D16,S$10,$C$3,$C$2,$C$5,$C$6,0,0,$C$4),1,2)","v":399.95648460601916},{"$f":"INDEX(coordonnées_cadran_plat($D16,U$10,$C$3,$C$2,$C$5,$C$6,0,0,$C$4),1,1)","v":815.29737578446418},{"$f":"INDEX(coordonnées_cadran_plat($D16,U$10,$C$3,$C$2,$C$5,$C$6,0,0,$C$4),1,2)","v":766.96045213337118},{"$f":"INDEX(coordonnées_cadran_plat($D16,W$10,$C$3,$C$2,$C$5,$C$6,0,0,$C$4),1,1)","v":974.18933940517275},{"$f":"INDEX(coordonnées_cadran_plat($D16,W$10,$C$3,$C$2,$C$5,$C$6,0,0,$C$4),1,2)","v":1451.781275470224}]
[null,16,4,"2010-04-16",{"$f":"INDEX(heures_limites_cadran($D17,$C$3,$C$2,$C$5),1,1)/24","v":"08:00:00"},{"$f":"INDEX(heures_limites_cadran($D17,$C$3,$C$2,$C$5),1,2)/24","v":"18:30:00"},{"$f":"INDEX(coordonnées_cadran_plat($D17,$G$10,$C$3,$C$2,$C$5,$C$6,0,0,$C$4),1,1)","v":1095.6399190057518},{"$f":"INDEX(coordonnées_cadran_plat($D17,$G$10,$C$3,$C$2,$C$5,$C$6,0,0,$C$4),1,2)","v":-2583.2483382812693},{"$f":"INDEX(coordonnées_cadran_plat($D17,I$10,$C$3,$C$2,$C$5,$C$6,0,0,$C$4),1,1)","v":833.37752445987451},{"$f":"INDEX(coordonnées_cadran_plat($D17,I$10,$C$3,$C$2,$C$5,$C$6,0,0,$C$4),1,2)","v":-1201.8562234659305},{"$f":"INDEX(coordonnées_cadran_plat($D17,K$10,$C$3,$C$2,$C$5,$C$6,0,0,$C$4),1,1)","v":752.38544622146389},{"$f":"INDEX(coordonnées_cadran_plat($D17,K$10,$C$3,$C$2,$C$5,$C$6,0,0,$C$4),1,2)","v":-668.40211105852495},{"$f":"INDEX(coordonnées_cadran_plat($D17,M$10,$C$3,$C$2,$C$5,$C$6,0,0,$C$4),1,1)","v":721.40850667933387},{"$f":"INDEX(coordonnées_cadran_plat($D17,M$10,$C$3,$C$2,$C$5,$C$6,0,0,$C$4),1,2)","v":-346.70041342569567},{"$f":"INDEX(coordonnées_cadran_plat($D17,O$10,$C$3,$C$2,$C$5,$C$6,0,0,$C$4),1,1)","v":714.60423733872358},{"$f":"INDEX(coordonnées_cadran_plat($D17,O$10,$C$3,$C$2,$C$5,$C$6,0,0,$C$4),1,2)","v":-97.209522656928669},{"$f":"INDEX(coordonnées_cadran_plat($D17,Q$10,$C$3,$C$2,$C$5,$C$6,0,0,$C$4),1,1)","v":726.05228850742333},{"$f":"INDEX(coordonnées_cadran_plat($D17,Q$10,$C$3,$C$2,$C$5,$C$6,0,0,$C$4),1,2)","v":137.84383660081696},{"$f":"INDEX(coordonnées_cadran_plat($D17,S$10,$C$3,$C$2,$C$5,$C$6,0,0,$C$4),1,1)","v":758.97097321832416},{"$f":"INDEX(coordonnées_cadran_plat($D17,S$10,$C$3,$C$2,$C$5,$C$6,0,0,$C$4),1,2)","v":404.12613738510441},{"$f":"INDEX(coordonnées_cadran_plat($D17,U$10,$C$3,$C$2,$C$5,$C$6,0,0,$C$4),1,1)","v":829.48908083852598},{"$f":"INDEX(coordonnées_cadran_plat($D17,U$10,$C$3,$C$2,$C$5,$C$6,0,0,$C$4),1,2)","v":776.06774406259899},{"$f":"INDEX(coordonnées_cadran_plat($D17,W$10,$C$3,$C$2,$C$5,$C$6,0,0,$C$4),1,1)","v":997.89643722564972},{"$f":"INDEX(coordonnées_cadran_plat($D17,W$10,$C$3,$C$2,$C$5,$C$6,0,0,$C$4),1,2)","v":1476.4850420197413}]
[null,17,4,"2010-04-17",{"$f":"INDEX(heures_limites_cadran($D18,$C$3,$C$2,$C$5),1,1)/24","v":"08:00:00"},{"$f":"INDEX(heures_limites_cadran($D18,$C$3,$C$2,$C$5),1,2)/24","v":"18:30:00"},{"$f":"INDEX(coordonnées_cadran_plat($D18,$G$10,$C$3,$C$2,$C$5,$C$6,0,0,$C$4),1,1)","v":1131.636032190444},{"$f":"INDEX(coordonnées_cadran_plat($D18,$G$10,$C$3,$C$2,$C$5,$C$6,0,0,$C$4),1,2)","v":-2631.2939977667493},{"$f":"INDEX(coordonnées_cadran_plat($D18,I$10,$C$3,$C$2,$C$5,$C$6,0,0,$C$4),1,1)","v":850.30843923595057},{"$f":"INDEX(coordonnées_cadran_plat($D18,I$10,$C$3,$C$2,$C$5,$C$6,0,0,$C$4),1,2)","v":-1213.7684217743315},{"$f":"INDEX(coordonnées_cadran_plat($D18,K$10,$C$3,$C$2,$C$5,$C$6,0,0,$C$4),1,1)","v":764.23546157121052},{"$f":"INDEX(coordonnées_cadran_plat($D18,K$10,$C$3,$C$2,$C$5,$C$6,0,0,$C$4),1,2)","v":-673.00506182513118},{"$f":"INDEX(coordonnées_cadran_plat($D18,M$10,$C$3,$C$2,$C$5,$C$6,0,0,$C$4),1,1)","v":731.29129497361066},{"$f":"INDEX(coordonnées_cadran_plat($D18,M$10,$C$3,$C$2,$C$5,$C$6,0,0,$C$4),1,2)","v":-348.40094788223871},{"$f":"INDEX(coordonnées_cadran_plat($D18,O$10,$C$3,$C$2,$C$5,$C$6,0,0,$C$4),1,1)","v":723.85267893162541},{"$f":"INDEX(coordonnées_cadran_plat($D18,O$10,$C$3,$C$2,$C$5,$C$6,0,0,$C$4),1,2)","v":-97.126258361990537},{"$f":"INDEX(coordonnées_cadran_plat($D18,Q$10,$C$3,$C$2,$C$5,$C$6,0,0,$C$4),1,1)","v":735.59942648871856},{"$f":"INDEX(coordonnées_cadran_plat($D18,Q$10,$C$3,$C$2,$C$5,$C$6,0,0,$C$4),1,2)","v":139.61521643409876},{"$f":"INDEX(coordonnées_cadran_plat($D18,S$10,$C$3,$C$2,$C$5,$C$6,0,0,$C$4),1,1)","v":769.91057358173987},{"$f":"INDEX(coordonnées_cadran_plat($D18,S$10,$C$3,$C$2,$C$5,$C$6,0,0,$C$4),1,2)","v":408.31809724949653},{"$f":"INDEX(coordonnées_cadran_plat($D18,U$10,$C$3,$C$2,$C$5,$C$6,0,0,$C$4),1,1)","v":843.89974477832675},{"$f":"INDEX(coordonnées_cadran_plat($D18,U$10,$C$3,$C$2,$C$5,$C$6,0,0,$C$4),1,2)","v":785.28223906110077},{"$f":"INDEX(coordonnées_cadran_plat($D18,W$10,$C$3,$C$2,$C$5,$C$6,0,0,$C$4),1,1)","v":1022.2310962228734},{"$f":"INDEX(coordonnées_cadran_plat($D18,W$10,$C$3,$C$2,$C$5,$C$6,0,0,$C$4),1,2)","v":1501.7783033606752}]
[null,18,4,"2010-04-18",{"$f":"INDEX(heures_limites_cadran($D19,$C$3,$C$2,$C$5),1,1)/24","v":"08:00:00"},{"$f":"INDEX(heures_limites_cadran($D19,$C$3,$C$2,$C$5),1,2)/24","v":"18:30:00"},{"$f":"INDEX(coordonnées_cadran_plat($D19,$G$10,$C$3,$C$2,$C$5,$C$6,0,0,$C$4),1,1)","v":1168.8446107253628},{"$f":"INDEX(coordonnées_cadran_plat($D19,$G$10,$C$3,$C$2,$C$5,$C$6,0,0,$C$4),1,2)","v":-2681.1241670280442},{"$f":"INDEX(coordonnées_cadran_plat($D19,I$10,$C$3,$C$2,$C$5,$C$6,0,0,$C$4),1,1)","v":867.50893255896858},{"$f":"INDEX(coordonnées_cadran_plat($D19,I$10,$C$3,$C$2,$C$5,$C$6,0,0,$C$4),1,2)","v":-1225.9265994518485},{"$f":"INDEX(coordonnées_cadran_plat($D19,K$10,$C$3,$C$2,$C$5,$C$6,0,0,$C$4),1,1)","v":776.2096909076588},{"$f":"INDEX(coordonnées_cadran_plat($D19,K$10,$C$3,$C$2,$C$5,$C$6,0,0,$C$4),1,2)","v":-677.68788119597957},{"$f":"INDEX(coordonnées_cadran_plat($D19,M$10,$C$3,$C$2,$C$5,$C$6,0,0,$C$4),1,1)","v":741.25680938596781},{"$f":"INDEX(coordonnées_cadran_plat($D19,M$10,$C$3,$C$2,$C$5,$C$6,0,0,$C$4),1,2)","v":-350.13870423812625},{"$f":"INDEX(coordonnées_cadran_plat($D19,O$10,$C$3,$C$2,$C$5,$C$6,0,0,$C$4),1,1)","v":733.17372895633855},{"$f":"INDEX(coordonnées_cadran_plat($D19,O$10,$C$3,$C$2,$C$5,$C$6,0,0,$C$4),1,2)","v":-97.062367509485156},{"$f":"INDEX(coordonnées_cadran_plat($D19,Q$10,$C$3,$C$2,$C$5,$C$6,0,0,$C$4),1,1)","v":745.22794827502014},{"$f":"INDEX(coordonnées_cadran_plat($D19,Q$10,$C$3,$C$2,$C$5,$C$6,0,0,$C$4),1,2)","v":141.38131297229327},{"$f":"INDEX(coordonnées_cadran_plat($D19,S$10,$C$3,$C$2,$C$5,$C$6,0,0,$C$4),1,1)","v":780.9661612886747},{"$f":"INDEX(coordonnées_cadran_plat($D19,S$10,$C$3,$C$2,$C$5,$C$6,0,0,$C$4),1,2)","v":412.53018987368523},{"$f":"INDEX(coordonnées_cadran_plat($D19,U$10,$C$3,$C$2,$C$5,$C$6,0,0,$C$4),1,1)","v":858.52899441748821},{"$f":"INDEX(coordonnées_cadran_plat($D19,U$10,$C$3,$C$2,$C$5,$C$6,0,0,$C$4),1,2)","v":794.60131505689878},{"$f":"INDEX(coordonnées_cadran_plat($D19,W$10,$C$3,$C$2,$C$5,$C$6,0,0,$C$4),1,1)","v":1047.2077416985569},{"$f":"INDEX(coordonnées_cadran_plat($D19,W$10,$C$3,$C$2,$C$5,$C$6,0,0,$C$4),1,2)","v":1527.6703506080989}]
[null,19,4,"2010-04-19",{"$f":"INDEX(heures_limites_cadran($D20,$C$3,$C$2,$C$5),1,1)/24","v":"08:30:00"},{"$f":"INDEX(heures_limites_cadran($D20,$C$3,$C$2,$C$5),1,2)/24","v":"18:30:00"},{"$f":"INDEX(coordonnées_cadran_plat($D20,$G$10,$C$3,$C$2,$C$5,$C$6,0,0,$C$4),1,1)","v":1207.3253989354896},{"$f":"INDEX(coordonnées_cadran_plat($D20,$G$10,$C$3,$C$2,$C$5,$C$6,0,0,$C$4),1,2)","v":-2732.8344770112967},{"$f":"INDEX(coordonnées_cadran_plat($D20,I$10,$C$3,$C$2,$C$5,$C$6,0,0,$C$4),1,1)","v":884.98245424858555},{"$f":"INDEX(coordonnées_cadran_plat($D20,I$10,$C$3,$C$2,$C$5,$C$6,0,0,$C$4),1,2)","v":-1238.3370474735823},{"$f":"INDEX(coordonnées_cadran_plat($D20,K$10,$C$3,$C$2,$C$5,$C$6,0,0,$C$4),1,1)","v":788.3073540173483},{"$f":"INDEX(coordonnées_cadran_plat($D20,K$10,$C$3,$C$2,$C$5,$C$6,0,0,$C$4),1,2)","v":-682.45218008496238},{"$f":"INDEX(coordonnées_cadran_plat($D20,M$10,$C$3,$C$2,$C$5,$C$6,0,0,$C$4),1,1)","v":751.30345669911094},{"$f":"INDEX(coordonnées_cadran_plat($D20,M$10,$C$3,$C$2,$C$5,$C$6,0,0,$C$4),1,2)","v":-351.91472926822144},{"$f":"INDEX(coordonnées_cadran_plat($D20,O$10,$C$3,$C$2,$C$5,$C$6,0,0,$C$4),1,1)","v":742.5655067655714},{"$f":"INDEX(coordonnées_cadran_plat($D20,O$10,$C$3,$C$2,$C$5,$C$6,0,0,$C$4),1,2)","v":-97.019004495716899},{"$f":"INDEX(coordonnées_cadran_plat($D20,Q$10,$C$3,$C$2,$C$5,$C$6,0,0,$C$4),1,1)","v":754.93579635429876},{"$f":"INDEX(coordonnées_cadran_plat($D20,Q$10,$C$3,$C$2,$C$5,$C$6,0,0,$C$4),1,2)","v":143.1405631560134},{"$f":"INDEX(coordonnées_cadran_plat($D20,S$10,$C$3,$C$2,$C$5,$C$6,0,0,$C$4),1,1)","v":792.13567771343651},{"$f":"INDEX(coordonnées_cadran_plat($D20,S$10,$C$3,$C$2,$C$5,$C$6,0,0,$C$4),1,2)","v":416.76013602272775},{"$f":"INDEX(coordonnées_cadran_plat($D20,U$10,$C$3,$C$2,$C$5,$C$6,0,0,$C$4),1,1)","v":873.37605496922583},{"$f":"INDEX(coordonnées_cadran_plat($D20,U$10,$C$3,$C$2,$C$5,$C$6,0,0,$C$4),1,2)","v":804.02206380865914},{"$f":"INDEX(coordonnées_cadran_plat($D20,W$10,$C$3,$C$2,$C$5,$C$6,0,0,$C$4),1,1)","v":1072.8405477989759},{"$f":"INDEX(coordonnées_cadran_plat($D20,W$10,$C$3,$C$2,$C$5,$C$6,0,0,$C$4),1,2)","v":1554.1699976021989}]
[null,20,4,"2010-04-20",{"$f":"INDEX(heures_limites_cadran($D21,$C$3,$C$2,$C$5),1,1)/24","v":"08:30:00"},{"$f":"INDEX(heures_limites_cadran($D21,$C$3,$C$2,$C$5),1,2)/24","v":"18:30:00"},{"$f":"INDEX(coordonnées_cadran_plat($D21,$G$10,$C$3,$C$2,$C$5,$C$6,0,0,$C$4),1,1)","v":1247.1420269775456},{"$f":"INDEX(coordonnées_cadran_plat($D21,$G$10,$C$3,$C$2,$C$5,$C$6,0,0,$C$4),1,2)","v":-2786.5266830566152},{"$f":"INDEX(coordonnées_cadran_plat($D21,I$10,$C$3,$C$2,$C$5,$C$6,0,0,$C$4),1,1)","v":902.73235035699781},{"$f":"INDEX(coordonnées_cadran_plat($D21,I$10,$C$3,$C$2,$C$5,$C$6,0,0,$C$4),1,2)","v":-1251.0060449817117},{"$f":"INDEX(coordonnées_cadran_plat($D21,K$10,$C$3,$C$2,$C$5,$C$6,0,0,$C$4),1,1)","v":800.52749017250358},{"$f":"INDEX(coordonnées_cadran_plat($D21,K$10,$C$3,$C$2,$C$5,$C$6,0,0,$C$4),1,2)","v":-687.2995023238351},{"$f":"INDEX(coordonnées_cadran_plat($D21,M$10,$C$3,$C$2,$C$5,$C$6,0,0,$C$4),1,1)","v":761.42947017269},{"$f":"INDEX(coordonnées_cadran_plat($D21,M$10,$C$3,$C$2,$C$5,$C$6,0,0,$C$4),1,2)","v":-353.73003407870181},{"$f":"INDEX(coordonnées_cadran_plat($D21,O$10,$C$3,$C$2,$C$5,$C$6,0,0,$C$4),1,1)","v":752.02595204935562},{"$f":"INDEX(coordonnées_cadran_plat($D21,O$10,$C$3,$C$2,$C$5,$C$6,0,0,$C$4),1,2)","v":-96.997318205156233},{"$f":"INDEX(coordonnées_cadran_plat($D21,Q$10,$C$3,$C$2,$C$5,$C$6,0,0,$C$4),1,1)","v":764.7207031825709},{"$f":"INDEX(coordonnées_cadran_plat($D21,Q$10,$C$3,$C$2,$C$5,$C$6,0,0,$C$4),1,2)","v":144.89137090009962},{"$f":"INDEX(coordonnées_cadran_plat($D21,S$10,$C$3,$C$2,$C$5,$C$6,0,0,$C$4),1,1)","v":803.41678217109597},{"$f":"INDEX(coordonnées_cadran_plat($D21,S$10,$C$3,$C$2,$C$5,$C$6,0,0,$C$4),1,2)","v":421.00554874831005},{"$f":"INDEX(coordonnées_cadran_plat($D21,U$10,$C$3,$C$2,$C$5,$C$6,0,0,$C$4),1,1)","v":888.43971888495503},{"$f":"INDEX(coordonnées_cadran_plat($D21,U$10,$C$3,$C$2,$C$5,$C$6,0,0,$C$4),1,2)","v":813.54127491755696},{"$f":"INDEX(coordonnées_cadran_plat($D21,W$10,$C$3,$C$2,$C$5,$C$6,0,0,$C$4),1,1)","v":1099.1433539392526},{"$f":"INDEX(coordonnées_cadran_plat($D21,W$10,$C$3,$C$2,$C$5,$C$6,0,0,$C$4),1,2)","v":1581.285492696135}]
[null,21,4,"2010-04-21",{"$f":"INDEX(heures_limites_cadran($D22,$C$3,$C$2,$C$5),1,1)/24","v":"08:30:00"},{"$f":"INDEX(heures_limites_cadran($D22,$C$3,$C$2,$C$5),1,2)/24","v":"18:30:00"},{"$f":"INDEX(coordonnées_cadran_plat($D22,$G$10,$C$3,$C$2,$C$5,$C$6,0,0,$C$4),1,1)","v":1288.3623001815681},{"$f":"INDEX(coordonnées_cadran_plat($D22,$G$10,$C$3,$C$2,$C$5,$C$6,0,0,$C$4),1,2)","v":-2842.3091251952833},{"$f":"INDEX(coordonnées_cadran_plat($D22,I$10,$C$3,$C$2,$C$5,$C$6,0,0,$C$4),1,1)","v":920.76184057574972},{"$f":"INDEX(coordonnées_cadran_plat($D22,I$10,$C$3,$C$2,$C$5,$C$6,0,0,$C$4),1,2)","v":-1263.9398413142228},{"$f":"INDEX(coordonnées_cadran_plat($D22,K$10,$C$3,$C$2,$C$5,$C$6,0,0,$C$4),1,1)","v":812.86894385340486},{"$f":"INDEX(coordonnées_cadran_plat($D22,K$10,$C$3,$C$2,$C$5,$C$6,0,0,$C$4),1,2)","v":-692.23131633955268},{"$f":"INDEX(coordonnées_cadran_plat($D22,M$10,$C$3,$C$2,$C$5,$C$6,0,0,$C$4),1,1)","v":771.63289939843855},{"$f":"INDEX(coordonnées_cadran_plat($D22,M$10,$C$3,$C$2,$C$5,$C$6,0,0,$C$4),1,2)","v":-355.58558999988293},{"$f":"INDEX(coordonnées_cadran_plat($D22,O$10,$C$3,$C$2,$C$5,$C$6,0,0,$C$4),1,1)","v":761.55281584766067},{"$f":"INDEX(coordonnées_cadran_plat($D22,O$10,$C$3,$C$2,$C$5,$C$6,0,0,$C$4),1,2)","v":-96.998449849751381},{"$f":"INDEX(coordonnées_cadran_plat($D22,Q$10,$C$3,$C$2,$C$5,$C$6,0,0,$C$4),1,1)","v":774.58018107946418},{"$f":"INDEX(coordonnées_cadran_plat($D22,Q$10,$C$3,$C$2,$C$5,$C$6,0,0,$C$4),1,2)","v":146.63210767897968},{"$f":"INDEX(coordonnées_cadran_plat($D22,S$10,$C$3,$C$2,$C$5,$C$6,0,0,$C$4),1,1)","v":814.80683681685832},{"$f":"INDEX(coordonnées_cadran_plat($D22,S$10,$C$3,$C$2,$C$5,$C$6,0,0,$C$4),1,2)","v":425.26393073694618},{"$f":"INDEX(coordonnées_cadran_plat($D22,U$10,$C$3,$C$2,$C$5,$C$6,0,0,$C$4),1,1)","v":903.71831355675965},{"$f":"INDEX(coordonnées_cadran_plat($D22,U$10,$C$3,$C$2,$C$5,$C$6,0,0,$C$4),1,2)","v":823.15541959464906},{"$f":"INDEX(coordonnées_cadran_plat($D22,W$10,$C$3,$C$2,$C$5,$C$6,0,0,$C$4),1,1)","v":1126.1295721724689},{"$f":"INDEX(coordonnées_cadran_plat($D22,W$10,$C$3,$C$2,$C$5,$C$6,0,0,$C$4),1,2)","v":1609.0244222402073}]
[null,22,4,"2010-04-22",{"$f":"INDEX(heures_limites_cadran($D23,$C$3,$C$2,$C$5),1,1)/24","v":"08:30:00"},{"$f":"INDEX(heures_limites_cadran($D23,$C$3,$C$2,$C$5),1,2)/24","v":"18:30:00"},{"$f":"INDEX(coordonnées_cadran_plat($D23,$G$10,$C$3,$C$2,$C$5,$C$6,0,0,$C$4),1,1)","v":1331.0585130362872},{"$f":"INDEX(coordonnées_cadran_plat($D23,$G$10,$C$3,$C$2,$C$5,$C$6,0,0,$C$4),1,2)","v":-2900.2972283889071},{"$f":"INDEX(coordonnées_cadran_plat($D23,I$10,$C$3,$C$2,$C$5,$C$6,0,0,$C$4),1,1)","v":939.07399364703576},{"$f":"INDEX(coordonnées_cadran_plat($D23,I$10,$C$3,$C$2,$C$5,$C$6,0,0,$C$4),1,2)","v":-1277.1446362407232},{"$f":"INDEX(coordonnées_cadran_plat($D23,K$10,$C$3,$C$2,$C$5,$C$6,0,0,$C$4),1,1)","v":825.33034984814083},{"$f":"INDEX(coordonnées_cadran_plat($D23,K$10,$C$3,$C$2,$C$5,$C$6,0,0,$C$4),1,2)","v":-697.24900636488292},{"$f":"INDEX(coordonnées_cadran_plat($D23,M$10,$C$3,$C$2,$C$5,$C$6,0,0,$C$4),1,1)","v":781.91159992589621},{"$f":"INDEX(coordonnées_cadran_plat($D23,M$10,$C$3,$C$2,$C$5,$C$6,0,0,$C$4),1,2)","v":-357.48232428609083},{"$f":"INDEX(coordonnées_cadran_plat($D23,O$10,$C$3,$C$2,$C$5,$C$6,0,0,$C$4),1,1)","v":771.14365147550939},{"$f":"INDEX(coordonnées_cadran_plat($D23,O$10,$C$3,$C$2,$C$5,$C$6,0,0,$C$4),1,2)","v":-97.023530673194742},{"$f":"INDEX(coordonnées_cadran_plat($D23,Q$10,$C$3,$C$2,$C$5,$C$6,0,0,$C$4),1,1)","v":784.51151207762939},{"$f":"INDEX(coordonnées_cadran_plat($D23,Q$10,$C$3,$C$2,$C$5,$C$6,0,0,$C$4),1,2)","v":148.36111326059415},{"$f":"INDEX(coordonnées_cadran_plat($D23,S$10,$C$3,$C$2,$C$5,$C$6,0,0,$C$4),1,1)","v":826.30289139071908},{"$f":"INDEX(coordonnées_cadran_plat($D23,S$10,$C$3,$C$2,$C$5,$C$6,0,0,$C$4),1,2)","v":429.53267184029266},{"$f":"INDEX(coordonnées_cadran_plat($D23,U$10,$C$3,$C$2,$C$5,$C$6,0,0,$C$4),1,1)","v":919.20966795015488},{"$f":"INDEX(coordonnées_cadran_plat($D23,U$10,$C$3,$C$2,$C$5,$C$6,0,0,$C$4),1,2)","v":832.8606342550305},{"$f":"INDEX(coordonnées_cadran_plat($D23,W$10,$C$3,$C$2,$C$5,$C$6,0,0,$C$4),1,1)","v":1153.8120848716114},{"$f":"INDEX(coordonnées_cadran_plat($D23,W$10,$C$3,$C$2,$C$5,$C$6,0,0,$C$4),1,2)","v":1637.393605279193}]
[null,23,4,"2010-04-23",{"$f":"INDEX(heures_limites_cadran($D24,$C$3,$C$2,$C$5),1,1)/24","v":"08:30:00"},{"$f":"INDEX(heures_limites_cadran($D24,$C$3,$C$2,$C$5),1,2)/24","v":"18:00:00"},{"$f":"INDEX(coordonnées_cadran_plat($D24,$G$10,$C$3,$C$2,$C$5,$C$6,0,0,$C$4),1,1)","v":1375.3077901511911},{"$f":"INDEX(coordonnées_cadran_plat($D24,$G$10,$C$3,$C$2,$C$5,$C$6,0,0,$C$4),1,2)","v":-2960.614046529653},{"$f":"INDEX(coordonnées_cadran_plat($D24,I$10,$C$3,$C$2,$C$5,$C$6,0,0,$C$4),1,1)","v":957.67170065665107},{"$f":"INDEX(coordonnées_cadran_plat($D24,I$10,$C$3,$C$2,$C$5,$C$6,0,0,$C$4),1,2)","v":-1290.6265582722733},{"$f":"INDEX(coordonnées_cadran_plat($D24,K$10,$C$3,$C$2,$C$5,$C$6,0,0,$C$4),1,1)","v":837.91011773334969},{"$f":"INDEX(coordonnées_cadran_plat($D24,K$10,$C$3,$C$2,$C$5,$C$6,0,0,$C$4),1,2)","v":-702.35386316885263},{"$f":"INDEX(coordonnées_cadran_plat($D24,M$10,$C$3,$C$2,$C$5,$C$6,0,0,$C$4),1,1)","v":792.26322268310207},{"$f":"INDEX(coordonnées_cadran_plat($D24,M$10,$C$3,$C$2,$C$5,$C$6,0,0,$C$4),1,2)","v":-359.42111562187932},{"$f":"INDEX(coordonnées_cadran_plat($D24,O$10,$C$3,$C$2,$C$5,$C$6,0,0,$C$4),1,1)","v":780.79580539273957},{"$f":"INDEX(coordonnées_cadran_plat($D24,O$10,$C$3,$C$2,$C$5,$C$6,0,0,$C$4),1,2)","v":-97.073679515966703},{"$f":"INDEX(coordonnées_cadran_plat($D24,Q$10,$C$3,$C$2,$C$5,$C$6,0,0,$C$4),1,1)","v":794.51173776891346},{"$f":"INDEX(coordonnées_cadran_plat($D24,Q$10,$C$3,$C$2,$C$5,$C$6,0,0,$C$4),1,2)","v":150.07669660108002},{"$f":"INDEX(coordonnées_cadran_plat($D24,S$10,$C$3,$C$2,$C$5,$C$6,0,0,$C$4),1,1)","v":837.90166787097621},{"$f":"INDEX(coordonnées_cadran_plat($D24,S$10,$C$3,$C$2,$C$5,$C$6,0,0,$C$4),1,2)","v":433.80904681875694},{"$f":"INDEX(coordonnées_cadran_plat($D24,U$10,$C$3,$C$2,$C$5,$C$6,0,0,$C$4),1,1)","v":934.91107825185293},{"$f":"INDEX(coordonnées_cadran_plat($D24,U$10,$C$3,$C$2,$C$5,$C$6,0,0,$C$4),1,2)","v":842.65270402114277},{"$f":"INDEX(coordonnées_cadran_plat($D24,W$10,$C$3,$C$2,$C$5,$C$6,0,0,$C$4),1,1)","v":1182.2031320917931},{"$f":"INDEX(coordonnées_cadran_plat($D24,W$10,$C$3,$C$2,$C$5,$C$6,0,0,$C$4),1,2)","v":1666.3989790026546}]
[null,24,4,"2010-04-24",{"$f":"INDEX(heures_limites_cadran($D25,$C$3,$C$2,$C$5),1,1)/24","v":"08:30:00"},{"$f":"INDEX(heures_limites_cadran($D25,$C$3,$C$2,$C$5),1,2)/24","v":"18:00:00"},{"$f":"INDEX(coordonnées_cadran_plat($D25,$G$10,$C$3,$C$2,$C$5,$C$6,0,0,$C$4),1,1)","v":1421.1924567679694},{"$f":"INDEX(coordonnées_cadran_plat($D25,$G$10,$C$3,$C$2,$C$5,$C$6,0,0,$C$4),1,2)","v":-3023.3908544269798},{"$f":"INDEX(coordonnées_cadran_plat($D25,I$10,$C$3,$C$2,$C$5,$C$6,0,0,$C$4),1,1)","v":976.55764608199536},{"$f":"INDEX(coordonnées_cadran_plat($D25,I$10,$C$3,$C$2,$C$5,$C$6,0,0,$C$4),1,2)","v":-1304.3916409065796},{"$f":"INDEX(coordonnées_cadran_plat($D25,K$10,$C$3,$C$2,$C$5,$C$6,0,0,$C$4),1,1)","v":850.60641574389422},{"$f":"INDEX(coordonnées_cadran_plat($D25,K$10,$C$3,$C$2,$C$5,$C$6,0,0,$C$4),1,2)","v":-707.54707429633515},{"$f":"INDEX(coordonnées_cadran_plat($D25,M$10,$C$3,$C$2,$C$5,$C$6,0,0,$C$4),1,1)","v":802.68520321932976},{"$f":"INDEX(coordonnées_cadran_plat($D25,M$10,$C$3,$C$2,$C$5,$C$6,0,0,$C$4),1,2)","v":-361.40278943280822},{"$f":"INDEX(coordonnées_cadran_plat($D25,O$10,$C$3,$C$2,$C$5,$C$6,0,0,$C$4),1,1)","v":790.50640805387457},{"$f":"INDEX(coordonnées_cadran_plat($D25,O$10,$C$3,$C$2,$C$5,$C$6,0,0,$C$4),1,2)","v":-97.150000238217004},{"$f":"INDEX(coordonnées_cadran_plat($D25,Q$10,$C$3,$C$2,$C$5,$C$6,0,0,$C$4),1,1)","v":804.57764919447743},{"$f":"INDEX(coordonnées_cadran_plat($D25,Q$10,$C$3,$C$2,$C$5,$C$6,0,0,$C$4),1,2)","v":151.77713691111379},{"$f":"INDEX(coordonnées_cadran_plat($D25,S$10,$C$3,$C$2,$C$5,$C$6,0,0,$C$4),1,1)","v":849.59954510700118},{"$f":"INDEX(coordonnées_cadran_plat($D25,S$10,$C$3,$C$2,$C$5,$C$6,0,0,$C$4),1,2)","v":438.09021333231448},{"$f":"INDEX(coordonnées_cadran_plat($D25,U$10,$C$3,$C$2,$C$5,$C$6,0,0,$C$4),1,1)","v":950.81927263654802},{"$f":"INDEX(coordonnées_cadran_plat($D25,U$10,$C$3,$C$2,$C$5,$C$6,0,0,$C$4),1,2)","v":852.5270462306147},{"$f":"INDEX(coordonnées_cadran_plat($D25,W$10,$C$3,$C$2,$C$5,$C$6,0,0,$C$4),1,1)","v":1211.3141879856178},{"$f":"INDEX(coordonnées_cadran_plat($D25,W$10,$C$3,$C$2,$C$5,$C$6,0,0,$C$4),1,2)","v":1696.045474503642}]
[null,25,4,"2010-04-25",{"$f":"INDEX(heures_limites_cadran($D26,$C$3,$C$2,$C$5),1,1)/24","v":"08:30:00"},{"$f":"INDEX(heures_limites_cadran($D26,$C$3,$C$2,$C$5),1,2)/24","v":"18:00:00"},{"$f":"INDEX(coordonnées_cadran_plat($D26,$G$10,$C$3,$C$2,$C$5,$C$6,0,0,$C$4),1,1)","v":1468.8004416481861},{"$f":"INDEX(coordonnées_cadran_plat($D26,$G$10,$C$3,$C$2,$C$5,$C$6,0,0,$C$4),1,2)","v":-3088.7677924255777},{"$f":"INDEX(coordonnées_cadran_plat($D26,I$10,$C$3,$C$2,$C$5,$C$6,0,0,$C$4),1,1)","v":995.73427646702226},{"$f":"INDEX(coordonnées_cadran_plat($D26,I$10,$C$3,$C$2,$C$5,$C$6,0,0,$C$4),1,2)","v":-1318.4457966648902},{"$f":"INDEX(coordonnées_cadran_plat($D26,K$10,$C$3,$C$2,$C$5,$C$6,0,0,$C$4),1,1)","v":863.41715404485763},{"$f":"INDEX(coordonnées_cadran_plat($D26,K$10,$C$3,$C$2,$C$5,$C$6,0,0,$C$4),1,2)","v":-712.829713808056},{"$f":"INDEX(coordonnées_cadran_plat($D26,M$10,$C$3,$C$2,$C$5,$C$6,0,0,$C$4),1,1)","v":813.17475080216661},{"$f":"INDEX(coordonnées_cadran_plat($D26,M$10,$C$3,$C$2,$C$5,$C$6,0,0,$C$4),1,2)","v":-363.42811300202339},{"$f":"INDEX(coordonnées_cadran_plat($D26,O$10,$C$3,$C$2,$C$5,$C$6,0,0,$C$4),1,1)","v":800.27236477785107},{"$f":"INDEX(coordonnées_cadran_plat($D26,O$10,$C$3,$C$2,$C$5,$C$6,0,0,$C$4),1,2)","v":-97.253578997288002},{"$f":"INDEX(coordonnées_cadran_plat($D26,Q$10,$C$3,$C$2,$C$5,$C$6,0,0,$C$4),1,1)","v":814.70577683094052},{"$f":"INDEX(coordonnées_cadran_plat($D26,Q$10,$C$3,$C$2,$C$5,$C$6,0,0,$C$4),1,2)","v":153.46068490599646},{"$f":"INDEX(coordonnées_cadran_plat($D26,S$10,$C$3,$C$2,$C$5,$C$6,0,0,$C$4),1,1)","v":861.3925435109237},{"$f":"INDEX(coordonnées_cadran_plat($D26,S$10,$C$3,$C$2,$C$5,$C$6,0,0,$C$4),1,2)","v":442.3732102135354},{"$f":"INDEX(coordonnées_cadran_plat($D26,U$10,$C$3,$C$2,$C$5,$C$6,0,0,$C$4),1,1)","v":966.93037527773731},{"$f":"INDEX(coordonnées_cadran_plat($D26,U$10,$C$3,$C$2,$C$5,$C$6,0,0,$C$4),1,2)","v":862.47869405354754},{"$f":"INDEX(coordonnées_cadran_plat($D26,W$10,$C$3,$C$2,$C$5,$C$6,0,0,$C$4),1,1)","v":1241.1558256650403},{"$f":"INDEX(coordonnées_cadran_plat($D26,W$10,$C$3,$C$2,$C$5,$C$6,0,0,$C$4),1,2)","v":1726.3368824480508}]
[null,26,4,"2010-04-26",{"$f":"INDEX(heures_limites_cadran($D27,$C$3,$C$2,$C$5),1,1)/24","v":"08:30:00"},{"$f":"INDEX(heures_limites_cadran($D27,$C$3,$C$2,$C$5),1,2)/24","v":"18:00:00"},{"$f":"INDEX(coordonnées_cadran_plat($D27,$G$10,$C$3,$C$2,$C$5,$C$6,0,0,$C$4),1,1)","v":1518.2257154498593},{"$f":"INDEX(coordonnées_cadran_plat($D27,$G$10,$C$3,$C$2,$C$5,$C$6,0,0,$C$4),1,2)","v":-3156.8945687758182},{"$f":"INDEX(coordonnées_cadran_plat($D27,I$10,$C$3,$C$2,$C$5,$C$6,0,0,$C$4),1,1)","v":1015.2037665940169},{"$f":"INDEX(coordonnées_cadran_plat($D27,I$10,$C$3,$C$2,$C$5,$C$6,0,0,$C$4),1,2)","v":-1332.7947887715347},{"$f":"INDEX(coordonnées_cadran_plat($D27,K$10,$C$3,$C$2,$C$5,$C$6,0,0,$C$4),1,1)","v":876.3399674242894},{"$f":"INDEX(coordonnées_cadran_plat($D27,K$10,$C$3,$C$2,$C$5,$C$6,0,0,$C$4),1,2)","v":-718.20273151434583},{"$f":"INDEX(coordonnées_cadran_plat($D27,M$10,$C$3,$C$2,$C$5,$C$6,0,0,$C$4),1,1)","v":823.72883740502084},{"$f":"INDEX(coordonnées_cadran_plat($D27,M$10,$C$3,$C$2,$C$5,$C$6,0,0,$C$4),1,2)","v":-365.497790393652},{"$f":"INDEX(coordonnées_cadran_plat($D27,O$10,$C$3,$C$2,$C$5,$C$6,0,0,$C$4),1,1)","v":810.09034668142192},{"$f":"INDEX(coordonnées_cadran_plat($D27,O$10,$C$3,$C$2,$C$5,$C$6,0,0,$C$4),1,2)","v":-97.385481378306295},{"$f":"INDEX(coordonnées_cadran_plat($D27,Q$10,$C$3,$C$2,$C$5,$C$6,0,0,$C$4),1,1)","v":824.89238072945875},{"$f":"INDEX(coordonnées_cadran_plat($D27,Q$10,$C$3,$C$2,$C$5,$C$6,0,0,$C$4),1,2)","v":155.12556425171502},{"$f":"INDEX(coordonnées_cadran_plat($D27,S$10,$C$3,$C$2,$C$5,$C$6,0,0,$C$4),1,1)","v":873.27630989561897},{"$f":"INDEX(coordonnées_cadran_plat($D27,S$10,$C$3,$C$2,$C$5,$C$6,0,0,$C$4),1,2)","v":446.65495606082737},{"$f":"INDEX(coordonnées_cadran_plat($D27,U$10,$C$3,$C$2,$C$5,$C$6,0,0,$C$4),1,1)","v":983.23986975080231},{"$f":"INDEX(coordonnées_cadran_plat($D27,U$10,$C$3,$C$2,$C$5,$C$6,0,0,$C$4),1,2)","v":872.5022803398216},{"$f":"INDEX(coordonnées_cadran_plat($D27,W$10,$C$3,$C$2,$C$5,$C$6,0,0,$C$4),1,1)","v":1271.7375699325337},{"$f":"INDEX(coordonnées_cadran_plat($D27,W$10,$C$3,$C$2,$C$5,$C$6,0,0,$C$4),1,2)","v":1757.2757082991693}]
[null,27,4,"2010-04-27",{"$f":"INDEX(heures_limites_cadran($D28,$C$3,$C$2,$C$5),1,1)/24","v":"08:30:00"},{"$f":"INDEX(heures_limites_cadran($D28,$C$3,$C$2,$C$5),1,2)/24","v":"18:00:00"},{"$f":"INDEX(coordonnées_cadran_plat($D28,$G$10,$C$3,$C$2,$C$5,$C$6,0,0,$C$4),1,1)","v":1569.5687680183453},{"$f":"INDEX(coordonnées_cadran_plat($D28,$G$10,$C$3,$C$2,$C$5,$C$6,0,0,$C$4),1,2)","v":-3227.9312254088268},{"$f":"INDEX(coordonnées_cadran_plat($D28,I$10,$C$3,$C$2,$C$5,$C$6,0,0,$C$4),1,1)","v":1034.9679830228647},{"$f":"INDEX(coordonnées_cadran_plat($D28,I$10,$C$3,$C$2,$C$5,$C$6,0,0,$C$4),1,2)","v":-1347.4442003239801},{"$f":"INDEX(coordonnées_cadran_plat($D28,K$10,$C$3,$C$2,$C$5,$C$6,0,0,$C$4),1,1)","v":889.37219743148569},{"$f":"INDEX(coordonnées_cadran_plat($D28,K$10,$C$3,$C$2,$C$5,$C$6,0,0,$C$4),1,2)","v":-723.66694169823347},{"$f":"INDEX(coordonnées_cadran_plat($D28,M$10,$C$3,$C$2,$C$5,$C$6,0,0,$C$4),1,1)","v":834.3441866265332},{"$f":"INDEX(coordonnées_cadran_plat($D28,M$10,$C$3,$C$2,$C$5,$C$6,0,0,$C$4),1,2)","v":-367.61245718732431},{"$f":"INDEX(coordonnées_cadran_plat($D28,O$10,$C$3,$C$2,$C$5,$C$6,0,0,$C$4),1,1)","v":819.95678172420617},{"$f":"INDEX(coordonnées_cadran_plat($D28,O$10,$C$3,$C$2,$C$5,$C$6,0,0,$C$4),1,2)","v":-97.546749375688876},{"$f":"INDEX(coordonnées_cadran_plat($D28,Q$10,$C$3,$C$2,$C$5,$C$6,0,0,$C$4),1,1)","v":835.1334408700443},{"$f":"INDEX(coordonnées_cadran_plat($D28,Q$10,$C$3,$C$2,$C$5,$C$6,0,0,$C$4),1,2)","v":156.76997321789116},{"$f":"INDEX(coordonnées_cadran_plat($D28,S$10,$C$3,$C$2,$C$5,$C$6,0,0,$C$4),1,1)","v":885.24610255560401},{"$f":"INDEX(coordonnées_cadran_plat($D28,S$10,$C$3,$C$2,$C$5,$C$6,0,0,$C$4),1,2)","v":450.93224819103688},{"$f":"INDEX(coordonnées_cadran_plat($D28,U$10,$C$3,$C$2,$C$5,$C$6,0,0,$C$4),1,1)","v":999.74256200088018},{"$f":"INDEX(coordonnées_cadran_plat($D28,U$10,$C$3,$C$2,$C$5,$C$6,0,0,$C$4),1,2)","v":882.59202182900276},{"$f":"INDEX(coordonnées_cadran_plat($D28,W$10,$C$3,$C$2,$C$5,$C$6,0,0,$C$4),1,1)","v":1303.0677373543851},{"$f":"INDEX(coordonnées_cadran_plat($D28,W$10,$C$3,$C$2,$C$5,$C$6,0,0,$C$4),1,2)","v":1788.8630168163181}]
[null,28,4,"2010-04-28",{"$f":"INDEX(heures_limites_cadran($D29,$C$3,$C$2,$C$5),1,1)/24","v":"08:30:00"},{"$f":"INDEX(heures_limites_cadran($D29,$C$3,$C$2,$C$5),1,2)/24","v":"18:00:00"},{"$f":"INDEX(coordonnées_cadran_plat($D29,$G$10,$C$3,$C$2,$C$5,$C$6,0,0,$C$4),1,1)","v":1622.9371283602068},{"$f":"INDEX(coordonnées_cadran_plat($D29,$G$10,$C$3,$C$2,$C$5,$C$6,0,0,$C$4),1,2)","v":-3302.0489733410109},{"$f":"INDEX(coordonnées_cadran_plat($D29,I$10,$C$3,$C$2,$C$5,$C$6,0,0,$C$4),1,1)","v":1055.0284448699688},{"$f":"INDEX(coordonnées_cadran_plat($D29,I$10,$C$3,$C$2,$C$5,$C$6,0,0,$C$4),1,2)","v":-1362.3994007997378},{"$f":"INDEX(coordonnées_cadran_plat($D29,K$10,$C$3,$C$2,$C$5,$C$6,0,0,$C$4),1,1)","v":902.51087399266896},{"$f":"INDEX(coordonnées_cadran_plat($D29,K$10,$C$3,$C$2,$C$5,$C$6,0,0,$C$4),1,2)","v":-729.2230113276504},{"$f":"INDEX(coordonnées_cadran_plat($D29,M$10,$C$3,$C$2,$C$5,$C$6,0,0,$C$4),1,1)","v":845.0172625876985},{"$f":"INDEX(coordonnées_cadran_plat($D29,M$10,$C$3,$C$2,$C$5,$C$6,0,0,$C$4),1,2)","v":-369.77267502744013},{"$f":"INDEX(coordonnées_cadran_plat($D29,O$10,$C$3,$C$2,$C$5,$C$6,0,0,$C$4),1,1)","v":829.86784591794242},{"$f":"INDEX(coordonnées_cadran_plat($D29,O$10,$C$3,$C$2,$C$5,$C$6,0,0,$C$4),1,2)","v":-97.738398225950206},{"$f":"INDEX(coordonnées_cadran_plat($D29,Q$10,$C$3,$C$2,$C$5,$C$6,0,0,$C$4),1,1)","v":845.42464779824456},{"$f":"INDEX(coordonnées_cadran_plat($D29,Q$10,$C$3,$C$2,$C$5,$C$6,0,0,$C$4),1,2)","v":158.39208654961681},{"$f":"INDEX(coordonnées_cadran_plat($D29,S$10,$C$3,$C$2,$C$5,$C$6,0,0,$C$4),1,1)","v":897.29677669633088},{"$f":"INDEX(coordonnées_cadran_plat($D29,S$10,$C$3,$C$2,$C$5,$C$6,0,0,$C$4),1,2)","v":455.20176199236317},{"$f":"INDEX(coordonnées_cadran_plat($D29,U$10,$C$3,$C$2,$C$5,$C$6,0,0,$C$4),1,1)","v":1016.4325430744495},{"$f":"INDEX(coordonnées_cadran_plat($D29,U$10,$C$3,$C$2,$C$5,$C$6,0,0,$C$4),1,2)","v":892.74170386878814},{"$f":"INDEX(coordonnées_cadran_plat($D29,W$10,$C$3,$C$2,$C$5,$C$6,0,0,$C$4),1,1)","v":1335.1532632136871},{"$f":"INDEX(coordonnées_cadran_plat($D29,W$10,$C$3,$C$2,$C$5,$C$6,0,0,$C$4),1,2)","v":1821.0982656272379}]
[null,29,4,"2010-04-29",{"$f":"INDEX(heures_limites_cadran($D30,$C$3,$C$2,$C$5),1,1)/24","v":"08:30:00"},{"$f":"INDEX(heures_limites_cadran($D30,$C$3,$C$2,$C$5),1,2)/24","v":"18:00:00"},{"$f":"INDEX(coordonnées_cadran_plat($D30,$G$10,$C$3,$C$2,$C$5,$C$6,0,0,$C$4),1,1)","v":1678.4459314424248},{"$f":"INDEX(coordonnées_cadran_plat($D30,$G$10,$C$3,$C$2,$C$5,$C$6,0,0,$C$4),1,2)","v":-3379.4311045693626},{"$f":"INDEX(coordonnées_cadran_plat($D30,I$10,$C$3,$C$2,$C$5,$C$6,0,0,$C$4),1,1)","v":1075.3862817000702},{"$f":"INDEX(coordonnées_cadran_plat($D30,I$10,$C$3,$C$2,$C$5,$C$6,0,0,$C$4),1,2)","v":-1377.6655097395621},{"$f":"INDEX(coordonnées_cadran_plat($D30,K$10,$C$3,$C$2,$C$5,$C$6,0,0,$C$4),1,1)","v":915.75269654322517},{"$f":"INDEX(coordonnées_cadran_plat($D30,K$10,$C$3,$C$2,$C$5,$C$6,0,0,$C$4),1,2)","v":-734.87144775914999},{"$f":"INDEX(coordonnées_cadran_plat($D30,M$10,$C$3,$C$2,$C$5,$C$6,0,0,$C$4),1,1)","v":855.74425885837491},{"$f":"INDEX(coordonnées_cadran_plat($D30,M$10,$C$3,$C$2,$C$5,$C$6,0,0,$C$4),1,2)","v":-371.97892599497129},{"$f":"INDEX(coordonnées_cadran_plat($D30,O$10,$C$3,$C$2,$C$5,$C$6,0,0,$C$4),1,1)","v":839.81945475680732},{"$f":"INDEX(coordonnées_cadran_plat($D30,O$10,$C$3,$C$2,$C$5,$C$6,0,0,$C$4),1,2)","v":-97.961413091604854},{"$f":"INDEX(coordonnées_cadran_plat($D30,Q$10,$C$3,$C$2,$C$5,$C$6,0,0,$C$4),1,1)","v":855.76139361653031},{"$f":"INDEX(coordonnées_cadran_plat($D30,Q$10,$C$3,$C$2,$C$5,$C$6,0,0,$C$4),1,2)","v":159.99005756948458},{"$f":"INDEX(coordonnées_cadran_plat($D30,S$10,$C$3,$C$2,$C$5,$C$6,0,0,$C$4),1,1)","v":909.42277032629147},{"$f":"INDEX(coordonnées_cadran_plat($D30,S$10,$C$3,$C$2,$C$5,$C$6,0,0,$C$4),1,2)","v":459.46005071992846},{"$f":"INDEX(coordonnées_cadran_plat($D30,U$10,$C$3,$C$2,$C$5,$C$6,0,0,$C$4),1,1)","v":1033.3031518414341},{"$f":"INDEX(coordonnées_cadran_plat($D30,U$10,$C$3,$C$2,$C$5,$C$6,0,0,$C$4),1,2)","v":902.94466580386768},{"$f":"INDEX(coordonnées_cadran_plat($D30,W$10,$C$3,$C$2,$C$5,$C$6,0,0,$C$4),1,1)","v":1367.9995149694344},{"$f":"INDEX(coordonnées_cadran_plat($D30,W$10,$C$3,$C$2,$C$5,$C$6,0,0,$C$4),1,2)","v":1853.9791277852928}]
[null,30,4,"2010-04-30",{"$f":"INDEX(heures_limites_cadran($D31,$C$3,$C$2,$C$5),1,1)/24","v":"08:30:00"},{"$f":"INDEX(heures_limites_cadran($D31,$C$3,$C$2,$C$5),1,2)/24","v":"18:00:00"},{"$f":"INDEX(coordonnées_cadran_plat($D31,$G$10,$C$3,$C$2,$C$5,$C$6,0,0,$C$4),1,1)","v":1736.2185363710614},{"$f":"INDEX(coordonnées_cadran_plat($D31,$G$10,$C$3,$C$2,$C$5,$C$6,0,0,$C$4),1,2)","v":-3460.2739880138711},{"$f":"INDEX(coordonnées_cadran_plat($D31,I$10,$C$3,$C$2,$C$5,$C$6,0,0,$C$4),1,1)","v":1096.0421884130576},{"$f":"INDEX(coordonnées_cadran_plat($D31,I$10,$C$3,$C$2,$C$5,$C$6,0,0,$C$4),1,2)","v":-1393.2473574556145},{"$f":"INDEX(coordonnées_cadran_plat($D31,K$10,$C$3,$C$2,$C$5,$C$6,0,0,$C$4),1,1)","v":929.09401472437514},{"$f":"INDEX(coordonnées_cadran_plat($D31,K$10,$C$3,$C$2,$C$5,$C$6,0,0,$C$4),1,2)","v":-740.61258594034325},{"$f":"INDEX(coordonnées_cadran_plat($D31,M$10,$C$3,$C$2,$C$5,$C$6,0,0,$C$4),1,1)","v":866.5210874704868},{"$f":"INDEX(coordonnées_cadran_plat($D31,M$10,$C$3,$C$2,$C$5,$C$6,0,0,$C$4),1,2)","v":-374.23160681036256},{"$f":"INDEX(coordonnées_cadran_plat($D31,O$10,$C$3,$C$2,$C$5,$C$6,0,0,$C$4),1,1)","v":849.80725493048749},{"$f":"INDEX(coordonnées_cadran_plat($D31,O$10,$C$3,$C$2,$C$5,$C$6,0,0,$C$4),1,2)","v":-98.216745597960369},{"$f":"INDEX(coordonnées_cadran_plat($D31,Q$10,$C$3,$C$2,$C$5,$C$6,0,0,$C$4),1,1)","v":866.1387634081027},{"$f":"INDEX(coordonnées_cadran_plat($D31,Q$10,$C$3,$C$2,$C$5,$C$6,0,0,$C$4),1,2)","v":161.56202052019546},{"$f":"INDEX(coordonnées_cadran_plat($D31,S$10,$C$3,$C$2,$C$5,$C$6,0,0,$C$4),1,1)","v":921.61809073574091},{"$f":"INDEX(coordonnées_cadran_plat($D31,S$10,$C$3,$C$2,$C$5,$C$6,0,0,$C$4),1,2)","v":463.70354577809422},{"$f":"INDEX(coordonnées_cadran_plat($D31,U$10,$C$3,$C$2,$C$5,$C$6,0,0,$C$4),1,1)","v":1050.3469379630392},{"$f":"INDEX(coordonnées_cadran_plat($D31,U$10,$C$3,$C$2,$C$5,$C$6,0,0,$C$4),1,2)","v":913.1937872092816},{"$f":"INDEX(coordonnées_cadran_plat($D31,W$10,$C$3,$C$2,$C$5,$C$6,0,0,$C$4),1,1)","v":1401.6100919605162},{"$f":"INDEX(coordonnées_cadran_plat($D31,W$10,$C$3,$C$2,$C$5,$C$6,0,0,$C$4),1,2)","v":1887.5013033499843}]
[null,1,5,"2010-05-01",{"$f":"INDEX(heures_limites_cadran($D32,$C$3,$C$2,$C$5),1,1)/24","v":"08:30:00"},{"$f":"INDEX(heures_limites_cadran($D32,$C$3,$C$2,$C$5),1,2)/24","v":"18:00:00"},{"$f":"INDEX(coordonnées_cadran_plat($D32,$G$10,$C$3,$C$2,$C$5,$C$6,0,0,$C$4),1,1)","v":1796.3872009457832},{"$f":"INDEX(coordonnées_cadran_plat($D32,$G$10,$C$3,$C$2,$C$5,$C$6,0,0,$C$4),1,2)","v":-3544.7881578203878},{"$f":"INDEX(coordonnées_cadran_plat($D32,I$10,$C$3,$C$2,$C$5,$C$6,0,0,$C$4),1,1)","v":1116.996377010794},{"$f":"INDEX(coordonnées_cadran_plat($D32,I$10,$C$3,$C$2,$C$5,$C$6,0,0,$C$4),1,2)","v":-1409.1494426039669},{"$f":"INDEX(coordonnées_cadran_plat($D32,K$10,$C$3,$C$2,$C$5,$C$6,0,0,$C$4),1,1)","v":942.53080870060774},{"$f":"INDEX(coordonnées_cadran_plat($D32,K$10,$C$3,$C$2,$C$5,$C$6,0,0,$C$4),1,2)","v":-746.4465751219376},{"$f":"INDEX(coordonnées_cadran_plat($D32,M$10,$C$3,$C$2,$C$5,$C$6,0,0,$C$4),1,1)","v":877.34336808037085},{"$f":"INDEX(coordonnées_cadran_plat($D32,M$10,$C$3,$C$2,$C$5,$C$6,0,0,$C$4),1,2)","v":-376.53102287824368},{"$f":"INDEX(coordonnées_cadran_plat($D32,O$10,$C$3,$C$2,$C$5,$C$6,0,0,$C$4),1,1)","v":859.82661638601598},{"$f":"INDEX(coordonnées_cadran_plat($D32,O$10,$C$3,$C$2,$C$5,$C$6,0,0,$C$4),1,2)","v":-98.505310225573709},{"$f":"INDEX(coordonnées_cadran_plat($D32,Q$10,$C$3,$C$2,$C$5,$C$6,0,0,$C$4),1,1)","v":876.5515271757431},{"$f":"INDEX(coordonnées_cadran_plat($D32,Q$10,$C$3,$C$2,$C$5,$C$6,0,0,$C$4),1,2)","v":163.10609315797922},{"$f":"INDEX(coordonnées_cadran_plat($D32,S$10,$C$3,$C$2,$C$5,$C$6,0,0,$C$4),1,1)","v":933.87630169459851},{"$f":"INDEX(coordonnées_cadran_plat($D32,S$10,$C$3,$C$2,$C$5,$C$6,0,0,$C$4),1,2)","v":467.92855753380655},{"$f":"INDEX(coordonnées_cadran_plat($D32,U$10,$C$3,$C$2,$C$5,$C$6,0,0,$C$4),1,1)","v":1067.555625391803},{"$f":"INDEX(coordonnées_cadran_plat($D32,U$10,$C$3,$C$2,$C$5,$C$6,0,0,$C$4),1,2)","v":923.4814751585883},{"$f":"INDEX(coordonnées_cadran_plat($D32,W$10,$C$3,$C$2,$C$5,$C$6,0,0,$C$4),1,1)","v":1435.9866112349673},{"$f":"INDEX(coordonnées_cadran_plat($D32,W$10,$C$3,$C$2,$C$5,$C$6,0,0,$C$4),1,2)","v":1921.6583201918197}]
[null,2,5,"2010-05-02",{"$f":"INDEX(heures_limites_cadran($D33,$C$3,$C$2,$C$5),1,1)/24","v":"08:30:00"},{"$f":"INDEX(heures_limites_cadran($D33,$C$3,$C$2,$C$5),1,2)/24","v":"18:00:00"},{"$f":"INDEX(coordonnées_cadran_plat($D33,$G$10,$C$3,$C$2,$C$5,$C$6,0,0,$C$4),1,1)","v":1859.0938180744934},{"$f":"INDEX(coordonnées_cadran_plat($D33,$G$10,$C$3,$C$2,$C$5,$C$6,0,0,$C$4),1,2)","v":-3633.1995031712672},{"$f":"INDEX(coordonnées_cadran_plat($D33,I$10,$C$3,$C$2,$C$5,$C$6,0,0,$C$4),1,1)","v":1138.2485251424316},{"$f":"INDEX(coordonnées_cadran_plat($D33,I$10,$C$3,$C$2,$C$5,$C$6,0,0,$C$4),1,2)","v":-1425.3758864734036},{"$f":"INDEX(coordonnées_cadran_plat($D33,K$10,$C$3,$C$2,$C$5,$C$6,0,0,$C$4),1,1)","v":956.05866916479488},{"$f":"INDEX(coordonnées_cadran_plat($D33,K$10,$C$3,$C$2,$C$5,$C$6,0,0,$C$4),1,2)","v":-752.37336509612499},{"$f":"INDEX(coordonnées_cadran_plat($D33,M$10,$C$3,$C$2,$C$5,$C$6,0,0,$C$4),1,1)","v":888.2064173492148},{"$f":"INDEX(coordonnées_cadran_plat($D33,M$10,$C$3,$C$2,$C$5,$C$6,0,0,$C$4),1,2)","v":-378.87738218710814},{"$f":"INDEX(coordonnées_cadran_plat($D33,O$10,$C$3,$C$2,$C$5,$C$6,0,0,$C$4),1,1)","v":869.87262480913205},{"$f":"INDEX(coordonnées_cadran_plat($D33,O$10,$C$3,$C$2,$C$5,$C$6,0,0,$C$4),1,2)","v":-98.827980562082701},{"$f":"INDEX(coordonnées_cadran_plat($D33,Q$10,$C$3,$C$2,$C$5,$C$6,0,0,$C$4),1,1)","v":886.99413238317686},{"$f":"INDEX(coordonnées_cadran_plat($D33,Q$10,$C$3,$C$2,$C$5,$C$6,0,0,$C$4),1,2)","v":164.62037960687348},{"$f":"INDEX(coordonnées_cadran_plat($D33,S$10,$C$3,$C$2,$C$5,$C$6,0,0,$C$4),1,1)","v":946.19051151105145},{"$f":"INDEX(coordonnées_cadran_plat($D33,S$10,$C$3,$C$2,$C$5,$C$6,0,0,$C$4),1,2)","v":472.1312767070516},{"$f":"INDEX(coordonnées_cadran_plat($D33,U$10,$C$3,$C$2,$C$5,$C$6,0,0,$C$4),1,1)","v":1084.9200767203158},{"$f":"INDEX(coordonnées_cadran_plat($D33,U$10,$C$3,$C$2,$C$5,$C$6,0,0,$C$4),1,2)","v":933.79965272988557},{"$f":"INDEX(coordonnées_cadran_plat($D33,W$10,$C$3,$C$2,$C$5,$C$6,0,0,$C$4),1,1)","v":1471.1284795555121},{"$f":"INDEX(coordonnées_cadran_plat($D33,W$10,$C$3,$C$2,$C$5,$C$6,0,0,$C$4),1,2)","v":1956.4413244034504}]
[null,3,5,"2010-05-03",{"$f":"INDEX(heures_limites_cadran($D34,$C$3,$C$2,$C$5),1,1)/24","v":"08:30:00"},{"$f":"INDEX(heures_limites_cadran($D34,$C$3,$C$2,$C$5),1,2)/24","v":"18:00:00"},{"$f":"INDEX(coordonnées_cadran_plat($D34,$G$10,$C$3,$C$2,$C$5,$C$6,0,0,$C$4),1,1)","v":1924.4907200485602},{"$f":"INDEX(coordonnées_cadran_plat($D34,$G$10,$C$3,$C$2,$C$5,$C$6,0,0,$C$4),1,2)","v":-3725.7505696437042},{"$f":"INDEX(coordonnées_cadran_plat($D34,I$10,$C$3,$C$2,$C$5,$C$6,0,0,$C$4),1,1)","v":1159.7977213377387},{"$f":"INDEX(coordonnées_cadran_plat($D34,I$10,$C$3,$C$2,$C$5,$C$6,0,0,$C$4),1,2)","v":-1441.9303838442383},{"$f":"INDEX(coordonnées_cadran_plat($D34,K$10,$C$3,$C$2,$C$5,$C$6,0,0,$C$4),1,1)","v":969.67277710829865},{"$f":"INDEX(coordonnées_cadran_plat($D34,K$10,$C$3,$C$2,$C$5,$C$6,0,0,$C$4),1,2)","v":-758.39269198455145},{"$f":"INDEX(coordonnées_cadran_plat($D34,M$10,$C$3,$C$2,$C$5,$C$6,0,0,$C$4),1,1)","v":899.10523861674494},{"$f":"INDEX(coordonnées_cadran_plat($D34,M$10,$C$3,$C$2,$C$5,$C$6,0,0,$C$4),1,2)","v":-381.27078908061071},{"$f":"INDEX(coordonnées_cadran_plat($D34,O$10,$C$3,$C$2,$C$5,$C$6,0,0,$C$4),1,1)","v":879.94007460053001},{"$f":"INDEX(coordonnées_cadran_plat($D34,O$10,$C$3,$C$2,$C$5,$C$6,0,0,$C$4),1,2)","v":-99.185585419727886},{"$f":"INDEX(coordonnées_cadran_plat($D34,Q$10,$C$3,$C$2,$C$5,$C$6,0,0,$C$4),1,1)","v":897.46069719144555},{"$f":"INDEX(coordonnées_cadran_plat($D34,Q$10,$C$3,$C$2,$C$5,$C$6,0,0,$C$4),1,2)","v":166.10297348102628},{"$f":"INDEX(coordonnées_cadran_plat($D34,S$10,$C$3,$C$2,$C$5,$C$6,0,0,$C$4),1,1)","v":958.5533621007819},{"$f":"INDEX(coordonnées_cadran_plat($D34,S$10,$C$3,$C$2,$C$5,$C$6,0,0,$C$4),1,2)","v":476.3077763834047},{"$f":"INDEX(coordonnées_cadran_plat($D34,U$10,$C$3,$C$2,$C$5,$C$6,0,0,$C$4),1,1)","v":1102.4302587272769},{"$f":"INDEX(coordonnées_cadran_plat($D34,U$10,$C$3,$C$2,$C$5,$C$6,0,0,$C$4),1,2)","v":944.13974896674324},{"$f":"INDEX(coordonnées_cadran_plat($D34,W$10,$C$3,$C$2,$C$5,$C$6,0,0,$C$4),1,1)","v":1507.0326518409158},{"$f":"INDEX(coordonnées_cadran_plat($D34,W$10,$C$3,$C$2,$C$5,$C$6,0,0,$C$4),1,2)","v":1991.83886092272}]
[null,4,5,"2010-05-04",{"$f":"INDEX(heures_limites_cadran($D35,$C$3,$C$2,$C$5),1,1)/24","v":"08:30:00"},{"$f":"INDEX(heures_limites_cadran($D35,$C$3,$C$2,$C$5),1,2)/24","v":"18:00:00"},{"$f":"INDEX(coordonnées_cadran_plat($D35,$G$10,$C$3,$C$2,$C$5,$C$6,0,0,$C$4),1,1)","v":1992.7415572430527},{"$f":"INDEX(coordonnées_cadran_plat($D35,$G$10,$C$3,$C$2,$C$5,$C$6,0,0,$C$4),1,2)","v":-3822.7019831339603},{"$f":"INDEX(coordonnées_cadran_plat($D35,I$10,$C$3,$C$2,$C$5,$C$6,0,0,$C$4),1,1)","v":1181.642406854882},{"$f":"INDEX(coordonnées_cadran_plat($D35,I$10,$C$3,$C$2,$C$5,$C$6,0,0,$C$4),1,2)","v":-1458.8161502797484},{"$f":"INDEX(coordonnées_cadran_plat($D35,K$10,$C$3,$C$2,$C$5,$C$6,0,0,$C$4),1,1)","v":983.36788344436229},{"$f":"INDEX(coordonnées_cadran_plat($D35,K$10,$C$3,$C$2,$C$5,$C$6,0,0,$C$4),1,2)","v":-764.50406360279567},{"$f":"INDEX(coordonnées_cadran_plat($D35,M$10,$C$3,$C$2,$C$5,$C$6,0,0,$C$4),1,1)","v":910.03451194911304},{"$f":"INDEX(coordonnées_cadran_plat($D35,M$10,$C$3,$C$2,$C$5,$C$6,0,0,$C$4),1,2)","v":-383.71123791830547},{"$f":"INDEX(coordonnées_cadran_plat($D35,O$10,$C$3,$C$2,$C$5,$C$6,0,0,$C$4),1,1)","v":890.02346242640522},{"$f":"INDEX(coordonnées_cadran_plat($D35,O$10,$C$3,$C$2,$C$5,$C$6,0,0,$C$4),1,2)","v":-99.578904824327083},{"$f":"INDEX(coordonnées_cadran_plat($D35,Q$10,$C$3,$C$2,$C$5,$C$6,0,0,$C$4),1,1)","v":907.94500448677809},{"$f":"INDEX(coordonnées_cadran_plat($D35,Q$10,$C$3,$C$2,$C$5,$C$6,0,0,$C$4),1,2)","v":167.55196128401397},{"$f":"INDEX(coordonnées_cadran_plat($D35,S$10,$C$3,$C$2,$C$5,$C$6,0,0,$C$4),1,1)","v":970.95701922461649},{"$f":"INDEX(coordonnées_cadran_plat($D35,S$10,$C$3,$C$2,$C$5,$C$6,0,0,$C$4),1,2)","v":480.45401469463582},{"$f":"INDEX(coordonnées_cadran_plat($D35,U$10,$C$3,$C$2,$C$5,$C$6,0,0,$C$4),1,1)","v":1120.0752095007422},{"$f":"INDEX(coordonnées_cadran_plat($D35,U$10,$C$3,$C$2,$C$5,$C$6,0,0,$C$4),1,2)","v":954.4926905236174},{"$f":"INDEX(coordonnées_cadran_plat($D35,W$10,$C$3,$C$2,$C$5,$C$6,0,0,$C$4),1,1)","v":1543.6933765477138},{"$f":"INDEX(coordonnées_cadran_plat($D35,W$10,$C$3,$C$2,$C$5,$C$6,0,0,$C$4),1,2)","v":2027.8366452255007}]
[null,5,5,"2010-05-05",{"$f":"INDEX(heures_limites_cadran($D36,$C$3,$C$2,$C$5),1,1)/24","v":"08:30:00"},{"$f":"INDEX(heures_limites_cadran($D36,$C$3,$C$2,$C$5),1,2)/24","v":"18:00:00"},{"$f":"INDEX(coordonnées_cadran_plat($D36,$G$10,$C$3,$C$2,$C$5,$C$6,0,0,$C$4),1,1)","v":2064.0222583982231},{"$f":"INDEX(coordonnées_cadran_plat($D36,$G$10,$C$3,$C$2,$C$5,$C$6,0,0,$C$4),1,2)","v":-3924.3340084017195},{"$f":"INDEX(coordonnées_cadran_plat($D36,I$10,$C$3,$C$2,$C$5,$C$6,0,0,$C$4),1,1)","v":1203.7803140906833},{"$f":"INDEX(coordonnées_cadran_plat($D36,I$10,$C$3,$C$2,$C$5,$C$6,0,0,$C$4),1,2)","v":-1476.0358657299228},{"$f":"INDEX(coordonnées_cadran_plat($D36,K$10,$C$3,$C$2,$C$5,$C$6,0,0,$C$4),1,1)","v":997.13828858628221},{"$f":"INDEX(coordonnées_cadran_plat($D36,K$10,$C$3,$C$2,$C$5,$C$6,0,0,$C$4),1,2)","v":-770.70674443912935},{"$f":"INDEX(coordonnées_cadran_plat($D36,M$10,$C$3,$C$2,$C$5,$C$6,0,0,$C$4),1,1)","v":920.98858464848843},{"$f":"INDEX(coordonnées_cadran_plat($D36,M$10,$C$3,$C$2,$C$5,$C$6,0,0,$C$4),1,2)","v":-386.19860664781464},{"$f":"INDEX(coordonnées_cadran_plat($D36,O$10,$C$3,$C$2,$C$5,$C$6,0,0,$C$4),1,1)","v":900.11698142706064},{"$f":"INDEX(coordonnées_cadran_plat($D36,O$10,$C$3,$C$2,$C$5,$C$6,0,0,$C$4),1,2)","v":-100.00866588542155},{"$f":"INDEX(coordonnées_cadran_plat($D36,Q$10,$C$3,$C$2,$C$5,$C$6,0,0,$C$4),1,1)","v":918.44049680086664},{"$f":"INDEX(coordonnées_cadran_plat($D36,Q$10,$C$3,$C$2,$C$5,$C$6,0,0,$C$4),1,2)","v":168.96542608958575},{"$f":"INDEX(coordonnées_cadran_plat($D36,S$10,$C$3,$C$2,$C$5,$C$6,0,0,$C$4),1,1)","v":983.39316405964087},{"$f":"INDEX(coordonnées_cadran_plat($D36,S$10,$C$3,$C$2,$C$5,$C$6,0,0,$C$4),1,2)","v":484.56583821245545},{"$f":"INDEX(coordonnées_cadran_plat($D36,U$10,$C$3,$C$2,$C$5,$C$6,0,0,$C$4),1,1)","v":1137.8430075498698},{"$f":"INDEX(coordonnées_cadran_plat($D36,U$10,$C$3,$C$2,$C$5,$C$6,0,0,$C$4),1,2)","v":964.84889523711934},{"$f":"INDEX(coordonnées_cadran_plat($D36,W$10,$C$3,$C$2,$C$5,$C$6,0,0,$C$4),1,1)","v":1581.1019287807371},{"$f":"INDEX(coordonnées_cadran_plat($D36,W$10,$C$3,$C$2,$C$5,$C$6,0,0,$C$4),1,2)","v":2064.4173272286962}]
[null,6,5,"2010-05-06",{"$f":"INDEX(heures_limites_cadran($D37,$C$3,$C$2,$C$5),1,1)/24","v":"08:30:00"},{"$f":"INDEX(heures_limites_cadran($D37,$C$3,$C$2,$C$5),1,2)/24","v":"18:00:00"},{"$f":"INDEX(coordonnées_cadran_plat($D37,$G$10,$C$3,$C$2,$C$5,$C$6,0,0,$C$4),1,1)","v":2138.5220802624895},{"$f":"INDEX(coordonnées_cadran_plat($D37,$G$10,$C$3,$C$2,$C$5,$C$6,0,0,$C$4),1,2)","v":-4030.9482553907428},{"$f":"INDEX(coordonnées_cadran_plat($D37,I$10,$C$3,$C$2,$C$5,$C$6,0,0,$C$4),1,1)","v":1226.2084015235102},{"$f":"INDEX(coordonnées_cadran_plat($D37,I$10,$C$3,$C$2,$C$5,$C$6,0,0,$C$4),1,2)","v":-1493.5916143357836},{"$f":"INDEX(coordonnées_cadran_plat($D37,K$10,$C$3,$C$2,$C$5,$C$6,0,0,$C$4),1,1)","v":1010.9778220934247},{"$f":"INDEX(coordonnées_cadran_plat($D37,K$10,$C$3,$C$2,$C$5,$C$6,0,0,$C$4),1,2)","v":-776.99974028854058},{"$f":"INDEX(coordonnées_cadran_plat($D37,M$10,$C$3,$C$2,$C$5,$C$6,0,0,$C$4),1,1)","v":931.96146231792693},{"$f":"INDEX(coordonnées_cadran_plat($D37,M$10,$C$3,$C$2,$C$5,$C$6,0,0,$C$4),1,2)","v":-388.73265031240567},{"$f":"INDEX(coordonnées_cadran_plat($D37,O$10,$C$3,$C$2,$C$5,$C$6,0,0,$C$4),1,1)","v":910.21451617148296},{"$f":"INDEX(coordonnées_cadran_plat($D37,O$10,$C$3,$C$2,$C$5,$C$6,0,0,$C$4),1,2)","v":-100.4755385576747},{"$f":"INDEX(coordonnées_cadran_plat($D37,Q$10,$C$3,$C$2,$C$5,$C$6,0,0,$C$4),1,1)","v":928.94027222753323},{"$f":"INDEX(coordonnées_cadran_plat($D37,Q$10,$C$3,$C$2,$C$5,$C$6,0,0,$C$4),1,2)","v":170.34145151002136},{"$f":"INDEX(coordonnées_cadran_plat($D37,S$10,$C$3,$C$2,$C$5,$C$6,0,0,$C$4),1,1)","v":995.85298627539771},{"$f":"INDEX(coordonnées_cadran_plat($D37,S$10,$C$3,$C$2,$C$5,$C$6,0,0,$C$4),1,2)","v":488.63898609885899},{"$f":"INDEX(coordonnées_cadran_plat($D37,U$10,$C$3,$C$2,$C$5,$C$6,0,0,$C$4),1,1)","v":1155.7207433465057},{"$f":"INDEX(coordonnées_cadran_plat($D37,U$10,$C$3,$C$2,$C$5,$C$6,0,0,$C$4),1,2)","v":975.19826787430179},{"$f":"INDEX(coordonnées_cadran_plat($D37,W$10,$C$3,$C$2,$C$5,$C$6,0,0,$C$4),1,1)","v":1619.246332254196},{"$f":"INDEX(coordonnées_cadran_plat($D37,W$10,$C$3,$C$2,$C$5,$C$6,0,0,$C$4),1,2)","v":2101.5602488800787}]
[null,7,5,"2010-05-07",{"$f":"INDEX(heures_limites_cadran($D38,$C$3,$C$2,$C$5),1,1)/24","v":"08:30:00"},{"$f":"INDEX(heures_limites_cadran($D38,$C$3,$C$2,$C$5),1,2)/24","v":"18:00:00"},{"$f":"INDEX(coordonnées_cadran_plat($D38,$G$10,$C$3,$C$2,$C$5,$C$6,0,0,$C$4),1,1)","v":2216.4447550418026},{"$f":"INDEX(coordonnées_cadran_plat($D38,$G$10,$C$3,$C$2,$C$5,$C$6,0,0,$C$4),1,2)","v":-4142.8695476815037},{"$f":"INDEX(coordonnées_cadran_plat($D38,I$10,$C$3,$C$2,$C$5,$C$6,0,0,$C$4),1,1)","v":1248.9227851918797},{"$f":"INDEX(coordonnées_cadran_plat($D38,I$10,$C$3,$C$2,$C$5,$C$6,0,0,$C$4),1,2)","v":-1511.484820351639},{"$f":"INDEX(coordonnées_cadran_plat($D38,K$10,$C$3,$C$2,$C$5,$C$6,0,0,$C$4),1,1)","v":1024.8798225132014},{"$f":"INDEX(coordonnées_cadran_plat($D38,K$10,$C$3,$C$2,$C$5,$C$6,0,0,$C$4),1,2)","v":-783.38178259551694},{"$f":"INDEX(coordonnées_cadran_plat($D38,M$10,$C$3,$C$2,$C$5,$C$6,0,0,$C$4),1,1)","v":942.94680058179642},{"$f":"INDEX(coordonnées_cadran_plat($D38,M$10,$C$3,$C$2,$C$5,$C$6,0,0,$C$4),1,2)","v":-391.31299452306502},{"$f":"INDEX(coordonnées_cadran_plat($D38,O$10,$C$3,$C$2,$C$5,$C$6,0,0,$C$4),1,1)","v":920.30963844884877},{"$f":"INDEX(coordonnées_cadran_plat($D38,O$10,$C$3,$C$2,$C$5,$C$6,0,0,$C$4),1,2)","v":-100.98013130579869},{"$f":"INDEX(coordonnées_cadran_plat($D38,Q$10,$C$3,$C$2,$C$5,$C$6,0,0,$C$4),1,1)","v":939.43708144313621},{"$f":"INDEX(coordonnées_cadran_plat($D38,Q$10,$C$3,$C$2,$C$5,$C$6,0,0,$C$4),1,2)","v":171.67812595332975},{"$f":"INDEX(coordonnées_cadran_plat($D38,S$10,$C$3,$C$2,$C$5,$C$6,0,0,$C$4),1,1)","v":1008.3271787914379},{"$f":"INDEX(coordonnées_cadran_plat($D38,S$10,$C$3,$C$2,$C$5,$C$6,0,0,$C$4),1,2)","v":492.66909505504964},{"$f":"INDEX(coordonnées_cadran_plat($D38,U$10,$C$3,$C$2,$C$5,$C$6,0,0,$C$4),1,1)","v":1173.6944937665119},{"$f":"INDEX(coordonnées_cadran_plat($D38,U$10,$C$3,$C$2,$C$5,$C$6,0,0,$C$4),1,2)","v":985.53019831700203},{"$f":"INDEX(coordonnées_cadran_plat($D38,W$10,$C$3,$C$2,$C$5,$C$6,0,0,$C$4),1,1)","v":1658.1110715964376},{"$f":"INDEX(coordonnées_cadran_plat($D38,W$10,$C$3,$C$2,$C$5,$C$6,0,0,$C$4),1,2)","v":2139.2411972647028}]
[null,8,5,"2010-05-08",{"$f":"INDEX(heures_limites_cadran($D39,$C$3,$C$2,$C$5),1,1)/24","v":"08:30:00"},{"$f":"INDEX(heures_limites_cadran($D39,$C$3,$C$2,$C$5),1,2)/24","v":"18:00:00"},{"$f":"INDEX(coordonnées_cadran_plat($D39,$G$10,$C$3,$C$2,$C$5,$C$6,0,0,$C$4),1,1)","v":2298.0097447411649},{"$f":"INDEX(coordonnées_cadran_plat($D39,$G$10,$C$3,$C$2,$C$5,$C$6,0,0,$C$4),1,2)","v":-4260.4479685807692},{"$f":"INDEX(coordonnées_cadran_plat($D39,I$10,$C$3,$C$2,$C$5,$C$6,0,0,$C$4),1,1)","v":1271.9186667442259},{"$f":"INDEX(coordonnées_cadran_plat($D39,I$10,$C$3,$C$2,$C$5,$C$6,0,0,$C$4),1,2)","v":-1529.7161801214572},{"$f":"INDEX(coordonnées_cadran_plat($D39,K$10,$C$3,$C$2,$C$5,$C$6,0,0,$C$4),1,1)","v":1038.8371175602301},{"$f":"INDEX(coordonnées_cadran_plat($D39,K$10,$C$3,$C$2,$C$5,$C$6,0,0,$C$4),1,2)","v":-789.85131256468787},{"$f":"INDEX(coordonnées_cadran_plat($D39,M$10,$C$3,$C$2,$C$5,$C$6,0,0,$C$4),1,1)","v":953.93789756691069},{"$f":"INDEX(coordonnées_cadran_plat($D39,M$10,$C$3,$C$2,$C$5,$C$6,0,0,$C$4),1,2)","v":-393.9391289241928},{"$f":"INDEX(coordonnées_cadran_plat($D39,O$10,$C$3,$C$2,$C$5,$C$6,0,0,$C$4),1,1)","v":930.39560399131301},{"$f":"INDEX(coordonnées_cadran_plat($D39,O$10,$C$3,$C$2,$C$5,$C$6,0,0,$C$4),1,2)","v":-101.52298668720591},{"$f":"INDEX(coordonnées_cadran_plat($D39,Q$10,$C$3,$C$2,$C$5,$C$6,0,0,$C$4),1,1)","v":949.92332593983338},{"$f":"INDEX(coordonnées_cadran_plat($D39,Q$10,$C$3,$C$2,$C$5,$C$6,0,0,$C$4),1,2)","v":172.97354717173815},{"$f":"INDEX(coordonnées_cadran_plat($D39,S$10,$C$3,$C$2,$C$5,$C$6,0,0,$C$4),1,1)","v":1020.8059343974573},{"$f":"INDEX(coordonnées_cadran_plat($D39,S$10,$C$3,$C$2,$C$5,$C$6,0,0,$C$4),1,2)","v":496.65170510888061},{"$f":"INDEX(coordonnées_cadran_plat($D39,U$10,$C$3,$C$2,$C$5,$C$6,0,0,$C$4),1,1)","v":1191.7492999271933},{"$f":"INDEX(coordonnées_cadran_plat($D39,U$10,$C$3,$C$2,$C$5,$C$6,0,0,$C$4),1,2)","v":995.83356244847425},{"$f":"INDEX(coordonnées_cadran_plat($D39,W$10,$C$3,$C$2,$C$5,$C$6,0,0,$C$4),1,1)","v":1697.6767969151504},{"$f":"INDEX(coordonnées_cadran_plat($D39,W$10,$C$3,$C$2,$C$5,$C$6,0,0,$C$4),1,2)","v":2177.4321554637136}]
[null,9,5,"2010-05-09",{"$f":"INDEX(heures_limites_cadran($D40,$C$3,$C$2,$C$5),1,1)/24","v":"08:30:00"},{"$f":"INDEX(heures_limites_cadran($D40,$C$3,$C$2,$C$5),1,2)/24","v":"18:00:00"},{"$f":"INDEX(coordonnées_cadran_plat($D40,$G$10,$C$3,$C$2,$C$5,$C$6,0,0,$C$4),1,1)","v":2383.4536121851884},{"$f":"INDEX(coordonnées_cadran_plat($D40,$G$10,$C$3,$C$2,$C$5,$C$6,0,0,$C$4),1,2)","v":-4384.0611016802977},{"$f":"INDEX(coordonnées_cadran_plat($D40,I$10,$C$3,$C$2,$C$5,$C$6,0,0,$C$4),1,1)","v":1295.1902581382933},{"$f":"INDEX(coordonnées_cadran_plat($D40,I$10,$C$3,$C$2,$C$5,$C$6,0,0,$C$4),1,2)","v":-1548.2855900815689},{"$f":"INDEX(coordonnées_cadran_plat($D40,K$10,$C$3,$C$2,$C$5,$C$6,0,0,$C$4),1,1)","v":1052.8420047891809},{"$f":"INDEX(coordonnées_cadran_plat($D40,K$10,$C$3,$C$2,$C$5,$C$6,0,0,$C$4),1,2)","v":-796.40646510975751},{"$f":"INDEX(coordonnées_cadran_plat($D40,M$10,$C$3,$C$2,$C$5,$C$6,0,0,$C$4),1,1)","v":964.92768725651229},{"$f":"INDEX(coordonnées_cadran_plat($D40,M$10,$C$3,$C$2,$C$5,$C$6,0,0,$C$4),1,2)","v":-396.61040068934471},{"$f":"INDEX(coordonnées_cadran_plat($D40,O$10,$C$3,$C$2,$C$5,$C$6,0,0,$C$4),1,1)","v":940.46535022511159},{"$f":"INDEX(coordonnées_cadran_plat($D40,O$10,$C$3,$C$2,$C$5,$C$6,0,0,$C$4),1,2)","v":-102.10457686944136},{"$f":"INDEX(coordonnées_cadran_plat($D40,Q$10,$C$3,$C$2,$C$5,$C$6,0,0,$C$4),1,1)","v":960.39105758249059},{"$f":"INDEX(coordonnées_cadran_plat($D40,Q$10,$C$3,$C$2,$C$5,$C$6,0,0,$C$4),1,2)","v":174.22582709861493},{"$f":"INDEX(coordonnées_cadran_plat($D40,S$10,$C$3,$C$2,$C$5,$C$6,0,0,$C$4),1,1)","v":1033.2789444187049},{"$f":"INDEX(coordonnées_cadran_plat($D40,S$10,$C$3,$C$2,$C$5,$C$6,0,0,$C$4),1,2)","v":500.58226627677556},{"$f":"INDEX(coordonnées_cadran_plat($D40,U$10,$C$3,$C$2,$C$5,$C$6,0,0,$C$4),1,1)","v":1209.8691489395042},{"$f":"INDEX(coordonnées_cadran_plat($D40,U$10,$C$3,$C$2,$C$5,$C$6,0,0,$C$4),1,2)","v":1006.0967260084548},{"$f":"INDEX(coordonnées_cadran_plat($D40,W$10,$C$3,$C$2,$C$5,$C$6,0,0,$C$4),1,1)","v":1737.9200230051681},{"$f":"INDEX(coordonnées_cadran_plat($D40,W$10,$C$3,$C$2,$C$5,$C$6,0,0,$C$4),1,2)","v":2216.1010538336086}]
[null,10,5,"2010-05-10",{"$f":"INDEX(heures_limites_cadran($D41,$C$3,$C$2,$C$5),1,1)/24","v":"08:30:00"},{"$f":"INDEX(heures_limites_cadran($D41,$C$3,$C$2,$C$5),1,2)/24","v":"18:00:00"},{"$f":"INDEX(coordonnées_cadran_plat($D41,$G$10,$C$3,$C$2,$C$5,$C$6,0,0,$C$4),1,1)","v":2473.0315191048471},{"$f":"INDEX(coordonnées_cadran_plat($D41,$G$10,$C$3,$C$2,$C$5,$C$6,0,0,$C$4),1,2)","v":-4514.116483847014},{"$f":"INDEX(coordonnées_cadran_plat($D41,I$10,$C$3,$C$2,$C$5,$C$6,0,0,$C$4),1,1)","v":1318.730703114474},{"$f":"INDEX(coordonnées_cadran_plat($D41,I$10,$C$3,$C$2,$C$5,$C$6,0,0,$C$4),1,2)","v":-1567.1920707944382},{"$f":"INDEX(coordonnées_cadran_plat($D41,K$10,$C$3,$C$2,$C$5,$C$6,0,0,$C$4),1,1)","v":1066.8862329326803},{"$f":"INDEX(coordonnées_cadran_plat($D41,K$10,$C$3,$C$2,$C$5,$C$6,0,0,$C$4),1,2)","v":-803.04505272010829},{"$f":"INDEX(coordonnées_cadran_plat($D41,M$10,$C$3,$C$2,$C$5,$C$6,0,0,$C$4),1,1)","v":975.90873383365079},{"$f":"INDEX(coordonnées_cadran_plat($D41,M$10,$C$3,$C$2,$C$5,$C$6,0,0,$C$4),1,2)","v":-399.32600808436712},{"$f":"INDEX(coordonnées_cadran_plat($D41,O$10,$C$3,$C$2,$C$5,$C$6,0,0,$C$4),1,1)","v":950.5114951486787},{"$f":"INDEX(coordonnées_cadran_plat($D41,O$10,$C$3,$C$2,$C$5,$C$6,0,0,$C$4),1,2)","v":-102.72529909986301},{"$f":"INDEX(coordonnées_cadran_plat($D41,Q$10,$C$3,$C$2,$C$5,$C$6,0,0,$C$4),1,1)","v":970.83197960037421},{"$f":"INDEX(coordonnées_cadran_plat($D41,Q$10,$C$3,$C$2,$C$5,$C$6,0,0,$C$4),1,2)","v":175.43309697167496},{"$f":"INDEX(coordonnées_cadran_plat($D41,S$10,$C$3,$C$2,$C$5,$C$6,0,0,$C$4),1,1)","v":1045.7353996108177},{"$f":"INDEX(coordonnées_cadran_plat($D41,S$10,$C$3,$C$2,$C$5,$C$6,0,0,$C$4),1,2)","v":504.45614613300097},{"$f":"INDEX(coordonnées_cadran_plat($D41,U$10,$C$3,$C$2,$C$5,$C$6,0,0,$C$4),1,1)","v":1228.0369601139907},{"$f":"INDEX(coordonnées_cadran_plat($D41,U$10,$C$3,$C$2,$C$5,$C$6,0,0,$C$4),1,2)","v":1016.307551686628},{"$f":"INDEX(coordonnées_cadran_plat($D41,W$10,$C$3,$C$2,$C$5,$C$6,0,0,$C$4),1,1)","v":1778.8128260945675},{"$f":"INDEX(coordonnées_cadran_plat($D41,W$10,$C$3,$C$2,$C$5,$C$6,0,0,$C$4),1,2)","v":2255.2115248440418}]
[null,11,5,"2010-05-11",{"$f":"INDEX(heures_limites_cadran($D42,$C$3,$C$2,$C$5),1,1)/24","v":"08:30:00"},{"$f":"INDEX(heures_limites_cadran($D42,$C$3,$C$2,$C$5),1,2)/24","v":"18:00:00"},{"$f":"INDEX(coordonnées_cadran_plat($D42,$G$10,$C$3,$C$2,$C$5,$C$6,0,0,$C$4),1,1)","v":2567.0188622931951},{"$f":"INDEX(coordonnées_cadran_plat($D42,$G$10,$C$3,$C$2,$C$5,$C$6,0,0,$C$4),1,2)","v":-4651.0542898603844},{"$f":"INDEX(coordonnées_cadran_plat($D42,I$10,$C$3,$C$2,$C$5,$C$6,0,0,$C$4),1,1)","v":1342.5319956243231},{"$f":"INDEX(coordonnées_cadran_plat($D42,I$10,$C$3,$C$2,$C$5,$C$6,0,0,$C$4),1,2)","v":-1586.4336870681818},{"$f":"INDEX(coordonnées_cadran_plat($D42,K$10,$C$3,$C$2,$C$5,$C$6,0,0,$C$4),1,1)","v":1080.9609840914479},{"$f":"INDEX(coordonnées_cadran_plat($D42,K$10,$C$3,$C$2,$C$5,$C$6,0,0,$C$4),1,2)","v":-809.76454933613888},{"$f":"INDEX(coordonnées_cadran_plat($D42,M$10,$C$3,$C$2,$C$5,$C$6,0,0,$C$4),1,1)","v":986.87322713563913},{"$f":"INDEX(coordonnées_cadran_plat($D42,M$10,$C$3,$C$2,$C$5,$C$6,0,0,$C$4),1,2)","v":-402.08499413922897},{"$f":"INDEX(coordonnées_cadran_plat($D42,O$10,$C$3,$C$2,$C$5,$C$6,0,0,$C$4),1,1)","v":960.52633743789579},{"$f":"INDEX(coordonnées_cadran_plat($D42,O$10,$C$3,$C$2,$C$5,$C$6,0,0,$C$4),1,2)","v":-103.38547114935304},{"$f":"INDEX(coordonnées_cadran_plat($D42,Q$10,$C$3,$C$2,$C$5,$C$6,0,0,$C$4),1,1)","v":981.23744912393704},{"$f":"INDEX(coordonnées_cadran_plat($D42,Q$10,$C$3,$C$2,$C$5,$C$6,0,0,$C$4),1,2)","v":176.59351273526224},{"$f":"INDEX(coordonnées_cadran_plat($D42,S$10,$C$3,$C$2,$C$5,$C$6,0,0,$C$4),1,1)","v":1058.1639934666778},{"$f":"INDEX(coordonnées_cadran_plat($D42,S$10,$C$3,$C$2,$C$5,$C$6,0,0,$C$4),1,2)","v":508.26863831363931},{"$f":"INDEX(coordonnées_cadran_plat($D42,U$10,$C$3,$C$2,$C$5,$C$6,0,0,$C$4),1,1)","v":1246.2345761720976},{"$f":"INDEX(coordonnées_cadran_plat($D42,U$10,$C$3,$C$2,$C$5,$C$6,0,0,$C$4),1,2)","v":1026.4534097170715},{"$f":"INDEX(coordonnées_cadran_plat($D42,W$10,$C$3,$C$2,$C$5,$C$6,0,0,$C$4),1,1)","v":1820.3225415738109},{"$f":"INDEX(coordonnées_cadran_plat($D42,W$10,$C$3,$C$2,$C$5,$C$6,0,0,$C$4),1,2)","v":2294.7226651018059}]
[null,12,5,"2010-05-12",{"$f":"INDEX(heures_limites_cadran($D43,$C$3,$C$2,$C$5),1,1)/24","v":"08:30:00"},{"$f":"INDEX(heures_limites_cadran($D43,$C$3,$C$2,$C$5),1,2)/24","v":"18:00:00"},{"$f":"INDEX(coordonnées_cadran_plat($D43,$G$10,$C$3,$C$2,$C$5,$C$6,0,0,$C$4),1,1)","v":2665.7130593018328},{"$f":"INDEX(coordonnées_cadran_plat($D43,$G$10,$C$3,$C$2,$C$5,$C$6,0,0,$C$4),1,2)","v":-4795.3502689325978},{"$f":"INDEX(coordonnées_cadran_plat($D43,I$10,$C$3,$C$2,$C$5,$C$6,0,0,$C$4),1,1)","v":1366.5848954529906},{"$f":"INDEX(coordonnées_cadran_plat($D43,I$10,$C$3,$C$2,$C$5,$C$6,0,0,$C$4),1,2)","v":-1606.0074642580562},{"$f":"INDEX(coordonnées_cadran_plat($D43,K$10,$C$3,$C$2,$C$5,$C$6,0,0,$C$4),1,1)","v":1095.0568569787565},{"$f":"INDEX(coordonnées_cadran_plat($D43,K$10,$C$3,$C$2,$C$5,$C$6,0,0,$C$4),1,2)","v":-816.56207433441591},{"$f":"INDEX(coordonnées_cadran_plat($D43,M$10,$C$3,$C$2,$C$5,$C$6,0,0,$C$4),1,1)","v":997.81297934544477},{"$f":"INDEX(coordonnées_cadran_plat($D43,M$10,$C$3,$C$2,$C$5,$C$6,0,0,$C$4),1,2)","v":-404.88624047455772},{"$f":"INDEX(coordonnées_cadran_plat($D43,O$10,$C$3,$C$2,$C$5,$C$6,0,0,$C$4),1,1)","v":970.50185787878593},{"$f":"INDEX(coordonnées_cadran_plat($D43,O$10,$C$3,$C$2,$C$5,$C$6,0,0,$C$4),1,2)","v":-104.08532675205959},{"$f":"INDEX(coordonnées_cadran_plat($D43,Q$10,$C$3,$C$2,$C$5,$C$6,0,0,$C$4),1,1)","v":991.59848137562267},{"$f":"INDEX(coordonnées_cadran_plat($D43,Q$10,$C$3,$C$2,$C$5,$C$6,0,0,$C$4),1,2)","v":177.70526071267167},{"$f":"INDEX(coordonnées_cadran_plat($D43,S$10,$C$3,$C$2,$C$5,$C$6,0,0,$C$4),1,1)","v":1070.5529281145377},{"$f":"INDEX(coordonnées_cadran_plat($D43,S$10,$C$3,$C$2,$C$5,$C$6,0,0,$C$4),1,2)","v":512.01497197818071},{"$f":"INDEX(coordonnées_cadran_plat($D43,U$10,$C$3,$C$2,$C$5,$C$6,0,0,$C$4),1,1)","v":1264.4427600239933},{"$f":"INDEX(coordonnées_cadran_plat($D43,U$10,$C$3,$C$2,$C$5,$C$6,0,0,$C$4),1,2)","v":1036.521192229623},{"$f":"INDEX(coordonnées_cadran_plat($D43,W$10,$C$3,$C$2,$C$5,$C$6,0,0,$C$4),1,1)","v":1862.4114667399292},{"$f":"INDEX(coordonnées_cadran_plat($D43,W$10,$C$3,$C$2,$C$5,$C$6,0,0,$C$4),1,2)","v":2334.5888087014105}]
[null,13,5,"2010-05-13",{"$f":"INDEX(heures_limites_cadran($D44,$C$3,$C$2,$C$5),1,1)/24","v":"08:30:00"},{"$f":"INDEX(heures_limites_cadran($D44,$C$3,$C$2,$C$5),1,2)/24","v":"18:00:00"},{"$f":"INDEX(coordonnées_cadran_plat($D44,$G$10,$C$3,$C$2,$C$5,$C$6,0,0,$C$4),1,1)","v":2769.4354954643727},{"$f":"INDEX(coordonnées_cadran_plat($D44,$G$10,$C$3,$C$2,$C$5,$C$6,0,0,$C$4),1,2)","v":-4947.5189541870477},{"$f":"INDEX(coordonnées_cadran_plat($D44,I$10,$C$3,$C$2,$C$5,$C$6,0,0,$C$4),1,1)","v":1390.8788413512746},{"$f":"INDEX(coordonnées_cadran_plat($D44,I$10,$C$3,$C$2,$C$5,$C$6,0,0,$C$4),1,2)","v":-1625.9093009196945},{"$f":"INDEX(coordonnées_cadran_plat($D44,K$10,$C$3,$C$2,$C$5,$C$6,0,0,$C$4),1,1)","v":1109.1638514376145},{"$f":"INDEX(coordonnées_cadran_plat($D44,K$10,$C$3,$C$2,$C$5,$C$6,0,0,$C$4),1,2)","v":-823.43437673654307},{"$f":"INDEX(coordonnées_cadran_plat($D44,M$10,$C$3,$C$2,$C$5,$C$6,0,0,$C$4),1,1)","v":1008.7194230494235},{"$f":"INDEX(coordonnées_cadran_plat($D44,M$10,$C$3,$C$2,$C$5,$C$6,0,0,$C$4),1,2)","v":-407.72846133138921},{"$f":"INDEX(coordonnées_cadran_plat($D44,O$10,$C$3,$C$2,$C$5,$C$6,0,0,$C$4),1,1)","v":980.42972222784942},{"$f":"INDEX(coordonnées_cadran_plat($D44,O$10,$C$3,$C$2,$C$5,$C$6,0,0,$C$4),1,2)","v":-104.82501106737017},{"$f":"INDEX(coordonnées_cadran_plat($D44,Q$10,$C$3,$C$2,$C$5,$C$6,0,0,$C$4),1,1)","v":1001.905755619989},{"$f":"INDEX(coordonnées_cadran_plat($D44,Q$10,$C$3,$C$2,$C$5,$C$6,0,0,$C$4),1,2)","v":178.76656353730587},{"$f":"INDEX(coordonnées_cadran_plat($D44,S$10,$C$3,$C$2,$C$5,$C$6,0,0,$C$4),1,1)","v":1082.8899229807832},{"$f":"INDEX(coordonnées_cadran_plat($D44,S$10,$C$3,$C$2,$C$5,$C$6,0,0,$C$4),1,2)","v":515.69032224420914},{"$f":"INDEX(coordonnées_cadran_plat($D44,U$10,$C$3,$C$2,$C$5,$C$6,0,0,$C$4),1,1)","v":1282.6411976740949},{"$f":"INDEX(coordonnées_cadran_plat($D44,U$10,$C$3,$C$2,$C$5,$C$6,0,0,$C$4),1,2)","v":1046.4973316010501},{"$f":"INDEX(coordonnées_cadran_plat($D44,W$10,$C$3,$C$2,$C$5,$C$6,0,0,$C$4),1,1)","v":1905.0365731967452},{"$f":"INDEX(coordonnées_cadran_plat($D44,W$10,$C$3,$C$2,$C$5,$C$6,0,0,$C$4),1,2)","v":2374.7593165607636}]
[null,14,5,{"$f":"DATE($C$7,C45,B45)","v":"2010-05-14"},{"$f":"INDEX(heures_limites_cadran($D45,$C$3,$C$2,$C$5),1,1)/24","v":"08:30:00"},{"$f":"INDEX(heures_limites_cadran($D45,$C$3,$C$2,$C$5),1,2)/24","v":"18:00:00"},{"$f":"INDEX(coordonnées_cadran_plat($D45,$G$10,$C$3,$C$2,$C$5,$C$6,0,0,$C$4),1,1)","v":2878.5336441169679},{"$f":"INDEX(coordonnées_cadran_plat($D45,$G$10,$C$3,$C$2,$C$5,$C$6,0,0,$C$4),1,2)","v":-5108.1171667003891},{"$f":"INDEX(coordonnées_cadran_plat($D45,I$10,$C$3,$C$2,$C$5,$C$6,0,0,$C$4),1,1)","v":1415.4018620628583},{"$f":"INDEX(coordonnées_cadran_plat($D45,I$10,$C$3,$C$2,$C$5,$C$6,0,0,$C$4),1,2)","v":-1646.1338780344911},{"$f":"INDEX(coordonnées_cadran_plat($D45,K$10,$C$3,$C$2,$C$5,$C$6,0,0,$C$4),1,1)","v":1123.2713544626092},{"$f":"INDEX(coordonnées_cadran_plat($D45,K$10,$C$3,$C$2,$C$5,$C$6,0,0,$C$4),1,2)","v":-830.37781976488793},{"$f":"INDEX(coordonnées_cadran_plat($D45,M$10,$C$3,$C$2,$C$5,$C$6,0,0,$C$4),1,1)","v":1019.5836107930151},{"$f":"INDEX(coordonnées_cadran_plat($D45,M$10,$C$3,$C$2,$C$5,$C$6,0,0,$C$4),1,2)","v":-410.61019785656669},{"$f":"INDEX(coordonnées_cadran_plat($D45,O$10,$C$3,$C$2,$C$5,$C$6,0,0,$C$4),1,1)","v":990.30128559789364},{"$f":"INDEX(coordonnées_cadran_plat($D45,O$10,$C$3,$C$2,$C$5,$C$6,0,0,$C$4),1,2)","v":-105.6045761907188},{"$f":"INDEX(coordonnées_cadran_plat($D45,Q$10,$C$3,$C$2,$C$5,$C$6,0,0,$C$4),1,1)","v":1012.1496229743273},{"$f":"INDEX(coordonnées_cadran_plat($D45,Q$10,$C$3,$C$2,$C$5,$C$6,0,0,$C$4),1,2)","v":179.77568632596808},{"$f":"INDEX(coordonnées_cadran_plat($D45,S$10,$C$3,$C$2,$C$5,$C$6,0,0,$C$4),1,1)","v":1095.1622263822651},{"$f":"INDEX(coordonnées_cadran_plat($D45,S$10,$C$3,$C$2,$C$5,$C$6,0,0,$C$4),1,2)","v":519.2898216033368},{"$f":"INDEX(coordonnées_cadran_plat($D45,U$10,$C$3,$C$2,$C$5,$C$6,0,0,$C$4),1,1)","v":1300.8085078101433},{"$f":"INDEX(coordonnées_cadran_plat($D45,U$10,$C$3,$C$2,$C$5,$C$6,0,0,$C$4),1,2)","v":1056.3678230309035},{"$f":"INDEX(coordonnées_cadran_plat($D45,W$10,$C$3,$C$2,$C$5,$C$6,0,0,$C$4),1,1)","v":1948.1492341785688},{"$f":"INDEX(coordonnées_cadran_plat($D45,W$10,$C$3,$C$2,$C$5,$C$6,0,0,$C$4),1,2)","v":2415.1783869169103}]
[null,15,5,"2010-05-15",{"$f":"INDEX(heures_limites_cadran($D46,$C$3,$C$2,$C$5),1,1)/24","v":"08:30:00"},{"$f":"INDEX(heures_limites_cadran($D46,$C$3,$C$2,$C$5),1,2)/24","v":"18:00:00"},{"$f":"INDEX(coordonnées_cadran_plat($D46,$G$10,$C$3,$C$2,$C$5,$C$6,0,0,$C$4),1,1)","v":2993.3833715990395},{"$f":"INDEX(coordonnées_cadran_plat($D46,$G$10,$C$3,$C$2,$C$5,$C$6,0,0,$C$4),1,2)","v":-5277.7478357179089},{"$f":"INDEX(coordonnées_cadran_plat($D46,I$10,$C$3,$C$2,$C$5,$C$6,0,0,$C$4),1,1)","v":1440.1404857257742},{"$f":"INDEX(coordonnées_cadran_plat($D46,I$10,$C$3,$C$2,$C$5,$C$6,0,0,$C$4),1,2)","v":-1666.674565118705},{"$f":"INDEX(coordonnées_cadran_plat($D46,K$10,$C$3,$C$2,$C$5,$C$6,0,0,$C$4),1,1)","v":1137.3681279750176},{"$f":"INDEX(coordonnées_cadran_plat($D46,K$10,$C$3,$C$2,$C$5,$C$6,0,0,$C$4),1,2)","v":-837.38836588440176},{"$f":"INDEX(coordonnées_cadran_plat($D46,M$10,$C$3,$C$2,$C$5,$C$6,0,0,$C$4),1,1)","v":1030.3962162676958},{"$f":"INDEX(coordonnées_cadran_plat($D46,M$10,$C$3,$C$2,$C$5,$C$6,0,0,$C$4),1,2)","v":-413.52981269916734},{"$f":"INDEX(coordonnées_cadran_plat($D46,O$10,$C$3,$C$2,$C$5,$C$6,0,0,$C$4),1,1)","v":1000.1075984651587},{"$f":"INDEX(coordonnées_cadran_plat($D46,O$10,$C$3,$C$2,$C$5,$C$6,0,0,$C$4),1,2)","v":-106.42397674324492},{"$f":"INDEX(coordonnées_cadran_plat($D46,Q$10,$C$3,$C$2,$C$5,$C$6,0,0,$C$4),1,1)","v":1022.3201161747121},{"$f":"INDEX(coordonnées_cadran_plat($D46,Q$10,$C$3,$C$2,$C$5,$C$6,0,0,$C$4),1,2)","v":180.73094307725802},{"$f":"INDEX(coordonnées_cadran_plat($D46,S$10,$C$3,$C$2,$C$5,$C$6,0,0,$C$4),1,1)","v":1107.3566302020004},{"$f":"INDEX(coordonnées_cadran_plat($D46,S$10,$C$3,$C$2,$C$5,$C$6,0,0,$C$4),1,2)","v":522.80857232028256},{"$f":"INDEX(coordonnées_cadran_plat($D46,U$10,$C$3,$C$2,$C$5,$C$6,0,0,$C$4),1,1)","v":1318.9222586151154},{"$f":"INDEX(coordonnées_cadran_plat($D46,U$10,$C$3,$C$2,$C$5,$C$6,0,0,$C$4),1,2)","v":1066.1182515431142},{"$f":"INDEX(coordonnées_cadran_plat($D46,W$10,$C$3,$C$2,$C$5,$C$6,0,0,$C$4),1,1)","v":1991.6949726836624},{"$f":"INDEX(coordonnées_cadran_plat($D46,W$10,$C$3,$C$2,$C$5,$C$6,0,0,$C$4),1,2)","v":2455.7848926465572}]
[null,16,5,"2010-05-16",{"$f":"INDEX(heures_limites_cadran($D47,$C$3,$C$2,$C$5),1,1)/24","v":"08:30:00"},{"$f":"INDEX(heures_limites_cadran($D47,$C$3,$C$2,$C$5),1,2)/24","v":"18:00:00"},{"$f":"INDEX(coordonnées_cadran_plat($D47,$G$10,$C$3,$C$2,$C$5,$C$6,0,0,$C$4),1,1)","v":3114.3914378240138},{"$f":"INDEX(coordonnées_cadran_plat($D47,$G$10,$C$3,$C$2,$C$5,$C$6,0,0,$C$4),1,2)","v":-5457.0641559256555},{"$f":"INDEX(coordonnées_cadran_plat($D47,I$10,$C$3,$C$2,$C$5,$C$6,0,0,$C$4),1,1)","v":1465.0796482174949},{"$f":"INDEX(coordonnées_cadran_plat($D47,I$10,$C$3,$C$2,$C$5,$C$6,0,0,$C$4),1,2)","v":-1687.5233236030781},{"$f":"INDEX(coordonnées_cadran_plat($D47,K$10,$C$3,$C$2,$C$5,$C$6,0,0,$C$4),1,1)","v":1151.4422986112031},{"$f":"INDEX(coordonnées_cadran_plat($D47,K$10,$C$3,$C$2,$C$5,$C$6,0,0,$C$4),1,2)","v":-844.46156247734723},{"$f":"INDEX(coordonnées_cadran_plat($D47,M$10,$C$3,$C$2,$C$5,$C$6,0,0,$C$4),1,1)","v":1041.147537262982},{"$f":"INDEX(coordonnées_cadran_plat($D47,M$10,$C$3,$C$2,$C$5,$C$6,0,0,$C$4),1,2)","v":-416.48548497754183},{"$f":"INDEX(coordonnées_cadran_plat($D47,O$10,$C$3,$C$2,$C$5,$C$6,0,0,$C$4),1,1)","v":1009.8394143892505},{"$f":"INDEX(coordonnées_cadran_plat($D47,O$10,$C$3,$C$2,$C$5,$C$6,0,0,$C$4),1,2)","v":-107.28306557238507},{"$f":"INDEX(coordonnées_cadran_plat($D47,Q$10,$C$3,$C$2,$C$5,$C$6,0,0,$C$4),1,1)","v":1032.4069613848417},{"$f":"INDEX(coordonnées_cadran_plat($D47,Q$10,$C$3,$C$2,$C$5,$C$6,0,0,$C$4),1,2)","v":181.63070327157982},{"$f":"INDEX(coordonnées_cadran_plat($D47,S$10,$C$3,$C$2,$C$5,$C$6,0,0,$C$4),1,1)","v":1119.4594877874599},{"$f":"INDEX(coordonnées_cadran_plat($D47,S$10,$C$3,$C$2,$C$5,$C$6,0,0,$C$4),1,2)","v":526.24165980516932},{"$f":"INDEX(coordonnées_cadran_plat($D47,U$10,$C$3,$C$2,$C$5,$C$6,0,0,$C$4),1,1)","v":1336.9589923168608},{"$f":"INDEX(coordonnées_cadran_plat($D47,U$10,$C$3,$C$2,$C$5,$C$6,0,0,$C$4),1,2)","v":1075.7338235861266},{"$f":"INDEX(coordonnées_cadran_plat($D47,W$10,$C$3,$C$2,$C$5,$C$6,0,0,$C$4),1,1)","v":2035.6132369073105},{"$f":"INDEX(coordonnées_cadran_plat($D47,W$10,$C$3,$C$2,$C$5,$C$6,0,0,$C$4),1,2)","v":2496.5122515308844}]
[null,17,5,"2010-05-17",{"$f":"INDEX(heures_limites_cadran($D48,$C$3,$C$2,$C$5),1,1)/24","v":"09:00:00"},{"$f":"INDEX(heures_limites_cadran($D48,$C$3,$C$2,$C$5),1,2)/24","v":"18:00:00"},{"$f":"INDEX(coordonnées_cadran_plat($D48,$G$10,$C$3,$C$2,$C$5,$C$6,0,0,$C$4),1,1)","v":3241.9982017284524},{"$f":"INDEX(coordonnées_cadran_plat($D48,$G$10,$C$3,$C$2,$C$5,$C$6,0,0,$C$4),1,2)","v":-5646.7741009352321},{"$f":"INDEX(coordonnées_cadran_plat($D48,I$10,$C$3,$C$2,$C$5,$C$6,0,0,$C$4),1,1)","v":1490.202601119252},{"$f":"INDEX(coordonnées_cadran_plat($D48,I$10,$C$3,$C$2,$C$5,$C$6,0,0,$C$4),1,2)","v":-1708.6706079709636},{"$f":"INDEX(coordonnées_cadran_plat($D48,K$10,$C$3,$C$2,$C$5,$C$6,0,0,$C$4),1,1)","v":1165.481349797763},{"$f":"INDEX(coordonnées_cadran_plat($D48,K$10,$C$3,$C$2,$C$5,$C$6,0,0,$C$4),1,2)","v":-851.59252831213541},{"$f":"INDEX(coordonnées_cadran_plat($D48,M$10,$C$3,$C$2,$C$5,$C$6,0,0,$C$4),1,1)","v":1051.8275005154621},{"$f":"INDEX(coordonnées_cadran_plat($D48,M$10,$C$3,$C$2,$C$5,$C$6,0,0,$C$4),1,2)","v":-419.47520567796761},{"$f":"INDEX(coordonnées_cadran_plat($D48,O$10,$C$3,$C$2,$C$5,$C$6,0,0,$C$4),1,1)","v":1019.4871995319429},{"$f":"INDEX(coordonnées_cadran_plat($D48,O$10,$C$3,$C$2,$C$5,$C$6,0,0,$C$4),1,2)","v":-108.18158959662678},{"$f":"INDEX(coordonnées_cadran_plat($D48,Q$10,$C$3,$C$2,$C$5,$C$6,0,0,$C$4),1,1)","v":1042.3995921257758},{"$f":"INDEX(coordonnées_cadran_plat($D48,Q$10,$C$3,$C$2,$C$5,$C$6,0,0,$C$4),1,2)","v":182.4733986479645},{"$f":"INDEX(coordonnées_cadran_plat($D48,S$10,$C$3,$C$2,$C$5,$C$6,0,0,$C$4),1,1)","v":1131.4567351935696},{"$f":"INDEX(coordonnées_cadran_plat($D48,S$10,$C$3,$C$2,$C$5,$C$6,0,0,$C$4),1,2)","v":529.5841669416609},{"$f":"INDEX(coordonnées_cadran_plat($D48,U$10,$C$3,$C$2,$C$5,$C$6,0,0,$C$4),1,1)","v":1354.8942579536931},{"$f":"INDEX(coordonnées_cadran_plat($D48,U$10,$C$3,$C$2,$C$5,$C$6,0,0,$C$4),1,2)","v":1085.1994033675608},{"$f":"INDEX(coordonnées_cadran_plat($D48,W$10,$C$3,$C$2,$C$5,$C$6,0,0,$C$4),1,1)","v":2079.8372100219767},{"$f":"INDEX(coordonnées_cadran_plat($D48,W$10,$C$3,$C$2,$C$5,$C$6,0,0,$C$4),1,2)","v":2537.2883359774401}]
[null,18,5,"2010-05-18",{"$f":"INDEX(heures_limites_cadran($D49,$C$3,$C$2,$C$5),1,1)/24","v":"09:00:00"},{"$f":"INDEX(heures_limites_cadran($D49,$C$3,$C$2,$C$5),1,2)/24","v":"17:30:00"},{"$f":"INDEX(coordonnées_cadran_plat($D49,$G$10,$C$3,$C$2,$C$5,$C$6,0,0,$C$4),1,1)","v":3376.6805384435365},{"$f":"INDEX(coordonnées_cadran_plat($D49,$G$10,$C$3,$C$2,$C$5,$C$6,0,0,$C$4),1,2)","v":-5847.6453089386059},{"$f":"INDEX(coordonnées_cadran_plat($D49,I$10,$C$3,$C$2,$C$5,$C$6,0,0,$C$4),1,1)","v":1515.4908200856407},{"$f":"INDEX(coordonnées_cadran_plat($D49,I$10,$C$3,$C$2,$C$5,$C$6,0,0,$C$4),1,2)","v":-1730.105265245365},{"$f":"INDEX(coordonnées_cadran_plat($D49,K$10,$C$3,$C$2,$C$5,$C$6,0,0,$C$4),1,1)","v":1179.4721163977738},{"$f":"INDEX(coordonnées_cadran_plat($D49,K$10,$C$3,$C$2,$C$5,$C$6,0,0,$C$4),1,2)","v":-858.77594097907036},{"$f":"INDEX(coordonnées_cadran_plat($D49,M$10,$C$3,$C$2,$C$5,$C$6,0,0,$C$4),1,1)","v":1062.4256685848907},{"$f":"INDEX(coordonnées_cadran_plat($D49,M$10,$C$3,$C$2,$C$5,$C$6,0,0,$C$4),1,2)","v":-422.49677354935966},{"$f":"INDEX(coordonnées_cadran_plat($D49,O$10,$C$3,$C$2,$C$5,$C$6,0,0,$C$4),1,1)","v":1029.0411440542653},{"$f":"INDEX(coordonnées_cadran_plat($D49,O$10,$C$3,$C$2,$C$5,$C$6,0,0,$C$4),1,2)","v":-109.11918583050333},{"$f":"INDEX(coordonnées_cadran_plat($D49,Q$10,$C$3,$C$2,$C$5,$C$6,0,0,$C$4),1,1)","v":1052.2871653935244},{"$f":"INDEX(coordonnées_cadran_plat($D49,Q$10,$C$3,$C$2,$C$5,$C$6,0,0,$C$4),1,2)","v":183.25753012755717},{"$f":"INDEX(coordonnées_cadran_plat($D49,S$10,$C$3,$C$2,$C$5,$C$6,0,0,$C$4),1,1)","v":1143.3339158721885},{"$f":"INDEX(coordonnées_cadran_plat($D49,S$10,$C$3,$C$2,$C$5,$C$6,0,0,$C$4),1,2)","v":532.83118934210972},{"$f":"INDEX(coordonnées_cadran_plat($D49,U$10,$C$3,$C$2,$C$5,$C$6,0,0,$C$4),1,1)","v":1372.7026527877031},{"$f":"INDEX(coordonnées_cadran_plat($D49,U$10,$C$3,$C$2,$C$5,$C$6,0,0,$C$4),1,2)","v":1094.4995540196512},{"$f":"INDEX(coordonnées_cadran_plat($D49,W$10,$C$3,$C$2,$C$5,$C$6,0,0,$C$4),1,1)","v":2124.2936618348435},{"$f":"INDEX(coordonnées_cadran_plat($D49,W$10,$C$3,$C$2,$C$5,$C$6,0,0,$C$4),1,2)","v":2578.0354290021005}]
[null,19,5,"2010-05-19",{"$f":"INDEX(heures_limites_cadran($D50,$C$3,$C$2,$C$5),1,1)/24","v":"09:00:00"},{"$f":"INDEX(heures_limites_cadran($D50,$C$3,$C$2,$C$5),1,2)/24","v":"17:30:00"},{"$f":"INDEX(coordonnées_cadran_plat($D50,$G$10,$C$3,$C$2,$C$5,$C$6,0,0,$C$4),1,1)","v":3518.9549712759058},{"$f":"INDEX(coordonnées_cadran_plat($D50,$G$10,$C$3,$C$2,$C$5,$C$6,0,0,$C$4),1,2)","v":-6060.5103513561571},{"$f":"INDEX(coordonnées_cadran_plat($D50,I$10,$C$3,$C$2,$C$5,$C$6,0,0,$C$4),1,1)","v":1540.9239145251518},{"$f":"INDEX(coordonnées_cadran_plat($D50,I$10,$C$3,$C$2,$C$5,$C$6,0,0,$C$4),1,2)","v":-1751.8144335292081},{"$f":"INDEX(coordonnées_cadran_plat($D50,K$10,$C$3,$C$2,$C$5,$C$6,0,0,$C$4),1,1)","v":1193.4007822204078},{"$f":"INDEX(coordonnées_cadran_plat($D50,K$10,$C$3,$C$2,$C$5,$C$6,0,0,$C$4),1,2)","v":-866.0060254751595},{"$f":"INDEX(coordonnées_cadran_plat($D50,M$10,$C$3,$C$2,$C$5,$C$6,0,0,$C$4),1,1)","v":1072.9312488829053},{"$f":"INDEX(coordonnées_cadran_plat($D50,M$10,$C$3,$C$2,$C$5,$C$6,0,0,$C$4),1,2)","v":-425.5477915611998},{"$f":"INDEX(coordonnées_cadran_plat($D50,O$10,$C$3,$C$2,$C$5,$C$6,0,0,$C$4),1,1)","v":1038.4911754631869},{"$f":"INDEX(coordonnées_cadran_plat($D50,O$10,$C$3,$C$2,$C$5,$C$6,0,0,$C$4),1,2)","v":-110.09537762725267},{"$f":"INDEX(coordonnées_cadran_plat($D50,Q$10,$C$3,$C$2,$C$5,$C$6,0,0,$C$4),1,1)","v":1062.0585800186609},{"$f":"INDEX(coordonnées_cadran_plat($D50,Q$10,$C$3,$C$2,$C$5,$C$6,0,0,$C$4),1,2)","v":183.98167485159334},{"$f":"INDEX(coordonnées_cadran_plat($D50,S$10,$C$3,$C$2,$C$5,$C$6,0,0,$C$4),1,1)","v":1155.0762088855543},{"$f":"INDEX(coordonnées_cadran_plat($D50,S$10,$C$3,$C$2,$C$5,$C$6,0,0,$C$4),1,2)","v":535.97785148955165},{"$f":"INDEX(coordonnées_cadran_plat($D50,U$10,$C$3,$C$2,$C$5,$C$6,0,0,$C$4),1,1)","v":1390.3578727378322},{"$f":"INDEX(coordonnées_cadran_plat($D50,U$10,$C$3,$C$2,$C$5,$C$6,0,0,$C$4),1,2)","v":1103.618583643708},{"$f":"INDEX(coordonnées_cadran_plat($D50,W$10,$C$3,$C$2,$C$5,$C$6,0,0,$C$4),1,1)","v":2168.9028502509632},{"$f":"INDEX(coordonnées_cadran_plat($D50,W$10,$C$3,$C$2,$C$5,$C$6,0,0,$C$4),1,2)","v":2618.670233482304}]
[null,20,5,"2010-05-20",{"$f":"INDEX(heures_limites_cadran($D51,$C$3,$C$2,$C$5),1,1)/24","v":"09:00:00"},{"$f":"INDEX(heures_limites_cadran($D51,$C$3,$C$2,$C$5),1,2)/24","v":"17:30:00"},{"$f":"INDEX(coordonnées_cadran_plat($D51,$G$10,$C$3,$C$2,$C$5,$C$6,0,0,$C$4),1,1)","v":3669.3810160909752},{"$f":"INDEX(coordonnées_cadran_plat($D51,$G$10,$C$3,$C$2,$C$5,$C$6,0,0,$C$4),1,2)","v":-6286.2723875321071},{"$f":"INDEX(coordonnées_cadran_plat($D51,I$10,$C$3,$C$2,$C$5,$C$6,0,0,$C$4),1,1)","v":1566.4795396231966},{"$f":"INDEX(coordonnées_cadran_plat($D51,I$10,$C$3,$C$2,$C$5,$C$6,0,0,$C$4),1,2)","v":-1773.7834404282294},{"$f":"INDEX(coordonnées_cadran_plat($D51,K$10,$C$3,$C$2,$C$5,$C$6,0,0,$C$4),1,1)","v":1207.252880693276},{"$f":"INDEX(coordonnées_cadran_plat($D51,K$10,$C$3,$C$2,$C$5,$C$6,0,0,$C$4),1,2)","v":-873.27654413212701},{"$f":"INDEX(coordonnées_cadran_plat($D51,M$10,$C$3,$C$2,$C$5,$C$6,0,0,$C$4),1,1)","v":1083.3331049734868},{"$f":"INDEX(coordonnées_cadran_plat($D51,M$10,$C$3,$C$2,$C$5,$C$6,0,0,$C$4),1,2)","v":-428.62566399186915},{"$f":"INDEX(coordonnées_cadran_plat($D51,O$10,$C$3,$C$2,$C$5,$C$6,0,0,$C$4),1,1)","v":1047.8269739689079},{"$f":"INDEX(coordonnées_cadran_plat($D51,O$10,$C$3,$C$2,$C$5,$C$6,0,0,$C$4),1,2)","v":-111.10957117772372},{"$f":"INDEX(coordonnées_cadran_plat($D51,Q$10,$C$3,$C$2,$C$5,$C$6,0,0,$C$4),1,1)","v":1071.7024973076418},{"$f":"INDEX(coordonnées_cadran_plat($D51,Q$10,$C$3,$C$2,$C$5,$C$6,0,0,$C$4),1,2)","v":184.64449329588498},{"$f":"INDEX(coordonnées_cadran_plat($D51,S$10,$C$3,$C$2,$C$5,$C$6,0,0,$C$4),1,1)","v":1166.6684606947924},{"$f":"INDEX(coordonnées_cadran_plat($D51,S$10,$C$3,$C$2,$C$5,$C$6,0,0,$C$4),1,2)","v":539.01932371535963},{"$f":"INDEX(coordonnées_cadran_plat($D51,U$10,$C$3,$C$2,$C$5,$C$6,0,0,$C$4),1,1)","v":1407.8327721329622},{"$f":"INDEX(coordonnées_cadran_plat($D51,U$10,$C$3,$C$2,$C$5,$C$6,0,0,$C$4),1,2)","v":1112.5405962260411},{"$f":"INDEX(coordonnées_cadran_plat($D51,W$10,$C$3,$C$2,$C$5,$C$6,0,0,$C$4),1,1)","v":2213.5784807135765},{"$f":"INDEX(coordonnées_cadran_plat($D51,W$10,$C$3,$C$2,$C$5,$C$6,0,0,$C$4),1,2)","v":2659.1039417102743}]
[null,21,5,"2010-05-21",{"$f":"INDEX(heures_limites_cadran($D52,$C$3,$C$2,$C$5),1,1)/24","v":"09:00:00"},{"$f":"INDEX(heures_limites_cadran($D52,$C$3,$C$2,$C$5),1,2)/24","v":"17:30:00"},{"$f":"INDEX(coordonnées_cadran_plat($D52,$G$10,$C$3,$C$2,$C$5,$C$6,0,0,$C$4),1,1)","v":3828.5647278421097},{"$f":"INDEX(coordonnées_cadran_plat($D52,$G$10,$C$3,$C$2,$C$5,$C$6,0,0,$C$4),1,2)","v":-6525.9111971499906},{"$f":"INDEX(coordonnées_cadran_plat($D52,I$10,$C$3,$C$2,$C$5,$C$6,0,0,$C$4),1,1)","v":1592.1333118696391},{"$f":"INDEX(coordonnées_cadran_plat($D52,I$10,$C$3,$C$2,$C$5,$C$6,0,0,$C$4),1,2)","v":-1795.9957023135378},{"$f":"INDEX(coordonnées_cadran_plat($D52,K$10,$C$3,$C$2,$C$5,$C$6,0,0,$C$4),1,1)","v":1221.0132989993972},{"$f":"INDEX(coordonnées_cadran_plat($D52,K$10,$C$3,$C$2,$C$5,$C$6,0,0,$C$4),1,2)","v":-880.58078808859455},{"$f":"INDEX(coordonnées_cadran_plat($D52,M$10,$C$3,$C$2,$C$5,$C$6,0,0,$C$4),1,1)","v":1093.6197702562579},{"$f":"INDEX(coordonnées_cadran_plat($D52,M$10,$C$3,$C$2,$C$5,$C$6,0,0,$C$4),1,2)","v":-431.72759421706996},{"$f":"INDEX(coordonnées_cadran_plat($D52,O$10,$C$3,$C$2,$C$5,$C$6,0,0,$C$4),1,1)","v":1057.0379899029742},{"$f":"INDEX(coordonnées_cadran_plat($D52,O$10,$C$3,$C$2,$C$5,$C$6,0,0,$C$4),1,2)","v":-112.16105230589254},{"$f":"INDEX(coordonnées_cadran_plat($D52,Q$10,$C$3,$C$2,$C$5,$C$6,0,0,$C$4),1,1)","v":1081.2073639889911},{"$f":"INDEX(coordonnées_cadran_plat($D52,Q$10,$C$3,$C$2,$C$5,$C$6,0,0,$C$4),1,2)","v":185.24473642228003},{"$f":"INDEX(coordonnées_cadran_plat($D52,S$10,$C$3,$C$2,$C$5,$C$6,0,0,$C$4),1,1)","v":1178.0952205439114},{"$f":"INDEX(coordonnées_cadran_plat($D52,S$10,$C$3,$C$2,$C$5,$C$6,0,0,$C$4),1,2)","v":541.95083994762297},{"$f":"INDEX(coordonnées_cadran_plat($D52,U$10,$C$3,$C$2,$C$5,$C$6,0,0,$C$4),1,1)","v":1425.0994330028439},{"$f":"INDEX(coordonnées_cadran_plat($D52,U$10,$C$3,$C$2,$C$5,$C$6,0,0,$C$4),1,2)","v":1121.2495473636486},{"$f":"INDEX(coordonnées_cadran_plat($D52,W$10,$C$3,$C$2,$C$5,$C$6,0,0,$C$4),1,1)","v":2258.227731894453},{"$f":"INDEX(coordonnées_cadran_plat($D52,W$10,$C$3,$C$2,$C$5,$C$6,0,0,$C$4),1,2)","v":2699.2423721645814}]
[null,22,5,"2010-05-22",{"$f":"INDEX(heures_limites_cadran($D53,$C$3,$C$2,$C$5),1,1)/24","v":"09:00:00"},{"$f":"INDEX(heures_limites_cadran($D53,$C$3,$C$2,$C$5),1,2)/24","v":"17:30:00"},{"$f":"INDEX(coordonnées_cadran_plat($D53,$G$10,$C$3,$C$2,$C$5,$C$6,0,0,$C$4),1,1)","v":3997.1624280555734},{"$f":"INDEX(coordonnées_cadran_plat($D53,$G$10,$C$3,$C$2,$C$5,$C$6,0,0,$C$4),1,2)","v":-6780.4895658987753},{"$f":"INDEX(coordonnées_cadran_plat($D53,I$10,$C$3,$C$2,$C$5,$C$6,0,0,$C$4),1,1)","v":1617.8587293890519},{"$f":"INDEX(coordonnées_cadran_plat($D53,I$10,$C$3,$C$2,$C$5,$C$6,0,0,$C$4),1,2)","v":-1818.4326255237622},{"$f":"INDEX(coordonnées_cadran_plat($D53,K$10,$C$3,$C$2,$C$5,$C$6,0,0,$C$4),1,1)","v":1234.6662859821502},{"$f":"INDEX(coordonnées_cadran_plat($D53,K$10,$C$3,$C$2,$C$5,$C$6,0,0,$C$4),1,2)","v":-887.91157051853531},{"$f":"INDEX(coordonnées_cadran_plat($D53,M$10,$C$3,$C$2,$C$5,$C$6,0,0,$C$4),1,1)","v":1103.7794641341591},{"$f":"INDEX(coordonnées_cadran_plat($D53,M$10,$C$3,$C$2,$C$5,$C$6,0,0,$C$4),1,2)","v":-434.85058326832768},{"$f":"INDEX(coordonnées_cadran_plat($D53,O$10,$C$3,$C$2,$C$5,$C$6,0,0,$C$4),1,1)","v":1066.1134632337432},{"$f":"INDEX(coordonnées_cadran_plat($D53,O$10,$C$3,$C$2,$C$5,$C$6,0,0,$C$4),1,2)","v":-113.24898360127318},{"$f":"INDEX(coordonnées_cadran_plat($D53,Q$10,$C$3,$C$2,$C$5,$C$6,0,0,$C$4),1,1)","v":1090.5614374695028},{"$f":"INDEX(coordonnées_cadran_plat($D53,Q$10,$C$3,$C$2,$C$5,$C$6,0,0,$C$4),1,2)","v":185.78125282304518},{"$f":"INDEX(coordonnées_cadran_plat($D53,S$10,$C$3,$C$2,$C$5,$C$6,0,0,$C$4),1,1)","v":1189.3407794273314},{"$f":"INDEX(coordonnées_cadran_plat($D53,S$10,$C$3,$C$2,$C$5,$C$6,0,0,$C$4),1,2)","v":544.76771615542407},{"$f":"INDEX(coordonnées_cadran_plat($D53,U$10,$C$3,$C$2,$C$5,$C$6,0,0,$C$4),1,1)","v":1442.1292440263164},{"$f":"INDEX(coordonnées_cadran_plat($D53,U$10,$C$3,$C$2,$C$5,$C$6,0,0,$C$4),1,2)","v":1129.729304666118},{"$f":"INDEX(coordonnées_cadran_plat($D53,W$10,$C$3,$C$2,$C$5,$C$6,0,0,$C$4),1,1)","v":2302.7513557850921},{"$f":"INDEX(coordonnées_cadran_plat($D53,W$10,$C$3,$C$2,$C$5,$C$6,0,0,$C$4),1,2)","v":2738.9861800654703}]
[null,23,5,"2010-05-23",{"$f":"INDEX(heures_limites_cadran($D54,$C$3,$C$2,$C$5),1,1)/24","v":"09:00:00"},{"$f":"INDEX(heures_limites_cadran($D54,$C$3,$C$2,$C$5),1,2)/24","v":"17:30:00"},{"$f":"INDEX(coordonnées_cadran_plat($D54,$G$10,$C$3,$C$2,$C$5,$C$6,0,0,$C$4),1,1)","v":4175.8845771016777},{"$f":"INDEX(coordonnées_cadran_plat($D54,$G$10,$C$3,$C$2,$C$5,$C$6,0,0,$C$4),1,2)","v":-7051.1599775116529},{"$f":"INDEX(coordonnées_cadran_plat($D54,I$10,$C$3,$C$2,$C$5,$C$6,0,0,$C$4),1,1)","v":1643.6270985077304},{"$f":"INDEX(coordonnées_cadran_plat($D54,I$10,$C$3,$C$2,$C$5,$C$6,0,0,$C$4),1,2)","v":-1841.073510748153},{"$f":"INDEX(coordonnées_cadran_plat($D54,K$10,$C$3,$C$2,$C$5,$C$6,0,0,$C$4),1,1)","v":1248.1954641157979},{"$f":"INDEX(coordonnées_cadran_plat($D54,K$10,$C$3,$C$2,$C$5,$C$6,0,0,$C$4),1,2)","v":-895.26122182923314},{"$f":"INDEX(coordonnées_cadran_plat($D54,M$10,$C$3,$C$2,$C$5,$C$6,0,0,$C$4),1,1)","v":1113.8001107535115},{"$f":"INDEX(coordonnées_cadran_plat($D54,M$10,$C$3,$C$2,$C$5,$C$6,0,0,$C$4),1,2)","v":-437.99142923014136},{"$f":"INDEX(coordonnées_cadran_plat($D54,O$10,$C$3,$C$2,$C$5,$C$6,0,0,$C$4),1,1)","v":1075.0424452019051},{"$f":"INDEX(coordonnées_cadran_plat($D54,O$10,$C$3,$C$2,$C$5,$C$6,0,0,$C$4),1,2)","v":-114.3724019309072},{"$f":"INDEX(coordonnées_cadran_plat($D54,Q$10,$C$3,$C$2,$C$5,$C$6,0,0,$C$4),1,1)","v":1099.7528133859491},{"$f":"INDEX(coordonnées_cadran_plat($D54,Q$10,$C$3,$C$2,$C$5,$C$6,0,0,$C$4),1,2)","v":186.25299581037615},{"$f":"INDEX(coordonnées_cadran_plat($D54,S$10,$C$3,$C$2,$C$5,$C$6,0,0,$C$4),1,1)","v":1200.3892125924338},{"$f":"INDEX(coordonnées_cadran_plat($D54,S$10,$C$3,$C$2,$C$5,$C$6,0,0,$C$4),1,2)","v":547.46536939842326},{"$f":"INDEX(coordonnées_cadran_plat($D54,U$10,$C$3,$C$2,$C$5,$C$6,0,0,$C$4),1,1)","v":1458.8929891508626},{"$f":"INDEX(coordonnées_cadran_plat($D54,U$10,$C$3,$C$2,$C$5,$C$6,0,0,$C$4),1,2)","v":1137.9637126393873},{"$f":"INDEX(coordonnées_cadran_plat($D54,W$10,$C$3,$C$2,$C$5,$C$6,0,0,$C$4),1,1)","v":2347.0438599939766},{"$f":"INDEX(coordonnées_cadran_plat($D54,W$10,$C$3,$C$2,$C$5,$C$6,0,0,$C$4),1,2)","v":2778.2311477167809}]
[null,24,5,"2010-05-24",{"$f":"INDEX(heures_limites_cadran($D55,$C$3,$C$2,$C$5),1,1)/24","v":"09:00:00"},{"$f":"INDEX(heures_limites_cadran($D55,$C$3,$C$2,$C$5),1,2)/24","v":"17:30:00"},{"$f":"INDEX(coordonnées_cadran_plat($D55,$G$10,$C$3,$C$2,$C$5,$C$6,0,0,$C$4),1,1)","v":4365.499734815291},{"$f":"INDEX(coordonnées_cadran_plat($D55,$G$10,$C$3,$C$2,$C$5,$C$6,0,0,$C$4),1,2)","v":-7339.1715346344781},{"$f":"INDEX(coordonnées_cadran_plat($D55,I$10,$C$3,$C$2,$C$5,$C$6,0,0,$C$4),1,1)","v":1669.4074681260554},{"$f":"INDEX(coordonnées_cadran_plat($D55,I$10,$C$3,$C$2,$C$5,$C$6,0,0,$C$4),1,2)","v":-1863.8954619791461},{"$f":"INDEX(coordonnées_cadran_plat($D55,K$10,$C$3,$C$2,$C$5,$C$6,0,0,$C$4),1,1)","v":1261.5838458330829},{"$f":"INDEX(coordonnées_cadran_plat($D55,K$10,$C$3,$C$2,$C$5,$C$6,0,0,$C$4),1,2)","v":-902.62158705072522},{"$f":"INDEX(coordonnées_cadran_plat($D55,M$10,$C$3,$C$2,$C$5,$C$6,0,0,$C$4),1,1)","v":1123.6693603908448},{"$f":"INDEX(coordonnées_cadran_plat($D55,M$10,$C$3,$C$2,$C$5,$C$6,0,0,$C$4),1,2)","v":-441.1467275447913},{"$f":"INDEX(coordonnées_cadran_plat($D55,O$10,$C$3,$C$2,$C$5,$C$6,0,0,$C$4),1,1)","v":1083.8138220815285},{"$f":"INDEX(coordonnées_cadran_plat($D55,O$10,$C$3,$C$2,$C$5,$C$6,0,0,$C$4),1,2)","v":-115.53021637063291},{"$f":"INDEX(coordonnées_cadran_plat($D55,Q$10,$C$3,$C$2,$C$5,$C$6,0,0,$C$4),1,1)","v":1108.7694554166515},{"$f":"INDEX(coordonnées_cadran_plat($D55,Q$10,$C$3,$C$2,$C$5,$C$6,0,0,$C$4),1,2)","v":186.65903040150982},{"$f":"INDEX(coordonnées_cadran_plat($D55,S$10,$C$3,$C$2,$C$5,$C$6,0,0,$C$4),1,1)","v":1211.2244254906134},{"$f":"INDEX(coordonnées_cadran_plat($D55,S$10,$C$3,$C$2,$C$5,$C$6,0,0,$C$4),1,2)","v":550.03933738028184},{"$f":"INDEX(coordonnées_cadran_plat($D55,U$10,$C$3,$C$2,$C$5,$C$6,0,0,$C$4),1,1)","v":1475.3609457761788},{"$f":"INDEX(coordonnées_cadran_plat($D55,U$10,$C$3,$C$2,$C$5,$C$6,0,0,$C$4),1,2)","v":1145.9366617759256},{"$f":"INDEX(coordonnées_cadran_plat($D55,W$10,$C$3,$C$2,$C$5,$C$6,0,0,$C$4),1,1)","v":2390.9937794336961},{"$f":"INDEX(coordonnées_cadran_plat($D55,W$10,$C$3,$C$2,$C$5,$C$6,0,0,$C$4),1,2)","v":2816.8685598089246}]
[null,25,5,"2010-05-25",{"$f":"INDEX(heures_limites_cadran($D56,$C$3,$C$2,$C$5),1,1)/24","v":"09:00:00"},{"$f":"INDEX(heures_limites_cadran($D56,$C$3,$C$2,$C$5),1,2)/24","v":"17:30:00"},{"$f":"INDEX(coordonnées_cadran_plat($D56,$G$10,$C$3,$C$2,$C$5,$C$6,0,0,$C$4),1,1)","v":4566.8385257685095},{"$f":"INDEX(coordonnées_cadran_plat($D56,$G$10,$C$3,$C$2,$C$5,$C$6,0,0,$C$4),1,2)","v":-7645.8769892996606},{"$f":"INDEX(coordonnées_cadran_plat($D56,I$10,$C$3,$C$2,$C$5,$C$6,0,0,$C$4),1,1)","v":1695.166573597626},{"$f":"INDEX(coordonnées_cadran_plat($D56,I$10,$C$3,$C$2,$C$5,$C$6,0,0,$C$4),1,2)","v":-1886.8733015739008},{"$f":"INDEX(coordonnées_cadran_plat($D56,K$10,$C$3,$C$2,$C$5,$C$6,0,0,$C$4),1,1)","v":1274.8138544874598},{"$f":"INDEX(coordonnées_cadran_plat($D56,K$10,$C$3,$C$2,$C$5,$C$6,0,0,$C$4),1,2)","v":-909.98402563718037},{"$f":"INDEX(coordonnées_cadran_plat($D56,M$10,$C$3,$C$2,$C$5,$C$6,0,0,$C$4),1,1)","v":1133.3746135435997},{"$f":"INDEX(coordonnées_cadran_plat($D56,M$10,$C$3,$C$2,$C$5,$C$6,0,0,$C$4),1,2)","v":-444.31287229098314},{"$f":"INDEX(coordonnées_cadran_plat($D56,O$10,$C$3,$C$2,$C$5,$C$6,0,0,$C$4),1,1)","v":1092.4163410556491},{"$f":"INDEX(coordonnées_cadran_plat($D56,O$10,$C$3,$C$2,$C$5,$C$6,0,0,$C$4),1,2)","v":-116.72120659867583},{"$f":"INDEX(coordonnées_cadran_plat($D56,Q$10,$C$3,$C$2,$C$5,$C$6,0,0,$C$4),1,1)","v":1117.5992272942683},{"$f":"INDEX(coordonnées_cadran_plat($D56,Q$10,$C$3,$C$2,$C$5,$C$6,0,0,$C$4),1,2)","v":186.99854014606066},{"$f":"INDEX(coordonnées_cadran_plat($D56,S$10,$C$3,$C$2,$C$5,$C$6,0,0,$C$4),1,1)","v":1221.8302030501566},{"$f":"INDEX(coordonnées_cadran_plat($D56,S$10,$C$3,$C$2,$C$5,$C$6,0,0,$C$4),1,2)","v":552.485298392598},{"$f":"INDEX(coordonnées_cadran_plat($D56,U$10,$C$3,$C$2,$C$5,$C$6,0,0,$C$4),1,1)","v":1491.5029922683314},{"$f":"INDEX(coordonnées_cadran_plat($D56,U$10,$C$3,$C$2,$C$5,$C$6,0,0,$C$4),1,2)","v":1153.632161507717},{"$f":"INDEX(coordonnées_cadran_plat($D56,W$10,$C$3,$C$2,$C$5,$C$6,0,0,$C$4),1,1)","v":2434.4840436657482},{"$f":"INDEX(coordonnées_cadran_plat($D56,W$10,$C$3,$C$2,$C$5,$C$6,0,0,$C$4),1,2)","v":2854.7856677566383}]
[null,26,5,"2010-05-26",{"$f":"INDEX(heures_limites_cadran($D57,$C$3,$C$2,$C$5),1,1)/24","v":"09:00:00"},{"$f":"INDEX(heures_limites_cadran($D57,$C$3,$C$2,$C$5),1,2)/24","v":"17:30:00"},{"$f":"INDEX(coordonnées_cadran_plat($D57,$G$10,$C$3,$C$2,$C$5,$C$6,0,0,$C$4),1,1)","v":4780.7974894205099},{"$f":"INDEX(coordonnées_cadran_plat($D57,$G$10,$C$3,$C$2,$C$5,$C$6,0,0,$C$4),1,2)","v":-7972.7397082241123},{"$f":"INDEX(coordonnées_cadran_plat($D57,I$10,$C$3,$C$2,$C$5,$C$6,0,0,$C$4),1,1)","v":1720.868791936407},{"$f":"INDEX(coordonnées_cadran_plat($D57,I$10,$C$3,$C$2,$C$5,$C$6,0,0,$C$4),1,2)","v":-1909.9794931060951},{"$f":"INDEX(coordonnées_cadran_plat($D57,K$10,$C$3,$C$2,$C$5,$C$6,0,0,$C$4),1,1)","v":1287.8673502099095},{"$f":"INDEX(coordonnées_cadran_plat($D57,K$10,$C$3,$C$2,$C$5,$C$6,0,0,$C$4),1,2)","v":-917.3394139007778},{"$f":"INDEX(coordonnées_cadran_plat($D57,M$10,$C$3,$C$2,$C$5,$C$6,0,0,$C$4),1,1)","v":1142.9030477622309},{"$f":"INDEX(coordonnées_cadran_plat($D57,M$10,$C$3,$C$2,$C$5,$C$6,0,0,$C$4),1,2)","v":-447.48605849931471},{"$f":"INDEX(coordonnées_cadran_plat($D57,O$10,$C$3,$C$2,$C$5,$C$6,0,0,$C$4),1,1)","v":1100.8386381751557},{"$f":"INDEX(coordonnées_cadran_plat($D57,O$10,$C$3,$C$2,$C$5,$C$6,0,0,$C$4),1,2)","v":-117.94402179035754},{"$f":"INDEX(coordonnées_cadran_plat($D57,Q$10,$C$3,$C$2,$C$5,$C$6,0,0,$C$4),1,1)","v":1126.2299269382008},{"$f":"INDEX(coordonnées_cadran_plat($D57,Q$10,$C$3,$C$2,$C$5,$C$6,0,0,$C$4),1,2)","v":187.27083374034567},{"$f":"INDEX(coordonnées_cadran_plat($D57,S$10,$C$3,$C$2,$C$5,$C$6,0,0,$C$4),1,1)","v":1232.190262101693},{"$f":"INDEX(coordonnées_cadran_plat($D57,S$10,$C$3,$C$2,$C$5,$C$6,0,0,$C$4),1,2)","v":554.79909152219432},{"$f":"INDEX(coordonnées_cadran_plat($D57,U$10,$C$3,$C$2,$C$5,$C$6,0,0,$C$4),1,1)","v":1507.2887244314961},{"$f":"INDEX(coordonnées_cadran_plat($D57,U$10,$C$3,$C$2,$C$5,$C$6,0,0,$C$4),1,2)","v":1161.0344165948115},{"$f":"INDEX(coordonnées_cadran_plat($D57,W$10,$C$3,$C$2,$C$5,$C$6,0,0,$C$4),1,1)","v":2477.392444936725},{"$f":"INDEX(coordonnées_cadran_plat($D57,W$10,$C$3,$C$2,$C$5,$C$6,0,0,$C$4),1,2)","v":2891.8662457585806}]
[null,27,5,"2010-05-27",{"$f":"INDEX(heures_limites_cadran($D58,$C$3,$C$2,$C$5),1,1)/24","v":"09:00:00"},{"$f":"INDEX(heures_limites_cadran($D58,$C$3,$C$2,$C$5),1,2)/24","v":"17:30:00"},{"$f":"INDEX(coordonnées_cadran_plat($D58,$G$10,$C$3,$C$2,$C$5,$C$6,0,0,$C$4),1,1)","v":5008.3426477670855},{"$f":"INDEX(coordonnées_cadran_plat($D58,$G$10,$C$3,$C$2,$C$5,$C$6,0,0,$C$4),1,2)","v":-8321.3403242690492},{"$f":"INDEX(coordonnées_cadran_plat($D58,I$10,$C$3,$C$2,$C$5,$C$6,0,0,$C$4),1,1)","v":1746.4761102883131},{"$f":"INDEX(coordonnées_cadran_plat($D58,I$10,$C$3,$C$2,$C$5,$C$6,0,0,$C$4),1,2)","v":-1933.1840738375784},{"$f":"INDEX(coordonnées_cadran_plat($D58,K$10,$C$3,$C$2,$C$5,$C$6,0,0,$C$4),1,1)","v":1300.7256608961284},{"$f":"INDEX(coordonnées_cadran_plat($D58,K$10,$C$3,$C$2,$C$5,$C$6,0,0,$C$4),1,2)","v":-924.67815029313647},{"$f":"INDEX(coordonnées_cadran_plat($D58,M$10,$C$3,$C$2,$C$5,$C$6,0,0,$C$4),1,1)","v":1152.241647240028},{"$f":"INDEX(coordonnées_cadran_plat($D58,M$10,$C$3,$C$2,$C$5,$C$6,0,0,$C$4),1,2)","v":-450.66228556399244},{"$f":"INDEX(coordonnées_cadran_plat($D58,O$10,$C$3,$C$2,$C$5,$C$6,0,0,$C$4),1,1)","v":1109.069268350285},{"$f":"INDEX(coordonnées_cadran_plat($D58,O$10,$C$3,$C$2,$C$5,$C$6,0,0,$C$4),1,2)","v":-119.19718005389795},{"$f":"INDEX(coordonnées_cadran_plat($D58,Q$10,$C$3,$C$2,$C$5,$C$6,0,0,$C$4),1,1)","v":1134.6493225997233},{"$f":"INDEX(coordonnées_cadran_plat($D58,Q$10,$C$3,$C$2,$C$5,$C$6,0,0,$C$4),1,2)","v":187.47535137104251},{"$f":"INDEX(coordonnées_cadran_plat($D58,S$10,$C$3,$C$2,$C$5,$C$6,0,0,$C$4),1,1)","v":1242.2883067442403},{"$f":"INDEX(coordonnées_cadran_plat($D58,S$10,$C$3,$C$2,$C$5,$C$6,0,0,$C$4),1,2)","v":556.97673698495475},{"$f":"INDEX(coordonnées_cadran_plat($D58,U$10,$C$3,$C$2,$C$5,$C$6,0,0,$C$4),1,1)","v":1522.687580424586},{"$f":"INDEX(coordonnées_cadran_plat($D58,U$10,$C$3,$C$2,$C$5,$C$6,0,0,$C$4),1,2)","v":1168.1279064526555},{"$f":"INDEX(coordonnées_cadran_plat($D58,W$10,$C$3,$C$2,$C$5,$C$6,0,0,$C$4),1,1)","v":2519.5922103755038},{"$f":"INDEX(coordonnées_cadran_plat($D58,W$10,$C$3,$C$2,$C$5,$C$6,0,0,$C$4),1,2)","v":2927.9912395931192}]
[null,28,5,"2010-05-28",{"$f":"INDEX(heures_limites_cadran($D59,$C$3,$C$2,$C$5),1,1)/24","v":"09:00:00"},{"$f":"INDEX(heures_limites_cadran($D59,$C$3,$C$2,$C$5),1,2)/24","v":"17:30:00"},{"$f":"INDEX(coordonnées_cadran_plat($D59,$G$10,$C$3,$C$2,$C$5,$C$6,0,0,$C$4),1,1)","v":5250.5125608410135},{"$f":"INDEX(coordonnées_cadran_plat($D59,$G$10,$C$3,$C$2,$C$5,$C$6,0,0,$C$4),1,2)","v":-8693.382728099954},{"$f":"INDEX(coordonnées_cadran_plat($D59,I$10,$C$3,$C$2,$C$5,$C$6,0,0,$C$4),1,1)","v":1771.948109690604},{"$f":"INDEX(coordonnées_cadran_plat($D59,I$10,$C$3,$C$2,$C$5,$C$6,0,0,$C$4),1,2)","v":-1956.4545987593276},{"$f":"INDEX(coordonnées_cadran_plat($D59,K$10,$C$3,$C$2,$C$5,$C$6,0,0,$C$4),1,1)","v":1313.3696185319852},{"$f":"INDEX(coordonnées_cadran_plat($D59,K$10,$C$3,$C$2,$C$5,$C$6,0,0,$C$4),1,2)","v":-931.99016374470921},{"$f":"INDEX(coordonnées_cadran_plat($D59,M$10,$C$3,$C$2,$C$5,$C$6,0,0,$C$4),1,1)","v":1161.3772351532739},{"$f":"INDEX(coordonnées_cadran_plat($D59,M$10,$C$3,$C$2,$C$5,$C$6,0,0,$C$4),1,2)","v":-453.83736180563562},{"$f":"INDEX(coordonnées_cadran_plat($D59,O$10,$C$3,$C$2,$C$5,$C$6,0,0,$C$4),1,1)","v":1117.0967373020608},{"$f":"INDEX(coordonnées_cadran_plat($D59,O$10,$C$3,$C$2,$C$5,$C$6,0,0,$C$4),1,2)","v":-120.47906844390835},{"$f":"INDEX(coordonnées_cadran_plat($D59,Q$10,$C$3,$C$2,$C$5,$C$6,0,0,$C$4),1,1)","v":1142.8451908880563},{"$f":"INDEX(coordonnées_cadran_plat($D59,Q$10,$C$3,$C$2,$C$5,$C$6,0,0,$C$4),1,2)","v":187.61167073094546},{"$f":"INDEX(coordonnées_cadran_plat($D59,S$10,$C$3,$C$2,$C$5,$C$6,0,0,$C$4),1,1)","v":1252.1080863961495},{"$f":"INDEX(coordonnées_cadran_plat($D59,S$10,$C$3,$C$2,$C$5,$C$6,0,0,$C$4),1,2)","v":559.01445643841589},{"$f":"INDEX(coordonnées_cadran_plat($D59,U$10,$C$3,$C$2,$C$5,$C$6,0,0,$C$4),1,1)","v":1537.6689734593735},{"$f":"INDEX(coordonnées_cadran_plat($D59,U$10,$C$3,$C$2,$C$5,$C$6,0,0,$C$4),1,2)","v":1174.8974668375204},{"$f":"INDEX(coordonnées_cadran_plat($D59,W$10,$C$3,$C$2,$C$5,$C$6,0,0,$C$4),1,1)","v":2560.9526799381542},{"$f":"INDEX(coordonnées_cadran_plat($D59,W$10,$C$3,$C$2,$C$5,$C$6,0,0,$C$4),1,2)","v":2963.0395072314263}]
[null,29,5,"2010-05-29",{"$f":"INDEX(heures_limites_cadran($D60,$C$3,$C$2,$C$5),1,1)/24","v":"09:00:00"},{"$f":"INDEX(heures_limites_cadran($D60,$C$3,$C$2,$C$5),1,2)/24","v":"17:30:00"},{"$f":"INDEX(coordonnées_cadran_plat($D60,$G$10,$C$3,$C$2,$C$5,$C$6,0,0,$C$4),1,1)","v":5508.4205597387163},{"$f":"INDEX(coordonnées_cadran_plat($D60,$G$10,$C$3,$C$2,$C$5,$C$6,0,0,$C$4),1,2)","v":-9090.6989272923784},{"$f":"INDEX(coordonnées_cadran_plat($D60,I$10,$C$3,$C$2,$C$5,$C$6,0,0,$C$4),1,1)","v":1797.2419662155942},{"$f":"INDEX(coordonnées_cadran_plat($D60,I$10,$C$3,$C$2,$C$5,$C$6,0,0,$C$4),1,2)","v":-1979.7560982710111},{"$f":"INDEX(coordonnées_cadran_plat($D60,K$10,$C$3,$C$2,$C$5,$C$6,0,0,$C$4),1,1)","v":1325.7796010271422},{"$f":"INDEX(coordonnées_cadran_plat($D60,K$10,$C$3,$C$2,$C$5,$C$6,0,0,$C$4),1,2)","v":-939.26492525681442},{"$f":"INDEX(coordonnées_cadran_plat($D60,M$10,$C$3,$C$2,$C$5,$C$6,0,0,$C$4),1,1)","v":1170.2965087179844},{"$f":"INDEX(coordonnées_cadran_plat($D60,M$10,$C$3,$C$2,$C$5,$C$6,0,0,$C$4),1,2)","v":-457.00691023238625},{"$f":"INDEX(coordonnées_cadran_plat($D60,O$10,$C$3,$C$2,$C$5,$C$6,0,0,$C$4),1,1)","v":1124.9095353789251},{"$f":"INDEX(coordonnées_cadran_plat($D60,O$10,$C$3,$C$2,$C$5,$C$6,0,0,$C$4),1,2)","v":-121.7879435871325},{"$f":"INDEX(coordonnées_cadran_plat($D60,Q$10,$C$3,$C$2,$C$5,$C$6,0,0,$C$4),1,1)","v":1150.8053565200655},{"$f":"INDEX(coordonnées_cadran_plat($D60,Q$10,$C$3,$C$2,$C$5,$C$6,0,0,$C$4),1,2)","v":187.67951264566662},{"$f":"INDEX(coordonnées_cadran_plat($D60,S$10,$C$3,$C$2,$C$5,$C$6,0,0,$C$4),1,1)","v":1261.6334562314628},{"$f":"INDEX(coordonnées_cadran_plat($D60,S$10,$C$3,$C$2,$C$5,$C$6,0,0,$C$4),1,2)","v":560.9086931162185},{"$f":"INDEX(coordonnées_cadran_plat($D60,U$10,$C$3,$C$2,$C$5,$C$6,0,0,$C$4),1,1)","v":1552.2024314722573},{"$f":"INDEX(coordonnées_cadran_plat($D60,U$10,$C$3,$C$2,$C$5,$C$6,0,0,$C$4),1,2)","v":1181.3283732465075},{"$f":"INDEX(coordonnées_cadran_plat($D60,W$10,$C$3,$C$2,$C$5,$C$6,0,0,$C$4),1,1)","v":2601.3400894842753},{"$f":"INDEX(coordonnées_cadran_plat($D60,W$10,$C$3,$C$2,$C$5,$C$6,0,0,$C$4),1,2)","v":2996.8886481518002}]
[null,30,5,"2010-05-30",{"$f":"INDEX(heures_limites_cadran($D61,$C$3,$C$2,$C$5),1,1)/24","v":"09:00:00"},{"$f":"INDEX(heures_limites_cadran($D61,$C$3,$C$2,$C$5),1,2)/24","v":"17:30:00"},{"$f":"INDEX(coordonnées_cadran_plat($D61,$G$10,$C$3,$C$2,$C$5,$C$6,0,0,$C$4),1,1)","v":5783.2557429408371},{"$f":"INDEX(coordonnées_cadran_plat($D61,$G$10,$C$3,$C$2,$C$5,$C$6,0,0,$C$4),1,2)","v":-9515.2521358195791},{"$f":"INDEX(coordonnées_cadran_plat($D61,I$10,$C$3,$C$2,$C$5,$C$6,0,0,$C$4),1,1)","v":1822.3124716370703},{"$f":"INDEX(coordonnées_cadran_plat($D61,I$10,$C$3,$C$2,$C$5,$C$6,0,0,$C$4),1,2)","v":-2003.0510516637348},{"$f":"INDEX(coordonnées_cadran_plat($D61,K$10,$C$3,$C$2,$C$5,$C$6,0,0,$C$4),1,1)","v":1337.9355796866412},{"$f":"INDEX(coordonnées_cadran_plat($D61,K$10,$C$3,$C$2,$C$5,$C$6,0,0,$C$4),1,2)","v":-946.49146292941316},{"$f":"INDEX(coordonnées_cadran_plat($D61,M$10,$C$3,$C$2,$C$5,$C$6,0,0,$C$4),1,1)","v":1178.9860769022307},{"$f":"INDEX(coordonnées_cadran_plat($D61,M$10,$C$3,$C$2,$C$5,$C$6,0,0,$C$4),1,2)","v":-460.16637554114965},{"$f":"INDEX(coordonnées_cadran_plat($D61,O$10,$C$3,$C$2,$C$5,$C$6,0,0,$C$4),1,1)","v":1132.4961731207677},{"$f":"INDEX(coordonnées_cadran_plat($D61,O$10,$C$3,$C$2,$C$5,$C$6,0,0,$C$4),1,2)","v":-123.12193295225507},{"$f":"INDEX(coordonnées_cadran_plat($D61,Q$10,$C$3,$C$2,$C$5,$C$6,0,0,$C$4),1,1)","v":1158.517733610639},{"$f":"INDEX(coordonnées_cadran_plat($D61,Q$10,$C$3,$C$2,$C$5,$C$6,0,0,$C$4),1,2)","v":187.67874625333204},{"$f":"INDEX(coordonnées_cadran_plat($D61,S$10,$C$3,$C$2,$C$5,$C$6,0,0,$C$4),1,1)","v":1270.8484396603849},{"$f":"INDEX(coordonnées_cadran_plat($D61,S$10,$C$3,$C$2,$C$5,$C$6,0,0,$C$4),1,2)","v":562.65613162035379},{"$f":"INDEX(coordonnées_cadran_plat($D61,U$10,$C$3,$C$2,$C$5,$C$6,0,0,$C$4),1,1)","v":1566.25774281289},{"$f":"INDEX(coordonnées_cadran_plat($D61,U$10,$C$3,$C$2,$C$5,$C$6,0,0,$C$4),1,2)","v":1187.4064253143358},{"$f":"INDEX(coordonnées_cadran_plat($D61,W$10,$C$3,$C$2,$C$5,$C$6,0,0,$C$4),1,1)","v":2640.61845590231},{"$f":"INDEX(coordonnées_cadran_plat($D61,W$10,$C$3,$C$2,$C$5,$C$6,0,0,$C$4),1,2)","v":3029.4159158673729}]
[null,31,5,"2010-05-31",{"$f":"INDEX(heures_limites_cadran($D62,$C$3,$C$2,$C$5),1,1)/24","v":"09:00:00"},{"$f":"INDEX(heures_limites_cadran($D62,$C$3,$C$2,$C$5),1,2)/24","v":"17:30:00"},{"$f":"INDEX(coordonnées_cadran_plat($D62,$G$10,$C$3,$C$2,$C$5,$C$6,0,0,$C$4),1,1)","v":6076.282189158952},{"$f":"INDEX(coordonnées_cadran_plat($D62,$G$10,$C$3,$C$2,$C$5,$C$6,0,0,$C$4),1,2)","v":-9969.1372460855619},{"$f":"INDEX(coordonnées_cadran_plat($D62,I$10,$C$3,$C$2,$C$5,$C$6,0,0,$C$4),1,1)","v":1847.1120757622148},{"$f":"INDEX(coordonnées_cadran_plat($D62,I$10,$C$3,$C$2,$C$5,$C$6,0,0,$C$4),1,2)","v":-2026.2993786339277},{"$f":"INDEX(coordonnées_cadran_plat($D62,K$10,$C$3,$C$2,$C$5,$C$6,0,0,$C$4),1,1)","v":1349.8171724008466},{"$f":"INDEX(coordonnées_cadran_plat($D62,K$10,$C$3,$C$2,$C$5,$C$6,0,0,$C$4),1,2)","v":-953.6583805863653},{"$f":"INDEX(coordonnées_cadran_plat($D62,M$10,$C$3,$C$2,$C$5,$C$6,0,0,$C$4),1,1)","v":1187.432500702992},{"$f":"INDEX(coordonnées_cadran_plat($D62,M$10,$C$3,$C$2,$C$5,$C$6,0,0,$C$4),1,2)","v":-463.31103239045552},{"$f":"INDEX(coordonnées_cadran_plat($D62,O$10,$C$3,$C$2,$C$5,$C$6,0,0,$C$4),1,1)","v":1139.8452184291666},{"$f":"INDEX(coordonnées_cadran_plat($D62,O$10,$C$3,$C$2,$C$5,$C$6,0,0,$C$4),1,2)","v":-124.47903679112603},{"$f":"INDEX(coordonnées_cadran_plat($D62,Q$10,$C$3,$C$2,$C$5,$C$6,0,0,$C$4),1,1)","v":1165.9703682958382},{"$f":"INDEX(coordonnées_cadran_plat($D62,Q$10,$C$3,$C$2,$C$5,$C$6,0,0,$C$4),1,2)","v":187.60939367758917},{"$f":"INDEX(coordonnées_cadran_plat($D62,S$10,$C$3,$C$2,$C$5,$C$6,0,0,$C$4),1,1)","v":1279.7372924708091},{"$f":"INDEX(coordonnées_cadran_plat($D62,S$10,$C$3,$C$2,$C$5,$C$6,0,0,$C$4),1,2)","v":564.25371720013993},{"$f":"INDEX(coordonnées_cadran_plat($D62,U$10,$C$3,$C$2,$C$5,$C$6,0,0,$C$4),1,1)","v":1579.8051068527045},{"$f":"INDEX(coordonnées_cadran_plat($D62,U$10,$C$3,$C$2,$C$5,$C$6,0,0,$C$4),1,2)","v":1193.1180314332018},{"$f":"INDEX(coordonnées_cadran_plat($D62,W$10,$C$3,$C$2,$C$5,$C$6,0,0,$C$4),1,1)","v":2678.6505584974507},{"$f":"INDEX(coordonnées_cadran_plat($D62,W$10,$C$3,$C$2,$C$5,$C$6,0,0,$C$4),1,2)","v":3060.4992056366759}]
[null,1,6,"2010-06-01",{"$f":"INDEX(heures_limites_cadran($D63,$C$3,$C$2,$C$5),1,1)/24","v":"09:00:00"},{"$f":"INDEX(heures_limites_cadran($D63,$C$3,$C$2,$C$5),1,2)/24","v":"17:30:00"},{"$f":"INDEX(coordonnées_cadran_plat($D63,$G$10,$C$3,$C$2,$C$5,$C$6,0,0,$C$4),1,1)","v":6388.8356726212351},{"$f":"INDEX(coordonnées_cadran_plat($D63,$G$10,$C$3,$C$2,$C$5,$C$6,0,0,$C$4),1,2)","v":-10454.577568046288},{"$f":"INDEX(coordonnées_cadran_plat($D63,I$10,$C$3,$C$2,$C$5,$C$6,0,0,$C$4),1,1)","v":1871.5909525341092},{"$f":"INDEX(coordonnées_cadran_plat($D63,I$10,$C$3,$C$2,$C$5,$C$6,0,0,$C$4),1,2)","v":-2049.4584510852346},{"$f":"INDEX(coordonnées_cadran_plat($D63,K$10,$C$3,$C$2,$C$5,$C$6,0,0,$C$4),1,1)","v":1361.4037025801881},{"$f":"INDEX(coordonnées_cadran_plat($D63,K$10,$C$3,$C$2,$C$5,$C$6,0,0,$C$4),1,2)","v":-960.75388013716213},{"$f":"INDEX(coordonnées_cadran_plat($D63,M$10,$C$3,$C$2,$C$5,$C$6,0,0,$C$4),1,1)","v":1195.6223358659686},{"$f":"INDEX(coordonnées_cadran_plat($D63,M$10,$C$3,$C$2,$C$5,$C$6,0,0,$C$4),1,2)","v":-466.43599496843433},{"$f":"INDEX(coordonnées_cadran_plat($D63,O$10,$C$3,$C$2,$C$5,$C$6,0,0,$C$4),1,1)","v":1146.9453351792681},{"$f":"INDEX(coordonnées_cadran_plat($D63,O$10,$C$3,$C$2,$C$5,$C$6,0,0,$C$4),1,2)","v":-125.85713077550106},{"$f":"INDEX(coordonnées_cadran_plat($D63,Q$10,$C$3,$C$2,$C$5,$C$6,0,0,$C$4),1,1)","v":1173.1514824566182},{"$f":"INDEX(coordonnées_cadran_plat($D63,Q$10,$C$3,$C$2,$C$5,$C$6,0,0,$C$4),1,2)","v":187.47163413676068},{"$f":"INDEX(coordonnées_cadran_plat($D63,S$10,$C$3,$C$2,$C$5,$C$6,0,0,$C$4),1,1)","v":1288.2845682102352},{"$f":"INDEX(coordonnées_cadran_plat($D63,S$10,$C$3,$C$2,$C$5,$C$6,0,0,$C$4),1,2)","v":565.69867434390517},{"$f":"INDEX(coordonnées_cadran_plat($D63,U$10,$C$3,$C$2,$C$5,$C$6,0,0,$C$4),1,1)","v":1592.8152882835216},{"$f":"INDEX(coordonnées_cadran_plat($D63,U$10,$C$3,$C$2,$C$5,$C$6,0,0,$C$4),1,2)","v":1198.4502927704286},{"$f":"INDEX(coordonnées_cadran_plat($D63,W$10,$C$3,$C$2,$C$5,$C$6,0,0,$C$4),1,1)","v":2715.2990080120098},{"$f":"INDEX(coordonnées_cadran_plat($D63,W$10,$C$3,$C$2,$C$5,$C$6,0,0,$C$4),1,2)","v":3090.0181067468411}]
[null,2,6,"2010-06-02",{"$f":"INDEX(heures_limites_cadran($D64,$C$3,$C$2,$C$5),1,1)/24","v":"09:00:00"},{"$f":"INDEX(heures_limites_cadran($D64,$C$3,$C$2,$C$5),1,2)/24","v":"17:30:00"},{"$f":"INDEX(coordonnées_cadran_plat($D64,$G$10,$C$3,$C$2,$C$5,$C$6,0,0,$C$4),1,1)","v":6722.3169578275656},{"$f":"INDEX(coordonnées_cadran_plat($D64,$G$10,$C$3,$C$2,$C$5,$C$6,0,0,$C$4),1,2)","v":-10973.916383833797},{"$f":"INDEX(coordonnées_cadran_plat($D64,I$10,$C$3,$C$2,$C$5,$C$6,0,0,$C$4),1,1)","v":1895.697091929974},{"$f":"INDEX(coordonnées_cadran_plat($D64,I$10,$C$3,$C$2,$C$5,$C$6,0,0,$C$4),1,2)","v":-2072.4831274744352},{"$f":"INDEX(coordonnées_cadran_plat($D64,K$10,$C$3,$C$2,$C$5,$C$6,0,0,$C$4),1,1)","v":1372.6742637982088},{"$f":"INDEX(coordonnées_cadran_plat($D64,K$10,$C$3,$C$2,$C$5,$C$6,0,0,$C$4),1,2)","v":-967.76578778278906},{"$f":"INDEX(coordonnées_cadran_plat($D64,M$10,$C$3,$C$2,$C$5,$C$6,0,0,$C$4),1,1)","v":1203.542177894607},{"$f":"INDEX(coordonnées_cadran_plat($D64,M$10,$C$3,$C$2,$C$5,$C$6,0,0,$C$4),1,2)","v":-469.53622786814157},{"$f":"INDEX(coordonnées_cadran_plat($D64,O$10,$C$3,$C$2,$C$5,$C$6,0,0,$C$4),1,1)","v":1153.7853230856836},{"$f":"INDEX(coordonnées_cadran_plat($D64,O$10,$C$3,$C$2,$C$5,$C$6,0,0,$C$4),1,2)","v":-127.25396934764544},{"$f":"INDEX(coordonnées_cadran_plat($D64,Q$10,$C$3,$C$2,$C$5,$C$6,0,0,$C$4),1,1)","v":1180.0495182880622},{"$f":"INDEX(coordonnées_cadran_plat($D64,Q$10,$C$3,$C$2,$C$5,$C$6,0,0,$C$4),1,2)","v":187.26580743351761},{"$f":"INDEX(coordonnées_cadran_plat($D64,S$10,$C$3,$C$2,$C$5,$C$6,0,0,$C$4),1,1)","v":1296.4751843518679},{"$f":"INDEX(coordonnées_cadran_plat($D64,S$10,$C$3,$C$2,$C$5,$C$6,0,0,$C$4),1,2)","v":566.98852450639743},{"$f":"INDEX(coordonnées_cadran_plat($D64,U$10,$C$3,$C$2,$C$5,$C$6,0,0,$C$4),1,1)","v":1605.2597737552023},{"$f":"INDEX(coordonnées_cadran_plat($D64,U$10,$C$3,$C$2,$C$5,$C$6,0,0,$C$4),1,2)","v":1203.3910858172446},{"$f":"INDEX(coordonnées_cadran_plat($D64,W$10,$C$3,$C$2,$C$5,$C$6,0,0,$C$4),1,1)","v":2750.4273917231144},{"$f":"INDEX(coordonnées_cadran_plat($D64,W$10,$C$3,$C$2,$C$5,$C$6,0,0,$C$4),1,2)","v":3117.8550061752803}]
[null,3,6,"2010-06-03",{"$f":"INDEX(heures_limites_cadran($D65,$C$3,$C$2,$C$5),1,1)/24","v":"09:00:00"},{"$f":"INDEX(heures_limites_cadran($D65,$C$3,$C$2,$C$5),1,2)/24","v":"17:30:00"},{"$f":"INDEX(coordonnées_cadran_plat($D65,$G$10,$C$3,$C$2,$C$5,$C$6,0,0,$C$4),1,1)","v":7078.1804939938038},{"$f":"INDEX(coordonnées_cadran_plat($D65,$G$10,$C$3,$C$2,$C$5,$C$6,0,0,$C$4),1,2)","v":-11529.601450414506},{"$f":"INDEX(coordonnées_cadran_plat($D65,I$10,$C$3,$C$2,$C$5,$C$6,0,0,$C$4),1,1)","v":1919.3764195414012},{"$f":"INDEX(coordonnées_cadran_plat($D65,I$10,$C$3,$C$2,$C$5,$C$6,0,0,$C$4),1,2)","v":-2095.3258119002471},{"$f":"INDEX(coordonnées_cadran_plat($D65,K$10,$C$3,$C$2,$C$5,$C$6,0,0,$C$4),1,1)","v":1383.6077900430812},{"$f":"INDEX(coordonnées_cadran_plat($D65,K$10,$C$3,$C$2,$C$5,$C$6,0,0,$C$4),1,2)","v":-974.6815841455392},{"$f":"INDEX(coordonnées_cadran_plat($D65,M$10,$C$3,$C$2,$C$5,$C$6,0,0,$C$4),1,1)","v":1211.1787091615652},{"$f":"INDEX(coordonnées_cadran_plat($D65,M$10,$C$3,$C$2,$C$5,$C$6,0,0,$C$4),1,2)","v":-472.6065582700279},{"$f":"INDEX(coordonnées_cadran_plat($D65,O$10,$C$3,$C$2,$C$5,$C$6,0,0,$C$4),1,1)","v":1160.3541586118986},{"$f":"INDEX(coordonnées_cadran_plat($D65,O$10,$C$3,$C$2,$C$5,$C$6,0,0,$C$4),1,2)","v":-128.66718979781805},{"$f":"INDEX(coordonnées_cadran_plat($D65,Q$10,$C$3,$C$2,$C$5,$C$6,0,0,$C$4),1,1)","v":1186.6531834376319},{"$f":"INDEX(coordonnées_cadran_plat($D65,Q$10,$C$3,$C$2,$C$5,$C$6,0,0,$C$4),1,2)","v":186.9924167726094},{"$f":"INDEX(coordonnées_cadran_plat($D65,S$10,$C$3,$C$2,$C$5,$C$6,0,0,$C$4),1,1)","v":1304.2944887581775},{"$f":"INDEX(coordonnées_cadran_plat($D65,S$10,$C$3,$C$2,$C$5,$C$6,0,0,$C$4),1,2)","v":568.12110279588103},{"$f":"INDEX(coordonnées_cadran_plat($D65,U$10,$C$3,$C$2,$C$5,$C$6,0,0,$C$4),1,1)","v":1617.1109293963962},{"$f":"INDEX(coordonnées_cadran_plat($D65,U$10,$C$3,$C$2,$C$5,$C$6,0,0,$C$4),1,2)","v":1207.9291425756828},{"$f":"INDEX(coordonnées_cadran_plat($D65,W$10,$C$3,$C$2,$C$5,$C$6,0,0,$C$4),1,1)","v":2783.9014801882254},{"$f":"INDEX(coordonnées_cadran_plat($D65,W$10,$C$3,$C$2,$C$5,$C$6,0,0,$C$4),1,2)","v":3143.8962280012738}]
[null,4,6,"2010-06-04",{"$f":"INDEX(heures_limites_cadran($D66,$C$3,$C$2,$C$5),1,1)/24","v":"09:00:00"},{"$f":"INDEX(heures_limites_cadran($D66,$C$3,$C$2,$C$5),1,2)/24","v":"17:30:00"},{"$f":"INDEX(coordonnées_cadran_plat($D66,$G$10,$C$3,$C$2,$C$5,$C$6,0,0,$C$4),1,1)","v":7457.917019290494},{"$f":"INDEX(coordonnées_cadran_plat($D66,$G$10,$C$3,$C$2,$C$5,$C$6,0,0,$C$4),1,2)","v":-12124.160076986414},{"$f":"INDEX(coordonnées_cadran_plat($D66,I$10,$C$3,$C$2,$C$5,$C$6,0,0,$C$4),1,1)","v":1942.572945521041},{"$f":"INDEX(coordonnées_cadran_plat($D66,I$10,$C$3,$C$2,$C$5,$C$6,0,0,$C$4),1,2)","v":-2117.9365400185006},{"$f":"INDEX(coordonnées_cadran_plat($D66,K$10,$C$3,$C$2,$C$5,$C$6,0,0,$C$4),1,1)","v":1394.183131402772},{"$f":"INDEX(coordonnées_cadran_plat($D66,K$10,$C$3,$C$2,$C$5,$C$6,0,0,$C$4),1,2)","v":-981.48843836067624},{"$f":"INDEX(coordonnées_cadran_plat($D66,M$10,$C$3,$C$2,$C$5,$C$6,0,0,$C$4),1,1)","v":1218.5187479036708},{"$f":"INDEX(coordonnées_cadran_plat($D66,M$10,$C$3,$C$2,$C$5,$C$6,0,0,$C$4),1,2)","v":-475.64168942114384},{"$f":"INDEX(coordonnées_cadran_plat($D66,O$10,$C$3,$C$2,$C$5,$C$6,0,0,$C$4),1,1)","v":1166.6410366918224},{"$f":"INDEX(coordonnées_cadran_plat($D66,O$10,$C$3,$C$2,$C$5,$C$6,0,0,$C$4),1,2)","v":-130.09431707743508},{"$f":"INDEX(coordonnées_cadran_plat($D66,Q$10,$C$3,$C$2,$C$5,$C$6,0,0,$C$4),1,1)","v":1192.9514964167834},{"$f":"INDEX(coordonnées_cadran_plat($D66,Q$10,$C$3,$C$2,$C$5,$C$6,0,0,$C$4),1,2)","v":186.65213085764324},{"$f":"INDEX(coordonnées_cadran_plat($D66,S$10,$C$3,$C$2,$C$5,$C$6,0,0,$C$4),1,1)","v":1311.7283259284268},{"$f":"INDEX(coordonnées_cadran_plat($D66,S$10,$C$3,$C$2,$C$5,$C$6,0,0,$C$4),1,2)","v":569.09457344627378},{"$f":"INDEX(coordonnées_cadran_plat($D66,U$10,$C$3,$C$2,$C$5,$C$6,0,0,$C$4),1,1)","v":1628.3421576740857},{"$f":"INDEX(coordonnées_cadran_plat($D66,U$10,$C$3,$C$2,$C$5,$C$6,0,0,$C$4),1,2)","v":1212.0541274730535},{"$f":"INDEX(coordonnées_cadran_plat($D66,W$10,$C$3,$C$2,$C$5,$C$6,0,0,$C$4),1,1)","v":2815.5904784715003},{"$f":"INDEX(coordonnées_cadran_plat($D66,W$10,$C$3,$C$2,$C$5,$C$6,0,0,$C$4),1,2)","v":3168.0331907108698}]
[null,5,6,"2010-06-05",{"$f":"INDEX(heures_limites_cadran($D67,$C$3,$C$2,$C$5),1,1)/24","v":"09:00:00"},{"$f":"INDEX(heures_limites_cadran($D67,$C$3,$C$2,$C$5),1,2)/24","v":"17:30:00"},{"$f":"INDEX(coordonnées_cadran_plat($D67,$G$10,$C$3,$C$2,$C$5,$C$6,0,0,$C$4),1,1)","v":7863.0282194493138},{"$f":"INDEX(coordonnées_cadran_plat($D67,$G$10,$C$3,$C$2,$C$5,$C$6,0,0,$C$4),1,2)","v":-12760.161802567198},{"$f":"INDEX(coordonnées_cadran_plat($D67,I$10,$C$3,$C$2,$C$5,$C$6,0,0,$C$4),1,1)","v":1965.2289443222014},{"$f":"INDEX(coordonnées_cadran_plat($D67,I$10,$C$3,$C$2,$C$5,$C$6,0,0,$C$4),1,2)","v":-2140.2630937054587},{"$f":"INDEX(coordonnées_cadran_plat($D67,K$10,$C$3,$C$2,$C$5,$C$6,0,0,$C$4),1,1)","v":1404.3791349342198},{"$f":"INDEX(coordonnées_cadran_plat($D67,K$10,$C$3,$C$2,$C$5,$C$6,0,0,$C$4),1,2)","v":-988.17324612791538},{"$f":"INDEX(coordonnées_cadran_plat($D67,M$10,$C$3,$C$2,$C$5,$C$6,0,0,$C$4),1,1)","v":1225.549298847807},{"$f":"INDEX(coordonnées_cadran_plat($D67,M$10,$C$3,$C$2,$C$5,$C$6,0,0,$C$4),1,2)","v":-478.63621538424349},{"$f":"INDEX(coordonnées_cadran_plat($D67,O$10,$C$3,$C$2,$C$5,$C$6,0,0,$C$4),1,1)","v":1172.6354130112334},{"$f":"INDEX(coordonnées_cadran_plat($D67,O$10,$C$3,$C$2,$C$5,$C$6,0,0,$C$4),1,2)","v":-131.53276934698948},{"$f":"INDEX(coordonnées_cadran_plat($D67,Q$10,$C$3,$C$2,$C$5,$C$6,0,0,$C$4),1,1)","v":1198.9338319739245},{"$f":"INDEX(coordonnées_cadran_plat($D67,Q$10,$C$3,$C$2,$C$5,$C$6,0,0,$C$4),1,2)","v":186.24578522274837},{"$f":"INDEX(coordonnées_cadran_plat($D67,S$10,$C$3,$C$2,$C$5,$C$6,0,0,$C$4),1,1)","v":1318.7631024973409},{"$f":"INDEX(coordonnées_cadran_plat($D67,S$10,$C$3,$C$2,$C$5,$C$6,0,0,$C$4),1,2)","v":569.90744390720749},{"$f":"INDEX(coordonnées_cadran_plat($D67,U$10,$C$3,$C$2,$C$5,$C$6,0,0,$C$4),1,1)","v":1638.9280519851102},{"$f":"INDEX(coordonnées_cadran_plat($D67,U$10,$C$3,$C$2,$C$5,$C$6,0,0,$C$4),1,2)","v":1215.7567100982371},{"$f":"INDEX(coordonnées_cadran_plat($D67,W$10,$C$3,$C$2,$C$5,$C$6,0,0,$C$4),1,1)","v":2845.3683022358136},{"$f":"INDEX(coordonnées_cadran_plat($D67,W$10,$C$3,$C$2,$C$5,$C$6,0,0,$C$4),1,2)","v":3190.1635626813827}]
[null,6,6,"2010-06-06",{"$f":"INDEX(heures_limites_cadran($D68,$C$3,$C$2,$C$5),1,1)/24","v":"09:00:00"},{"$f":"INDEX(heures_limites_cadran($D68,$C$3,$C$2,$C$5),1,2)/24","v":"17:30:00"},{"$f":"INDEX(coordonnées_cadran_plat($D68,$G$10,$C$3,$C$2,$C$5,$C$6,0,0,$C$4),1,1)","v":8294.9911688232987},{"$f":"INDEX(coordonnées_cadran_plat($D68,$G$10,$C$3,$C$2,$C$5,$C$6,0,0,$C$4),1,2)","v":-13440.165006965308},{"$f":"INDEX(coordonnées_cadran_plat($D68,I$10,$C$3,$C$2,$C$5,$C$6,0,0,$C$4),1,1)","v":1987.2851663239162},{"$f":"INDEX(coordonnées_cadran_plat($D68,I$10,$C$3,$C$2,$C$5,$C$6,0,0,$C$4),1,2)","v":-2162.2511461524191},{"$f":"INDEX(coordonnées_cadran_plat($D68,K$10,$C$3,$C$2,$C$5,$C$6,0,0,$C$4),1,1)","v":1414.1747303874765},{"$f":"INDEX(coordonnées_cadran_plat($D68,K$10,$C$3,$C$2,$C$5,$C$6,0,0,$C$4),1,2)","v":-994.72267167714654},{"$f":"INDEX(coordonnées_cadran_plat($D68,M$10,$C$3,$C$2,$C$5,$C$6,0,0,$C$4),1,1)","v":1232.2576051838889},{"$f":"INDEX(coordonnées_cadran_plat($D68,M$10,$C$3,$C$2,$C$5,$C$6,0,0,$C$4),1,2)","v":-481.58463701855482},{"$f":"INDEX(coordonnées_cadran_plat($D68,O$10,$C$3,$C$2,$C$5,$C$6,0,0,$C$4),1,1)","v":1178.3270465790938},{"$f":"INDEX(coordonnées_cadran_plat($D68,O$10,$C$3,$C$2,$C$5,$C$6,0,0,$C$4),1,2)","v":-132.97986425467766},{"$f":"INDEX(coordonnées_cadran_plat($D68,Q$10,$C$3,$C$2,$C$5,$C$6,0,0,$C$4),1,1)","v":1204.5899661026801},{"$f":"INDEX(coordonnées_cadran_plat($D68,Q$10,$C$3,$C$2,$C$5,$C$6,0,0,$C$4),1,2)","v":185.77438275987836},{"$f":"INDEX(coordonnées_cadran_plat($D68,S$10,$C$3,$C$2,$C$5,$C$6,0,0,$C$4),1,1)","v":1325.3858514368462},{"$f":"INDEX(coordonnées_cadran_plat($D68,S$10,$C$3,$C$2,$C$5,$C$6,0,0,$C$4),1,2)","v":570.55857738940597},{"$f":"INDEX(coordonnées_cadran_plat($D68,U$10,$C$3,$C$2,$C$5,$C$6,0,0,$C$4),1,1)","v":1648.844547329564},{"$f":"INDEX(coordonnées_cadran_plat($D68,U$10,$C$3,$C$2,$C$5,$C$6,0,0,$C$4),1,2)","v":1219.028632865472},{"$f":"INDEX(coordonnées_cadran_plat($D68,W$10,$C$3,$C$2,$C$5,$C$6,0,0,$C$4),1,1)","v":2873.1148570168739},{"$f":"INDEX(coordonnées_cadran_plat($D68,W$10,$C$3,$C$2,$C$5,$C$6,0,0,$C$4),1,2)","v":3210.192394698422}]
[null,7,6,"2010-06-07",{"$f":"INDEX(heures_limites_cadran($D69,$C$3,$C$2,$C$5),1,1)/24","v":"09:00:00"},{"$f":"INDEX(heures_limites_cadran($D69,$C$3,$C$2,$C$5),1,2)/24","v":"17:30:00"},{"$f":"INDEX(coordonnées_cadran_plat($D69,$G$10,$C$3,$C$2,$C$5,$C$6,0,0,$C$4),1,1)","v":8755.2098292824739},{"$f":"INDEX(coordonnées_cadran_plat($D69,$G$10,$C$3,$C$2,$C$5,$C$6,0,0,$C$4),1,2)","v":-14166.643024976149},{"$f":"INDEX(coordonnées_cadran_plat($D69,I$10,$C$3,$C$2,$C$5,$C$6,0,0,$C$4),1,1)","v":2008.6810820339124},{"$f":"INDEX(coordonnées_cadran_plat($D69,I$10,$C$3,$C$2,$C$5,$C$6,0,0,$C$4),1,2)","v":-2183.8444387723121},{"$f":"INDEX(coordonnées_cadran_plat($D69,K$10,$C$3,$C$2,$C$5,$C$6,0,0,$C$4),1,1)","v":1423.5490203720328},{"$f":"INDEX(coordonnées_cadran_plat($D69,K$10,$C$3,$C$2,$C$5,$C$6,0,0,$C$4),1,2)","v":-1001.1231935504449},{"$f":"INDEX(coordonnées_cadran_plat($D69,M$10,$C$3,$C$2,$C$5,$C$6,0,0,$C$4),1,1)","v":1238.6312015703211},{"$f":"INDEX(coordonnées_cadran_plat($D69,M$10,$C$3,$C$2,$C$5,$C$6,0,0,$C$4),1,2)","v":-484.48137913792993},{"$f":"INDEX(coordonnées_cadran_plat($D69,O$10,$C$3,$C$2,$C$5,$C$6,0,0,$C$4),1,1)","v":1183.7060423024939},{"$f":"INDEX(coordonnées_cadran_plat($D69,O$10,$C$3,$C$2,$C$5,$C$6,0,0,$C$4),1,2)","v":-134.43282593223088},{"$f":"INDEX(coordonnées_cadran_plat($D69,Q$10,$C$3,$C$2,$C$5,$C$6,0,0,$C$4),1,1)","v":1209.9101203493242},{"$f":"INDEX(coordonnées_cadran_plat($D69,Q$10,$C$3,$C$2,$C$5,$C$6,0,0,$C$4),1,2)","v":185.23909340888426},{"$f":"INDEX(coordonnées_cadran_plat($D69,S$10,$C$3,$C$2,$C$5,$C$6,0,0,$C$4),1,1)","v":1331.5842944062526},{"$f":"INDEX(coordonnées_cadran_plat($D69,S$10,$C$3,$C$2,$C$5,$C$6,0,0,$C$4),1,2)","v":571.04720371563008},{"$f":"INDEX(coordonnées_cadran_plat($D69,U$10,$C$3,$C$2,$C$5,$C$6,0,0,$C$4),1,1)","v":1658.0690654044943},{"$f":"INDEX(coordonnées_cadran_plat($D69,U$10,$C$3,$C$2,$C$5,$C$6,0,0,$C$4),1,2)","v":1221.8627727476337},{"$f":"INDEX(coordonnées_cadran_plat($D69,W$10,$C$3,$C$2,$C$5,$C$6,0,0,$C$4),1,1)","v":2898.7172974615237},{"$f":"INDEX(coordonnées_cadran_plat($D69,W$10,$C$3,$C$2,$C$5,$C$6,0,0,$C$4),1,2)","v":3228.0332075019824}]
[null,8,6,"2010-06-08",{"$f":"INDEX(heures_limites_cadran($D70,$C$3,$C$2,$C$5),1,1)/24","v":"09:00:00"},{"$f":"INDEX(heures_limites_cadran($D70,$C$3,$C$2,$C$5),1,2)/24","v":"17:30:00"},{"$f":"INDEX(coordonnées_cadran_plat($D70,$G$10,$C$3,$C$2,$C$5,$C$6,0,0,$C$4),1,1)","v":9244.9504273362054},{"$f":"INDEX(coordonnées_cadran_plat($D70,$G$10,$C$3,$C$2,$C$5,$C$6,0,0,$C$4),1,2)","v":-14941.884549288783},{"$f":"INDEX(coordonnées_cadran_plat($D70,I$10,$C$3,$C$2,$C$5,$C$6,0,0,$C$4),1,1)","v":2029.3551590885988},{"$f":"INDEX(coordonnées_cadran_plat($D70,I$10,$C$3,$C$2,$C$5,$C$6,0,0,$C$4),1,2)","v":-2204.9849909197428},{"$f":"INDEX(coordonnées_cadran_plat($D70,K$10,$C$3,$C$2,$C$5,$C$6,0,0,$C$4),1,1)","v":1432.4813744704018},{"$f":"INDEX(coordonnées_cadran_plat($D70,K$10,$C$3,$C$2,$C$5,$C$6,0,0,$C$4),1,2)","v":-1007.3611540532706},{"$f":"INDEX(coordonnées_cadran_plat($D70,M$10,$C$3,$C$2,$C$5,$C$6,0,0,$C$4),1,1)","v":1244.6579678288383},{"$f":"INDEX(coordonnées_cadran_plat($D70,M$10,$C$3,$C$2,$C$5,$C$6,0,0,$C$4),1,2)","v":-487.32080877829287},{"$f":"INDEX(coordonnées_cadran_plat($D70,O$10,$C$3,$C$2,$C$5,$C$6,0,0,$C$4),1,1)","v":1188.7628932652085},{"$f":"INDEX(coordonnées_cadran_plat($D70,O$10,$C$3,$C$2,$C$5,$C$6,0,0,$C$4),1,2)","v":-135.88879268797868},{"$f":"INDEX(coordonnées_cadran_plat($D70,Q$10,$C$3,$C$2,$C$5,$C$6,0,0,$C$4),1,1)","v":1214.8850050765677},{"$f":"INDEX(coordonnées_cadran_plat($D70,Q$10,$C$3,$C$2,$C$5,$C$6,0,0,$C$4),1,2)","v":184.64125298355671},{"$f":"INDEX(coordonnées_cadran_plat($D70,S$10,$C$3,$C$2,$C$5,$C$6,0,0,$C$4),1,1)","v":1337.3469016961465},{"$f":"INDEX(coordonnées_cadran_plat($D70,S$10,$C$3,$C$2,$C$5,$C$6,0,0,$C$4),1,2)","v":571.37292833899846},{"$f":"INDEX(coordonnées_cadran_plat($D70,U$10,$C$3,$C$2,$C$5,$C$6,0,0,$C$4),1,1)","v":1666.5806524705699},{"$f":"INDEX(coordonnées_cadran_plat($D70,U$10,$C$3,$C$2,$C$5,$C$6,0,0,$C$4),1,2)","v":1224.2531962694563},{"$f":"INDEX(coordonnées_cadran_plat($D70,W$10,$C$3,$C$2,$C$5,$C$6,0,0,$C$4),1,1)","v":2922.0712423816467},{"$f":"INDEX(coordonnées_cadran_plat($D70,W$10,$C$3,$C$2,$C$5,$C$6,0,0,$C$4),1,2)","v":3243.6090121099837}]
[null,9,6,"2010-06-09",{"$f":"INDEX(heures_limites_cadran($D71,$C$3,$C$2,$C$5),1,1)/24","v":"09:00:00"},{"$f":"INDEX(heures_limites_cadran($D71,$C$3,$C$2,$C$5),1,2)/24","v":"17:30:00"},{"$f":"INDEX(coordonnées_cadran_plat($D71,$G$10,$C$3,$C$2,$C$5,$C$6,0,0,$C$4),1,1)","v":9765.2571336791461},{"$f":"INDEX(coordonnées_cadran_plat($D71,$G$10,$C$3,$C$2,$C$5,$C$6,0,0,$C$4),1,2)","v":-15767.862394937976},{"$f":"INDEX(coordonnées_cadran_plat($D71,I$10,$C$3,$C$2,$C$5,$C$6,0,0,$C$4),1,1)","v":2049.2451717304439},{"$f":"INDEX(coordonnées_cadran_plat($D71,I$10,$C$3,$C$2,$C$5,$C$6,0,0,$C$4),1,2)","v":-2225.6133429795477},{"$f":"INDEX(coordonnées_cadran_plat($D71,K$10,$C$3,$C$2,$C$5,$C$6,0,0,$C$4),1,1)","v":1440.9515267212159},{"$f":"INDEX(coordonnées_cadran_plat($D71,K$10,$C$3,$C$2,$C$5,$C$6,0,0,$C$4),1,2)","v":-1013.4228121742873},{"$f":"INDEX(coordonnées_cadran_plat($D71,M$10,$C$3,$C$2,$C$5,$C$6,0,0,$C$4),1,1)","v":1250.3261829592827},{"$f":"INDEX(coordonnées_cadran_plat($D71,M$10,$C$3,$C$2,$C$5,$C$6,0,0,$C$4),1,2)","v":-490.09725449055821},{"$f":"INDEX(coordonnées_cadran_plat($D71,O$10,$C$3,$C$2,$C$5,$C$6,0,0,$C$4),1,1)","v":1193.4885223994172},{"$f":"INDEX(coordonnées_cadran_plat($D71,O$10,$C$3,$C$2,$C$5,$C$6,0,0,$C$4),1,2)","v":-137.34482536975366},{"$f":"INDEX(coordonnées_cadran_plat($D71,Q$10,$C$3,$C$2,$C$5,$C$6,0,0,$C$4),1,1)","v":1219.5058613380822},{"$f":"INDEX(coordonnées_cadran_plat($D71,Q$10,$C$3,$C$2,$C$5,$C$6,0,0,$C$4),1,2)","v":183.98236111511179},{"$f":"INDEX(coordonnées_cadran_plat($D71,S$10,$C$3,$C$2,$C$5,$C$6,0,0,$C$4),1,1)","v":1342.6629492186655},{"$f":"INDEX(coordonnées_cadran_plat($D71,S$10,$C$3,$C$2,$C$5,$C$6,0,0,$C$4),1,2)","v":571.53573940550086},{"$f":"INDEX(coordonnées_cadran_plat($D71,U$10,$C$3,$C$2,$C$5,$C$6,0,0,$C$4),1,1)","v":1674.3601083866065},{"$f":"INDEX(coordonnées_cadran_plat($D71,U$10,$C$3,$C$2,$C$5,$C$6,0,0,$C$4),1,2)","v":1226.1952070120351},{"$f":"INDEX(coordonnées_cadran_plat($D71,W$10,$C$3,$C$2,$C$5,$C$6,0,0,$C$4),1,1)","v":2943.0819212572155},{"$f":"INDEX(coordonnées_cadran_plat($D71,W$10,$C$3,$C$2,$C$5,$C$6,0,0,$C$4),1,2)","v":3256.8532411198307}]
[null,10,6,"2010-06-10",{"$f":"INDEX(heures_limites_cadran($D72,$C$3,$C$2,$C$5),1,1)/24","v":"09:00:00"},{"$f":"INDEX(heures_limites_cadran($D72,$C$3,$C$2,$C$5),1,2)/24","v":"17:30:00"},{"$f":"INDEX(coordonnées_cadran_plat($D72,$G$10,$C$3,$C$2,$C$5,$C$6,0,0,$C$4),1,1)","v":10316.844233634738},{"$f":"INDEX(coordonnées_cadran_plat($D72,$G$10,$C$3,$C$2,$C$5,$C$6,0,0,$C$4),1,2)","v":-16646.064214753631},{"$f":"INDEX(coordonnées_cadran_plat($D72,I$10,$C$3,$C$2,$C$5,$C$6,0,0,$C$4),1,1)","v":2068.2885418417341},{"$f":"INDEX(coordonnées_cadran_plat($D72,I$10,$C$3,$C$2,$C$5,$C$6,0,0,$C$4),1,2)","v":-2245.668832860581},{"$f":"INDEX(coordonnées_cadran_plat($D72,K$10,$C$3,$C$2,$C$5,$C$6,0,0,$C$4),1,1)","v":1448.9396758114328},{"$f":"INDEX(coordonnées_cadran_plat($D72,K$10,$C$3,$C$2,$C$5,$C$6,0,0,$C$4),1,2)","v":-1019.2943997146184},{"$f":"INDEX(coordonnées_cadran_plat($D72,M$10,$C$3,$C$2,$C$5,$C$6,0,0,$C$4),1,1)","v":1255.6245790823912},{"$f":"INDEX(coordonnées_cadran_plat($D72,M$10,$C$3,$C$2,$C$5,$C$6,0,0,$C$4),1,2)","v":-492.80502656106262},{"$f":"INDEX(coordonnées_cadran_plat($D72,O$10,$C$3,$C$2,$C$5,$C$6,0,0,$C$4),1,1)","v":1197.8743232327392},{"$f":"INDEX(coordonnées_cadran_plat($D72,O$10,$C$3,$C$2,$C$5,$C$6,0,0,$C$4),1,2)","v":-138.79791636220853},{"$f":"INDEX(coordonnées_cadran_plat($D72,Q$10,$C$3,$C$2,$C$5,$C$6,0,0,$C$4),1,1)","v":1223.7645010197316},{"$f":"INDEX(coordonnées_cadran_plat($D72,Q$10,$C$3,$C$2,$C$5,$C$6,0,0,$C$4),1,2)","v":183.26407830174827},{"$f":"INDEX(coordonnées_cadran_plat($D72,S$10,$C$3,$C$2,$C$5,$C$6,0,0,$C$4),1,1)","v":1347.5225720128385},{"$f":"INDEX(coordonnées_cadran_plat($D72,S$10,$C$3,$C$2,$C$5,$C$6,0,0,$C$4),1,2)","v":571.53601275541212},{"$f":"INDEX(coordonnées_cadran_plat($D72,U$10,$C$3,$C$2,$C$5,$C$6,0,0,$C$4),1,1)","v":1681.3901052845351},{"$f":"INDEX(coordonnées_cadran_plat($D72,U$10,$C$3,$C$2,$C$5,$C$6,0,0,$C$4),1,2)","v":1227.6853849680485},{"$f":"INDEX(coordonnées_cadran_plat($D72,W$10,$C$3,$C$2,$C$5,$C$6,0,0,$C$4),1,1)","v":2961.6652283589983},{"$f":"INDEX(coordonnées_cadran_plat($D72,W$10,$C$3,$C$2,$C$5,$C$6,0,0,$C$4),1,2)","v":3267.7105703502475}]
[null,11,6,"2010-06-11",{"$f":"INDEX(heures_limites_cadran($D73,$C$3,$C$2,$C$5),1,1)/24","v":"09:00:00"},{"$f":"INDEX(heures_limites_cadran($D73,$C$3,$C$2,$C$5),1,2)/24","v":"17:30:00"},{"$f":"INDEX(coordonnées_cadran_plat($D73,$G$10,$C$3,$C$2,$C$5,$C$6,0,0,$C$4),1,1)","v":10899.961061174521},{"$f":"INDEX(coordonnées_cadran_plat($D73,$G$10,$C$3,$C$2,$C$5,$C$6,0,0,$C$4),1,2)","v":-17577.278752276707},{"$f":"INDEX(coordonnées_cadran_plat($D73,I$10,$C$3,$C$2,$C$5,$C$6,0,0,$C$4),1,1)","v":2086.4227099543687},{"$f":"INDEX(coordonnées_cadran_plat($D73,I$10,$C$3,$C$2,$C$5,$C$6,0,0,$C$4),1,2)","v":-2265.0899053424037},{"$f":"INDEX(coordonnées_cadran_plat($D73,K$10,$C$3,$C$2,$C$5,$C$6,0,0,$C$4),1,1)","v":1456.4265872416772},{"$f":"INDEX(coordonnées_cadran_plat($D73,K$10,$C$3,$C$2,$C$5,$C$6,0,0,$C$4),1,2)","v":-1024.9621803153852},{"$f":"INDEX(coordonnées_cadran_plat($D73,M$10,$C$3,$C$2,$C$5,$C$6,0,0,$C$4),1,1)","v":1260.5423948991343},{"$f":"INDEX(coordonnées_cadran_plat($D73,M$10,$C$3,$C$2,$C$5,$C$6,0,0,$C$4),1,2)","v":-495.43843804731682},{"$f":"INDEX(coordonnées_cadran_plat($D73,O$10,$C$3,$C$2,$C$5,$C$6,0,0,$C$4),1,1)","v":1201.9121993888343},{"$f":"INDEX(coordonnées_cadran_plat($D73,O$10,$C$3,$C$2,$C$5,$C$6,0,0,$C$4),1,2)","v":-140.24499917686248},{"$f":"INDEX(coordonnées_cadran_plat($D73,Q$10,$C$3,$C$2,$C$5,$C$6,0,0,$C$4),1,1)","v":1227.653344909176},{"$f":"INDEX(coordonnées_cadran_plat($D73,Q$10,$C$3,$C$2,$C$5,$C$6,0,0,$C$4),1,2)","v":182.48822206103438},{"$f":"INDEX(coordonnées_cadran_plat($D73,S$10,$C$3,$C$2,$C$5,$C$6,0,0,$C$4),1,1)","v":1351.9168137564202},{"$f":"INDEX(coordonnées_cadran_plat($D73,S$10,$C$3,$C$2,$C$5,$C$6,0,0,$C$4),1,2)","v":571.37451477716445},{"$f":"INDEX(coordonnées_cadran_plat($D73,U$10,$C$3,$C$2,$C$5,$C$6,0,0,$C$4),1,1)","v":1687.6552944555742},{"$f":"INDEX(coordonnées_cadran_plat($D73,U$10,$C$3,$C$2,$C$5,$C$6,0,0,$C$4),1,2)","v":1228.7216171727291},{"$f":"INDEX(coordonnées_cadran_plat($D73,W$10,$C$3,$C$2,$C$5,$C$6,0,0,$C$4),1,1)","v":2977.7486619894062},{"$f":"INDEX(coordonnées_cadran_plat($D73,W$10,$C$3,$C$2,$C$5,$C$6,0,0,$C$4),1,2)","v":3276.1376120721725}]
[null,12,6,"2010-06-12",{"$f":"INDEX(heures_limites_cadran($D74,$C$3,$C$2,$C$5),1,1)/24","v":"09:00:00"},{"$f":"INDEX(heures_limites_cadran($D74,$C$3,$C$2,$C$5),1,2)/24","v":"17:30:00"},{"$f":"INDEX(coordonnées_cadran_plat($D74,$G$10,$C$3,$C$2,$C$5,$C$6,0,0,$C$4),1,1)","v":11514.226601480739},{"$f":"INDEX(coordonnées_cadran_plat($D74,$G$10,$C$3,$C$2,$C$5,$C$6,0,0,$C$4),1,2)","v":-18561.332059467055},{"$f":"INDEX(coordonnées_cadran_plat($D74,I$10,$C$3,$C$2,$C$5,$C$6,0,0,$C$4),1,1)","v":2103.5855339570498},{"$f":"INDEX(coordonnées_cadran_plat($D74,I$10,$C$3,$C$2,$C$5,$C$6,0,0,$C$4),1,2)","v":-2283.814453082316},{"$f":"INDEX(coordonnées_cadran_plat($D74,K$10,$C$3,$C$2,$C$5,$C$6,0,0,$C$4),1,1)","v":1463.3936966556134},{"$f":"INDEX(coordonnées_cadran_plat($D74,K$10,$C$3,$C$2,$C$5,$C$6,0,0,$C$4),1,2)","v":-1030.4125110146792},{"$f":"INDEX(coordonnées_cadran_plat($D74,M$10,$C$3,$C$2,$C$5,$C$6,0,0,$C$4),1,1)","v":1265.0694282405584},{"$f":"INDEX(coordonnées_cadran_plat($D74,M$10,$C$3,$C$2,$C$5,$C$6,0,0,$C$4),1,2)","v":-497.9918265029122},{"$f":"INDEX(coordonnées_cadran_plat($D74,O$10,$C$3,$C$2,$C$5,$C$6,0,0,$C$4),1,1)","v":1205.594602519772},{"$f":"INDEX(coordonnées_cadran_plat($D74,O$10,$C$3,$C$2,$C$5,$C$6,0,0,$C$4),1,2)","v":-141.68295858445177},{"$f":"INDEX(coordonnées_cadran_plat($D74,Q$10,$C$3,$C$2,$C$5,$C$6,0,0,$C$4),1,1)","v":1231.165458365941},{"$f":"INDEX(coordonnées_cadran_plat($D74,Q$10,$C$3,$C$2,$C$5,$C$6,0,0,$C$4),1,2)","v":181.65676219161094},{"$f":"INDEX(coordonnées_cadran_plat($D74,S$10,$C$3,$C$2,$C$5,$C$6,0,0,$C$4),1,1)","v":1355.8376718073591},{"$f":"INDEX(coordonnées_cadran_plat($D74,S$10,$C$3,$C$2,$C$5,$C$6,0,0,$C$4),1,2)","v":571.05240304893687},{"$f":"INDEX(coordonnées_cadran_plat($D74,U$10,$C$3,$C$2,$C$5,$C$6,0,0,$C$4),1,1)","v":1693.1424001542102},{"$f":"INDEX(coordonnées_cadran_plat($D74,U$10,$C$3,$C$2,$C$5,$C$6,0,0,$C$4),1,2)","v":1229.3031191520281},{"$f":"INDEX(coordonnées_cadran_plat($D74,W$10,$C$3,$C$2,$C$5,$C$6,0,0,$C$4),1,1)","v":2991.2721284270356},{"$f":"INDEX(coordonnées_cadran_plat($D74,W$10,$C$3,$C$2,$C$5,$C$6,0,0,$C$4),1,2)","v":3282.1034636196919}]
[null,13,6,"2010-06-13",{"$f":"INDEX(heures_limites_cadran($D75,$C$3,$C$2,$C$5),1,1)/24","v":"09:00:00"},{"$f":"INDEX(heures_limites_cadran($D75,$C$3,$C$2,$C$5),1,2)/24","v":"17:30:00"},{"$f":"INDEX(coordonnées_cadran_plat($D75,$G$10,$C$3,$C$2,$C$5,$C$6,0,0,$C$4),1,1)","v":12158.432161582905},{"$f":"INDEX(coordonnées_cadran_plat($D75,$G$10,$C$3,$C$2,$C$5,$C$6,0,0,$C$4),1,2)","v":-19596.770298718217},{"$f":"INDEX(coordonnées_cadran_plat($D75,I$10,$C$3,$C$2,$C$5,$C$6,0,0,$C$4),1,1)","v":2119.7157124921705},{"$f":"INDEX(coordonnées_cadran_plat($D75,I$10,$C$3,$C$2,$C$5,$C$6,0,0,$C$4),1,2)","v":-2301.7801873992275},{"$f":"INDEX(coordonnées_cadran_plat($D75,K$10,$C$3,$C$2,$C$5,$C$6,0,0,$C$4),1,1)","v":1469.8232134604712},{"$f":"INDEX(coordonnées_cadran_plat($D75,K$10,$C$3,$C$2,$C$5,$C$6,0,0,$C$4),1,2)","v":-1035.6319059132788},{"$f":"INDEX(coordonnées_cadran_plat($D75,M$10,$C$3,$C$2,$C$5,$C$6,0,0,$C$4),1,1)","v":1269.1960872715408},{"$f":"INDEX(coordonnées_cadran_plat($D75,M$10,$C$3,$C$2,$C$5,$C$6,0,0,$C$4),1,2)","v":-500.4595762525056},{"$f":"INDEX(coordonnées_cadran_plat($D75,O$10,$C$3,$C$2,$C$5,$C$6,0,0,$C$4),1,1)","v":1208.9145683523247},{"$f":"INDEX(coordonnées_cadran_plat($D75,O$10,$C$3,$C$2,$C$5,$C$6,0,0,$C$4),1,2)","v":-143.10864123368916},{"$f":"INDEX(coordonnées_cadran_plat($D75,Q$10,$C$3,$C$2,$C$5,$C$6,0,0,$C$4),1,1)","v":1234.2945842784429},{"$f":"INDEX(coordonnées_cadran_plat($D75,Q$10,$C$3,$C$2,$C$5,$C$6,0,0,$C$4),1,2)","v":180.77181515779273},{"$f":"INDEX(coordonnées_cadran_plat($D75,S$10,$C$3,$C$2,$C$5,$C$6,0,0,$C$4),1,1)","v":1359.2781373357652},{"$f":"INDEX(coordonnées_cadran_plat($D75,S$10,$C$3,$C$2,$C$5,$C$6,0,0,$C$4),1,2)","v":570.57122472467097},{"$f":"INDEX(coordonnées_cadran_plat($D75,U$10,$C$3,$C$2,$C$5,$C$6,0,0,$C$4),1,1)","v":1697.8402991778589},{"$f":"INDEX(coordonnées_cadran_plat($D75,U$10,$C$3,$C$2,$C$5,$C$6,0,0,$C$4),1,2)","v":1229.4304468375324},{"$f":"INDEX(coordonnées_cadran_plat($D75,W$10,$C$3,$C$2,$C$5,$C$6,0,0,$C$4),1,1)","v":3002.1885929799068},{"$f":"INDEX(coordonnées_cadran_plat($D75,W$10,$C$3,$C$2,$C$5,$C$6,0,0,$C$4),1,2)","v":3285.5900983362931}]
[null,14,6,"2010-06-14",{"$f":"INDEX(heures_limites_cadran($D76,$C$3,$C$2,$C$5),1,1)/24","v":"09:00:00"},{"$f":"INDEX(heures_limites_cadran($D76,$C$3,$C$2,$C$5),1,2)/24","v":"17:30:00"},{"$f":"INDEX(coordonnées_cadran_plat($D76,$G$10,$C$3,$C$2,$C$5,$C$6,0,0,$C$4),1,1)","v":12830.313253470131},{"$f":"INDEX(coordonnées_cadran_plat($D76,$G$10,$C$3,$C$2,$C$5,$C$6,0,0,$C$4),1,2)","v":-20680.489927700943},{"$f":"INDEX(coordonnées_cadran_plat($D76,I$10,$C$3,$C$2,$C$5,$C$6,0,0,$C$4),1,1)","v":2134.7532292932674},{"$f":"INDEX(coordonnées_cadran_plat($D76,I$10,$C$3,$C$2,$C$5,$C$6,0,0,$C$4),1,2)","v":-2318.9250362247171},{"$f":"INDEX(coordonnées_cadran_plat($D76,K$10,$C$3,$C$2,$C$5,$C$6,0,0,$C$4),1,1)","v":1475.6982238095138},{"$f":"INDEX(coordonnées_cadran_plat($D76,K$10,$C$3,$C$2,$C$5,$C$6,0,0,$C$4),1,2)","v":-1040.6071014761005},{"$f":"INDEX(coordonnées_cadran_plat($D76,M$10,$C$3,$C$2,$C$5,$C$6,0,0,$C$4),1,1)","v":1272.9134399075467},{"$f":"INDEX(coordonnées_cadran_plat($D76,M$10,$C$3,$C$2,$C$5,$C$6,0,0,$C$4),1,2)","v":-502.83614106727106},{"$f":"INDEX(coordonnées_cadran_plat($D76,O$10,$C$3,$C$2,$C$5,$C$6,0,0,$C$4),1,1)","v":1211.8657505381473},{"$f":"INDEX(coordonnées_cadran_plat($D76,O$10,$C$3,$C$2,$C$5,$C$6,0,0,$C$4),1,2)","v":-144.51886669282993},{"$f":"INDEX(coordonnées_cadran_plat($D76,Q$10,$C$3,$C$2,$C$5,$C$6,0,0,$C$4),1,1)","v":1237.0351730137857},{"$f":"INDEX(coordonnées_cadran_plat($D76,Q$10,$C$3,$C$2,$C$5,$C$6,0,0,$C$4),1,2)","v":179.83563762146849},{"$f":"INDEX(coordonnées_cadran_plat($D76,S$10,$C$3,$C$2,$C$5,$C$6,0,0,$C$4),1,1)","v":1362.2322301532649},{"$f":"INDEX(coordonnées_cadran_plat($D76,S$10,$C$3,$C$2,$C$5,$C$6,0,0,$C$4),1,2)","v":569.93291264626009},{"$f":"INDEX(coordonnées_cadran_plat($D76,U$10,$C$3,$C$2,$C$5,$C$6,0,0,$C$4),1,1)","v":1701.740085263591},{"$f":"INDEX(coordonnées_cadran_plat($D76,U$10,$C$3,$C$2,$C$5,$C$6,0,0,$C$4),1,2)","v":1229.1054987316002},{"$f":"INDEX(coordonnées_cadran_plat($D76,W$10,$C$3,$C$2,$C$5,$C$6,0,0,$C$4),1,1)","v":3010.464563987995},{"$f":"INDEX(coordonnées_cadran_plat($D76,W$10,$C$3,$C$2,$C$5,$C$6,0,0,$C$4),1,2)","v":3286.5925894473021}]
[null,15,6,"2010-06-15",{"$f":"INDEX(heures_limites_cadran($D77,$C$3,$C$2,$C$5),1,1)/24","v":"09:00:00"},{"$f":"INDEX(heures_limites_cadran($D77,$C$3,$C$2,$C$5),1,2)/24","v":"17:30:00"},{"$f":"INDEX(coordonnées_cadran_plat($D77,$G$10,$C$3,$C$2,$C$5,$C$6,0,0,$C$4),1,1)","v":13526.296263516417},{"$f":"INDEX(coordonnées_cadran_plat($D77,$G$10,$C$3,$C$2,$C$5,$C$6,0,0,$C$4),1,2)","v":-21807.322957671324},{"$f":"INDEX(coordonnées_cadran_plat($D77,I$10,$C$3,$C$2,$C$5,$C$6,0,0,$C$4),1,1)","v":2148.6398139846883},{"$f":"INDEX(coordonnées_cadran_plat($D77,I$10,$C$3,$C$2,$C$5,$C$6,0,0,$C$4),1,2)","v":-2335.1875658740551},{"$f":"INDEX(coordonnées_cadran_plat($D77,K$10,$C$3,$C$2,$C$5,$C$6,0,0,$C$4),1,1)","v":1481.0027919737322},{"$f":"INDEX(coordonnées_cadran_plat($D77,K$10,$C$3,$C$2,$C$5,$C$6,0,0,$C$4),1,2)","v":-1045.3251229519396},{"$f":"INDEX(coordonnées_cadran_plat($D77,M$10,$C$3,$C$2,$C$5,$C$6,0,0,$C$4),1,1)","v":1276.2132610037158},{"$f":"INDEX(coordonnées_cadran_plat($D77,M$10,$C$3,$C$2,$C$5,$C$6,0,0,$C$4),1,2)","v":-505.11606708004791},{"$f":"INDEX(coordonnées_cadran_plat($D77,O$10,$C$3,$C$2,$C$5,$C$6,0,0,$C$4),1,1)","v":1214.4424520100974},{"$f":"INDEX(coordonnées_cadran_plat($D77,O$10,$C$3,$C$2,$C$5,$C$6,0,0,$C$4),1,2)","v":-145.91043884620478},{"$f":"INDEX(coordonnées_cadran_plat($D77,Q$10,$C$3,$C$2,$C$5,$C$6,0,0,$C$4),1,1)","v":1239.3824090890157},{"$f":"INDEX(coordonnées_cadran_plat($D77,Q$10,$C$3,$C$2,$C$5,$C$6,0,0,$C$4),1,2)","v":178.8506191526827},{"$f":"INDEX(coordonnées_cadran_plat($D77,S$10,$C$3,$C$2,$C$5,$C$6,0,0,$C$4),1,1)","v":1364.6950278978311},{"$f":"INDEX(coordonnées_cadran_plat($D77,S$10,$C$3,$C$2,$C$5,$C$6,0,0,$C$4),1,2)","v":569.13977918669195},{"$f":"INDEX(coordonnées_cadran_plat($D77,U$10,$C$3,$C$2,$C$5,$C$6,0,0,$C$4),1,1)","v":1704.8351175387706},{"$f":"INDEX(coordonnées_cadran_plat($D77,U$10,$C$3,$C$2,$C$5,$C$6,0,0,$C$4),1,2)","v":1228.3315082317597},{"$f":"INDEX(coordonnées_cadran_plat($D77,W$10,$C$3,$C$2,$C$5,$C$6,0,0,$C$4),1,1)","v":3016.0803995817801},{"$f":"INDEX(coordonnées_cadran_plat($D77,W$10,$C$3,$C$2,$C$5,$C$6,0,0,$C$4),1,2)","v":3285.1191614802142}]
[null,16,6,"2010-06-16",{"$f":"INDEX(heures_limites_cadran($D78,$C$3,$C$2,$C$5),1,1)/24","v":"09:00:00"},{"$f":"INDEX(heures_limites_cadran($D78,$C$3,$C$2,$C$5),1,2)/24","v":"17:30:00"},{"$f":"INDEX(coordonnées_cadran_plat($D78,$G$10,$C$3,$C$2,$C$5,$C$6,0,0,$C$4),1,1)","v":14241.231978615959},{"$f":"INDEX(coordonnées_cadran_plat($D78,$G$10,$C$3,$C$2,$C$5,$C$6,0,0,$C$4),1,2)","v":-22969.595247075635},{"$f":"INDEX(coordonnées_cadran_plat($D78,I$10,$C$3,$C$2,$C$5,$C$6,0,0,$C$4),1,1)","v":2161.319414167494},{"$f":"INDEX(coordonnées_cadran_plat($D78,I$10,$C$3,$C$2,$C$5,$C$6,0,0,$C$4),1,2)","v":-2350.5074225562894},{"$f":"INDEX(coordonnées_cadran_plat($D78,K$10,$C$3,$C$2,$C$5,$C$6,0,0,$C$4),1,1)","v":1485.722059097322},{"$f":"INDEX(coordonnées_cadran_plat($D78,K$10,$C$3,$C$2,$C$5,$C$6,0,0,$C$4),1,2)","v":-1049.7733513508938},{"$f":"INDEX(coordonnées_cadran_plat($D78,M$10,$C$3,$C$2,$C$5,$C$6,0,0,$C$4),1,1)","v":1279.0880768822101},{"$f":"INDEX(coordonnées_cadran_plat($D78,M$10,$C$3,$C$2,$C$5,$C$6,0,0,$C$4),1,2)","v":-507.29401577132222},{"$f":"INDEX(coordonnées_cadran_plat($D78,O$10,$C$3,$C$2,$C$5,$C$6,0,0,$C$4),1,1)","v":1216.6396535627262},{"$f":"INDEX(coordonnées_cadran_plat($D78,O$10,$C$3,$C$2,$C$5,$C$6,0,0,$C$4),1,2)","v":-147.2801575701636},{"$f":"INDEX(coordonnées_cadran_plat($D78,Q$10,$C$3,$C$2,$C$5,$C$6,0,0,$C$4),1,1)","v":1241.3322343198843},{"$f":"INDEX(coordonnées_cadran_plat($D78,Q$10,$C$3,$C$2,$C$5,$C$6,0,0,$C$4),1,2)","v":177.81927416024487},{"$f":"INDEX(coordonnées_cadran_plat($D78,S$10,$C$3,$C$2,$C$5,$C$6,0,0,$C$4),1,1)","v":1366.6626892894976},{"$f":"INDEX(coordonnées_cadran_plat($D78,S$10,$C$3,$C$2,$C$5,$C$6,0,0,$C$4),1,2)","v":568.19450785434344},{"$f":"INDEX(coordonnées_cadran_plat($D78,U$10,$C$3,$C$2,$C$5,$C$6,0,0,$C$4),1,1)","v":1707.1210524777578},{"$f":"INDEX(coordonnées_cadran_plat($D78,U$10,$C$3,$C$2,$C$5,$C$6,0,0,$C$4),1,2)","v":1227.1130261608391},{"$f":"INDEX(coordonnées_cadran_plat($D78,W$10,$C$3,$C$2,$C$5,$C$6,0,0,$C$4),1,1)","v":3019.0304313010506},{"$f":"INDEX(coordonnées_cadran_plat($D78,W$10,$C$3,$C$2,$C$5,$C$6,0,0,$C$4),1,2)","v":3281.1910680487745}]
[null,17,6,"2010-06-17",{"$f":"INDEX(heures_limites_cadran($D79,$C$3,$C$2,$C$5),1,1)/24","v":"09:00:00"},{"$f":"INDEX(heures_limites_cadran($D79,$C$3,$C$2,$C$5),1,2)/24","v":"17:30:00"},{"$f":"INDEX(coordonnées_cadran_plat($D79,$G$10,$C$3,$C$2,$C$5,$C$6,0,0,$C$4),1,1)","v":14968.13677173788},{"$f":"INDEX(coordonnées_cadran_plat($D79,$G$10,$C$3,$C$2,$C$5,$C$6,0,0,$C$4),1,2)","v":-24156.689794644863},{"$f":"INDEX(coordonnées_cadran_plat($D79,I$10,$C$3,$C$2,$C$5,$C$6,0,0,$C$4),1,1)","v":2172.7386729707946},{"$f":"INDEX(coordonnées_cadran_plat($D79,I$10,$C$3,$C$2,$C$5,$C$6,0,0,$C$4),1,2)","v":-2364.8257888282915},{"$f":"INDEX(coordonnées_cadran_plat($D79,K$10,$C$3,$C$2,$C$5,$C$6,0,0,$C$4),1,1)","v":1489.8423383143811},{"$f":"INDEX(coordonnées_cadran_plat($D79,K$10,$C$3,$C$2,$C$5,$C$6,0,0,$C$4),1,2)","v":-1053.9395903861698},{"$f":"INDEX(coordonnées_cadran_plat($D79,M$10,$C$3,$C$2,$C$5,$C$6,0,0,$C$4),1,1)","v":1281.5312067765071},{"$f":"INDEX(coordonnées_cadran_plat($D79,M$10,$C$3,$C$2,$C$5,$C$6,0,0,$C$4),1,2)","v":-509.36478685085592},{"$f":"INDEX(coordonnées_cadran_plat($D79,O$10,$C$3,$C$2,$C$5,$C$6,0,0,$C$4),1,1)","v":1218.4530393954003},{"$f":"INDEX(coordonnées_cadran_plat($D79,O$10,$C$3,$C$2,$C$5,$C$6,0,0,$C$4),1,2)","v":-148.62483061125855},{"$f":"INDEX(coordonnées_cadran_plat($D79,Q$10,$C$3,$C$2,$C$5,$C$6,0,0,$C$4),1,1)","v":1242.8813672337174},{"$f":"INDEX(coordonnées_cadran_plat($D79,Q$10,$C$3,$C$2,$C$5,$C$6,0,0,$C$4),1,2)","v":176.74423309158445},{"$f":"INDEX(coordonnées_cadran_plat($D79,S$10,$C$3,$C$2,$C$5,$C$6,0,0,$C$4),1,1)","v":1368.1324712337853},{"$f":"INDEX(coordonnées_cadran_plat($D79,S$10,$C$3,$C$2,$C$5,$C$6,0,0,$C$4),1,2)","v":567.10014271198384},{"$f":"INDEX(coordonnées_cadran_plat($D79,U$10,$C$3,$C$2,$C$5,$C$6,0,0,$C$4),1,1)","v":1708.5958590391256},{"$f":"INDEX(coordonnées_cadran_plat($D79,U$10,$C$3,$C$2,$C$5,$C$6,0,0,$C$4),1,2)","v":1225.4558936797387},{"$f":"INDEX(coordonnées_cadran_plat($D79,W$10,$C$3,$C$2,$C$5,$C$6,0,0,$C$4),1,1)","v":3019.3229032014715},{"$f":"INDEX(coordonnées_cadran_plat($D79,W$10,$C$3,$C$2,$C$5,$C$6,0,0,$C$4),1,2)","v":3274.8422991057896}]
[null,18,6,"2010-06-18",{"$f":"INDEX(heures_limites_cadran($D80,$C$3,$C$2,$C$5),1,1)/24","v":"09:00:00"},{"$f":"INDEX(heures_limites_cadran($D80,$C$3,$C$2,$C$5),1,2)/24","v":"17:30:00"},{"$f":"INDEX(coordonnées_cadran_plat($D80,$G$10,$C$3,$C$2,$C$5,$C$6,0,0,$C$4),1,1)","v":15697.972897520413},{"$f":"INDEX(coordonnées_cadran_plat($D80,$G$10,$C$3,$C$2,$C$5,$C$6,0,0,$C$4),1,2)","v":-25354.664326681821},{"$f":"INDEX(coordonnées_cadran_plat($D80,I$10,$C$3,$C$2,$C$5,$C$6,0,0,$C$4),1,1)","v":2182.8474056935102},{"$f":"INDEX(coordonnées_cadran_plat($D80,I$10,$C$3,$C$2,$C$5,$C$6,0,0,$C$4),1,2)","v":-2378.0858495496973},{"$f":"INDEX(coordonnées_cadran_plat($D80,K$10,$C$3,$C$2,$C$5,$C$6,0,0,$C$4),1,1)","v":1493.3512052003757},{"$f":"INDEX(coordonnées_cadran_plat($D80,K$10,$C$3,$C$2,$C$5,$C$6,0,0,$C$4),1,2)","v":-1057.8121327565573},{"$f":"INDEX(coordonnées_cadran_plat($D80,M$10,$C$3,$C$2,$C$5,$C$6,0,0,$C$4),1,1)","v":1283.5368007898978},{"$f":"INDEX(coordonnées_cadran_plat($D80,M$10,$C$3,$C$2,$C$5,$C$6,0,0,$C$4),1,2)","v":-511.32334085576178},{"$f":"INDEX(coordonnées_cadran_plat($D80,O$10,$C$3,$C$2,$C$5,$C$6,0,0,$C$4),1,1)","v":1219.8790193801003},{"$f":"INDEX(coordonnées_cadran_plat($D80,O$10,$C$3,$C$2,$C$5,$C$6,0,0,$C$4),1,2)","v":-149.9412855838024},{"$f":"INDEX(coordonnées_cadran_plat($D80,Q$10,$C$3,$C$2,$C$5,$C$6,0,0,$C$4),1,1)","v":1244.0273185668475},{"$f":"INDEX(coordonnées_cadran_plat($D80,Q$10,$C$3,$C$2,$C$5,$C$6,0,0,$C$4),1,2)","v":175.62823295813288},{"$f":"INDEX(coordonnées_cadran_plat($D80,S$10,$C$3,$C$2,$C$5,$C$6,0,0,$C$4),1,1)","v":1369.1027396156926},{"$f":"INDEX(coordonnées_cadran_plat($D80,S$10,$C$3,$C$2,$C$5,$C$6,0,0,$C$4),1,2)","v":565.86007569003709},{"$f":"INDEX(coordonnées_cadran_plat($D80,U$10,$C$3,$C$2,$C$5,$C$6,0,0,$C$4),1,1)","v":1709.259816890203},{"$f":"INDEX(coordonnées_cadran_plat($D80,U$10,$C$3,$C$2,$C$5,$C$6,0,0,$C$4),1,2)","v":1223.367205895185},{"$f":"INDEX(coordonnées_cadran_plat($D80,W$10,$C$3,$C$2,$C$5,$C$6,0,0,$C$4),1,1)","v":3016.9797295869912},{"$f":"INDEX(coordonnées_cadran_plat($D80,W$10,$C$3,$C$2,$C$5,$C$6,0,0,$C$4),1,2)","v":3266.1191248918085}]
[null,19,6,"2010-06-19",{"$f":"INDEX(heures_limites_cadran($D81,$C$3,$C$2,$C$5),1,1)/24","v":"09:00:00"},{"$f":"INDEX(heures_limites_cadran($D81,$C$3,$C$2,$C$5),1,2)/24","v":"17:30:00"},{"$f":"INDEX(coordonnées_cadran_plat($D81,$G$10,$C$3,$C$2,$C$5,$C$6,0,0,$C$4),1,1)","v":16419.510759910954},{"$f":"INDEX(coordonnées_cadran_plat($D81,$G$10,$C$3,$C$2,$C$5,$C$6,0,0,$C$4),1,2)","v":-26545.9914127214},{"$f":"INDEX(coordonnées_cadran_plat($D81,I$10,$C$3,$C$2,$C$5,$C$6,0,0,$C$4),1,1)","v":2191.5990687044459},{"$f":"INDEX(coordonnées_cadran_plat($D81,I$10,$C$3,$C$2,$C$5,$C$6,0,0,$C$4),1,2)","v":-2390.2332613060657},{"$f":"INDEX(coordonnées_cadran_plat($D81,K$10,$C$3,$C$2,$C$5,$C$6,0,0,$C$4),1,1)","v":1496.2375825479799},{"$f":"INDEX(coordonnées_cadran_plat($D81,K$10,$C$3,$C$2,$C$5,$C$6,0,0,$C$4),1,2)","v":-1061.3798251326452},{"$f":"INDEX(coordonnées_cadran_plat($D81,M$10,$C$3,$C$2,$C$5,$C$6,0,0,$C$4),1,1)","v":1285.0998739897714},{"$f":"INDEX(coordonnées_cadran_plat($D81,M$10,$C$3,$C$2,$C$5,$C$6,0,0,$C$4),1,2)","v":-513.16482128234122},{"$f":"INDEX(coordonnées_cadran_plat($D81,O$10,$C$3,$C$2,$C$5,$C$6,0,0,$C$4),1,1)","v":1220.9147478433226},{"$f":"INDEX(coordonnées_cadran_plat($D81,O$10,$C$3,$C$2,$C$5,$C$6,0,0,$C$4),1,2)","v":-151.22638200188607},{"$f":"INDEX(coordonnées_cadran_plat($D81,Q$10,$C$3,$C$2,$C$5,$C$6,0,0,$C$4),1,1)","v":1244.7684027036785},{"$f":"INDEX(coordonnées_cadran_plat($D81,Q$10,$C$3,$C$2,$C$5,$C$6,0,0,$C$4),1,2)","v":174.47410725078922},{"$f":"INDEX(coordonnées_cadran_plat($D81,S$10,$C$3,$C$2,$C$5,$C$6,0,0,$C$4),1,1)","v":1369.5729736935764},{"$f":"INDEX(coordonnées_cadran_plat($D81,S$10,$C$3,$C$2,$C$5,$C$6,0,0,$C$4),1,2)","v":564.47803189320632},{"$f":"INDEX(coordonnées_cadran_plat($D81,U$10,$C$3,$C$2,$C$5,$C$6,0,0,$C$4),1,1)","v":1709.1154978515192},{"$f":"INDEX(coordonnées_cadran_plat($D81,U$10,$C$3,$C$2,$C$5,$C$6,0,0,$C$4),1,2)","v":1220.8552665913382},{"$f":"INDEX(coordonnées_cadran_plat($D81,W$10,$C$3,$C$2,$C$5,$C$6,0,0,$C$4),1,1)","v":3012.0360788708135},{"$f":"INDEX(coordonnées_cadran_plat($D81,W$10,$C$3,$C$2,$C$5,$C$6,0,0,$C$4),1,2)","v":3255.0794876689592}]
[null,20,6,"2010-06-20",{"$f":"INDEX(heures_limites_cadran($D82,$C$3,$C$2,$C$5),1,1)/24","v":"09:00:00"},{"$f":"INDEX(heures_limites_cadran($D82,$C$3,$C$2,$C$5),1,2)/24","v":"17:30:00"},{"$f":"INDEX(coordonnées_cadran_plat($D82,$G$10,$C$3,$C$2,$C$5,$C$6,0,0,$C$4),1,1)","v":17119.325849634875},{"$f":"INDEX(coordonnées_cadran_plat($D82,$G$10,$C$3,$C$2,$C$5,$C$6,0,0,$C$4),1,2)","v":-27709.50625583293},{"$f":"INDEX(coordonnées_cadran_plat($D82,I$10,$C$3,$C$2,$C$5,$C$6,0,0,$C$4),1,1)","v":2198.9512134506599},{"$f":"INDEX(coordonnées_cadran_plat($D82,I$10,$C$3,$C$2,$C$5,$C$6,0,0,$C$4),1,2)","v":-2401.2166187933767},{"$f":"INDEX(coordonnées_cadran_plat($D82,K$10,$C$3,$C$2,$C$5,$C$6,0,0,$C$4),1,1)","v":1498.4918184843502},{"$f":"INDEX(coordonnées_cadran_plat($D82,K$10,$C$3,$C$2,$C$5,$C$6,0,0,$C$4),1,2)","v":-1064.6321311939632},{"$f":"INDEX(coordonnées_cadran_plat($D82,M$10,$C$3,$C$2,$C$5,$C$6,0,0,$C$4),1,1)","v":1286.2163362899109},{"$f":"INDEX(coordonnées_cadran_plat($D82,M$10,$C$3,$C$2,$C$5,$C$6,0,0,$C$4),1,2)","v":-514.88457606999918},{"$f":"INDEX(coordonnées_cadran_plat($D82,O$10,$C$3,$C$2,$C$5,$C$6,0,0,$C$4),1,1)","v":1221.5581386820249},{"$f":"INDEX(coordonnées_cadran_plat($D82,O$10,$C$3,$C$2,$C$5,$C$6,0,0,$C$4),1,2)","v":-152.47702325988419},{"$f":"INDEX(coordonnées_cadran_plat($D82,Q$10,$C$3,$C$2,$C$5,$C$6,0,0,$C$4),1,1)","v":1245.1037449531136},{"$f":"INDEX(coordonnées_cadran_plat($D82,Q$10,$C$3,$C$2,$C$5,$C$6,0,0,$C$4),1,2)","v":173.28477531576374},{"$f":"INDEX(coordonnées_cadran_plat($D82,S$10,$C$3,$C$2,$C$5,$C$6,0,0,$C$4),1,1)","v":1369.5437640724645},{"$f":"INDEX(coordonnées_cadran_plat($D82,S$10,$C$3,$C$2,$C$5,$C$6,0,0,$C$4),1,2)","v":562.95805302432029},{"$f":"INDEX(coordonnées_cadran_plat($D82,U$10,$C$3,$C$2,$C$5,$C$6,0,0,$C$4),1,1)","v":1708.1677309258366},{"$f":"INDEX(coordonnées_cadran_plat($D82,U$10,$C$3,$C$2,$C$5,$C$6,0,0,$C$4),1,2)","v":1217.929534640879},{"$f":"INDEX(coordonnées_cadran_plat($D82,W$10,$C$3,$C$2,$C$5,$C$6,0,0,$C$4),1,1)","v":3004.5397951018349},{"$f":"INDEX(coordonnées_cadran_plat($D82,W$10,$C$3,$C$2,$C$5,$C$6,0,0,$C$4),1,2)","v":3241.7922557589491}]
[null,21,6,"2010-06-21",{"$f":"INDEX(heures_limites_cadran($D83,$C$3,$C$2,$C$5),1,1)/24","v":"09:00:00"},{"$f":"INDEX(heures_limites_cadran($D83,$C$3,$C$2,$C$5),1,2)/24","v":"17:30:00"},{"$f":"INDEX(coordonnées_cadran_plat($D83,$G$10,$C$3,$C$2,$C$5,$C$6,0,0,$C$4),1,1)","v":17781.98762584661},{"$f":"INDEX(coordonnées_cadran_plat($D83,$G$10,$C$3,$C$2,$C$5,$C$6,0,0,$C$4),1,2)","v":-28820.65632624205},{"$f":"INDEX(coordonnées_cadran_plat($D83,I$10,$C$3,$C$2,$C$5,$C$6,0,0,$C$4),1,1)","v":2204.8659182532283},{"$f":"INDEX(coordonnées_cadran_plat($D83,I$10,$C$3,$C$2,$C$5,$C$6,0,0,$C$4),1,2)","v":-2410.9879112982367},{"$f":"INDEX(coordonnées_cadran_plat($D83,K$10,$C$3,$C$2,$C$5,$C$6,0,0,$C$4),1,1)","v":1500.1057569965835},{"$f":"INDEX(coordonnées_cadran_plat($D83,K$10,$C$3,$C$2,$C$5,$C$6,0,0,$C$4),1,2)","v":-1067.5591920696716},{"$f":"INDEX(coordonnées_cadran_plat($D83,M$10,$C$3,$C$2,$C$5,$C$6,0,0,$C$4),1,1)","v":1286.8830178092142},{"$f":"INDEX(coordonnées_cadran_plat($D83,M$10,$C$3,$C$2,$C$5,$C$6,0,0,$C$4),1,2)","v":-516.47817825922618},{"$f":"INDEX(coordonnées_cadran_plat($D83,O$10,$C$3,$C$2,$C$5,$C$6,0,0,$C$4),1,1)","v":1221.8078766666524},{"$f":"INDEX(coordonnées_cadran_plat($D83,O$10,$C$3,$C$2,$C$5,$C$6,0,0,$C$4),1,2)","v":-153.69016847368394},{"$f":"INDEX(coordonnées_cadran_plat($D83,Q$10,$C$3,$C$2,$C$5,$C$6,0,0,$C$4),1,1)","v":1245.0332845983562},{"$f":"INDEX(coordonnées_cadran_plat($D83,Q$10,$C$3,$C$2,$C$5,$C$6,0,0,$C$4),1,2)","v":172.06323126689696},{"$f":"INDEX(coordonnées_cadran_plat($D83,S$10,$C$3,$C$2,$C$5,$C$6,0,0,$C$4),1,1)","v":1369.0168043050735},{"$f":"INDEX(coordonnées_cadran_plat($D83,S$10,$C$3,$C$2,$C$5,$C$6,0,0,$C$4),1,2)","v":561.30447906783866},{"$f":"INDEX(coordonnées_cadran_plat($D83,U$10,$C$3,$C$2,$C$5,$C$6,0,0,$C$4),1,1)","v":1706.4235514873944},{"$f":"INDEX(coordonnées_cadran_plat($D83,U$10,$C$3,$C$2,$C$5,$C$6,0,0,$C$4),1,2)","v":1214.6005627460806},{"$f":"INDEX(coordonnées_cadran_plat($D83,W$10,$C$3,$C$2,$C$5,$C$6,0,0,$C$4),1,1)","v":2994.5506722511554},{"$f":"INDEX(coordonnées_cadran_plat($D83,W$10,$C$3,$C$2,$C$5,$C$6,0,0,$C$4),1,2)","v":3226.3363572820676}]
[null,22,6,"2010-06-22",{"$f":"INDEX(heures_limites_cadran($D84,$C$3,$C$2,$C$5),1,1)/24","v":"09:00:00"},{"$f":"INDEX(heures_limites_cadran($D84,$C$3,$C$2,$C$5),1,2)/24","v":"17:30:00"},{"$f":"INDEX(coordonnées_cadran_plat($D84,$G$10,$C$3,$C$2,$C$5,$C$6,0,0,$C$4),1,1)","v":18390.492225301448},{"$f":"INDEX(coordonnées_cadran_plat($D84,$G$10,$C$3,$C$2,$C$5,$C$6,0,0,$C$4),1,2)","v":-29852.140485789485},{"$f":"INDEX(coordonnées_cadran_plat($D84,I$10,$C$3,$C$2,$C$5,$C$6,0,0,$C$4),1,1)","v":2209.3101905764042},{"$f":"INDEX(coordonnées_cadran_plat($D84,I$10,$C$3,$C$2,$C$5,$C$6,0,0,$C$4),1,2)","v":-2419.5029622092102},{"$f":"INDEX(coordonnées_cadran_plat($D84,K$10,$C$3,$C$2,$C$5,$C$6,0,0,$C$4),1,1)","v":1501.0727999967173},{"$f":"INDEX(coordonnées_cadran_plat($D84,K$10,$C$3,$C$2,$C$5,$C$6,0,0,$C$4),1,2)","v":-1070.1518835469626},{"$f":"INDEX(coordonnées_cadran_plat($D84,M$10,$C$3,$C$2,$C$5,$C$6,0,0,$C$4),1,1)","v":1287.0976894354828},{"$f":"INDEX(coordonnées_cadran_plat($D84,M$10,$C$3,$C$2,$C$5,$C$6,0,0,$C$4),1,2)","v":-517.94144564840337},{"$f":"INDEX(coordonnées_cadran_plat($D84,O$10,$C$3,$C$2,$C$5,$C$6,0,0,$C$4),1,1)","v":1221.6634248198454},{"$f":"INDEX(coordonnées_cadran_plat($D84,O$10,$C$3,$C$2,$C$5,$C$6,0,0,$C$4),1,2)","v":-154.86284409685831},{"$f":"INDEX(coordonnées_cadran_plat($D84,Q$10,$C$3,$C$2,$C$5,$C$6,0,0,$C$4),1,1)","v":1244.5577736971843},{"$f":"INDEX(coordonnées_cadran_plat($D84,Q$10,$C$3,$C$2,$C$5,$C$6,0,0,$C$4),1,2)","v":170.8125325147561},{"$f":"INDEX(coordonnées_cadran_plat($D84,S$10,$C$3,$C$2,$C$5,$C$6,0,0,$C$4),1,1)","v":1367.9948762357747},{"$f":"INDEX(coordonnées_cadran_plat($D84,S$10,$C$3,$C$2,$C$5,$C$6,0,0,$C$4),1,2)","v":559.52192839079521},{"$f":"INDEX(coordonnées_cadran_plat($D84,U$10,$C$3,$C$2,$C$5,$C$6,0,0,$C$4),1,1)","v":1703.8921354121012},{"$f":"INDEX(coordonnées_cadran_plat($D84,U$10,$C$3,$C$2,$C$5,$C$6,0,0,$C$4),1,2)","v":1210.8799292559172},{"$f":"INDEX(coordonnées_cadran_plat($D84,W$10,$C$3,$C$2,$C$5,$C$6,0,0,$C$4),1,1)","v":2982.1395993105575},{"$f":"INDEX(coordonnées_cadran_plat($D84,W$10,$C$3,$C$2,$C$5,$C$6,0,0,$C$4),1,2)","v":3208.7998132222265}]
[null,23,6,"2010-06-23",{"$f":"INDEX(heures_limites_cadran($D85,$C$3,$C$2,$C$5),1,1)/24","v":"09:00:00"},{"$f":"INDEX(heures_limites_cadran($D85,$C$3,$C$2,$C$5),1,2)/24","v":"17:30:00"},{"$f":"INDEX(coordonnées_cadran_plat($D85,$G$10,$C$3,$C$2,$C$5,$C$6,0,0,$C$4),1,1)","v":18926.970905641294},{"$f":"INDEX(coordonnées_cadran_plat($D85,$G$10,$C$3,$C$2,$C$5,$C$6,0,0,$C$4),1,2)","v":-30774.995450409824},{"$f":"INDEX(coordonnées_cadran_plat($D85,I$10,$C$3,$C$2,$C$5,$C$6,0,0,$C$4),1,1)","v":2212.2563326247691},{"$f":"INDEX(coordonnées_cadran_plat($D85,I$10,$C$3,$C$2,$C$5,$C$6,0,0,$C$4),1,2)","v":-2426.7218444225932},{"$f":"INDEX(coordonnées_cadran_plat($D85,K$10,$C$3,$C$2,$C$5,$C$6,0,0,$C$4),1,1)","v":1501.3879601356505},{"$f":"INDEX(coordonnées_cadran_plat($D85,K$10,$C$3,$C$2,$C$5,$C$6,0,0,$C$4),1,2)","v":-1072.4018694275069},{"$f":"INDEX(coordonnées_cadran_plat($D85,M$10,$C$3,$C$2,$C$5,$C$6,0,0,$C$4),1,1)","v":1286.8590783687237},{"$f":"INDEX(coordonnées_cadran_plat($D85,M$10,$C$3,$C$2,$C$5,$C$6,0,0,$C$4),1,2)","v":-519.27045928292569},{"$f":"INDEX(coordonnées_cadran_plat($D85,O$10,$C$3,$C$2,$C$5,$C$6,0,0,$C$4),1,1)","v":1221.12502779648},{"$f":"INDEX(coordonnées_cadran_plat($D85,O$10,$C$3,$C$2,$C$5,$C$6,0,0,$C$4),1,2)","v":-155.99215522578882},{"$f":"INDEX(coordonnées_cadran_plat($D85,Q$10,$C$3,$C$2,$C$5,$C$6,0,0,$C$4),1,1)","v":1243.6787716514814},{"$f":"INDEX(coordonnées_cadran_plat($D85,Q$10,$C$3,$C$2,$C$5,$C$6,0,0,$C$4),1,2)","v":169.53578799739884},{"$f":"INDEX(coordonnées_cadran_plat($D85,S$10,$C$3,$C$2,$C$5,$C$6,0,0,$C$4),1,1)","v":1366.4818292706748},{"$f":"INDEX(coordonnées_cadran_plat($D85,S$10,$C$3,$C$2,$C$5,$C$6,0,0,$C$4),1,2)","v":557.6152764393936},{"$f":"INDEX(coordonnées_cadran_plat($D85,U$10,$C$3,$C$2,$C$5,$C$6,0,0,$C$4),1,1)","v":1700.5847191171649},{"$f":"INDEX(coordonnées_cadran_plat($D85,U$10,$C$3,$C$2,$C$5,$C$6,0,0,$C$4),1,2)","v":1206.7801638867072},{"$f":"INDEX(coordonnées_cadran_plat($D85,W$10,$C$3,$C$2,$C$5,$C$6,0,0,$C$4),1,1)","v":2967.3875965591365},{"$f":"INDEX(coordonnées_cadran_plat($D85,W$10,$C$3,$C$2,$C$5,$C$6,0,0,$C$4),1,2)","v":3189.2786910154705}]
[null,24,6,"2010-06-24",{"$f":"INDEX(heures_limites_cadran($D86,$C$3,$C$2,$C$5),1,1)/24","v":"09:00:00"},{"$f":"INDEX(heures_limites_cadran($D86,$C$3,$C$2,$C$5),1,2)/24","v":"17:30:00"},{"$f":"INDEX(coordonnées_cadran_plat($D86,$G$10,$C$3,$C$2,$C$5,$C$6,0,0,$C$4),1,1)","v":19373.6690874532},{"$f":"INDEX(coordonnées_cadran_plat($D86,$G$10,$C$3,$C$2,$C$5,$C$6,0,0,$C$4),1,2)","v":-31560.129795392124},{"$f":"INDEX(coordonnées_cadran_plat($D86,I$10,$C$3,$C$2,$C$5,$C$6,0,0,$C$4),1,1)","v":2213.682263513625},{"$f":"INDEX(coordonnées_cadran_plat($D86,I$10,$C$3,$C$2,$C$5,$C$6,0,0,$C$4),1,2)","v":-2432.6092646683719},{"$f":"INDEX(coordonnées_cadran_plat($D86,K$10,$C$3,$C$2,$C$5,$C$6,0,0,$C$4),1,1)","v":1501.0479036755855},{"$f":"INDEX(coordonnées_cadran_plat($D86,K$10,$C$3,$C$2,$C$5,$C$6,0,0,$C$4),1,2)","v":-1074.3016504540049},{"$f":"INDEX(coordonnées_cadran_plat($D86,M$10,$C$3,$C$2,$C$5,$C$6,0,0,$C$4),1,1)","v":1286.1668784678632},{"$f":"INDEX(coordonnées_cadran_plat($D86,M$10,$C$3,$C$2,$C$5,$C$6,0,0,$C$4),1,2)","v":-520.46158062098016},{"$f":"INDEX(coordonnées_cadran_plat($D86,O$10,$C$3,$C$2,$C$5,$C$6,0,0,$C$4),1,1)","v":1220.1937112291821},{"$f":"INDEX(coordonnées_cadran_plat($D86,O$10,$C$3,$C$2,$C$5,$C$6,0,0,$C$4),1,2)","v":-157.07529651225659},{"$f":"INDEX(coordonnées_cadran_plat($D86,Q$10,$C$3,$C$2,$C$5,$C$6,0,0,$C$4),1,1)","v":1242.398635605769},{"$f":"INDEX(coordonnées_cadran_plat($D86,Q$10,$C$3,$C$2,$C$5,$C$6,0,0,$C$4),1,2)","v":168.23614619933798},{"$f":"INDEX(coordonnées_cadran_plat($D86,S$10,$C$3,$C$2,$C$5,$C$6,0,0,$C$4),1,1)","v":1364.4825538168461},{"$f":"INDEX(coordonnées_cadran_plat($D86,S$10,$C$3,$C$2,$C$5,$C$6,0,0,$C$4),1,2)","v":555.58963321618489},{"$f":"INDEX(coordonnées_cadran_plat($D86,U$10,$C$3,$C$2,$C$5,$C$6,0,0,$C$4),1,1)","v":1696.5145066366406},{"$f":"INDEX(coordonnées_cadran_plat($D86,U$10,$C$3,$C$2,$C$5,$C$6,0,0,$C$4),1,2)","v":1202.3146682247079},{"$f":"INDEX(coordonnées_cadran_plat($D86,W$10,$C$3,$C$2,$C$5,$C$6,0,0,$C$4),1,1)","v":2950.3847648858728},{"$f":"INDEX(coordonnées_cadran_plat($D86,W$10,$C$3,$C$2,$C$5,$C$6,0,0,$C$4),1,2)","v":3167.876000650368}]
[null,25,6,"2010-06-25",{"$f":"INDEX(heures_limites_cadran($D87,$C$3,$C$2,$C$5),1,1)/24","v":"09:00:00"},{"$f":"INDEX(heures_limites_cadran($D87,$C$3,$C$2,$C$5),1,2)/24","v":"17:30:00"},{"$f":"INDEX(coordonnées_cadran_plat($D87,$G$10,$C$3,$C$2,$C$5,$C$6,0,0,$C$4),1,1)","v":19714.138972632183},{"$f":"INDEX(coordonnées_cadran_plat($D87,$G$10,$C$3,$C$2,$C$5,$C$6,0,0,$C$4),1,2)","v":-32180.223015689015},{"$f":"INDEX(coordonnées_cadran_plat($D87,I$10,$C$3,$C$2,$C$5,$C$6,0,0,$C$4),1,1)","v":2213.5717918020173},{"$f":"INDEX(coordonnées_cadran_plat($D87,I$10,$C$3,$C$2,$C$5,$C$6,0,0,$C$4),1,2)","v":-2437.1349100647785},{"$f":"INDEX(coordonnées_cadran_plat($D87,K$10,$C$3,$C$2,$C$5,$C$6,0,0,$C$4),1,1)","v":1500.050982835756},{"$f":"INDEX(coordonnées_cadran_plat($D87,K$10,$C$3,$C$2,$C$5,$C$6,0,0,$C$4),1,2)","v":-1075.8446082618425},{"$f":"INDEX(coordonnées_cadran_plat($D87,M$10,$C$3,$C$2,$C$5,$C$6,0,0,$C$4),1,1)","v":1285.0217552764148},{"$f":"INDEX(coordonnées_cadran_plat($D87,M$10,$C$3,$C$2,$C$5,$C$6,0,0,$C$4),1,2)","v":-521.51146723033139},{"$f":"INDEX(coordonnées_cadran_plat($D87,O$10,$C$3,$C$2,$C$5,$C$6,0,0,$C$4),1,1)","v":1218.8712770422899},{"$f":"INDEX(coordonnées_cadran_plat($D87,O$10,$C$3,$C$2,$C$5,$C$6,0,0,$C$4),1,2)","v":-158.10956260351105},{"$f":"INDEX(coordonnées_cadran_plat($D87,Q$10,$C$3,$C$2,$C$5,$C$6,0,0,$C$4),1,1)","v":1240.7205067746274},{"$f":"INDEX(coordonnées_cadran_plat($D87,Q$10,$C$3,$C$2,$C$5,$C$6,0,0,$C$4),1,2)","v":166.91678304692994},{"$f":"INDEX(coordonnées_cadran_plat($D87,S$10,$C$3,$C$2,$C$5,$C$6,0,0,$C$4),1,1)","v":1362.0029491939229},{"$f":"INDEX(coordonnées_cadran_plat($D87,S$10,$C$3,$C$2,$C$5,$C$6,0,0,$C$4),1,2)","v":553.45031973779498},{"$f":"INDEX(coordonnées_cadran_plat($D87,U$10,$C$3,$C$2,$C$5,$C$6,0,0,$C$4),1,1)","v":1691.6965650049435},{"$f":"INDEX(coordonnées_cadran_plat($D87,U$10,$C$3,$C$2,$C$5,$C$6,0,0,$C$4),1,2)","v":1197.4976319431505},{"$f":"INDEX(coordonnées_cadran_plat($D87,W$10,$C$3,$C$2,$C$5,$C$6,0,0,$C$4),1,1)","v":2931.2291708946391},{"$f":"INDEX(coordonnées_cadran_plat($D87,W$10,$C$3,$C$2,$C$5,$C$6,0,0,$C$4),1,2)","v":3144.7005554309844}]
[null,26,6,"2010-06-26",{"$f":"INDEX(heures_limites_cadran($D88,$C$3,$C$2,$C$5),1,1)/24","v":"09:00:00"},{"$f":"INDEX(heures_limites_cadran($D88,$C$3,$C$2,$C$5),1,2)/24","v":"17:30:00"},{"$f":"INDEX(coordonnées_cadran_plat($D88,$G$10,$C$3,$C$2,$C$5,$C$6,0,0,$C$4),1,1)","v":19934.530877348971},{"$f":"INDEX(coordonnées_cadran_plat($D88,$G$10,$C$3,$C$2,$C$5,$C$6,0,0,$C$4),1,2)","v":-32611.812949763153},{"$f":"INDEX(coordonnées_cadran_plat($D88,I$10,$C$3,$C$2,$C$5,$C$6,0,0,$C$4),1,1)","v":2211.9148329221398},{"$f":"INDEX(coordonnées_cadran_plat($D88,I$10,$C$3,$C$2,$C$5,$C$6,0,0,$C$4),1,2)","v":-2440.2737507084448},{"$f":"INDEX(coordonnées_cadran_plat($D88,K$10,$C$3,$C$2,$C$5,$C$6,0,0,$C$4),1,1)","v":1498.397257151744},{"$f":"INDEX(coordonnées_cadran_plat($D88,K$10,$C$3,$C$2,$C$5,$C$6,0,0,$C$4),1,2)","v":-1077.0250438716298},{"$f":"INDEX(coordonnées_cadran_plat($D88,M$10,$C$3,$C$2,$C$5,$C$6,0,0,$C$4),1,1)","v":1283.4253456575593},{"$f":"INDEX(coordonnées_cadran_plat($D88,M$10,$C$3,$C$2,$C$5,$C$6,0,0,$C$4),1,2)","v":-522.4170868860266},{"$f":"INDEX(coordonnées_cadran_plat($D88,O$10,$C$3,$C$2,$C$5,$C$6,0,0,$C$4),1,1)","v":1217.1602947762644},{"$f":"INDEX(coordonnées_cadran_plat($D88,O$10,$C$3,$C$2,$C$5,$C$6,0,0,$C$4),1,2)","v":-159.09235803697459},{"$f":"INDEX(coordonnées_cadran_plat($D88,Q$10,$C$3,$C$2,$C$5,$C$6,0,0,$C$4),1,1)","v":1238.6482928375017},{"$f":"INDEX(coordonnées_cadran_plat($D88,Q$10,$C$3,$C$2,$C$5,$C$6,0,0,$C$4),1,2)","v":165.58088976901823},{"$f":"INDEX(coordonnées_cadran_plat($D88,S$10,$C$3,$C$2,$C$5,$C$6,0,0,$C$4),1,1)","v":1359.0498863725898},{"$f":"INDEX(coordonnées_cadran_plat($D88,S$10,$C$3,$C$2,$C$5,$C$6,0,0,$C$4),1,2)","v":551.20284367667807},{"$f":"INDEX(coordonnées_cadran_plat($D88,U$10,$C$3,$C$2,$C$5,$C$6,0,0,$C$4),1,1)","v":1686.1477093291742},{"$f":"INDEX(coordonnées_cadran_plat($D88,U$10,$C$3,$C$2,$C$5,$C$6,0,0,$C$4),1,2)","v":1192.3439456852127},{"$f":"INDEX(coordonnées_cadran_plat($D88,W$10,$C$3,$C$2,$C$5,$C$6,0,0,$C$4),1,1)","v":2910.0256905836131},{"$f":"INDEX(coordonnées_cadran_plat($D88,W$10,$C$3,$C$2,$C$5,$C$6,0,0,$C$4),1,2)","v":3119.8658189794037}]
[null,27,6,"2010-06-27",{"$f":"INDEX(heures_limites_cadran($D89,$C$3,$C$2,$C$5),1,1)/24","v":"09:00:00"},{"$f":"INDEX(heures_limites_cadran($D89,$C$3,$C$2,$C$5),1,2)/24","v":"17:30:00"},{"$f":"INDEX(coordonnées_cadran_plat($D89,$G$10,$C$3,$C$2,$C$5,$C$6,0,0,$C$4),1,1)","v":20024.819902312494},{"$f":"INDEX(coordonnées_cadran_plat($D89,$G$10,$C$3,$C$2,$C$5,$C$6,0,0,$C$4),1,2)","v":-32837.313327810007},{"$f":"INDEX(coordonnées_cadran_plat($D89,I$10,$C$3,$C$2,$C$5,$C$6,0,0,$C$4),1,1)","v":2208.7075669479696},{"$f":"INDEX(coordonnées_cadran_plat($D89,I$10,$C$3,$C$2,$C$5,$C$6,0,0,$C$4),1,2)","v":-2442.0062927791064},{"$f":"INDEX(coordonnées_cadran_plat($D89,K$10,$C$3,$C$2,$C$5,$C$6,0,0,$C$4),1,1)","v":1496.0885035175374},{"$f":"INDEX(coordonnées_cadran_plat($D89,K$10,$C$3,$C$2,$C$5,$C$6,0,0,$C$4),1,2)","v":-1077.8382102942987},{"$f":"INDEX(coordonnées_cadran_plat($D89,M$10,$C$3,$C$2,$C$5,$C$6,0,0,$C$4),1,1)","v":1281.3802520247834},{"$f":"INDEX(coordonnées_cadran_plat($D89,M$10,$C$3,$C$2,$C$5,$C$6,0,0,$C$4),1,2)","v":-523.17572995471221},{"$f":"INDEX(coordonnées_cadran_plat($D89,O$10,$C$3,$C$2,$C$5,$C$6,0,0,$C$4),1,1)","v":1215.0640890027676},{"$f":"INDEX(coordonnées_cadran_plat($D89,O$10,$C$3,$C$2,$C$5,$C$6,0,0,$C$4),1,2)","v":-160.02120651976293},{"$f":"INDEX(coordonnées_cadran_plat($D89,Q$10,$C$3,$C$2,$C$5,$C$6,0,0,$C$4),1,1)","v":1236.1866465757412},{"$f":"INDEX(coordonnées_cadran_plat($D89,Q$10,$C$3,$C$2,$C$5,$C$6,0,0,$C$4),1,2)","v":164.2316608111893},{"$f":"INDEX(coordonnées_cadran_plat($D89,S$10,$C$3,$C$2,$C$5,$C$6,0,0,$C$4),1,1)","v":1355.6311659417272},{"$f":"INDEX(coordonnées_cadran_plat($D89,S$10,$C$3,$C$2,$C$5,$C$6,0,0,$C$4),1,2)","v":548.85287439586284},{"$f":"INDEX(coordonnées_cadran_plat($D89,U$10,$C$3,$C$2,$C$5,$C$6,0,0,$C$4),1,1)","v":1679.8863790198045},{"$f":"INDEX(coordonnées_cadran_plat($D89,U$10,$C$3,$C$2,$C$5,$C$6,0,0,$C$4),1,2)","v":1186.86911157892},{"$f":"INDEX(coordonnées_cadran_plat($D89,W$10,$C$3,$C$2,$C$5,$C$6,0,0,$C$4),1,1)","v":2886.8848338311868},{"$f":"INDEX(coordonnées_cadran_plat($D89,W$10,$C$3,$C$2,$C$5,$C$6,0,0,$C$4),1,2)","v":3093.4887589583241}]
[null,28,6,"2010-06-28",{"$f":"INDEX(heures_limites_cadran($D90,$C$3,$C$2,$C$5),1,1)/24","v":"09:00:00"},{"$f":"INDEX(heures_limites_cadran($D90,$C$3,$C$2,$C$5),1,2)/24","v":"17:30:00"},{"$f":"INDEX(coordonnées_cadran_plat($D90,$G$10,$C$3,$C$2,$C$5,$C$6,0,0,$C$4),1,1)","v":19979.783200678274},{"$f":"INDEX(coordonnées_cadran_plat($D90,$G$10,$C$3,$C$2,$C$5,$C$6,0,0,$C$4),1,2)","v":-32846.663302240355},{"$f":"INDEX(coordonnées_cadran_plat($D90,I$10,$C$3,$C$2,$C$5,$C$6,0,0,$C$4),1,1)","v":2203.9525331902337},{"$f":"INDEX(coordonnées_cadran_plat($D90,I$10,$C$3,$C$2,$C$5,$C$6,0,0,$C$4),1,2)","v":-2442.3187774543799},{"$f":"INDEX(coordonnées_cadran_plat($D90,K$10,$C$3,$C$2,$C$5,$C$6,0,0,$C$4),1,1)","v":1493.1282147203144},{"$f":"INDEX(coordonnées_cadran_plat($D90,K$10,$C$3,$C$2,$C$5,$C$6,0,0,$C$4),1,2)","v":-1078.2803388940051},{"$f":"INDEX(coordonnées_cadran_plat($D90,M$10,$C$3,$C$2,$C$5,$C$6,0,0,$C$4),1,1)","v":1278.8900312103949},{"$f":"INDEX(coordonnées_cadran_plat($D90,M$10,$C$3,$C$2,$C$5,$C$6,0,0,$C$4),1,2)","v":-523.78501996880948},{"$f":"INDEX(coordonnées_cadran_plat($D90,O$10,$C$3,$C$2,$C$5,$C$6,0,0,$C$4),1,1)","v":1212.5867229477931},{"$f":"INDEX(coordonnées_cadran_plat($D90,O$10,$C$3,$C$2,$C$5,$C$6,0,0,$C$4),1,2)","v":-160.89375953164023},{"$f":"INDEX(coordonnées_cadran_plat($D90,Q$10,$C$3,$C$2,$C$5,$C$6,0,0,$C$4),1,1)","v":1233.3409409600656},{"$f":"INDEX(coordonnées_cadran_plat($D90,Q$10,$C$3,$C$2,$C$5,$C$6,0,0,$C$4),1,2)","v":162.87228188877717},{"$f":"INDEX(coordonnées_cadran_plat($D90,S$10,$C$3,$C$2,$C$5,$C$6,0,0,$C$4),1,1)","v":1351.7554717464243},{"$f":"INDEX(coordonnées_cadran_plat($D90,S$10,$C$3,$C$2,$C$5,$C$6,0,0,$C$4),1,2)","v":546.40621758737097},{"$f":"INDEX(coordonnées_cadran_plat($D90,U$10,$C$3,$C$2,$C$5,$C$6,0,0,$C$4),1,1)","v":1672.9325067060806},{"$f":"INDEX(coordonnées_cadran_plat($D90,U$10,$C$3,$C$2,$C$5,$C$6,0,0,$C$4),1,2)","v":1181.0891523417476},{"$f":"INDEX(coordonnées_cadran_plat($D90,W$10,$C$3,$C$2,$C$5,$C$6,0,0,$C$4),1,1)","v":2861.9215707223038},{"$f":"INDEX(coordonnées_cadran_plat($D90,W$10,$C$3,$C$2,$C$5,$C$6,0,0,$C$4),1,2)","v":3065.6887263321873}]
[null,29,6,"2010-06-29",{"$f":"INDEX(heures_limites_cadran($D91,$C$3,$C$2,$C$5),1,1)/24","v":"09:00:00"},{"$f":"INDEX(heures_limites_cadran($D91,$C$3,$C$2,$C$5),1,2)/24","v":"17:30:00"},{"$f":"INDEX(coordonnées_cadran_plat($D91,$G$10,$C$3,$C$2,$C$5,$C$6,0,0,$C$4),1,1)","v":19799.56233625429},{"$f":"INDEX(coordonnées_cadran_plat($D91,$G$10,$C$3,$C$2,$C$5,$C$6,0,0,$C$4),1,2)","v":-32638.335342765211},{"$f":"INDEX(coordonnées_cadran_plat($D91,I$10,$C$3,$C$2,$C$5,$C$6,0,0,$C$4),1,1)","v":2197.6586592714061},{"$f":"INDEX(coordonnées_cadran_plat($D91,I$10,$C$3,$C$2,$C$5,$C$6,0,0,$C$4),1,2)","v":-2441.2033218991651},{"$f":"INDEX(coordonnées_cadran_plat($D91,K$10,$C$3,$C$2,$C$5,$C$6,0,0,$C$4),1,1)","v":1489.5215864188478},{"$f":"INDEX(coordonnées_cadran_plat($D91,K$10,$C$3,$C$2,$C$5,$C$6,0,0,$C$4),1,2)","v":-1078.3486592245531},{"$f":"INDEX(coordonnées_cadran_plat($D91,M$10,$C$3,$C$2,$C$5,$C$6,0,0,$C$4),1,1)","v":1275.9591780697419},{"$f":"INDEX(coordonnées_cadran_plat($D91,M$10,$C$3,$C$2,$C$5,$C$6,0,0,$C$4),1,2)","v":-524.24292231177969},{"$f":"INDEX(coordonnées_cadran_plat($D91,O$10,$C$3,$C$2,$C$5,$C$6,0,0,$C$4),1,1)","v":1209.7329784755023},{"$f":"INDEX(coordonnées_cadran_plat($D91,O$10,$C$3,$C$2,$C$5,$C$6,0,0,$C$4),1,2)","v":-161.70780419539608},{"$f":"INDEX(coordonnées_cadran_plat($D91,Q$10,$C$3,$C$2,$C$5,$C$6,0,0,$C$4),1,1)","v":1230.1172409274739},{"$f":"INDEX(coordonnées_cadran_plat($D91,Q$10,$C$3,$C$2,$C$5,$C$6,0,0,$C$4),1,2)","v":161.50591826302804},{"$f":"INDEX(coordonnées_cadran_plat($D91,S$10,$C$3,$C$2,$C$5,$C$6,0,0,$C$4),1,1)","v":1347.4323206714944},{"$f":"INDEX(coordonnées_cadran_plat($D91,S$10,$C$3,$C$2,$C$5,$C$6,0,0,$C$4),1,2)","v":543.86878972245063},{"$f":"INDEX(coordonnées_cadran_plat($D91,U$10,$C$3,$C$2,$C$5,$C$6,0,0,$C$4),1,1)","v":1665.3073813906874},{"$f":"INDEX(coordonnées_cadran_plat($D91,U$10,$C$3,$C$2,$C$5,$C$6,0,0,$C$4),1,2)","v":1175.0205199078075},{"$f":"INDEX(coordonnées_cadran_plat($D91,W$10,$C$3,$C$2,$C$5,$C$6,0,0,$C$4),1,1)","v":2835.2541790915043},{"$f":"INDEX(coordonnées_cadran_plat($D91,W$10,$C$3,$C$2,$C$5,$C$6,0,0,$C$4),1,2)","v":3036.5863769841699}]
[null,30,6,"2010-06-30",{"$f":"INDEX(heures_limites_cadran($D92,$C$3,$C$2,$C$5),1,1)/24","v":"09:00:00"},{"$f":"INDEX(heures_limites_cadran($D92,$C$3,$C$2,$C$5),1,2)/24","v":"17:30:00"},{"$f":"INDEX(coordonnées_cadran_plat($D92,$G$10,$C$3,$C$2,$C$5,$C$6,0,0,$C$4),1,1)","v":19489.706849488568},{"$f":"INDEX(coordonnées_cadran_plat($D92,$G$10,$C$3,$C$2,$C$5,$C$6,0,0,$C$4),1,2)","v":-32219.521484193141},{"$f":"INDEX(coordonnées_cadran_plat($D92,I$10,$C$3,$C$2,$C$5,$C$6,0,0,$C$4),1,1)","v":2189.8412235790483},{"$f":"INDEX(coordonnées_cadran_plat($D92,I$10,$C$3,$C$2,$C$5,$C$6,0,0,$C$4),1,2)","v":-2438.6579996686974},{"$f":"INDEX(coordonnées_cadran_plat($D92,K$10,$C$3,$C$2,$C$5,$C$6,0,0,$C$4),1,1)","v":1485.2754926645766},{"$f":"INDEX(coordonnées_cadran_plat($D92,K$10,$C$3,$C$2,$C$5,$C$6,0,0,$C$4),1,2)","v":-1078.0414121426581},{"$f":"INDEX(coordonnées_cadran_plat($D92,M$10,$C$3,$C$2,$C$5,$C$6,0,0,$C$4),1,1)","v":1272.5931039736017},{"$f":"INDEX(coordonnées_cadran_plat($D92,M$10,$C$3,$C$2,$C$5,$C$6,0,0,$C$4),1,2)","v":-524.54775095757009},{"$f":"INDEX(coordonnées_cadran_plat($D92,O$10,$C$3,$C$2,$C$5,$C$6,0,0,$C$4),1,1)","v":1206.5083326185268},{"$f":"INDEX(coordonnées_cadran_plat($D92,O$10,$C$3,$C$2,$C$5,$C$6,0,0,$C$4),1,2)","v":-162.46127036770613},{"$f":"INDEX(coordonnées_cadran_plat($D92,Q$10,$C$3,$C$2,$C$5,$C$6,0,0,$C$4),1,1)","v":1226.5222721130333},{"$f":"INDEX(coordonnées_cadran_plat($D92,Q$10,$C$3,$C$2,$C$5,$C$6,0,0,$C$4),1,2)","v":160.13570331868721},{"$f":"INDEX(coordonnées_cadran_plat($D92,S$10,$C$3,$C$2,$C$5,$C$6,0,0,$C$4),1,1)","v":1342.6720090704537},{"$f":"INDEX(coordonnées_cadran_plat($D92,S$10,$C$3,$C$2,$C$5,$C$6,0,0,$C$4),1,2)","v":541.24659251647813},{"$f":"INDEX(coordonnées_cadran_plat($D92,U$10,$C$3,$C$2,$C$5,$C$6,0,0,$C$4),1,1)","v":1657.0335074033023},{"$f":"INDEX(coordonnées_cadran_plat($D92,U$10,$C$3,$C$2,$C$5,$C$6,0,0,$C$4),1,2)","v":1168.68000447793},{"$f":"INDEX(coordonnées_cadran_plat($D92,W$10,$C$3,$C$2,$C$5,$C$6,0,0,$C$4),1,1)","v":2807.003130572059},{"$f":"INDEX(coordonnées_cadran_plat($D92,W$10,$C$3,$C$2,$C$5,$C$6,0,0,$C$4),1,2)","v":3006.3026501630043}]
[null,1,7,"2010-07-01",{"$f":"INDEX(heures_limites_cadran($D93,$C$3,$C$2,$C$5),1,1)/24","v":"09:00:00"},{"$f":"INDEX(heures_limites_cadran($D93,$C$3,$C$2,$C$5),1,2)/24","v":"17:30:00"},{"$f":"INDEX(coordonnées_cadran_plat($D93,$G$10,$C$3,$C$2,$C$5,$C$6,0,0,$C$4),1,1)","v":19060.685987405024},{"$f":"INDEX(coordonnées_cadran_plat($D93,$G$10,$C$3,$C$2,$C$5,$C$6,0,0,$C$4),1,2)","v":-31605.461136292743},{"$f":"INDEX(coordonnées_cadran_plat($D93,I$10,$C$3,$C$2,$C$5,$C$6,0,0,$C$4),1,1)","v":2180.521751287853},{"$f":"INDEX(coordonnées_cadran_plat($D93,I$10,$C$3,$C$2,$C$5,$C$6,0,0,$C$4),1,2)","v":-2434.6868590269914},{"$f":"INDEX(coordonnées_cadran_plat($D93,K$10,$C$3,$C$2,$C$5,$C$6,0,0,$C$4),1,1)","v":1480.3984502055168},{"$f":"INDEX(coordonnées_cadran_plat($D93,K$10,$C$3,$C$2,$C$5,$C$6,0,0,$C$4),1,2)","v":-1077.3578560792178},{"$f":"INDEX(coordonnées_cadran_plat($D93,M$10,$C$3,$C$2,$C$5,$C$6,0,0,$C$4),1,1)","v":1268.7981103926118},{"$f":"INDEX(coordonnées_cadran_plat($D93,M$10,$C$3,$C$2,$C$5,$C$6,0,0,$C$4),1,2)","v":-524.69817322618803},{"$f":"INDEX(coordonnées_cadran_plat($D93,O$10,$C$3,$C$2,$C$5,$C$6,0,0,$C$4),1,1)","v":1202.91893087065},{"$f":"INDEX(coordonnées_cadran_plat($D93,O$10,$C$3,$C$2,$C$5,$C$6,0,0,$C$4),1,2)","v":-163.15223691077529},{"$f":"INDEX(coordonnées_cadran_plat($D93,Q$10,$C$3,$C$2,$C$5,$C$6,0,0,$C$4),1,1)","v":1222.5633868253235},{"$f":"INDEX(coordonnées_cadran_plat($D93,Q$10,$C$3,$C$2,$C$5,$C$6,0,0,$C$4),1,2)","v":158.76472751913167},{"$f":"INDEX(coordonnées_cadran_plat($D93,S$10,$C$3,$C$2,$C$5,$C$6,0,0,$C$4),1,1)","v":1337.4855563590625},{"$f":"INDEX(coordonnées_cadran_plat($D93,S$10,$C$3,$C$2,$C$5,$C$6,0,0,$C$4),1,2)","v":538.54568760746804},{"$f":"INDEX(coordonnées_cadran_plat($D93,U$10,$C$3,$C$2,$C$5,$C$6,0,0,$C$4),1,1)","v":1648.134460687515},{"$f":"INDEX(coordonnées_cadran_plat($D93,U$10,$C$3,$C$2,$C$5,$C$6,0,0,$C$4),1,2)","v":1162.0846448402217},{"$f":"INDEX(coordonnées_cadran_plat($D93,W$10,$C$3,$C$2,$C$5,$C$6,0,0,$C$4),1,1)","v":2777.2900300952965},{"$f":"INDEX(coordonnées_cadran_plat($D93,W$10,$C$3,$C$2,$C$5,$C$6,0,0,$C$4),1,2)","v":2974.9578157440183}]
[null,2,7,"2010-07-02",{"$f":"INDEX(heures_limites_cadran($D94,$C$3,$C$2,$C$5),1,1)/24","v":"09:00:00"},{"$f":"INDEX(heures_limites_cadran($D94,$C$3,$C$2,$C$5),1,2)/24","v":"17:30:00"},{"$f":"INDEX(coordonnées_cadran_plat($D94,$G$10,$C$3,$C$2,$C$5,$C$6,0,0,$C$4),1,1)","v":18526.950945124303},{"$f":"INDEX(coordonnées_cadran_plat($D94,$G$10,$C$3,$C$2,$C$5,$C$6,0,0,$C$4),1,2)","v":-30818.027800728694},{"$f":"INDEX(coordonnées_cadran_plat($D94,I$10,$C$3,$C$2,$C$5,$C$6,0,0,$C$4),1,1)","v":2169.7278454329689},{"$f":"INDEX(coordonnées_cadran_plat($D94,I$10,$C$3,$C$2,$C$5,$C$6,0,0,$C$4),1,2)","v":-2429.2998788821342},{"$f":"INDEX(coordonnées_cadran_plat($D94,K$10,$C$3,$C$2,$C$5,$C$6,0,0,$C$4),1,1)","v":1474.9005719549341},{"$f":"INDEX(coordonnées_cadran_plat($D94,K$10,$C$3,$C$2,$C$5,$C$6,0,0,$C$4),1,2)","v":-1076.2982664402875},{"$f":"INDEX(coordonnées_cadran_plat($D94,M$10,$C$3,$C$2,$C$5,$C$6,0,0,$C$4),1,1)","v":1264.5813578264142},{"$f":"INDEX(coordonnées_cadran_plat($D94,M$10,$C$3,$C$2,$C$5,$C$6,0,0,$C$4),1,2)","v":-524.69321253819044},{"$f":"INDEX(coordonnées_cadran_plat($D94,O$10,$C$3,$C$2,$C$5,$C$6,0,0,$C$4),1,1)","v":1198.971557485004},{"$f":"INDEX(coordonnées_cadran_plat($D94,O$10,$C$3,$C$2,$C$5,$C$6,0,0,$C$4),1,2)","v":-163.77893711348625},{"$f":"INDEX(coordonnées_cadran_plat($D94,Q$10,$C$3,$C$2,$C$5,$C$6,0,0,$C$4),1,1)","v":1218.2485275726183},{"$f":"INDEX(coordonnées_cadran_plat($D94,Q$10,$C$3,$C$2,$C$5,$C$6,0,0,$C$4),1,2)","v":157.39602780669819},{"$f":"INDEX(coordonnées_cadran_plat($D94,S$10,$C$3,$C$2,$C$5,$C$6,0,0,$C$4),1,1)","v":1331.8846463013347},{"$f":"INDEX(coordonnées_cadran_plat($D94,S$10,$C$3,$C$2,$C$5,$C$6,0,0,$C$4),1,2)","v":535.77217163384842},{"$f":"INDEX(coordonnées_cadran_plat($D94,U$10,$C$3,$C$2,$C$5,$C$6,0,0,$C$4),1,1)","v":1638.6347439094402},{"$f":"INDEX(coordonnées_cadran_plat($D94,U$10,$C$3,$C$2,$C$5,$C$6,0,0,$C$4),1,2)","v":1155.2516407489752},{"$f":"INDEX(coordonnées_cadran_plat($D94,W$10,$C$3,$C$2,$C$5,$C$6,0,0,$C$4),1,1)","v":2746.2366212622337},{"$f":"INDEX(coordonnées_cadran_plat($D94,W$10,$C$3,$C$2,$C$5,$C$6,0,0,$C$4),1,2)","v":2942.6705997157655}]
[null,3,7,"2010-07-03",{"$f":"INDEX(heures_limites_cadran($D95,$C$3,$C$2,$C$5),1,1)/24","v":"09:00:00"},{"$f":"INDEX(heures_limites_cadran($D95,$C$3,$C$2,$C$5),1,2)/24","v":"17:30:00"},{"$f":"INDEX(coordonnées_cadran_plat($D95,$G$10,$C$3,$C$2,$C$5,$C$6,0,0,$C$4),1,1)","v":17905.7031968626},{"$f":"INDEX(coordonnées_cadran_plat($D95,$G$10,$C$3,$C$2,$C$5,$C$6,0,0,$C$4),1,2)","v":-29883.813880089339},{"$f":"INDEX(coordonnées_cadran_plat($D95,I$10,$C$3,$C$2,$C$5,$C$6,0,0,$C$4),1,1)","v":2157.4929557763726},{"$f":"INDEX(coordonnées_cadran_plat($D95,I$10,$C$3,$C$2,$C$5,$C$6,0,0,$C$4),1,2)","v":-2422.5128632544215},{"$f":"INDEX(coordonnées_cadran_plat($D95,K$10,$C$3,$C$2,$C$5,$C$6,0,0,$C$4),1,1)","v":1468.7935101388343},{"$f":"INDEX(coordonnées_cadran_plat($D95,K$10,$C$3,$C$2,$C$5,$C$6,0,0,$C$4),1,2)","v":-1074.8639281935027},{"$f":"INDEX(coordonnées_cadran_plat($D95,M$10,$C$3,$C$2,$C$5,$C$6,0,0,$C$4),1,1)","v":1259.9508303750765},{"$f":"INDEX(coordonnées_cadran_plat($D95,M$10,$C$3,$C$2,$C$5,$C$6,0,0,$C$4),1,2)","v":-524.53224917329067},{"$f":"INDEX(coordonnées_cadran_plat($D95,O$10,$C$3,$C$2,$C$5,$C$6,0,0,$C$4),1,1)","v":1194.6736030443815},{"$f":"INDEX(coordonnées_cadran_plat($D95,O$10,$C$3,$C$2,$C$5,$C$6,0,0,$C$4),1,2)","v":-164.33976324048805},{"$f":"INDEX(coordonnées_cadran_plat($D95,Q$10,$C$3,$C$2,$C$5,$C$6,0,0,$C$4),1,1)","v":1213.5861884618437},{"$f":"INDEX(coordonnées_cadran_plat($D95,Q$10,$C$3,$C$2,$C$5,$C$6,0,0,$C$4),1,2)","v":156.0325775126984},{"$f":"INDEX(coordonnées_cadran_plat($D95,S$10,$C$3,$C$2,$C$5,$C$6,0,0,$C$4),1,1)","v":1325.881566520294},{"$f":"INDEX(coordonnées_cadran_plat($D95,S$10,$C$3,$C$2,$C$5,$C$6,0,0,$C$4),1,2)","v":532.9321518890805},{"$f":"INDEX(coordonnées_cadran_plat($D95,U$10,$C$3,$C$2,$C$5,$C$6,0,0,$C$4),1,1)","v":1628.55964180927},{"$f":"INDEX(coordonnées_cadran_plat($D95,U$10,$C$3,$C$2,$C$5,$C$6,0,0,$C$4),1,2)","v":1148.1982680817164},{"$f":"INDEX(coordonnées_cadran_plat($D95,W$10,$C$3,$C$2,$C$5,$C$6,0,0,$C$4),1,1)","v":2713.9638674168964},{"$f":"INDEX(coordonnées_cadran_plat($D95,W$10,$C$3,$C$2,$C$5,$C$6,0,0,$C$4),1,2)","v":2909.557394744445}]
[null,4,7,"2010-07-04",{"$f":"INDEX(heures_limites_cadran($D96,$C$3,$C$2,$C$5),1,1)/24","v":"09:00:00"},{"$f":"INDEX(heures_limites_cadran($D96,$C$3,$C$2,$C$5),1,2)/24","v":"17:30:00"},{"$f":"INDEX(coordonnées_cadran_plat($D96,$G$10,$C$3,$C$2,$C$5,$C$6,0,0,$C$4),1,1)","v":17215.557400785205},{"$f":"INDEX(coordonnées_cadran_plat($D96,$G$10,$C$3,$C$2,$C$5,$C$6,0,0,$C$4),1,2)","v":-28832.011759320918},{"$f":"INDEX(coordonnées_cadran_plat($D96,I$10,$C$3,$C$2,$C$5,$C$6,0,0,$C$4),1,1)","v":2143.8560893878671},{"$f":"INDEX(coordonnées_cadran_plat($D96,I$10,$C$3,$C$2,$C$5,$C$6,0,0,$C$4),1,2)","v":-2414.3472763703794},{"$f":"INDEX(coordonnées_cadran_plat($D96,K$10,$C$3,$C$2,$C$5,$C$6,0,0,$C$4),1,1)","v":1462.0903897598384},{"$f":"INDEX(coordonnées_cadran_plat($D96,K$10,$C$3,$C$2,$C$5,$C$6,0,0,$C$4),1,2)","v":-1073.0571217797649},{"$f":"INDEX(coordonnées_cadran_plat($D96,M$10,$C$3,$C$2,$C$5,$C$6,0,0,$C$4),1,1)","v":1254.915296290091},{"$f":"INDEX(coordonnées_cadran_plat($D96,M$10,$C$3,$C$2,$C$5,$C$6,0,0,$C$4),1,2)","v":-524.21501905634955},{"$f":"INDEX(coordonnées_cadran_plat($D96,O$10,$C$3,$C$2,$C$5,$C$6,0,0,$C$4),1,1)","v":1190.0330295900249},{"$f":"INDEX(coordonnées_cadran_plat($D96,O$10,$C$3,$C$2,$C$5,$C$6,0,0,$C$4),1,2)","v":-164.8332701947125},{"$f":"INDEX(coordonnées_cadran_plat($D96,Q$10,$C$3,$C$2,$C$5,$C$6,0,0,$C$4),1,1)","v":1208.5853748022826},{"$f":"INDEX(coordonnées_cadran_plat($D96,Q$10,$C$3,$C$2,$C$5,$C$6,0,0,$C$4),1,2)","v":154.67727683313373},{"$f":"INDEX(coordonnées_cadran_plat($D96,S$10,$C$3,$C$2,$C$5,$C$6,0,0,$C$4),1,1)","v":1319.4891467611246},{"$f":"INDEX(coordonnées_cadran_plat($D96,S$10,$C$3,$C$2,$C$5,$C$6,0,0,$C$4),1,2)","v":530.03172271599328},{"$f":"INDEX(coordonnées_cadran_plat($D96,U$10,$C$3,$C$2,$C$5,$C$6,0,0,$C$4),1,1)","v":1617.9350781294927},{"$f":"INDEX(coordonnées_cadran_plat($D96,U$10,$C$3,$C$2,$C$5,$C$6,0,0,$C$4),1,2)","v":1140.9417974153107},{"$f":"INDEX(coordonnées_cadran_plat($D96,W$10,$C$3,$C$2,$C$5,$C$6,0,0,$C$4),1,1)","v":2680.5911156911629},{"$f":"INDEX(coordonnées_cadran_plat($D96,W$10,$C$3,$C$2,$C$5,$C$6,0,0,$C$4),1,2)","v":2875.7315602188914}]
[null,5,7,"2010-07-05",{"$f":"INDEX(heures_limites_cadran($D97,$C$3,$C$2,$C$5),1,1)/24","v":"09:00:00"},{"$f":"INDEX(heures_limites_cadran($D97,$C$3,$C$2,$C$5),1,2)/24","v":"17:30:00"},{"$f":"INDEX(coordonnées_cadran_plat($D97,$G$10,$C$3,$C$2,$C$5,$C$6,0,0,$C$4),1,1)","v":16475.276529043633},{"$f":"INDEX(coordonnées_cadran_plat($D97,$G$10,$C$3,$C$2,$C$5,$C$6,0,0,$C$4),1,2)","v":-27692.378166301231},{"$f":"INDEX(coordonnées_cadran_plat($D97,I$10,$C$3,$C$2,$C$5,$C$6,0,0,$C$4),1,1)","v":2128.8614679404418},{"$f":"INDEX(coordonnées_cadran_plat($D97,I$10,$C$3,$C$2,$C$5,$C$6,0,0,$C$4),1,2)","v":-2404.830021604565},{"$f":"INDEX(coordonnées_cadran_plat($D97,K$10,$C$3,$C$2,$C$5,$C$6,0,0,$C$4),1,1)","v":1454.805733127552},{"$f":"INDEX(coordonnées_cadran_plat($D97,K$10,$C$3,$C$2,$C$5,$C$6,0,0,$C$4),1,2)","v":-1070.8811025736288},{"$f":"INDEX(coordonnées_cadran_plat($D97,M$10,$C$3,$C$2,$C$5,$C$6,0,0,$C$4),1,1)","v":1249.4842648774759},{"$f":"INDEX(coordonnées_cadran_plat($D97,M$10,$C$3,$C$2,$C$5,$C$6,0,0,$C$4),1,2)","v":-523.7416106163231},{"$f":"INDEX(coordonnées_cadran_plat($D97,O$10,$C$3,$C$2,$C$5,$C$6,0,0,$C$4),1,1)","v":1185.0583336111756},{"$f":"INDEX(coordonnées_cadran_plat($D97,O$10,$C$3,$C$2,$C$5,$C$6,0,0,$C$4),1,2)","v":-165.25817828928353},{"$f":"INDEX(coordonnées_cadran_plat($D97,Q$10,$C$3,$C$2,$C$5,$C$6,0,0,$C$4),1,1)","v":1203.2555612514309},{"$f":"INDEX(coordonnées_cadran_plat($D97,Q$10,$C$3,$C$2,$C$5,$C$6,0,0,$C$4),1,2)","v":153.3329439184854},{"$f":"INDEX(coordonnées_cadran_plat($D97,S$10,$C$3,$C$2,$C$5,$C$6,0,0,$C$4),1,1)","v":1312.7206964235513},{"$f":"INDEX(coordonnées_cadran_plat($D97,S$10,$C$3,$C$2,$C$5,$C$6,0,0,$C$4),1,2)","v":527.07694278882843},{"$f":"INDEX(coordonnées_cadran_plat($D97,U$10,$C$3,$C$2,$C$5,$C$6,0,0,$C$4),1,1)","v":1606.787475353528},{"$f":"INDEX(coordonnées_cadran_plat($D97,U$10,$C$3,$C$2,$C$5,$C$6,0,0,$C$4),1,2)","v":1133.4994165830642},{"$f":"INDEX(coordonnées_cadran_plat($D97,W$10,$C$3,$C$2,$C$5,$C$6,0,0,$C$4),1,1)","v":2646.2353488346384},{"$f":"INDEX(coordonnées_cadran_plat($D97,W$10,$C$3,$C$2,$C$5,$C$6,0,0,$C$4),1,2)","v":2841.3028138942527}]
[null,6,7,"2010-07-06",{"$f":"INDEX(heures_limites_cadran($D98,$C$3,$C$2,$C$5),1,1)/24","v":"09:00:00"},{"$f":"INDEX(heures_limites_cadran($D98,$C$3,$C$2,$C$5),1,2)/24","v":"17:30:00"},{"$f":"INDEX(coordonnées_cadran_plat($D98,$G$10,$C$3,$C$2,$C$5,$C$6,0,0,$C$4),1,1)","v":15702.712729409131},{"$f":"INDEX(coordonnées_cadran_plat($D98,$G$10,$C$3,$C$2,$C$5,$C$6,0,0,$C$4),1,2)","v":-26493.502662899027},{"$f":"INDEX(coordonnées_cadran_plat($D98,I$10,$C$3,$C$2,$C$5,$C$6,0,0,$C$4),1,1)","v":2112.5581376399182},{"$f":"INDEX(coordonnées_cadran_plat($D98,I$10,$C$3,$C$2,$C$5,$C$6,0,0,$C$4),1,2)","v":-2393.9931684914914},{"$f":"INDEX(coordonnées_cadran_plat($D98,K$10,$C$3,$C$2,$C$5,$C$6,0,0,$C$4),1,1)","v":1446.9553763018389},{"$f":"INDEX(coordonnées_cadran_plat($D98,K$10,$C$3,$C$2,$C$5,$C$6,0,0,$C$4),1,2)","v":-1068.3400741875516},{"$f":"INDEX(coordonnées_cadran_plat($D98,M$10,$C$3,$C$2,$C$5,$C$6,0,0,$C$4),1,1)","v":1243.6679401543111},{"$f":"INDEX(coordonnées_cadran_plat($D98,M$10,$C$3,$C$2,$C$5,$C$6,0,0,$C$4),1,2)","v":-523.11245977940575},{"$f":"INDEX(coordonnées_cadran_plat($D98,O$10,$C$3,$C$2,$C$5,$C$6,0,0,$C$4),1,1)","v":1179.7585072091442},{"$f":"INDEX(coordonnées_cadran_plat($D98,O$10,$C$3,$C$2,$C$5,$C$6,0,0,$C$4),1,2)","v":-165.61337513137744},{"$f":"INDEX(coordonnées_cadran_plat($D98,Q$10,$C$3,$C$2,$C$5,$C$6,0,0,$C$4),1,1)","v":1197.606648842697},{"$f":"INDEX(coordonnées_cadran_plat($D98,Q$10,$C$3,$C$2,$C$5,$C$6,0,0,$C$4),1,2)","v":152.00230662087847},{"$f":"INDEX(coordonnées_cadran_plat($D98,S$10,$C$3,$C$2,$C$5,$C$6,0,0,$C$4),1,1)","v":1305.5899418640765},{"$f":"INDEX(coordonnées_cadran_plat($D98,S$10,$C$3,$C$2,$C$5,$C$6,0,0,$C$4),1,2)","v":524.07381341667281},{"$f":"INDEX(coordonnées_cadran_plat($D98,U$10,$C$3,$C$2,$C$5,$C$6,0,0,$C$4),1,1)","v":1595.1436183735816},{"$f":"INDEX(coordonnées_cadran_plat($D98,U$10,$C$3,$C$2,$C$5,$C$6,0,0,$C$4),1,2)","v":1125.8881576880397},{"$f":"INDEX(coordonnées_cadran_plat($D98,W$10,$C$3,$C$2,$C$5,$C$6,0,0,$C$4),1,1)","v":2611.0105273706122},{"$f":"INDEX(coordonnées_cadran_plat($D98,W$10,$C$3,$C$2,$C$5,$C$6,0,0,$C$4),1,2)","v":2806.3767152044848}]
[null,7,7,"2010-07-07",{"$f":"INDEX(heures_limites_cadran($D99,$C$3,$C$2,$C$5),1,1)/24","v":"09:00:00"},{"$f":"INDEX(heures_limites_cadran($D99,$C$3,$C$2,$C$5),1,2)/24","v":"17:30:00"},{"$f":"INDEX(coordonnées_cadran_plat($D99,$G$10,$C$3,$C$2,$C$5,$C$6,0,0,$C$4),1,1)","v":14914.027807999748},{"$f":"INDEX(coordonnées_cadran_plat($D99,$G$10,$C$3,$C$2,$C$5,$C$6,0,0,$C$4),1,2)","v":-25261.507836078054},{"$f":"INDEX(coordonnées_cadran_plat($D99,I$10,$C$3,$C$2,$C$5,$C$6,0,0,$C$4),1,1)","v":2094.9995384800463},{"$f":"INDEX(coordonnées_cadran_plat($D99,I$10,$C$3,$C$2,$C$5,$C$6,0,0,$C$4),1,2)","v":-2381.8736329371955},{"$f":"INDEX(coordonnées_cadran_plat($D99,K$10,$C$3,$C$2,$C$5,$C$6,0,0,$C$4),1,1)","v":1438.5563783795681},{"$f":"INDEX(coordonnées_cadran_plat($D99,K$10,$C$3,$C$2,$C$5,$C$6,0,0,$C$4),1,2)","v":-1065.4391559899138},{"$f":"INDEX(coordonnées_cadran_plat($D99,M$10,$C$3,$C$2,$C$5,$C$6,0,0,$C$4),1,1)","v":1237.4771716838097},{"$f":"INDEX(coordonnées_cadran_plat($D99,M$10,$C$3,$C$2,$C$5,$C$6,0,0,$C$4),1,2)","v":-522.32834317847869},{"$f":"INDEX(coordonnées_cadran_plat($D99,O$10,$C$3,$C$2,$C$5,$C$6,0,0,$C$4),1,1)","v":1174.1429977574035},{"$f":"INDEX(coordonnées_cadran_plat($D99,O$10,$C$3,$C$2,$C$5,$C$6,0,0,$C$4),1,2)","v":-165.89791663092046},{"$f":"INDEX(coordonnées_cadran_plat($D99,Q$10,$C$3,$C$2,$C$5,$C$6,0,0,$C$4),1,1)","v":1191.6489212312815},{"$f":"INDEX(coordonnées_cadran_plat($D99,Q$10,$C$3,$C$2,$C$5,$C$6,0,0,$C$4),1,2)","v":150.68799493155731},{"$f":"INDEX(coordonnées_cadran_plat($D99,S$10,$C$3,$C$2,$C$5,$C$6,0,0,$C$4),1,1)","v":1298.1109639457559},{"$f":"INDEX(coordonnées_cadran_plat($D99,S$10,$C$3,$C$2,$C$5,$C$6,0,0,$C$4),1,2)","v":521.02825798332913},{"$f":"INDEX(coordonnées_cadran_plat($D99,U$10,$C$3,$C$2,$C$5,$C$6,0,0,$C$4),1,1)","v":1583.0305230847691},{"$f":"INDEX(coordonnées_cadran_plat($D99,U$10,$C$3,$C$2,$C$5,$C$6,0,0,$C$4),1,2)","v":1118.124828963264},{"$f":"INDEX(coordonnées_cadran_plat($D99,W$10,$C$3,$C$2,$C$5,$C$6,0,0,$C$4),1,1)","v":2575.0270225383115},{"$f":"INDEX(coordonnées_cadran_plat($D99,W$10,$C$3,$C$2,$C$5,$C$6,0,0,$C$4),1,2)","v":2771.0542384781247}]
[null,8,7,"2010-07-08",{"$f":"INDEX(heures_limites_cadran($D100,$C$3,$C$2,$C$5),1,1)/24","v":"09:00:00"},{"$f":"INDEX(heures_limites_cadran($D100,$C$3,$C$2,$C$5),1,2)/24","v":"17:30:00"},{"$f":"INDEX(coordonnées_cadran_plat($D100,$G$10,$C$3,$C$2,$C$5,$C$6,0,0,$C$4),1,1)","v":14123.209611023809},{"$f":"INDEX(coordonnées_cadran_plat($D100,$G$10,$C$3,$C$2,$C$5,$C$6,0,0,$C$4),1,2)","v":-24019.216457582203},{"$f":"INDEX(coordonnées_cadran_plat($D100,I$10,$C$3,$C$2,$C$5,$C$6,0,0,$C$4),1,1)","v":2076.243040079768},{"$f":"INDEX(coordonnées_cadran_plat($D100,I$10,$C$3,$C$2,$C$5,$C$6,0,0,$C$4),1,2)","v":-2368.5128164782336},{"$f":"INDEX(coordonnées_cadran_plat($D100,K$10,$C$3,$C$2,$C$5,$C$6,0,0,$C$4),1,1)","v":1429.6269246192485},{"$f":"INDEX(coordonnées_cadran_plat($D100,K$10,$C$3,$C$2,$C$5,$C$6,0,0,$C$4),1,2)","v":-1062.1843452640287},{"$f":"INDEX(coordonnées_cadran_plat($D100,M$10,$C$3,$C$2,$C$5,$C$6,0,0,$C$4),1,1)","v":1230.9234030304813},{"$f":"INDEX(coordonnées_cadran_plat($D100,M$10,$C$3,$C$2,$C$5,$C$6,0,0,$C$4),1,2)","v":-521.39036967314098},{"$f":"INDEX(coordonnées_cadran_plat($D100,O$10,$C$3,$C$2,$C$5,$C$6,0,0,$C$4),1,1)","v":1168.2216663825664},{"$f":"INDEX(coordonnées_cadran_plat($D100,O$10,$C$3,$C$2,$C$5,$C$6,0,0,$C$4),1,2)","v":-166.11102715224399},{"$f":"INDEX(coordonnées_cadran_plat($D100,Q$10,$C$3,$C$2,$C$5,$C$6,0,0,$C$4),1,1)","v":1185.3930004885788},{"$f":"INDEX(coordonnées_cadran_plat($D100,Q$10,$C$3,$C$2,$C$5,$C$6,0,0,$C$4),1,2)","v":149.39253413568196},{"$f":"INDEX(coordonnées_cadran_plat($D100,S$10,$C$3,$C$2,$C$5,$C$6,0,0,$C$4),1,1)","v":1290.2981362867251},{"$f":"INDEX(coordonnées_cadran_plat($D100,S$10,$C$3,$C$2,$C$5,$C$6,0,0,$C$4),1,2)","v":517.94610262342314},{"$f":"INDEX(coordonnées_cadran_plat($D100,U$10,$C$3,$C$2,$C$5,$C$6,0,0,$C$4),1,1)","v":1570.4753107745105},{"$f":"INDEX(coordonnées_cadran_plat($D100,U$10,$C$3,$C$2,$C$5,$C$6,0,0,$C$4),1,2)","v":1110.2259517852822},{"$f":"INDEX(coordonnées_cadran_plat($D100,W$10,$C$3,$C$2,$C$5,$C$6,0,0,$C$4),1,1)","v":2538.3911387024054},{"$f":"INDEX(coordonnées_cadran_plat($D100,W$10,$C$3,$C$2,$C$5,$C$6,0,0,$C$4),1,2)","v":2735.4314328045498}]
[null,9,7,"2010-07-09",{"$f":"INDEX(heures_limites_cadran($D101,$C$3,$C$2,$C$5),1,1)/24","v":"09:00:00"},{"$f":"INDEX(heures_limites_cadran($D101,$C$3,$C$2,$C$5),1,2)/24","v":"17:30:00"},{"$f":"INDEX(coordonnées_cadran_plat($D101,$G$10,$C$3,$C$2,$C$5,$C$6,0,0,$C$4),1,1)","v":13341.856717233441},{"$f":"INDEX(coordonnées_cadran_plat($D101,$G$10,$C$3,$C$2,$C$5,$C$6,0,0,$C$4),1,2)","v":-22785.749028227183},{"$f":"INDEX(coordonnées_cadran_plat($D101,I$10,$C$3,$C$2,$C$5,$C$6,0,0,$C$4),1,1)","v":2056.3494517513773},{"$f":"INDEX(coordonnées_cadran_plat($D101,I$10,$C$3,$C$2,$C$5,$C$6,0,0,$C$4),1,2)","v":-2353.9562110293268},{"$f":"INDEX(coordonnées_cadran_plat($D101,K$10,$C$3,$C$2,$C$5,$C$6,0,0,$C$4),1,1)","v":1420.1862244481335},{"$f":"INDEX(coordonnées_cadran_plat($D101,K$10,$C$3,$C$2,$C$5,$C$6,0,0,$C$4),1,2)","v":-1058.5824744945844},{"$f":"INDEX(coordonnées_cadran_plat($D101,M$10,$C$3,$C$2,$C$5,$C$6,0,0,$C$4),1,1)","v":1224.0186182883613},{"$f":"INDEX(coordonnées_cadran_plat($D101,M$10,$C$3,$C$2,$C$5,$C$6,0,0,$C$4),1,2)","v":-520.29997029212223},{"$f":"INDEX(coordonnées_cadran_plat($D101,O$10,$C$3,$C$2,$C$5,$C$6,0,0,$C$4),1,1)","v":1162.0047455906283},{"$f":"INDEX(coordonnées_cadran_plat($D101,O$10,$C$3,$C$2,$C$5,$C$6,0,0,$C$4),1,2)","v":-166.25209883633161},{"$f":"INDEX(coordonnées_cadran_plat($D101,Q$10,$C$3,$C$2,$C$5,$C$6,0,0,$C$4),1,1)","v":1178.849802765307},{"$f":"INDEX(coordonnées_cadran_plat($D101,Q$10,$C$3,$C$2,$C$5,$C$6,0,0,$C$4),1,2)","v":148.11833870289652},{"$f":"INDEX(coordonnées_cadran_plat($D101,S$10,$C$3,$C$2,$C$5,$C$6,0,0,$C$4),1,1)","v":1282.1660646270784},{"$f":"INDEX(coordonnées_cadran_plat($D101,S$10,$C$3,$C$2,$C$5,$C$6,0,0,$C$4),1,2)","v":514.83305821559441},{"$f":"INDEX(coordonnées_cadran_plat($D101,U$10,$C$3,$C$2,$C$5,$C$6,0,0,$C$4),1,1)","v":1557.5050890422019},{"$f":"INDEX(coordonnées_cadran_plat($D101,U$10,$C$3,$C$2,$C$5,$C$6,0,0,$C$4),1,2)","v":1102.2077030601513},{"$f":"INDEX(coordonnées_cadran_plat($D101,W$10,$C$3,$C$2,$C$5,$C$6,0,0,$C$4),1,1)","v":2501.2047223497179},{"$f":"INDEX(coordonnées_cadran_plat($D101,W$10,$C$3,$C$2,$C$5,$C$6,0,0,$C$4),1,2)","v":2699.5991640101702}]
[null,10,7,"2010-07-10",{"$f":"INDEX(heures_limites_cadran($D102,$C$3,$C$2,$C$5),1,1)/24","v":"09:00:00"},{"$f":"INDEX(heures_limites_cadran($D102,$C$3,$C$2,$C$5),1,2)/24","v":"17:30:00"},{"$f":"INDEX(coordonnées_cadran_plat($D102,$G$10,$C$3,$C$2,$C$5,$C$6,0,0,$C$4),1,1)","v":12579.178162915285},{"$f":"INDEX(coordonnées_cadran_plat($D102,$G$10,$C$3,$C$2,$C$5,$C$6,0,0,$C$4),1,2)","v":-21576.471647256734},{"$f":"INDEX(coordonnées_cadran_plat($D102,I$10,$C$3,$C$2,$C$5,$C$6,0,0,$C$4),1,1)","v":2035.382514613498},{"$f":"INDEX(coordonnées_cadran_plat($D102,I$10,$C$3,$C$2,$C$5,$C$6,0,0,$C$4),1,2)","v":-2338.2529759241534},{"$f":"INDEX(coordonnées_cadran_plat($D102,K$10,$C$3,$C$2,$C$5,$C$6,0,0,$C$4),1,1)","v":1410.2544054239117},{"$f":"INDEX(coordonnées_cadran_plat($D102,K$10,$C$3,$C$2,$C$5,$C$6,0,0,$C$4),1,2)","v":-1054.6411643054103},{"$f":"INDEX(coordonnées_cadran_plat($D102,M$10,$C$3,$C$2,$C$5,$C$6,0,0,$C$4),1,1)","v":1216.775287139408},{"$f":"INDEX(coordonnées_cadran_plat($D102,M$10,$C$3,$C$2,$C$5,$C$6,0,0,$C$4),1,2)","v":-519.0588867190005},{"$f":"INDEX(coordonnées_cadran_plat($D102,O$10,$C$3,$C$2,$C$5,$C$6,0,0,$C$4),1,1)","v":1155.5027963585669},{"$f":"INDEX(coordonnées_cadran_plat($D102,O$10,$C$3,$C$2,$C$5,$C$6,0,0,$C$4),1,2)","v":-166.32069012600783},{"$f":"INDEX(coordonnées_cadran_plat($D102,Q$10,$C$3,$C$2,$C$5,$C$6,0,0,$C$4),1,1)","v":1172.0304941304796},{"$f":"INDEX(coordonnées_cadran_plat($D102,Q$10,$C$3,$C$2,$C$5,$C$6,0,0,$C$4),1,2)","v":146.86770692557374},{"$f":"INDEX(coordonnées_cadran_plat($D102,S$10,$C$3,$C$2,$C$5,$C$6,0,0,$C$4),1,1)","v":1273.7295276995885},{"$f":"INDEX(coordonnées_cadran_plat($D102,S$10,$C$3,$C$2,$C$5,$C$6,0,0,$C$4),1,2)","v":511.6947037573924},{"$f":"INDEX(coordonnées_cadran_plat($D102,U$10,$C$3,$C$2,$C$5,$C$6,0,0,$C$4),1,1)","v":1544.1468398585239},{"$f":"INDEX(coordonnées_cadran_plat($D102,U$10,$C$3,$C$2,$C$5,$C$6,0,0,$C$4),1,2)","v":1094.0858631314879},{"$f":"INDEX(coordonnées_cadran_plat($D102,W$10,$C$3,$C$2,$C$5,$C$6,0,0,$C$4),1,1)","v":2463.5648535560663},{"$f":"INDEX(coordonnées_cadran_plat($D102,W$10,$C$3,$C$2,$C$5,$C$6,0,0,$C$4),1,2)","v":2663.6429332668527}]
[null,11,7,"2010-07-11",{"$f":"INDEX(heures_limites_cadran($D103,$C$3,$C$2,$C$5),1,1)/24","v":"09:00:00"},{"$f":"INDEX(heures_limites_cadran($D103,$C$3,$C$2,$C$5),1,2)/24","v":"17:30:00"},{"$f":"INDEX(coordonnées_cadran_plat($D103,$G$10,$C$3,$C$2,$C$5,$C$6,0,0,$C$4),1,1)","v":11842.145980943073},{"$f":"INDEX(coordonnées_cadran_plat($D103,$G$10,$C$3,$C$2,$C$5,$C$6,0,0,$C$4),1,2)","v":-20403.197467268648},{"$f":"INDEX(coordonnées_cadran_plat($D103,I$10,$C$3,$C$2,$C$5,$C$6,0,0,$C$4),1,1)","v":2013.4083835626536},{"$f":"INDEX(coordonnées_cadran_plat($D103,I$10,$C$3,$C$2,$C$5,$C$6,0,0,$C$4),1,2)","v":-2321.4554942925797},{"$f":"INDEX(coordonnées_cadran_plat($D103,K$10,$C$3,$C$2,$C$5,$C$6,0,0,$C$4),1,1)","v":1399.8524042386259},{"$f":"INDEX(coordonnées_cadran_plat($D103,K$10,$C$3,$C$2,$C$5,$C$6,0,0,$C$4),1,2)","v":-1050.3687726143285},{"$f":"INDEX(coordonnées_cadran_plat($D103,M$10,$C$3,$C$2,$C$5,$C$6,0,0,$C$4),1,1)","v":1209.2063088982243},{"$f":"INDEX(coordonnées_cadran_plat($D103,M$10,$C$3,$C$2,$C$5,$C$6,0,0,$C$4),1,2)","v":-517.66915845525909},{"$f":"INDEX(coordonnées_cadran_plat($D103,O$10,$C$3,$C$2,$C$5,$C$6,0,0,$C$4),1,1)","v":1148.7266650034255},{"$f":"INDEX(coordonnées_cadran_plat($D103,O$10,$C$3,$C$2,$C$5,$C$6,0,0,$C$4),1,2)","v":-166.31652353392084},{"$f":"INDEX(coordonnées_cadran_plat($D103,Q$10,$C$3,$C$2,$C$5,$C$6,0,0,$C$4),1,1)","v":1164.9464468768901},{"$f":"INDEX(coordonnées_cadran_plat($D103,Q$10,$C$3,$C$2,$C$5,$C$6,0,0,$C$4),1,2)","v":145.64281630783859},{"$f":"INDEX(coordonnées_cadran_plat($D103,S$10,$C$3,$C$2,$C$5,$C$6,0,0,$C$4),1,1)","v":1265.0034199527302},{"$f":"INDEX(coordonnées_cadran_plat($D103,S$10,$C$3,$C$2,$C$5,$C$6,0,0,$C$4),1,2)","v":508.53647116898605},{"$f":"INDEX(coordonnées_cadran_plat($D103,U$10,$C$3,$C$2,$C$5,$C$6,0,0,$C$4),1,1)","v":1530.4273152361307},{"$f":"INDEX(coordonnées_cadran_plat($D103,U$10,$C$3,$C$2,$C$5,$C$6,0,0,$C$4),1,2)","v":1085.8757692714862},{"$f":"INDEX(coordonnées_cadran_plat($D103,W$10,$C$3,$C$2,$C$5,$C$6,0,0,$C$4),1,1)","v":2425.5636148121512},{"$f":"INDEX(coordonnées_cadran_plat($D103,W$10,$C$3,$C$2,$C$5,$C$6,0,0,$C$4),1,2)","v":2627.6427661336716}]
[null,12,7,"2010-07-12",{"$f":"INDEX(heures_limites_cadran($D104,$C$3,$C$2,$C$5),1,1)/24","v":"09:00:00"},{"$f":"INDEX(heures_limites_cadran($D104,$C$3,$C$2,$C$5),1,2)/24","v":"17:30:00"},{"$f":"INDEX(coordonnées_cadran_plat($D104,$G$10,$C$3,$C$2,$C$5,$C$6,0,0,$C$4),1,1)","v":11135.741556301071},{"$f":"INDEX(coordonnées_cadran_plat($D104,$G$10,$C$3,$C$2,$C$5,$C$6,0,0,$C$4),1,2)","v":-19274.548200981179},{"$f":"INDEX(coordonnées_cadran_plat($D104,I$10,$C$3,$C$2,$C$5,$C$6,0,0,$C$4),1,1)","v":1990.4951067078255},{"$f":"INDEX(coordonnées_cadran_plat($D104,I$10,$C$3,$C$2,$C$5,$C$6,0,0,$C$4),1,2)","v":-2303.6189158304574},{"$f":"INDEX(coordonnées_cadran_plat($D104,K$10,$C$3,$C$2,$C$5,$C$6,0,0,$C$4),1,1)","v":1389.0018558456497},{"$f":"INDEX(coordonnées_cadran_plat($D104,K$10,$C$3,$C$2,$C$5,$C$6,0,0,$C$4),1,2)","v":-1045.7743405908843},{"$f":"INDEX(coordonnées_cadran_plat($D104,M$10,$C$3,$C$2,$C$5,$C$6,0,0,$C$4),1,1)","v":1201.3249559918208},{"$f":"INDEX(coordonnées_cadran_plat($D104,M$10,$C$3,$C$2,$C$5,$C$6,0,0,$C$4),1,2)","v":-516.13310879979747},{"$f":"INDEX(coordonnées_cadran_plat($D104,O$10,$C$3,$C$2,$C$5,$C$6,0,0,$C$4),1,1)","v":1141.6874401301302},{"$f":"INDEX(coordonnées_cadran_plat($D104,O$10,$C$3,$C$2,$C$5,$C$6,0,0,$C$4),1,2)","v":-166.23948269697144},{"$f":"INDEX(coordonnées_cadran_plat($D104,Q$10,$C$3,$C$2,$C$5,$C$6,0,0,$C$4),1,1)","v":1157.6091965656228},{"$f":"INDEX(coordonnées_cadran_plat($D104,Q$10,$C$3,$C$2,$C$5,$C$6,0,0,$C$4),1,2)","v":144.44571970330318},{"$f":"INDEX(coordonnées_cadran_plat($D104,S$10,$C$3,$C$2,$C$5,$C$6,0,0,$C$4),1,1)","v":1256.0026964354463},{"$f":"INDEX(coordonnées_cadran_plat($D104,S$10,$C$3,$C$2,$C$5,$C$6,0,0,$C$4),1,2)","v":505.36363155630647},{"$f":"INDEX(coordonnées_cadran_plat($D104,U$10,$C$3,$C$2,$C$5,$C$6,0,0,$C$4),1,1)","v":1516.372940865931},{"$f":"INDEX(coordonnées_cadran_plat($D104,U$10,$C$3,$C$2,$C$5,$C$6,0,0,$C$4),1,2)","v":1077.5922747590616},{"$f":"INDEX(coordonnées_cadran_plat($D104,W$10,$C$3,$C$2,$C$5,$C$6,0,0,$C$4),1,1)","v":2387.2879313739527},{"$f":"INDEX(coordonnées_cadran_plat($D104,W$10,$C$3,$C$2,$C$5,$C$6,0,0,$C$4),1,2)","v":2591.6731653778429}]
[null,13,7,"2010-07-13",{"$f":"INDEX(heures_limites_cadran($D105,$C$3,$C$2,$C$5),1,1)/24","v":"09:00:00"},{"$f":"INDEX(heures_limites_cadran($D105,$C$3,$C$2,$C$5),1,2)/24","v":"17:30:00"},{"$f":"INDEX(coordonnées_cadran_plat($D105,$G$10,$C$3,$C$2,$C$5,$C$6,0,0,$C$4),1,1)","v":10463.246916282849},{"$f":"INDEX(coordonnées_cadran_plat($D105,$G$10,$C$3,$C$2,$C$5,$C$6,0,0,$C$4),1,2)","v":-18196.39697909234},{"$f":"INDEX(coordonnées_cadran_plat($D105,I$10,$C$3,$C$2,$C$5,$C$6,0,0,$C$4),1,1)","v":1966.7121095089383},{"$f":"INDEX(coordonnées_cadran_plat($D105,I$10,$C$3,$C$2,$C$5,$C$6,0,0,$C$4),1,2)","v":-2284.8006928881196},{"$f":"INDEX(coordonnées_cadran_plat($D105,K$10,$C$3,$C$2,$C$5,$C$6,0,0,$C$4),1,1)","v":1377.7249817696575},{"$f":"INDEX(coordonnées_cadran_plat($D105,K$10,$C$3,$C$2,$C$5,$C$6,0,0,$C$4),1,2)","v":-1040.8675360171567},{"$f":"INDEX(coordonnées_cadran_plat($D105,M$10,$C$3,$C$2,$C$5,$C$6,0,0,$C$4),1,1)","v":1193.1448173109061},{"$f":"INDEX(coordonnées_cadran_plat($D105,M$10,$C$3,$C$2,$C$5,$C$6,0,0,$C$4),1,2)","v":-514.4533297927187},{"$f":"INDEX(coordonnées_cadran_plat($D105,O$10,$C$3,$C$2,$C$5,$C$6,0,0,$C$4),1,1)","v":1134.3964099448569},{"$f":"INDEX(coordonnées_cadran_plat($D105,O$10,$C$3,$C$2,$C$5,$C$6,0,0,$C$4),1,2)","v":-166.0896087662133},{"$f":"INDEX(coordonnées_cadran_plat($D105,Q$10,$C$3,$C$2,$C$5,$C$6,0,0,$C$4),1,1)","v":1150.0304000612671},{"$f":"INDEX(coordonnées_cadran_plat($D105,Q$10,$C$3,$C$2,$C$5,$C$6,0,0,$C$4),1,2)","v":143.27834219198147},{"$f":"INDEX(coordonnées_cadran_plat($D105,S$10,$C$3,$C$2,$C$5,$C$6,0,0,$C$4),1,1)","v":1246.7423201133179},{"$f":"INDEX(coordonnées_cadran_plat($D105,S$10,$C$3,$C$2,$C$5,$C$6,0,0,$C$4),1,2)","v":502.18128294833622},{"$f":"INDEX(coordonnées_cadran_plat($D105,U$10,$C$3,$C$2,$C$5,$C$6,0,0,$C$4),1,1)","v":1502.0097279504851},{"$f":"INDEX(coordonnées_cadran_plat($D105,U$10,$C$3,$C$2,$C$5,$C$6,0,0,$C$4),1,2)","v":1069.2497134797732},{"$f":"INDEX(coordonnées_cadran_plat($D105,W$10,$C$3,$C$2,$C$5,$C$6,0,0,$C$4),1,1)","v":2348.819476817469},{"$f":"INDEX(coordonnées_cadran_plat($D105,W$10,$C$3,$C$2,$C$5,$C$6,0,0,$C$4),1,2)","v":2555.803120679444}]
[null,14,7,"2010-07-14",{"$f":"INDEX(heures_limites_cadran($D106,$C$3,$C$2,$C$5),1,1)/24","v":"09:00:00"},{"$f":"INDEX(heures_limites_cadran($D106,$C$3,$C$2,$C$5),1,2)/24","v":"18:00:00"},{"$f":"INDEX(coordonnées_cadran_plat($D106,$G$10,$C$3,$C$2,$C$5,$C$6,0,0,$C$4),1,1)","v":9826.5446790109709},{"$f":"INDEX(coordonnées_cadran_plat($D106,$G$10,$C$3,$C$2,$C$5,$C$6,0,0,$C$4),1,2)","v":-17172.333248992709},{"$f":"INDEX(coordonnées_cadran_plat($D106,I$10,$C$3,$C$2,$C$5,$C$6,0,0,$C$4),1,1)","v":1942.1296903545065},{"$f":"INDEX(coordonnées_cadran_plat($D106,I$10,$C$3,$C$2,$C$5,$C$6,0,0,$C$4),1,2)","v":-2265.0601165261919},{"$f":"INDEX(coordonnées_cadran_plat($D106,K$10,$C$3,$C$2,$C$5,$C$6,0,0,$C$4),1,1)","v":1366.0444786243199},{"$f":"INDEX(coordonnées_cadran_plat($D106,K$10,$C$3,$C$2,$C$5,$C$6,0,0,$C$4),1,2)","v":-1035.6585946598188},{"$f":"INDEX(coordonnées_cadran_plat($D106,M$10,$C$3,$C$2,$C$5,$C$6,0,0,$C$4),1,1)","v":1184.6797418517806},{"$f":"INDEX(coordonnées_cadran_plat($D106,M$10,$C$3,$C$2,$C$5,$C$6,0,0,$C$4),1,2)","v":-512.63266627335076},{"$f":"INDEX(coordonnées_cadran_plat($D106,O$10,$C$3,$C$2,$C$5,$C$6,0,0,$C$4),1,1)","v":1126.8650202045089},{"$f":"INDEX(coordonnées_cadran_plat($D106,O$10,$C$3,$C$2,$C$5,$C$6,0,0,$C$4),1,2)","v":-165.86709618456322},{"$f":"INDEX(coordonnées_cadran_plat($D106,Q$10,$C$3,$C$2,$C$5,$C$6,0,0,$C$4),1,1)","v":1142.2217947873312},{"$f":"INDEX(coordonnées_cadran_plat($D106,Q$10,$C$3,$C$2,$C$5,$C$6,0,0,$C$4),1,2)","v":142.14247868095919},{"$f":"INDEX(coordonnées_cadran_plat($D106,S$10,$C$3,$C$2,$C$5,$C$6,0,0,$C$4),1,1)","v":1237.2372118461933},{"$f":"INDEX(coordonnées_cadran_plat($D106,S$10,$C$3,$C$2,$C$5,$C$6,0,0,$C$4),1,2)","v":498.99433951010042},{"$f":"INDEX(coordonnées_cadran_plat($D106,U$10,$C$3,$C$2,$C$5,$C$6,0,0,$C$4),1,1)","v":1487.363193356209},{"$f":"INDEX(coordonnées_cadran_plat($D106,U$10,$C$3,$C$2,$C$5,$C$6,0,0,$C$4),1,2)","v":1060.861869927918},{"$f":"INDEX(coordonnées_cadran_plat($D106,W$10,$C$3,$C$2,$C$5,$C$6,0,0,$C$4),1,1)","v":2310.2346372014053},{"$f":"INDEX(coordonnées_cadran_plat($D106,W$10,$C$3,$C$2,$C$5,$C$6,0,0,$C$4),1,2)","v":2520.0961682693096}]
[null,15,7,"2010-07-15",{"$f":"INDEX(heures_limites_cadran($D107,$C$3,$C$2,$C$5),1,1)/24","v":"09:00:00"},{"$f":"INDEX(heures_limites_cadran($D107,$C$3,$C$2,$C$5),1,2)/24","v":"18:00:00"},{"$f":"INDEX(coordonnées_cadran_plat($D107,$G$10,$C$3,$C$2,$C$5,$C$6,0,0,$C$4),1,1)","v":9226.4025317509277},{"$f":"INDEX(coordonnées_cadran_plat($D107,$G$10,$C$3,$C$2,$C$5,$C$6,0,0,$C$4),1,2)","v":-16204.109518080586},{"$f":"INDEX(coordonnées_cadran_plat($D107,I$10,$C$3,$C$2,$C$5,$C$6,0,0,$C$4),1,1)","v":1916.8185336765853},{"$f":"INDEX(coordonnées_cadran_plat($D107,I$10,$C$3,$C$2,$C$5,$C$6,0,0,$C$4),1,2)","v":-2244.4578587554051},{"$f":"INDEX(coordonnées_cadran_plat($D107,K$10,$C$3,$C$2,$C$5,$C$6,0,0,$C$4),1,1)","v":1353.983407811198},{"$f":"INDEX(coordonnées_cadran_plat($D107,K$10,$C$3,$C$2,$C$5,$C$6,0,0,$C$4),1,2)","v":-1030.1582602528013},{"$f":"INDEX(coordonnées_cadran_plat($D107,M$10,$C$3,$C$2,$C$5,$C$6,0,0,$C$4),1,1)","v":1175.9437830461115},{"$f":"INDEX(coordonnées_cadran_plat($D107,M$10,$C$3,$C$2,$C$5,$C$6,0,0,$C$4),1,2)","v":-510.67419920426238},{"$f":"INDEX(coordonnées_cadran_plat($D107,O$10,$C$3,$C$2,$C$5,$C$6,0,0,$C$4),1,1)","v":1119.1048330538199},{"$f":"INDEX(coordonnées_cadran_plat($D107,O$10,$C$3,$C$2,$C$5,$C$6,0,0,$C$4),1,2)","v":-165.57228790736886},{"$f":"INDEX(coordonnées_cadran_plat($D107,Q$10,$C$3,$C$2,$C$5,$C$6,0,0,$C$4),1,1)","v":1134.1951594077416},{"$f":"INDEX(coordonnées_cadran_plat($D107,Q$10,$C$3,$C$2,$C$5,$C$6,0,0,$C$4),1,2)","v":141.03979220791348},{"$f":"INDEX(coordonnées_cadran_plat($D107,S$10,$C$3,$C$2,$C$5,$C$6,0,0,$C$4),1,1)","v":1227.5022032160016},{"$f":"INDEX(coordonnées_cadran_plat($D107,S$10,$C$3,$C$2,$C$5,$C$6,0,0,$C$4),1,2)","v":495.80752221622282},{"$f":"INDEX(coordonnées_cadran_plat($D107,U$10,$C$3,$C$2,$C$5,$C$6,0,0,$C$4),1,1)","v":1472.4582881044689},{"$f":"INDEX(coordonnées_cadran_plat($D107,U$10,$C$3,$C$2,$C$5,$C$6,0,0,$C$4),1,2)","v":1052.4419544425887},{"$f":"INDEX(coordonnées_cadran_plat($D107,W$10,$C$3,$C$2,$C$5,$C$6,0,0,$C$4),1,1)","v":2271.6045271535149},{"$f":"INDEX(coordonnées_cadran_plat($D107,W$10,$C$3,$C$2,$C$5,$C$6,0,0,$C$4),1,2)","v":2484.610493658437}]
[null,16,7,"2010-07-16",{"$f":"INDEX(heures_limites_cadran($D108,$C$3,$C$2,$C$5),1,1)/24","v":"09:00:00"},{"$f":"INDEX(heures_limites_cadran($D108,$C$3,$C$2,$C$5),1,2)/24","v":"18:00:00"},{"$f":"INDEX(coordonnées_cadran_plat($D108,$G$10,$C$3,$C$2,$C$5,$C$6,0,0,$C$4),1,1)","v":8662.7282479575315},{"$f":"INDEX(coordonnées_cadran_plat($D108,$G$10,$C$3,$C$2,$C$5,$C$6,0,0,$C$4),1,2)","v":-15292.045952676763},{"$f":"INDEX(coordonnées_cadran_plat($D108,I$10,$C$3,$C$2,$C$5,$C$6,0,0,$C$4),1,1)","v":1890.8492459821755},{"$f":"INDEX(coordonnées_cadran_plat($D108,I$10,$C$3,$C$2,$C$5,$C$6,0,0,$C$4),1,2)","v":-2223.055526652864},{"$f":"INDEX(coordonnées_cadran_plat($D108,K$10,$C$3,$C$2,$C$5,$C$6,0,0,$C$4),1,1)","v":1341.5650873124271},{"$f":"INDEX(coordonnées_cadran_plat($D108,K$10,$C$3,$C$2,$C$5,$C$6,0,0,$C$4),1,2)","v":-1024.3777236797696},{"$f":"INDEX(coordonnées_cadran_plat($D108,M$10,$C$3,$C$2,$C$5,$C$6,0,0,$C$4),1,1)","v":1166.9511441506165},{"$f":"INDEX(coordonnées_cadran_plat($D108,M$10,$C$3,$C$2,$C$5,$C$6,0,0,$C$4),1,2)","v":-508.58122841385637},{"$f":"INDEX(coordonnées_cadran_plat($D108,O$10,$C$3,$C$2,$C$5,$C$6,0,0,$C$4),1,1)","v":1111.1274869810018},{"$f":"INDEX(coordonnées_cadran_plat($D108,O$10,$C$3,$C$2,$C$5,$C$6,0,0,$C$4),1,2)","v":-165.20567012329622},{"$f":"INDEX(coordonnées_cadran_plat($D108,Q$10,$C$3,$C$2,$C$5,$C$6,0,0,$C$4),1,1)","v":1125.9622761166383},{"$f":"INDEX(coordonnées_cadran_plat($D108,Q$10,$C$3,$C$2,$C$5,$C$6,0,0,$C$4),1,2)","v":139.97181292276505},{"$f":"INDEX(coordonnées_cadran_plat($D108,S$10,$C$3,$C$2,$C$5,$C$6,0,0,$C$4),1,1)","v":1217.5519923554825},{"$f":"INDEX(coordonnées_cadran_plat($D108,S$10,$C$3,$C$2,$C$5,$C$6,0,0,$C$4),1,2)","v":492.62535096053983},{"$f":"INDEX(coordonnées_cadran_plat($D108,U$10,$C$3,$C$2,$C$5,$C$6,0,0,$C$4),1,1)","v":1457.3193341276396},{"$f":"INDEX(coordonnées_cadran_plat($D108,U$10,$C$3,$C$2,$C$5,$C$6,0,0,$C$4),1,2)","v":1044.0025834656087},{"$f":"INDEX(coordonnées_cadran_plat($D108,W$10,$C$3,$C$2,$C$5,$C$6,0,0,$C$4),1,1)","v":2232.9950512610781},{"$f":"INDEX(coordonnées_cadran_plat($D108,W$10,$C$3,$C$2,$C$5,$C$6,0,0,$C$4),1,2)","v":2449.399070848991}]
[null,17,7,{"$f":"DATE($C$7,C109,B109)","v":"2010-07-17"},{"$f":"INDEX(heures_limites_cadran($D109,$C$3,$C$2,$C$5),1,1)/24","v":"09:00:00"},{"$f":"INDEX(heures_limites_cadran($D109,$C$3,$C$2,$C$5),1,2)/24","v":"18:00:00"},{"$f":"INDEX(coordonnées_cadran_plat($D109,$G$10,$C$3,$C$2,$C$5,$C$6,0,0,$C$4),1,1)","v":8134.7888650381583},{"$f":"INDEX(coordonnées_cadran_plat($D109,$G$10,$C$3,$C$2,$C$5,$C$6,0,0,$C$4),1,2)","v":-14435.381190720298},{"$f":"INDEX(coordonnées_cadran_plat($D109,I$10,$C$3,$C$2,$C$5,$C$6,0,0,$C$4),1,1)","v":1864.2919193922405},{"$f":"INDEX(coordonnées_cadran_plat($D109,I$10,$C$3,$C$2,$C$5,$C$6,0,0,$C$4),1,2)","v":-2200.9152334307523},{"$f":"INDEX(coordonnées_cadran_plat($D109,K$10,$C$3,$C$2,$C$5,$C$6,0,0,$C$4),1,1)","v":1328.8129864175128},{"$f":"INDEX(coordonnées_cadran_plat($D109,K$10,$C$3,$C$2,$C$5,$C$6,0,0,$C$4),1,2)","v":-1018.3285619224476},{"$f":"INDEX(coordonnées_cadran_plat($D109,M$10,$C$3,$C$2,$C$5,$C$6,0,0,$C$4),1,1)","v":1157.716125039756},{"$f":"INDEX(coordonnées_cadran_plat($D109,M$10,$C$3,$C$2,$C$5,$C$6,0,0,$C$4),1,2)","v":-506.35725490759268},{"$f":"INDEX(coordonnées_cadran_plat($D109,O$10,$C$3,$C$2,$C$5,$C$6,0,0,$C$4),1,1)","v":1102.9446581010006},{"$f":"INDEX(coordonnées_cadran_plat($D109,O$10,$C$3,$C$2,$C$5,$C$6,0,0,$C$4),1,2)","v":-164.76786653374847},{"$f":"INDEX(coordonnées_cadran_plat($D109,Q$10,$C$3,$C$2,$C$5,$C$6,0,0,$C$4),1,1)","v":1117.5348946931742},{"$f":"INDEX(coordonnées_cadran_plat($D109,Q$10,$C$3,$C$2,$C$5,$C$6,0,0,$C$4),1,2)","v":138.9399377164543},{"$f":"INDEX(coordonnées_cadran_plat($D109,S$10,$C$3,$C$2,$C$5,$C$6,0,0,$C$4),1,1)","v":1207.4011028905281},{"$f":"INDEX(coordonnées_cadran_plat($D109,S$10,$C$3,$C$2,$C$5,$C$6,0,0,$C$4),1,2)","v":489.45213806484895},{"$f":"INDEX(coordonnées_cadran_plat($D109,U$10,$C$3,$C$2,$C$5,$C$6,0,0,$C$4),1,1)","v":1441.969969137298},{"$f":"INDEX(coordonnées_cadran_plat($D109,U$10,$C$3,$C$2,$C$5,$C$6,0,0,$C$4),1,2)","v":1035.5557645787242},{"$f":"INDEX(coordonnées_cadran_plat($D109,W$10,$C$3,$C$2,$C$5,$C$6,0,0,$C$4),1,1)","v":2194.4670043399669},{"$f":"INDEX(coordonnées_cadran_plat($D109,W$10,$C$3,$C$2,$C$5,$C$6,0,0,$C$4),1,2)","v":2414.5098317529469}]
[null,18,7,"2010-07-18",{"$f":"INDEX(heures_limites_cadran($D110,$C$3,$C$2,$C$5),1,1)/24","v":"09:00:00"},{"$f":"INDEX(heures_limites_cadran($D110,$C$3,$C$2,$C$5),1,2)/24","v":"18:00:00"},{"$f":"INDEX(coordonnées_cadran_plat($D110,$G$10,$C$3,$C$2,$C$5,$C$6,0,0,$C$4),1,1)","v":7641.3928503698608},{"$f":"INDEX(coordonnées_cadran_plat($D110,$G$10,$C$3,$C$2,$C$5,$C$6,0,0,$C$4),1,2)","v":-13632.566301830579},{"$f":"INDEX(coordonnées_cadran_plat($D110,I$10,$C$3,$C$2,$C$5,$C$6,0,0,$C$4),1,1)","v":1837.215726454506},{"$f":"INDEX(coordonnées_cadran_plat($D110,I$10,$C$3,$C$2,$C$5,$C$6,0,0,$C$4),1,2)","v":-2178.0991908517381},{"$f":"INDEX(coordonnées_cadran_plat($D110,K$10,$C$3,$C$2,$C$5,$C$6,0,0,$C$4),1,1)","v":1315.7506241442093},{"$f":"INDEX(coordonnées_cadran_plat($D110,K$10,$C$3,$C$2,$C$5,$C$6,0,0,$C$4),1,2)","v":-1012.0226773116924},{"$f":"INDEX(coordonnées_cadran_plat($D110,M$10,$C$3,$C$2,$C$5,$C$6,0,0,$C$4),1,1)","v":1148.2530707136521},{"$f":"INDEX(coordonnées_cadran_plat($D110,M$10,$C$3,$C$2,$C$5,$C$6,0,0,$C$4),1,2)","v":-504.00596289300023},{"$f":"INDEX(coordonnées_cadran_plat($D110,O$10,$C$3,$C$2,$C$5,$C$6,0,0,$C$4),1,1)","v":1094.5680229524082},{"$f":"INDEX(coordonnées_cadran_plat($D110,O$10,$C$3,$C$2,$C$5,$C$6,0,0,$C$4),1,2)","v":-164.25963225042318},{"$f":"INDEX(coordonnées_cadran_plat($D110,Q$10,$C$3,$C$2,$C$5,$C$6,0,0,$C$4),1,1)","v":1108.9246984541498},{"$f":"INDEX(coordonnées_cadran_plat($D110,Q$10,$C$3,$C$2,$C$5,$C$6,0,0,$C$4),1,2)","v":137.94543046420529},{"$f":"INDEX(coordonnées_cadran_plat($D110,S$10,$C$3,$C$2,$C$5,$C$6,0,0,$C$4),1,1)","v":1197.063846071675},{"$f":"INDEX(coordonnées_cadran_plat($D110,S$10,$C$3,$C$2,$C$5,$C$6,0,0,$C$4),1,2)","v":486.29198313871177},{"$f":"INDEX(coordonnées_cadran_plat($D110,U$10,$C$3,$C$2,$C$5,$C$6,0,0,$C$4),1,1)","v":1426.4330993753047},{"$f":"INDEX(coordonnées_cadran_plat($D110,U$10,$C$3,$C$2,$C$5,$C$6,0,0,$C$4),1,2)","v":1027.1128860424431},{"$f":"INDEX(coordonnées_cadran_plat($D110,W$10,$C$3,$C$2,$C$5,$C$6,0,0,$C$4),1,1)","v":2156.0762044619923},{"$f":"INDEX(coordonnées_cadran_plat($D110,W$10,$C$3,$C$2,$C$5,$C$6,0,0,$C$4),1,2)","v":2379.9858599715449}]
[null,19,7,"2010-07-19",{"$f":"INDEX(heures_limites_cadran($D111,$C$3,$C$2,$C$5),1,1)/24","v":"09:00:00"},{"$f":"INDEX(heures_limites_cadran($D111,$C$3,$C$2,$C$5),1,2)/24","v":"18:00:00"},{"$f":"INDEX(coordonnées_cadran_plat($D111,$G$10,$C$3,$C$2,$C$5,$C$6,0,0,$C$4),1,1)","v":7181.0373003520135},{"$f":"INDEX(coordonnées_cadran_plat($D111,$G$10,$C$3,$C$2,$C$5,$C$6,0,0,$C$4),1,2)","v":-12881.504238103304},{"$f":"INDEX(coordonnées_cadran_plat($D111,I$10,$C$3,$C$2,$C$5,$C$6,0,0,$C$4),1,1)","v":1809.688549161641},{"$f":"INDEX(coordonnées_cadran_plat($D111,I$10,$C$3,$C$2,$C$5,$C$6,0,0,$C$4),1,2)","v":-2154.6693266709476},{"$f":"INDEX(coordonnées_cadran_plat($D111,K$10,$C$3,$C$2,$C$5,$C$6,0,0,$C$4),1,1)","v":1302.4014720281775},{"$f":"INDEX(coordonnées_cadran_plat($D111,K$10,$C$3,$C$2,$C$5,$C$6,0,0,$C$4),1,2)","v":-1005.4722375852685},{"$f":"INDEX(coordonnées_cadran_plat($D111,M$10,$C$3,$C$2,$C$5,$C$6,0,0,$C$4),1,1)","v":1138.5763218000409},{"$f":"INDEX(coordonnées_cadran_plat($D111,M$10,$C$3,$C$2,$C$5,$C$6,0,0,$C$4),1,2)","v":-501.53120166070863},{"$f":"INDEX(coordonnées_cadran_plat($D111,O$10,$C$3,$C$2,$C$5,$C$6,0,0,$C$4),1,1)","v":1086.0092229702514},{"$f":"INDEX(coordonnées_cadran_plat($D111,O$10,$C$3,$C$2,$C$5,$C$6,0,0,$C$4),1,2)","v":-163.68184736959816},{"$f":"INDEX(coordonnées_cadran_plat($D111,Q$10,$C$3,$C$2,$C$5,$C$6,0,0,$C$4),1,1)","v":1100.14327221244},{"$f":"INDEX(coordonnées_cadran_plat($D111,Q$10,$C$3,$C$2,$C$5,$C$6,0,0,$C$4),1,2)","v":136.98942284644744},{"$f":"INDEX(coordonnées_cadran_plat($D111,S$10,$C$3,$C$2,$C$5,$C$6,0,0,$C$4),1,1)","v":1186.5542861378835},{"$f":"INDEX(coordonnées_cadran_plat($D111,S$10,$C$3,$C$2,$C$5,$C$6,0,0,$C$4),1,2)","v":483.14876923694015},{"$f":"INDEX(coordonnées_cadran_plat($D111,U$10,$C$3,$C$2,$C$5,$C$6,0,0,$C$4),1,1)","v":1410.730859963812},{"$f":"INDEX(coordonnées_cadran_plat($D111,U$10,$C$3,$C$2,$C$5,$C$6,0,0,$C$4),1,2)","v":1018.6847105480579},{"$f":"INDEX(coordonnées_cadran_plat($D111,W$10,$C$3,$C$2,$C$5,$C$6,0,0,$C$4),1,1)","v":2117.8736529768939},{"$f":"INDEX(coordonnées_cadran_plat($D111,W$10,$C$3,$C$2,$C$5,$C$6,0,0,$C$4),1,2)","v":2345.8656035296563}]
[null,20,7,"2010-07-20",{"$f":"INDEX(heures_limites_cadran($D112,$C$3,$C$2,$C$5),1,1)/24","v":"09:00:00"},{"$f":"INDEX(heures_limites_cadran($D112,$C$3,$C$2,$C$5),1,2)/24","v":"18:00:00"},{"$f":"INDEX(coordonnées_cadran_plat($D112,$G$10,$C$3,$C$2,$C$5,$C$6,0,0,$C$4),1,1)","v":6752.0239463572234},{"$f":"INDEX(coordonnées_cadran_plat($D112,$G$10,$C$3,$C$2,$C$5,$C$6,0,0,$C$4),1,2)","v":-12179.740126434051},{"$f":"INDEX(coordonnées_cadran_plat($D112,I$10,$C$3,$C$2,$C$5,$C$6,0,0,$C$4),1,1)","v":1781.7766442857937},{"$f":"INDEX(coordonnées_cadran_plat($D112,I$10,$C$3,$C$2,$C$5,$C$6,0,0,$C$4),1,2)","v":-2130.6869300576914},{"$f":"INDEX(coordonnées_cadran_plat($D112,K$10,$C$3,$C$2,$C$5,$C$6,0,0,$C$4),1,1)","v":1288.7888618656225},{"$f":"INDEX(coordonnées_cadran_plat($D112,K$10,$C$3,$C$2,$C$5,$C$6,0,0,$C$4),1,2)","v":-998.68961721654102},{"$f":"INDEX(coordonnées_cadran_plat($D112,M$10,$C$3,$C$2,$C$5,$C$6,0,0,$C$4),1,1)","v":1128.7001672951021},{"$f":"INDEX(coordonnées_cadran_plat($D112,M$10,$C$3,$C$2,$C$5,$C$6,0,0,$C$4),1,2)","v":-498.9369674547969},{"$f":"INDEX(coordonnées_cadran_plat($D112,O$10,$C$3,$C$2,$C$5,$C$6,0,0,$C$4),1,1)","v":1077.2798307735122},{"$f":"INDEX(coordonnées_cadran_plat($D112,O$10,$C$3,$C$2,$C$5,$C$6,0,0,$C$4),1,2)","v":-163.03551028166623},{"$f":"INDEX(coordonnées_cadran_plat($D112,Q$10,$C$3,$C$2,$C$5,$C$6,0,0,$C$4),1,1)","v":1091.2020723256476},{"$f":"INDEX(coordonnées_cadran_plat($D112,Q$10,$C$3,$C$2,$C$5,$C$6,0,0,$C$4),1,2)","v":136.07291570852948},{"$f":"INDEX(coordonnées_cadran_plat($D112,S$10,$C$3,$C$2,$C$5,$C$6,0,0,$C$4),1,1)","v":1175.8862089224494},{"$f":"INDEX(coordonnées_cadran_plat($D112,S$10,$C$3,$C$2,$C$5,$C$6,0,0,$C$4),1,2)","v":480.02616025028505},{"$f":"INDEX(coordonnées_cadran_plat($D112,U$10,$C$3,$C$2,$C$5,$C$6,0,0,$C$4),1,1)","v":1394.884582512489},{"$f":"INDEX(coordonnées_cadran_plat($D112,U$10,$C$3,$C$2,$C$5,$C$6,0,0,$C$4),1,2)","v":1010.2813728670378},{"$f":"INDEX(coordonnées_cadran_plat($D112,W$10,$C$3,$C$2,$C$5,$C$6,0,0,$C$4),1,1)","v":2079.9057162068038},{"$f":"INDEX(coordonnées_cadran_plat($D112,W$10,$C$3,$C$2,$C$5,$C$6,0,0,$C$4),1,2)","v":2312.1831016800193}]
[null,21,7,"2010-07-21",{"$f":"INDEX(heures_limites_cadran($D113,$C$3,$C$2,$C$5),1,1)/24","v":"09:00:00"},{"$f":"INDEX(heures_limites_cadran($D113,$C$3,$C$2,$C$5),1,2)/24","v":"18:00:00"},{"$f":"INDEX(coordonnées_cadran_plat($D113,$G$10,$C$3,$C$2,$C$5,$C$6,0,0,$C$4),1,1)","v":6352.5484460464504},{"$f":"INDEX(coordonnées_cadran_plat($D113,$G$10,$C$3,$C$2,$C$5,$C$6,0,0,$C$4),1,2)","v":-11524.609083503601},{"$f":"INDEX(coordonnées_cadran_plat($D113,I$10,$C$3,$C$2,$C$5,$C$6,0,0,$C$4),1,1)","v":1753.5443463481317},{"$f":"INDEX(coordonnées_cadran_plat($D113,I$10,$C$3,$C$2,$C$5,$C$6,0,0,$C$4),1,2)","v":-2106.2123272167923},{"$f":"INDEX(coordonnées_cadran_plat($D113,K$10,$C$3,$C$2,$C$5,$C$6,0,0,$C$4),1,1)","v":1274.9358989005527},{"$f":"INDEX(coordonnées_cadran_plat($D113,K$10,$C$3,$C$2,$C$5,$C$6,0,0,$C$4),1,2)","v":-991.6873404318568},{"$f":"INDEX(coordonnées_cadran_plat($D113,M$10,$C$3,$C$2,$C$5,$C$6,0,0,$C$4),1,1)","v":1118.6387997524726},{"$f":"INDEX(coordonnées_cadran_plat($D113,M$10,$C$3,$C$2,$C$5,$C$6,0,0,$C$4),1,2)","v":-496.22738545893651},{"$f":"INDEX(coordonnées_cadran_plat($D113,O$10,$C$3,$C$2,$C$5,$C$6,0,0,$C$4),1,1)","v":1068.391318382136},{"$f":"INDEX(coordonnées_cadran_plat($D113,O$10,$C$3,$C$2,$C$5,$C$6,0,0,$C$4),1,2)","v":-162.32173077255757},{"$f":"INDEX(coordonnées_cadran_plat($D113,Q$10,$C$3,$C$2,$C$5,$C$6,0,0,$C$4),1,1)","v":1082.1123988963429},{"$f":"INDEX(coordonnées_cadran_plat($D113,Q$10,$C$3,$C$2,$C$5,$C$6,0,0,$C$4),1,2)","v":135.19678091865447},{"$f":"INDEX(coordonnées_cadran_plat($D113,S$10,$C$3,$C$2,$C$5,$C$6,0,0,$C$4),1,1)","v":1165.0730936833447},{"$f":"INDEX(coordonnées_cadran_plat($D113,S$10,$C$3,$C$2,$C$5,$C$6,0,0,$C$4),1,2)","v":476.92759946272997},{"$f":"INDEX(coordonnées_cadran_plat($D113,U$10,$C$3,$C$2,$C$5,$C$6,0,0,$C$4),1,1)","v":1378.9147696063194},{"$f":"INDEX(coordonnées_cadran_plat($D113,U$10,$C$3,$C$2,$C$5,$C$6,0,0,$C$4),1,2)","v":1001.9123810832003},{"$f":"INDEX(coordonnées_cadran_plat($D113,W$10,$C$3,$C$2,$C$5,$C$6,0,0,$C$4),1,1)","v":2042.2143239355462},{"$f":"INDEX(coordonnées_cadran_plat($D113,W$10,$C$3,$C$2,$C$5,$C$6,0,0,$C$4),1,2)","v":2278.9682213796859}]
[null,22,7,"2010-07-22",{"$f":"INDEX(heures_limites_cadran($D114,$C$3,$C$2,$C$5),1,1)/24","v":"09:00:00"},{"$f":"INDEX(heures_limites_cadran($D114,$C$3,$C$2,$C$5),1,2)/24","v":"18:00:00"},{"$f":"INDEX(coordonnées_cadran_plat($D114,$G$10,$C$3,$C$2,$C$5,$C$6,0,0,$C$4),1,1)","v":5980.767493564771},{"$f":"INDEX(coordonnées_cadran_plat($D114,$G$10,$C$3,$C$2,$C$5,$C$6,0,0,$C$4),1,2)","v":-10913.348483584243},{"$f":"INDEX(coordonnées_cadran_plat($D114,I$10,$C$3,$C$2,$C$5,$C$6,0,0,$C$4),1,1)","v":1725.0538088100632},{"$f":"INDEX(coordonnées_cadran_plat($D114,I$10,$C$3,$C$2,$C$5,$C$6,0,0,$C$4),1,2)","v":-2081.3045887468716},{"$f":"INDEX(coordonnées_cadran_plat($D114,K$10,$C$3,$C$2,$C$5,$C$6,0,0,$C$4),1,1)","v":1260.865380856621},{"$f":"INDEX(coordonnées_cadran_plat($D114,K$10,$C$3,$C$2,$C$5,$C$6,0,0,$C$4),1,2)","v":-984.47802629337832},{"$f":"INDEX(coordonnées_cadran_plat($D114,M$10,$C$3,$C$2,$C$5,$C$6,0,0,$C$4),1,1)","v":1108.4062730952651},{"$f":"INDEX(coordonnées_cadran_plat($D114,M$10,$C$3,$C$2,$C$5,$C$6,0,0,$C$4),1,2)","v":-493.40669201678389},{"$f":"INDEX(coordonnées_cadran_plat($D114,O$10,$C$3,$C$2,$C$5,$C$6,0,0,$C$4),1,1)","v":1059.355027455138},{"$f":"INDEX(coordonnées_cadran_plat($D114,O$10,$C$3,$C$2,$C$5,$C$6,0,0,$C$4),1,2)","v":-161.54172297262301},{"$f":"INDEX(coordonnées_cadran_plat($D114,Q$10,$C$3,$C$2,$C$5,$C$6,0,0,$C$4),1,1)","v":1072.8853701635708},{"$f":"INDEX(coordonnées_cadran_plat($D114,Q$10,$C$3,$C$2,$C$5,$C$6,0,0,$C$4),1,2)","v":134.36176368164783},{"$f":"INDEX(coordonnées_cadran_plat($D114,S$10,$C$3,$C$2,$C$5,$C$6,0,0,$C$4),1,1)","v":1154.1280881126997},{"$f":"INDEX(coordonnées_cadran_plat($D114,S$10,$C$3,$C$2,$C$5,$C$6,0,0,$C$4),1,2)","v":473.85630920125209},{"$f":"INDEX(coordonnées_cadran_plat($D114,U$10,$C$3,$C$2,$C$5,$C$6,0,0,$C$4),1,1)","v":1362.8410757619345},{"$f":"INDEX(coordonnées_cadran_plat($D114,U$10,$C$3,$C$2,$C$5,$C$6,0,0,$C$4),1,2)","v":993.5866210821564},{"$f":"INDEX(coordonnées_cadran_plat($D114,W$10,$C$3,$C$2,$C$5,$C$6,0,0,$C$4),1,1)","v":2004.83718030254},{"$f":"INDEX(coordonnées_cadran_plat($D114,W$10,$C$3,$C$2,$C$5,$C$6,0,0,$C$4),1,2)","v":2246.2468995686331}]
[null,23,7,"2010-07-23",{"$f":"INDEX(heures_limites_cadran($D115,$C$3,$C$2,$C$5),1,1)/24","v":"09:00:00"},{"$f":"INDEX(heures_limites_cadran($D115,$C$3,$C$2,$C$5),1,2)/24","v":"18:00:00"},{"$f":"INDEX(coordonnées_cadran_plat($D115,$G$10,$C$3,$C$2,$C$5,$C$6,0,0,$C$4),1,1)","v":5634.8479637567325},{"$f":"INDEX(coordonnées_cadran_plat($D115,$G$10,$C$3,$C$2,$C$5,$C$6,0,0,$C$4),1,2)","v":-10343.181221225263},{"$f":"INDEX(coordonnées_cadran_plat($D115,I$10,$C$3,$C$2,$C$5,$C$6,0,0,$C$4),1,1)","v":1696.3647833920229},{"$f":"INDEX(coordonnées_cadran_plat($D115,I$10,$C$3,$C$2,$C$5,$C$6,0,0,$C$4),1,2)","v":-2056.0212695952387},{"$f":"INDEX(coordonnées_cadran_plat($D115,K$10,$C$3,$C$2,$C$5,$C$6,0,0,$C$4),1,1)","v":1246.5997231211174},{"$f":"INDEX(coordonnées_cadran_plat($D115,K$10,$C$3,$C$2,$C$5,$C$6,0,0,$C$4),1,2)","v":-977.07433617018182},{"$f":"INDEX(coordonnées_cadran_plat($D115,M$10,$C$3,$C$2,$C$5,$C$6,0,0,$C$4),1,1)","v":1098.0164631903517},{"$f":"INDEX(coordonnées_cadran_plat($D115,M$10,$C$3,$C$2,$C$5,$C$6,0,0,$C$4),1,2)","v":-490.47921719320152},{"$f":"INDEX(coordonnées_cadran_plat($D115,O$10,$C$3,$C$2,$C$5,$C$6,0,0,$C$4),1,1)","v":1050.1821416186306},{"$f":"INDEX(coordonnées_cadran_plat($D115,O$10,$C$3,$C$2,$C$5,$C$6,0,0,$C$4),1,2)","v":-160.69679820514691},{"$f":"INDEX(coordonnées_cadran_plat($D115,Q$10,$C$3,$C$2,$C$5,$C$6,0,0,$C$4),1,1)","v":1063.5318991046959},{"$f":"INDEX(coordonnées_cadran_plat($D115,Q$10,$C$3,$C$2,$C$5,$C$6,0,0,$C$4),1,2)","v":133.56848526667198},{"$f":"INDEX(coordonnées_cadran_plat($D115,S$10,$C$3,$C$2,$C$5,$C$6,0,0,$C$4),1,1)","v":1143.0639864579286},{"$f":"INDEX(coordonnées_cadran_plat($D115,S$10,$C$3,$C$2,$C$5,$C$6,0,0,$C$4),1,2)","v":470.81529150295921},{"$f":"INDEX(coordonnées_cadran_plat($D115,U$10,$C$3,$C$2,$C$5,$C$6,0,0,$C$4),1,1)","v":1346.6822944199896},{"$f":"INDEX(coordonnées_cadran_plat($D115,U$10,$C$3,$C$2,$C$5,$C$6,0,0,$C$4),1,2)","v":985.31236397618261},{"$f":"INDEX(coordonnées_cadran_plat($D115,W$10,$C$3,$C$2,$C$5,$C$6,0,0,$C$4),1,1)","v":1967.8079831787652},{"$f":"INDEX(coordonnées_cadran_plat($D115,W$10,$C$3,$C$2,$C$5,$C$6,0,0,$C$4),1,2)","v":2214.0413878602567}]
[null,24,7,"2010-07-24",{"$f":"INDEX(heures_limites_cadran($D116,$C$3,$C$2,$C$5),1,1)/24","v":"09:00:00"},{"$f":"INDEX(heures_limites_cadran($D116,$C$3,$C$2,$C$5),1,2)/24","v":"18:00:00"},{"$f":"INDEX(coordonnées_cadran_plat($D116,$G$10,$C$3,$C$2,$C$5,$C$6,0,0,$C$4),1,1)","v":5313.0018052419518},{"$f":"INDEX(coordonnées_cadran_plat($D116,$G$10,$C$3,$C$2,$C$5,$C$6,0,0,$C$4),1,2)","v":-9811.3757984919612},{"$f":"INDEX(coordonnées_cadran_plat($D116,I$10,$C$3,$C$2,$C$5,$C$6,0,0,$C$4),1,1)","v":1667.5344368342842},{"$f":"INDEX(coordonnées_cadran_plat($D116,I$10,$C$3,$C$2,$C$5,$C$6,0,0,$C$4),1,2)","v":-2030.4181818863105},{"$f":"INDEX(coordonnées_cadran_plat($D116,K$10,$C$3,$C$2,$C$5,$C$6,0,0,$C$4),1,1)","v":1232.1608903014676},{"$f":"INDEX(coordonnées_cadran_plat($D116,K$10,$C$3,$C$2,$C$5,$C$6,0,0,$C$4),1,2)","v":-969.48892387612705},{"$f":"INDEX(coordonnées_cadran_plat($D116,M$10,$C$3,$C$2,$C$5,$C$6,0,0,$C$4),1,1)","v":1087.4830312911342},{"$f":"INDEX(coordonnées_cadran_plat($D116,M$10,$C$3,$C$2,$C$5,$C$6,0,0,$C$4),1,2)","v":-487.44936777611935},{"$f":"INDEX(coordonnées_cadran_plat($D116,O$10,$C$3,$C$2,$C$5,$C$6,0,0,$C$4),1,1)","v":1040.8836609313655},{"$f":"INDEX(coordonnées_cadran_plat($D116,O$10,$C$3,$C$2,$C$5,$C$6,0,0,$C$4),1,2)","v":-159.7883577847029},{"$f":"INDEX(coordonnées_cadran_plat($D116,Q$10,$C$3,$C$2,$C$5,$C$6,0,0,$C$4),1,1)","v":1054.0626722475895},{"$f":"INDEX(coordonnées_cadran_plat($D116,Q$10,$C$3,$C$2,$C$5,$C$6,0,0,$C$4),1,2)","v":132.81744610493237},{"$f":"INDEX(coordonnées_cadran_plat($D116,S$10,$C$3,$C$2,$C$5,$C$6,0,0,$C$4),1,1)","v":1131.8932106653706},{"$f":"INDEX(coordonnées_cadran_plat($D116,S$10,$C$3,$C$2,$C$5,$C$6,0,0,$C$4),1,2)","v":467.8073297201085},{"$f":"INDEX(coordonnées_cadran_plat($D116,U$10,$C$3,$C$2,$C$5,$C$6,0,0,$C$4),1,1)","v":1330.4563505248773},{"$f":"INDEX(coordonnées_cadran_plat($D116,U$10,$C$3,$C$2,$C$5,$C$6,0,0,$C$4),1,2)","v":977.09727614524252},{"$f":"INDEX(coordonnées_cadran_plat($D116,W$10,$C$3,$C$2,$C$5,$C$6,0,0,$C$4),1,1)","v":1931.1566485816847},{"$f":"INDEX(coordonnées_cadran_plat($D116,W$10,$C$3,$C$2,$C$5,$C$6,0,0,$C$4),1,2)","v":2182.3704967445647}]
[null,25,7,"2010-07-25",{"$f":"INDEX(heures_limites_cadran($D117,$C$3,$C$2,$C$5),1,1)/24","v":"09:00:00"},{"$f":"INDEX(heures_limites_cadran($D117,$C$3,$C$2,$C$5),1,2)/24","v":"18:00:00"},{"$f":"INDEX(coordonnées_cadran_plat($D117,$G$10,$C$3,$C$2,$C$5,$C$6,0,0,$C$4),1,1)","v":5013.5098355743476},{"$f":"INDEX(coordonnées_cadran_plat($D117,$G$10,$C$3,$C$2,$C$5,$C$6,0,0,$C$4),1,2)","v":-9315.2882288928031},{"$f":"INDEX(coordonnées_cadran_plat($D117,I$10,$C$3,$C$2,$C$5,$C$6,0,0,$C$4),1,1)","v":1638.6172038876889},{"$f":"INDEX(coordonnées_cadran_plat($D117,I$10,$C$3,$C$2,$C$5,$C$6,0,0,$C$4),1,2)","v":-2004.5492003369361},{"$f":"INDEX(coordonnées_cadran_plat($D117,K$10,$C$3,$C$2,$C$5,$C$6,0,0,$C$4),1,1)","v":1217.5703342890595},{"$f":"INDEX(coordonnées_cadran_plat($D117,K$10,$C$3,$C$2,$C$5,$C$6,0,0,$C$4),1,2)","v":-961.73438870123221},{"$f":"INDEX(coordonnées_cadran_plat($D117,M$10,$C$3,$C$2,$C$5,$C$6,0,0,$C$4),1,1)","v":1076.8193904218383},{"$f":"INDEX(coordonnées_cadran_plat($D117,M$10,$C$3,$C$2,$C$5,$C$6,0,0,$C$4),1,2)","v":-484.32161080479671},{"$f":"INDEX(coordonnées_cadran_plat($D117,O$10,$C$3,$C$2,$C$5,$C$6,0,0,$C$4),1,1)","v":1031.470378514143},{"$f":"INDEX(coordonnées_cadran_plat($D117,O$10,$C$3,$C$2,$C$5,$C$6,0,0,$C$4),1,2)","v":-158.81788581282547},{"$f":"INDEX(coordonnées_cadran_plat($D117,Q$10,$C$3,$C$2,$C$5,$C$6,0,0,$C$4),1,1)","v":1044.4881306756968},{"$f":"INDEX(coordonnées_cadran_plat($D117,Q$10,$C$3,$C$2,$C$5,$C$6,0,0,$C$4),1,2)","v":132.1090292159025},{"$f":"INDEX(coordonnées_cadran_plat($D117,S$10,$C$3,$C$2,$C$5,$C$6,0,0,$C$4),1,1)","v":1120.6277944407336},{"$f":"INDEX(coordonnées_cadran_plat($D117,S$10,$C$3,$C$2,$C$5,$C$6,0,0,$C$4),1,2)","v":464.83499098475789},{"$f":"INDEX(coordonnées_cadran_plat($D117,U$10,$C$3,$C$2,$C$5,$C$6,0,0,$C$4),1,1)","v":1314.1802982363679},{"$f":"INDEX(coordonnées_cadran_plat($D117,U$10,$C$3,$C$2,$C$5,$C$6,0,0,$C$4),1,2)","v":968.94843158362687},{"$f":"INDEX(coordonnées_cadran_plat($D117,W$10,$C$3,$C$2,$C$5,$C$6,0,0,$C$4),1,1)","v":1894.909537127279},{"$f":"INDEX(coordonnées_cadran_plat($D117,W$10,$C$3,$C$2,$C$5,$C$6,0,0,$C$4),1,2)","v":2151.2498368342658}]
[null,26,7,"2010-07-26",{"$f":"INDEX(heures_limites_cadran($D118,$C$3,$C$2,$C$5),1,1)/24","v":"09:00:00"},{"$f":"INDEX(heures_limites_cadran($D118,$C$3,$C$2,$C$5),1,2)/24","v":"18:00:00"},{"$f":"INDEX(coordonnées_cadran_plat($D118,$G$10,$C$3,$C$2,$C$5,$C$6,0,0,$C$4),1,1)","v":4734.7370418934233},{"$f":"INDEX(coordonnées_cadran_plat($D118,$G$10,$C$3,$C$2,$C$5,$C$6,0,0,$C$4),1,2)","v":-8852.3899112032323},{"$f":"INDEX(coordonnées_cadran_plat($D118,I$10,$C$3,$C$2,$C$5,$C$6,0,0,$C$4),1,1)","v":1609.6646748905725},{"$f":"INDEX(coordonnées_cadran_plat($D118,I$10,$C$3,$C$2,$C$5,$C$6,0,0,$C$4),1,2)","v":-1978.4660995072231},{"$f":"INDEX(coordonnées_cadran_plat($D118,K$10,$C$3,$C$2,$C$5,$C$6,0,0,$C$4),1,1)","v":1202.8489388871101},{"$f":"INDEX(coordonnées_cadran_plat($D118,K$10,$C$3,$C$2,$C$5,$C$6,0,0,$C$4),1,2)","v":-953.82323151767901},{"$f":"INDEX(coordonnées_cadran_plat($D118,M$10,$C$3,$C$2,$C$5,$C$6,0,0,$C$4),1,1)","v":1066.0386747457351},{"$f":"INDEX(coordonnées_cadran_plat($D118,M$10,$C$3,$C$2,$C$5,$C$6,0,0,$C$4),1,2)","v":-481.10045770258267},{"$f":"INDEX(coordonnées_cadran_plat($D118,O$10,$C$3,$C$2,$C$5,$C$6,0,0,$C$4),1,1)","v":1021.9528593508036},{"$f":"INDEX(coordonnées_cadran_plat($D118,O$10,$C$3,$C$2,$C$5,$C$6,0,0,$C$4),1,2)","v":-157.78694201415277},{"$f":"INDEX(coordonnées_cadran_plat($D118,Q$10,$C$3,$C$2,$C$5,$C$6,0,0,$C$4),1,1)","v":1034.818453192546},{"$f":"INDEX(coordonnées_cadran_plat($D118,Q$10,$C$3,$C$2,$C$5,$C$6,0,0,$C$4),1,2)","v":131.44350391891794},{"$f":"INDEX(coordonnées_cadran_plat($D118,S$10,$C$3,$C$2,$C$5,$C$6,0,0,$C$4),1,1)","v":1109.2793701041321},{"$f":"INDEX(coordonnées_cadran_plat($D118,S$10,$C$3,$C$2,$C$5,$C$6,0,0,$C$4),1,2)","v":461.90062945110401},{"$f":"INDEX(coordonnées_cadran_plat($D118,U$10,$C$3,$C$2,$C$5,$C$6,0,0,$C$4),1,1)","v":1297.8703233167164},{"$f":"INDEX(coordonnées_cadran_plat($D118,U$10,$C$3,$C$2,$C$5,$C$6,0,0,$C$4),1,2)","v":960.87232625248453},{"$f":"INDEX(coordonnées_cadran_plat($D118,W$10,$C$3,$C$2,$C$5,$C$6,0,0,$C$4),1,1)","v":1859.0896799545978},{"$f":"INDEX(coordonnées_cadran_plat($D118,W$10,$C$3,$C$2,$C$5,$C$6,0,0,$C$4),1,2)","v":2120.6920551144617}]
[null,27,7,"2010-07-27",{"$f":"INDEX(heures_limites_cadran($D119,$C$3,$C$2,$C$5),1,1)/24","v":"09:00:00"},{"$f":"INDEX(heures_limites_cadran($D119,$C$3,$C$2,$C$5),1,2)/24","v":"18:00:00"},{"$f":"INDEX(coordonnées_cadran_plat($D119,$G$10,$C$3,$C$2,$C$5,$C$6,0,0,$C$4),1,1)","v":4475.1414902405868},{"$f":"INDEX(coordonnées_cadran_plat($D119,$G$10,$C$3,$C$2,$C$5,$C$6,0,0,$C$4),1,2)","v":-8420.2848517183538},{"$f":"INDEX(coordonnées_cadran_plat($D119,I$10,$C$3,$C$2,$C$5,$C$6,0,0,$C$4),1,1)","v":1580.7255159350464},{"$f":"INDEX(coordonnées_cadran_plat($D119,I$10,$C$3,$C$2,$C$5,$C$6,0,0,$C$4),1,2)","v":-1952.2184217293541},{"$f":"INDEX(coordonnées_cadran_plat($D119,K$10,$C$3,$C$2,$C$5,$C$6,0,0,$C$4),1,1)","v":1188.0169709849088},{"$f":"INDEX(coordonnées_cadran_plat($D119,K$10,$C$3,$C$2,$C$5,$C$6,0,0,$C$4),1,2)","v":-945.76781409233615},{"$f":"INDEX(coordonnées_cadran_plat($D119,M$10,$C$3,$C$2,$C$5,$C$6,0,0,$C$4),1,1)","v":1055.1537119306684},{"$f":"INDEX(coordonnées_cadran_plat($D119,M$10,$C$3,$C$2,$C$5,$C$6,0,0,$C$4),1,2)","v":-477.79044907970047},{"$f":"INDEX(coordonnées_cadran_plat($D119,O$10,$C$3,$C$2,$C$5,$C$6,0,0,$C$4),1,1)","v":1012.3414212503912},{"$f":"INDEX(coordonnées_cadran_plat($D119,O$10,$C$3,$C$2,$C$5,$C$6,0,0,$C$4),1,2)","v":-156.69715465358331},{"$f":"INDEX(coordonnées_cadran_plat($D119,Q$10,$C$3,$C$2,$C$5,$C$6,0,0,$C$4),1,1)","v":1025.0635415981365},{"$f":"INDEX(coordonnées_cadran_plat($D119,Q$10,$C$3,$C$2,$C$5,$C$6,0,0,$C$4),1,2)","v":130.82102979029008},{"$f":"INDEX(coordonnées_cadran_plat($D119,S$10,$C$3,$C$2,$C$5,$C$6,0,0,$C$4),1,1)","v":1097.8591581078115},{"$f":"INDEX(coordonnées_cadran_plat($D119,S$10,$C$3,$C$2,$C$5,$C$6,0,0,$C$4),1,2)","v":459.00639023910384},{"$f":"INDEX(coordonnées_cadran_plat($D119,U$10,$C$3,$C$2,$C$5,$C$6,0,0,$C$4),1,1)","v":1281.5417497404546},{"$f":"INDEX(coordonnées_cadran_plat($D119,U$10,$C$3,$C$2,$C$5,$C$6,0,0,$C$4),1,2)","v":952.87489415036339},{"$f":"INDEX(coordonnées_cadran_plat($D119,W$10,$C$3,$C$2,$C$5,$C$6,0,0,$C$4),1,1)","v":1823.7170019497446},{"$f":"INDEX(coordonnées_cadran_plat($D119,W$10,$C$3,$C$2,$C$5,$C$6,0,0,$C$4),1,2)","v":2090.7070645225522}]
[null,28,7,"2010-07-28",{"$f":"INDEX(heures_limites_cadran($D120,$C$3,$C$2,$C$5),1,1)/24","v":"09:00:00"},{"$f":"INDEX(heures_limites_cadran($D120,$C$3,$C$2,$C$5),1,2)/24","v":"18:00:00"},{"$f":"INDEX(coordonnées_cadran_plat($D120,$G$10,$C$3,$C$2,$C$5,$C$6,0,0,$C$4),1,1)","v":4233.2785128063279},{"$f":"INDEX(coordonnées_cadran_plat($D120,$G$10,$C$3,$C$2,$C$5,$C$6,0,0,$C$4),1,2)","v":-8016.7189342829824},{"$f":"INDEX(coordonnées_cadran_plat($D120,I$10,$C$3,$C$2,$C$5,$C$6,0,0,$C$4),1,1)","v":1551.8454193520529},{"$f":"INDEX(coordonnées_cadran_plat($D120,I$10,$C$3,$C$2,$C$5,$C$6,0,0,$C$4),1,2)","v":-1925.8533742175025},{"$f":"INDEX(coordonnées_cadran_plat($D120,K$10,$C$3,$C$2,$C$5,$C$6,0,0,$C$4),1,1)","v":1173.0940381955352},{"$f":"INDEX(coordonnées_cadran_plat($D120,K$10,$C$3,$C$2,$C$5,$C$6,0,0,$C$4),1,2)","v":-937.58032169797559},{"$f":"INDEX(coordonnées_cadran_plat($D120,M$10,$C$3,$C$2,$C$5,$C$6,0,0,$C$4),1,1)","v":1044.1769984983257},{"$f":"INDEX(coordonnées_cadran_plat($D120,M$10,$C$3,$C$2,$C$5,$C$6,0,0,$C$4),1,2)","v":-474.39614026137673},{"$f":"INDEX(coordonnées_cadran_plat($D120,O$10,$C$3,$C$2,$C$5,$C$6,0,0,$C$4),1,1)","v":1002.6461179439532},{"$f":"INDEX(coordonnées_cadran_plat($D120,O$10,$C$3,$C$2,$C$5,$C$6,0,0,$C$4),1,2)","v":-155.55021357128723},{"$f":"INDEX(coordonnées_cadran_plat($D120,Q$10,$C$3,$C$2,$C$5,$C$6,0,0,$C$4),1,1)","v":1015.2330080169793},{"$f":"INDEX(coordonnées_cadran_plat($D120,Q$10,$C$3,$C$2,$C$5,$C$6,0,0,$C$4),1,2)","v":130.24166082545079},{"$f":"INDEX(coordonnées_cadran_plat($D120,S$10,$C$3,$C$2,$C$5,$C$6,0,0,$C$4),1,1)","v":1086.3779590722911},{"$f":"INDEX(coordonnées_cadran_plat($D120,S$10,$C$3,$C$2,$C$5,$C$6,0,0,$C$4),1,2)","v":456.15421399953408},{"$f":"INDEX(coordonnées_cadran_plat($D120,U$10,$C$3,$C$2,$C$5,$C$6,0,0,$C$4),1,1)","v":1265.2090500847951},{"$f":"INDEX(coordonnées_cadran_plat($D120,U$10,$C$3,$C$2,$C$5,$C$6,0,0,$C$4),1,2)","v":944.96152483071069},{"$f":"INDEX(coordonnées_cadran_plat($D120,W$10,$C$3,$C$2,$C$5,$C$6,0,0,$C$4),1,1)","v":1788.8085404691187},{"$f":"INDEX(coordonnées_cadran_plat($D120,W$10,$C$3,$C$2,$C$5,$C$6,0,0,$C$4),1,2)","v":2061.302265537061}]
[null,29,7,"2010-07-29",{"$f":"INDEX(heures_limites_cadran($D121,$C$3,$C$2,$C$5),1,1)/24","v":"09:00:00"},{"$f":"INDEX(heures_limites_cadran($D121,$C$3,$C$2,$C$5),1,2)/24","v":"18:00:00"},{"$f":"INDEX(coordonnées_cadran_plat($D121,$G$10,$C$3,$C$2,$C$5,$C$6,0,0,$C$4),1,1)","v":4007.8014781079673},{"$f":"INDEX(coordonnées_cadran_plat($D121,$G$10,$C$3,$C$2,$C$5,$C$6,0,0,$C$4),1,2)","v":-7639.5833623592025},{"$f":"INDEX(coordonnées_cadran_plat($D121,I$10,$C$3,$C$2,$C$5,$C$6,0,0,$C$4),1,1)","v":1523.0670820523694},{"$f":"INDEX(coordonnées_cadran_plat($D121,I$10,$C$3,$C$2,$C$5,$C$6,0,0,$C$4),1,2)","v":-1899.415753601751},{"$f":"INDEX(coordonnées_cadran_plat($D121,K$10,$C$3,$C$2,$C$5,$C$6,0,0,$C$4),1,1)","v":1158.0990528135742},{"$f":"INDEX(coordonnées_cadran_plat($D121,K$10,$C$3,$C$2,$C$5,$C$6,0,0,$C$4),1,2)","v":-929.27272907033148},{"$f":"INDEX(coordonnées_cadran_plat($D121,M$10,$C$3,$C$2,$C$5,$C$6,0,0,$C$4),1,1)","v":1033.1206781194151},{"$f":"INDEX(coordonnées_cadran_plat($D121,M$10,$C$3,$C$2,$C$5,$C$6,0,0,$C$4),1,2)","v":-470.9220875873761},{"$f":"INDEX(coordonnées_cadran_plat($D121,O$10,$C$3,$C$2,$C$5,$C$6,0,0,$C$4),1,1)","v":992.87672427474968},{"$f":"INDEX(coordonnées_cadran_plat($D121,O$10,$C$3,$C$2,$C$5,$C$6,0,0,$C$4),1,2)","v":-154.34786336844914},{"$f":"INDEX(coordonnées_cadran_plat($D121,Q$10,$C$3,$C$2,$C$5,$C$6,0,0,$C$4),1,1)","v":1005.3361642069839},{"$f":"INDEX(coordonnées_cadran_plat($D121,Q$10,$C$3,$C$2,$C$5,$C$6,0,0,$C$4),1,2)","v":129.7053497684297},{"$f":"INDEX(coordonnées_cadran_plat($D121,S$10,$C$3,$C$2,$C$5,$C$6,0,0,$C$4),1,1)","v":1074.8461481911097},{"$f":"INDEX(coordonnées_cadran_plat($D121,S$10,$C$3,$C$2,$C$5,$C$6,0,0,$C$4),1,2)","v":453.34584202495324},{"$f":"INDEX(coordonnées_cadran_plat($D121,U$10,$C$3,$C$2,$C$5,$C$6,0,0,$C$4),1,1)","v":1248.8858592704532},{"$f":"INDEX(coordonnées_cadran_plat($D121,U$10,$C$3,$C$2,$C$5,$C$6,0,0,$C$4),1,2)","v":937.13708210938671},{"$f":"INDEX(coordonnées_cadran_plat($D121,W$10,$C$3,$C$2,$C$5,$C$6,0,0,$C$4),1,1)","v":1754.3786580918154},{"$f":"INDEX(coordonnées_cadran_plat($D121,W$10,$C$3,$C$2,$C$5,$C$6,0,0,$C$4),1,2)","v":2032.482758752928}]
[null,30,7,"2010-07-30",{"$f":"INDEX(heures_limites_cadran($D122,$C$3,$C$2,$C$5),1,1)/24","v":"09:00:00"},{"$f":"INDEX(heures_limites_cadran($D122,$C$3,$C$2,$C$5),1,2)/24","v":"18:00:00"},{"$f":"INDEX(coordonnées_cadran_plat($D122,$G$10,$C$3,$C$2,$C$5,$C$6,0,0,$C$4),1,1)","v":3797.4601506369654},{"$f":"INDEX(coordonnées_cadran_plat($D122,$G$10,$C$3,$C$2,$C$5,$C$6,0,0,$C$4),1,2)","v":-7286.9139227097257},{"$f":"INDEX(coordonnées_cadran_plat($D122,I$10,$C$3,$C$2,$C$5,$C$6,0,0,$C$4),1,1)","v":1494.4302091338629},{"$f":"INDEX(coordonnées_cadran_plat($D122,I$10,$C$3,$C$2,$C$5,$C$6,0,0,$C$4),1,2)","v":-1872.9478959296196},{"$f":"INDEX(coordonnées_cadran_plat($D122,K$10,$C$3,$C$2,$C$5,$C$6,0,0,$C$4),1,1)","v":1143.0502018978402},{"$f":"INDEX(coordonnées_cadran_plat($D122,K$10,$C$3,$C$2,$C$5,$C$6,0,0,$C$4),1,2)","v":-920.85676972167869},{"$f":"INDEX(coordonnées_cadran_plat($D122,M$10,$C$3,$C$2,$C$5,$C$6,0,0,$C$4),1,1)","v":1021.9965227946908},{"$f":"INDEX(coordonnées_cadran_plat($D122,M$10,$C$3,$C$2,$C$5,$C$6,0,0,$C$4),1,2)","v":-467.37283551709152},{"$f":"INDEX(coordonnées_cadran_plat($D122,O$10,$C$3,$C$2,$C$5,$C$6,0,0,$C$4),1,1)","v":983.04272342747834},{"$f":"INDEX(coordonnées_cadran_plat($D122,O$10,$C$3,$C$2,$C$5,$C$6,0,0,$C$4),1,2)","v":-153.09189677307029},{"$f":"INDEX(coordonnées_cadran_plat($D122,Q$10,$C$3,$C$2,$C$5,$C$6,0,0,$C$4),1,1)","v":995.38201276898201},{"$f":"INDEX(coordonnées_cadran_plat($D122,Q$10,$C$3,$C$2,$C$5,$C$6,0,0,$C$4),1,2)","v":129.21195257275366},{"$f":"INDEX(coordonnées_cadran_plat($D122,S$10,$C$3,$C$2,$C$5,$C$6,0,0,$C$4),1,1)","v":1063.2736718494968},{"$f":"INDEX(coordonnées_cadran_plat($D122,S$10,$C$3,$C$2,$C$5,$C$6,0,0,$C$4),1,2)","v":450.58282183508635},{"$f":"INDEX(coordonnées_cadran_plat($D122,U$10,$C$3,$C$2,$C$5,$C$6,0,0,$C$4),1,1)","v":1232.5849912407459},{"$f":"INDEX(coordonnées_cadran_plat($D122,U$10,$C$3,$C$2,$C$5,$C$6,0,0,$C$4),1,2)","v":929.4059237245101},{"$f":"INDEX(coordonnées_cadran_plat($D122,W$10,$C$3,$C$2,$C$5,$C$6,0,0,$C$4),1,1)","v":1720.4392482315297},{"$f":"INDEX(coordonnées_cadran_plat($D122,W$10,$C$3,$C$2,$C$5,$C$6,0,0,$C$4),1,2)","v":2004.2515476907643}]
[null,31,7,"2010-07-31",{"$f":"INDEX(heures_limites_cadran($D123,$C$3,$C$2,$C$5),1,1)/24","v":"09:00:00"},{"$f":"INDEX(heures_limites_cadran($D123,$C$3,$C$2,$C$5),1,2)/24","v":"18:00:00"},{"$f":"INDEX(coordonnées_cadran_plat($D123,$G$10,$C$3,$C$2,$C$5,$C$6,0,0,$C$4),1,1)","v":3601.0974066016956},{"$f":"INDEX(coordonnées_cadran_plat($D123,$G$10,$C$3,$C$2,$C$5,$C$6,0,0,$C$4),1,2)","v":-6956.8873362496461},{"$f":"INDEX(coordonnées_cadran_plat($D123,I$10,$C$3,$C$2,$C$5,$C$6,0,0,$C$4),1,1)","v":1465.9715401050896},{"$f":"INDEX(coordonnées_cadran_plat($D123,I$10,$C$3,$C$2,$C$5,$C$6,0,0,$C$4),1,2)","v":-1846.4896500370908},{"$f":"INDEX(coordonnées_cadran_plat($D123,K$10,$C$3,$C$2,$C$5,$C$6,0,0,$C$4),1,1)","v":1127.9649232392446},{"$f":"INDEX(coordonnées_cadran_plat($D123,K$10,$C$3,$C$2,$C$5,$C$6,0,0,$C$4),1,2)","v":-912.34390858784479},{"$f":"INDEX(coordonnées_cadran_plat($D123,M$10,$C$3,$C$2,$C$5,$C$6,0,0,$C$4),1,1)","v":1010.8159168425267},{"$f":"INDEX(coordonnées_cadran_plat($D123,M$10,$C$3,$C$2,$C$5,$C$6,0,0,$C$4),1,2)","v":-463.75290456685576},{"$f":"INDEX(coordonnées_cadran_plat($D123,O$10,$C$3,$C$2,$C$5,$C$6,0,0,$C$4),1,1)","v":973.15329613124777},{"$f":"INDEX(coordonnées_cadran_plat($D123,O$10,$C$3,$C$2,$C$5,$C$6,0,0,$C$4),1,2)","v":-151.78414821146495},{"$f":"INDEX(coordonnées_cadran_plat($D123,Q$10,$C$3,$C$2,$C$5,$C$6,0,0,$C$4),1,1)","v":985.37924016909903},{"$f":"INDEX(coordonnées_cadran_plat($D123,Q$10,$C$3,$C$2,$C$5,$C$6,0,0,$C$4),1,2)","v":128.7612329589179},{"$f":"INDEX(coordonnées_cadran_plat($D123,S$10,$C$3,$C$2,$C$5,$C$6,0,0,$C$4),1,1)","v":1051.6700462979477},{"$f":"INDEX(coordonnées_cadran_plat($D123,S$10,$C$3,$C$2,$C$5,$C$6,0,0,$C$4),1,2)","v":447.86651316429129},{"$f":"INDEX(coordonnées_cadran_plat($D123,U$10,$C$3,$C$2,$C$5,$C$6,0,0,$C$4),1,1)","v":1216.3184581853807},{"$f":"INDEX(coordonnées_cadran_plat($D123,U$10,$C$3,$C$2,$C$5,$C$6,0,0,$C$4),1,2)","v":921.77192172782497},{"$f":"INDEX(coordonnées_cadran_plat($D123,W$10,$C$3,$C$2,$C$5,$C$6,0,0,$C$4),1,1)","v":1686.999932710336},{"$f":"INDEX(coordonnées_cadran_plat($D123,W$10,$C$3,$C$2,$C$5,$C$6,0,0,$C$4),1,2)","v":1976.6097313301907}]
[null,1,8,"2010-08-01",{"$f":"INDEX(heures_limites_cadran($D124,$C$3,$C$2,$C$5),1,1)/24","v":"09:00:00"},{"$f":"INDEX(heures_limites_cadran($D124,$C$3,$C$2,$C$5),1,2)/24","v":"18:00:00"},{"$f":"INDEX(coordonnées_cadran_plat($D124,$G$10,$C$3,$C$2,$C$5,$C$6,0,0,$C$4),1,1)","v":3417.6448823126671},{"$f":"INDEX(coordonnées_cadran_plat($D124,$G$10,$C$3,$C$2,$C$5,$C$6,0,0,$C$4),1,2)","v":-6647.8156554323514},{"$f":"INDEX(coordonnées_cadran_plat($D124,I$10,$C$3,$C$2,$C$5,$C$6,0,0,$C$4),1,1)","v":1437.7248950717071},{"$f":"INDEX(coordonnées_cadran_plat($D124,I$10,$C$3,$C$2,$C$5,$C$6,0,0,$C$4),1,2)","v":-1820.078372118415},{"$f":"INDEX(coordonnées_cadran_plat($D124,K$10,$C$3,$C$2,$C$5,$C$6,0,0,$C$4),1,1)","v":1112.85988693696},{"$f":"INDEX(coordonnées_cadran_plat($D124,K$10,$C$3,$C$2,$C$5,$C$6,0,0,$C$4),1,2)","v":-903.74531795339601},{"$f":"INDEX(coordonnées_cadran_plat($D124,M$10,$C$3,$C$2,$C$5,$C$6,0,0,$C$4),1,1)","v":999.58984359643637},{"$f":"INDEX(coordonnées_cadran_plat($D124,M$10,$C$3,$C$2,$C$5,$C$6,0,0,$C$4),1,2)","v":-460.06678009556731},{"$f":"INDEX(coordonnées_cadran_plat($D124,O$10,$C$3,$C$2,$C$5,$C$6,0,0,$C$4),1,1)","v":963.21731176047706},{"$f":"INDEX(coordonnées_cadran_plat($D124,O$10,$C$3,$C$2,$C$5,$C$6,0,0,$C$4),1,2)","v":-150.42648760787057},{"$f":"INDEX(coordonnées_cadran_plat($D124,Q$10,$C$3,$C$2,$C$5,$C$6,0,0,$C$4),1,1)","v":975.33621148063946},{"$f":"INDEX(coordonnées_cadran_plat($D124,Q$10,$C$3,$C$2,$C$5,$C$6,0,0,$C$4),1,2)","v":128.35286703748008},{"$f":"INDEX(coordonnées_cadran_plat($D124,S$10,$C$3,$C$2,$C$5,$C$6,0,0,$C$4),1,1)","v":1040.0443582222556},{"$f":"INDEX(coordonnées_cadran_plat($D124,S$10,$C$3,$C$2,$C$5,$C$6,0,0,$C$4),1,2)","v":445.19809428652877},{"$f":"INDEX(coordonnées_cadran_plat($D124,U$10,$C$3,$C$2,$C$5,$C$6,0,0,$C$4),1,1)","v":1200.097491936564},{"$f":"INDEX(coordonnées_cadran_plat($D124,U$10,$C$3,$C$2,$C$5,$C$6,0,0,$C$4),1,2)","v":914.23848340427162},{"$f":"INDEX(coordonnées_cadran_plat($D124,W$10,$C$3,$C$2,$C$5,$C$6,0,0,$C$4),1,1)","v":1654.0682506242536},{"$f":"INDEX(coordonnées_cadran_plat($D124,W$10,$C$3,$C$2,$C$5,$C$6,0,0,$C$4),1,2)","v":1949.5566860486026}]
[null,2,8,"2010-08-02",{"$f":"INDEX(heures_limites_cadran($D125,$C$3,$C$2,$C$5),1,1)/24","v":"09:00:00"},{"$f":"INDEX(heures_limites_cadran($D125,$C$3,$C$2,$C$5),1,2)/24","v":"18:00:00"},{"$f":"INDEX(coordonnées_cadran_plat($D125,$G$10,$C$3,$C$2,$C$5,$C$6,0,0,$C$4),1,1)","v":3246.1179830894048},{"$f":"INDEX(coordonnées_cadran_plat($D125,$G$10,$C$3,$C$2,$C$5,$C$6,0,0,$C$4),1,2)","v":-6358.1394266166471},{"$f":"INDEX(coordonnées_cadran_plat($D125,I$10,$C$3,$C$2,$C$5,$C$6,0,0,$C$4),1,1)","v":1409.7212382725363},{"$f":"INDEX(coordonnées_cadran_plat($D125,I$10,$C$3,$C$2,$C$5,$C$6,0,0,$C$4),1,2)","v":-1793.7489392831551},{"$f":"INDEX(coordonnées_cadran_plat($D125,K$10,$C$3,$C$2,$C$5,$C$6,0,0,$C$4),1,1)","v":1097.750982275315},{"$f":"INDEX(coordonnées_cadran_plat($D125,K$10,$C$3,$C$2,$C$5,$C$6,0,0,$C$4),1,2)","v":-895.07185657287823},{"$f":"INDEX(coordonnées_cadran_plat($D125,M$10,$C$3,$C$2,$C$5,$C$6,0,0,$C$4),1,1)","v":988.32887470205083},{"$f":"INDEX(coordonnées_cadran_plat($D125,M$10,$C$3,$C$2,$C$5,$C$6,0,0,$C$4),1,2)","v":-456.31890194801497},{"$f":"INDEX(coordonnées_cadran_plat($D125,O$10,$C$3,$C$2,$C$5,$C$6,0,0,$C$4),1,1)","v":953.24332125062438},{"$f":"INDEX(coordonnées_cadran_plat($D125,O$10,$C$3,$C$2,$C$5,$C$6,0,0,$C$4),1,2)","v":-149.02081443030613},{"$f":"INDEX(coordonnées_cadran_plat($D125,Q$10,$C$3,$C$2,$C$5,$C$6,0,0,$C$4),1,1)","v":965.26096674650739},{"$f":"INDEX(coordonnées_cadran_plat($D125,Q$10,$C$3,$C$2,$C$5,$C$6,0,0,$C$4),1,2)","v":127.98644796686528},{"$f":"INDEX(coordonnées_cadran_plat($D125,S$10,$C$3,$C$2,$C$5,$C$6,0,0,$C$4),1,1)","v":1028.4052670509539},{"$f":"INDEX(coordonnées_cadran_plat($D125,S$10,$C$3,$C$2,$C$5,$C$6,0,0,$C$4),1,2)","v":442.57856861381111},{"$f":"INDEX(coordonnées_cadran_plat($D125,U$10,$C$3,$C$2,$C$5,$C$6,0,0,$C$4),1,1)","v":1183.9325671890379},{"$f":"INDEX(coordonnées_cadran_plat($D125,U$10,$C$3,$C$2,$C$5,$C$6,0,0,$C$4),1,2)","v":906.80857253699935},{"$f":"INDEX(coordonnées_cadran_plat($D125,W$10,$C$3,$C$2,$C$5,$C$6,0,0,$C$4),1,1)","v":1621.6498380400431},{"$f":"INDEX(coordonnées_cadran_plat($D125,W$10,$C$3,$C$2,$C$5,$C$6,0,0,$C$4),1,2)","v":1923.0902368263505}]
[null,3,8,"2010-08-03",{"$f":"INDEX(heures_limites_cadran($D126,$C$3,$C$2,$C$5),1,1)/24","v":"09:00:00"},{"$f":"INDEX(heures_limites_cadran($D126,$C$3,$C$2,$C$5),1,2)/24","v":"18:00:00"},{"$f":"INDEX(coordonnées_cadran_plat($D126,$G$10,$C$3,$C$2,$C$5,$C$6,0,0,$C$4),1,1)","v":3085.6105655989159},{"$f":"INDEX(coordonnées_cadran_plat($D126,$G$10,$C$3,$C$2,$C$5,$C$6,0,0,$C$4),1,2)","v":-6086.4201484666801},{"$f":"INDEX(coordonnées_cadran_plat($D126,I$10,$C$3,$C$2,$C$5,$C$6,0,0,$C$4),1,1)","v":1381.9887564367386},{"$f":"INDEX(coordonnées_cadran_plat($D126,I$10,$C$3,$C$2,$C$5,$C$6,0,0,$C$4),1,2)","v":-1767.5337799051892},{"$f":"INDEX(coordonnées_cadran_plat($D126,K$10,$C$3,$C$2,$C$5,$C$6,0,0,$C$4),1,1)","v":1082.6533095709215},{"$f":"INDEX(coordonnées_cadran_plat($D126,K$10,$C$3,$C$2,$C$5,$C$6,0,0,$C$4),1,2)","v":-886.33405188292716},{"$f":"INDEX(coordonnées_cadran_plat($D126,M$10,$C$3,$C$2,$C$5,$C$6,0,0,$C$4),1,1)","v":977.04316189053714},{"$f":"INDEX(coordonnées_cadran_plat($D126,M$10,$C$3,$C$2,$C$5,$C$6,0,0,$C$4),1,2)","v":-452.51365495587925},{"$f":"INDEX(coordonnées_cadran_plat($D126,O$10,$C$3,$C$2,$C$5,$C$6,0,0,$C$4),1,1)","v":943.23955173833679},{"$f":"INDEX(coordonnées_cadran_plat($D126,O$10,$C$3,$C$2,$C$5,$C$6,0,0,$C$4),1,2)","v":-147.56905199830706},{"$f":"INDEX(coordonnées_cadran_plat($D126,Q$10,$C$3,$C$2,$C$5,$C$6,0,0,$C$4),1,1)","v":955.16121886114388},{"$f":"INDEX(coordonnées_cadran_plat($D126,Q$10,$C$3,$C$2,$C$5,$C$6,0,0,$C$4),1,2)","v":127.66149061924783},{"$f":"INDEX(coordonnées_cadran_plat($D126,S$10,$C$3,$C$2,$C$5,$C$6,0,0,$C$4),1,1)","v":1016.7610088437057},{"$f":"INDEX(coordonnées_cadran_plat($D126,S$10,$C$3,$C$2,$C$5,$C$6,0,0,$C$4),1,2)","v":440.00877150958996},{"$f":"INDEX(coordonnées_cadran_plat($D126,U$10,$C$3,$C$2,$C$5,$C$6,0,0,$C$4),1,1)","v":1167.8334262175497},{"$f":"INDEX(coordonnées_cadran_plat($D126,U$10,$C$3,$C$2,$C$5,$C$6,0,0,$C$4),1,2)","v":899.48473084929606},{"$f":"INDEX(coordonnées_cadran_plat($D126,W$10,$C$3,$C$2,$C$5,$C$6,0,0,$C$4),1,1)","v":1589.7485982385435},{"$f":"INDEX(coordonnées_cadran_plat($D126,W$10,$C$3,$C$2,$C$5,$C$6,0,0,$C$4),1,2)","v":1897.2068177243752}]
[null,4,8,"2010-08-04",{"$f":"INDEX(heures_limites_cadran($D127,$C$3,$C$2,$C$5),1,1)/24","v":"09:00:00"},{"$f":"INDEX(heures_limites_cadran($D127,$C$3,$C$2,$C$5),1,2)/24","v":"18:00:00"},{"$f":"INDEX(coordonnées_cadran_plat($D127,$G$10,$C$3,$C$2,$C$5,$C$6,0,0,$C$4),1,1)","v":2935.2895183998376},{"$f":"INDEX(coordonnées_cadran_plat($D127,$G$10,$C$3,$C$2,$C$5,$C$6,0,0,$C$4),1,2)","v":-5831.3324128334571},{"$f":"INDEX(coordonnées_cadran_plat($D127,I$10,$C$3,$C$2,$C$5,$C$6,0,0,$C$4),1,1)","v":1354.5529495480632},{"$f":"INDEX(coordonnées_cadran_plat($D127,I$10,$C$3,$C$2,$C$5,$C$6,0,0,$C$4),1,2)","v":-1741.462918615709},{"$f":"INDEX(coordonnées_cadran_plat($D127,K$10,$C$3,$C$2,$C$5,$C$6,0,0,$C$4),1,1)","v":1067.5811766428876},{"$f":"INDEX(coordonnées_cadran_plat($D127,K$10,$C$3,$C$2,$C$5,$C$6,0,0,$C$4),1,2)","v":-877.54208518038558},{"$f":"INDEX(coordonnées_cadran_plat($D127,M$10,$C$3,$C$2,$C$5,$C$6,0,0,$C$4),1,1)","v":965.74243109630652},{"$f":"INDEX(coordonnées_cadran_plat($D127,M$10,$C$3,$C$2,$C$5,$C$6,0,0,$C$4),1,2)","v":-448.65536029063446},{"$f":"INDEX(coordonnées_cadran_plat($D127,O$10,$C$3,$C$2,$C$5,$C$6,0,0,$C$4),1,1)","v":933.2139028308585},{"$f":"INDEX(coordonnées_cadran_plat($D127,O$10,$C$3,$C$2,$C$5,$C$6,0,0,$C$4),1,2)","v":-146.07314206427827},{"$f":"INDEX(coordonnées_cadran_plat($D127,Q$10,$C$3,$C$2,$C$5,$C$6,0,0,$C$4),1,1)","v":945.04435286795865},{"$f":"INDEX(coordonnées_cadran_plat($D127,Q$10,$C$3,$C$2,$C$5,$C$6,0,0,$C$4),1,2)","v":127.37743622911989},{"$f":"INDEX(coordonnées_cadran_plat($D127,S$10,$C$3,$C$2,$C$5,$C$6,0,0,$C$4),1,1)","v":1005.1194016073006},{"$f":"INDEX(coordonnées_cadran_plat($D127,S$10,$C$3,$C$2,$C$5,$C$6,0,0,$C$4),1,2)","v":437.48937726248954},{"$f":"INDEX(coordonnées_cadran_plat($D127,U$10,$C$3,$C$2,$C$5,$C$6,0,0,$C$4),1,1)","v":1151.8091047911184},{"$f":"INDEX(coordonnées_cadran_plat($D127,U$10,$C$3,$C$2,$C$5,$C$6,0,0,$C$4),1,2)","v":892.26909947598813},{"$f":"INDEX(coordonnées_cadran_plat($D127,W$10,$C$3,$C$2,$C$5,$C$6,0,0,$C$4),1,1)","v":1558.3668623680044},{"$f":"INDEX(coordonnées_cadran_plat($D127,W$10,$C$3,$C$2,$C$5,$C$6,0,0,$C$4),1,2)","v":1871.9016217569024}]
[null,5,8,"2010-08-05",{"$f":"INDEX(heures_limites_cadran($D128,$C$3,$C$2,$C$5),1,1)/24","v":"09:00:00"},{"$f":"INDEX(heures_limites_cadran($D128,$C$3,$C$2,$C$5),1,2)/24","v":"18:00:00"},{"$f":"INDEX(coordonnées_cadran_plat($D128,$G$10,$C$3,$C$2,$C$5,$C$6,0,0,$C$4),1,1)","v":2794.3893986130979},{"$f":"INDEX(coordonnées_cadran_plat($D128,$G$10,$C$3,$C$2,$C$5,$C$6,0,0,$C$4),1,2)","v":-5591.6560041794946},{"$f":"INDEX(coordonnées_cadran_plat($D128,I$10,$C$3,$C$2,$C$5,$C$6,0,0,$C$4),1,1)","v":1327.4367317408107},{"$f":"INDEX(coordonnées_cadran_plat($D128,I$10,$C$3,$C$2,$C$5,$C$6,0,0,$C$4),1,2)","v":-1715.5640338648159},{"$f":"INDEX(coordonnées_cadran_plat($D128,K$10,$C$3,$C$2,$C$5,$C$6,0,0,$C$4),1,1)","v":1052.548099547063},{"$f":"INDEX(coordonnées_cadran_plat($D128,K$10,$C$3,$C$2,$C$5,$C$6,0,0,$C$4),1,2)","v":-868.70577962376456},{"$f":"INDEX(coordonnées_cadran_plat($D128,M$10,$C$3,$C$2,$C$5,$C$6,0,0,$C$4),1,1)","v":954.43597877923696},{"$f":"INDEX(coordonnées_cadran_plat($D128,M$10,$C$3,$C$2,$C$5,$C$6,0,0,$C$4),1,2)","v":-444.74826765641535},{"$f":"INDEX(coordonnées_cadran_plat($D128,O$10,$C$3,$C$2,$C$5,$C$6,0,0,$C$4),1,1)","v":923.17394440535202},{"$f":"INDEX(coordonnées_cadran_plat($D128,O$10,$C$3,$C$2,$C$5,$C$6,0,0,$C$4),1,2)","v":-144.53503967766102},{"$f":"INDEX(coordonnées_cadran_plat($D128,Q$10,$C$3,$C$2,$C$5,$C$6,0,0,$C$4),1,1)","v":934.91742656800648},{"$f":"INDEX(coordonnées_cadran_plat($D128,Q$10,$C$3,$C$2,$C$5,$C$6,0,0,$C$4),1,2)","v":127.13365700206683},{"$f":"INDEX(coordonnées_cadran_plat($D128,S$10,$C$3,$C$2,$C$5,$C$6,0,0,$C$4),1,1)","v":993.48785189040802},{"$f":"INDEX(coordonnées_cadran_plat($D128,S$10,$C$3,$C$2,$C$5,$C$6,0,0,$C$4),1,2)","v":435.02090616964807},{"$f":"INDEX(coordonnées_cadran_plat($D128,U$10,$C$3,$C$2,$C$5,$C$6,0,0,$C$4),1,1)","v":1135.8679590073884},{"$f":"INDEX(coordonnées_cadran_plat($D128,U$10,$C$3,$C$2,$C$5,$C$6,0,0,$C$4),1,2)","v":885.16344033166718},{"$f":"INDEX(coordonnées_cadran_plat($D128,W$10,$C$3,$C$2,$C$5,$C$6,0,0,$C$4),1,1)","v":1527.5055404974444},{"$f":"INDEX(coordonnées_cadran_plat($D128,W$10,$C$3,$C$2,$C$5,$C$6,0,0,$C$4),1,2)","v":1847.1687403804356}]
[null,6,8,"2010-08-06",{"$f":"INDEX(heures_limites_cadran($D129,$C$3,$C$2,$C$5),1,1)/24","v":"08:30:00"},{"$f":"INDEX(heures_limites_cadran($D129,$C$3,$C$2,$C$5),1,2)/24","v":"18:00:00"},{"$f":"INDEX(coordonnées_cadran_plat($D129,$G$10,$C$3,$C$2,$C$5,$C$6,0,0,$C$4),1,1)","v":2662.2072323739876},{"$f":"INDEX(coordonnées_cadran_plat($D129,$G$10,$C$3,$C$2,$C$5,$C$6,0,0,$C$4),1,2)","v":-5366.2681500118988},{"$f":"INDEX(coordonnées_cadran_plat($D129,I$10,$C$3,$C$2,$C$5,$C$6,0,0,$C$4),1,1)","v":1300.6605402119701},{"$f":"INDEX(coordonnées_cadran_plat($D129,I$10,$C$3,$C$2,$C$5,$C$6,0,0,$C$4),1,2)","v":-1689.8625260849565},{"$f":"INDEX(coordonnées_cadran_plat($D129,K$10,$C$3,$C$2,$C$5,$C$6,0,0,$C$4),1,1)","v":1037.5668072112956},{"$f":"INDEX(coordonnées_cadran_plat($D129,K$10,$C$3,$C$2,$C$5,$C$6,0,0,$C$4),1,2)","v":-859.83459090623603},{"$f":"INDEX(coordonnées_cadran_plat($D129,M$10,$C$3,$C$2,$C$5,$C$6,0,0,$C$4),1,1)","v":943.1326703064575},{"$f":"INDEX(coordonnées_cadran_plat($D129,M$10,$C$3,$C$2,$C$5,$C$6,0,0,$C$4),1,2)","v":-440.796548304488},{"$f":"INDEX(coordonnées_cadran_plat($D129,O$10,$C$3,$C$2,$C$5,$C$6,0,0,$C$4),1,1)","v":913.12691583675951},{"$f":"INDEX(coordonnées_cadran_plat($D129,O$10,$C$3,$C$2,$C$5,$C$6,0,0,$C$4),1,2)","v":-142.95670833829178},{"$f":"INDEX(coordonnées_cadran_plat($D129,Q$10,$C$3,$C$2,$C$5,$C$6,0,0,$C$4),1,1)","v":924.78717233521877},{"$f":"INDEX(coordonnées_cadran_plat($D129,Q$10,$C$3,$C$2,$C$5,$C$6,0,0,$C$4),1,2)","v":126.92946066287706},{"$f":"INDEX(coordonnées_cadran_plat($D129,S$10,$C$3,$C$2,$C$5,$C$6,0,0,$C$4),1,1)","v":981.8733625132046},{"$f":"INDEX(coordonnées_cadran_plat($D129,S$10,$C$3,$C$2,$C$5,$C$6,0,0,$C$4),1,2)","v":432.60373168289181},{"$f":"INDEX(coordonnées_cadran_plat($D129,U$10,$C$3,$C$2,$C$5,$C$6,0,0,$C$4),1,1)","v":1120.0176927932384},{"$f":"INDEX(coordonnées_cadran_plat($D129,U$10,$C$3,$C$2,$C$5,$C$6,0,0,$C$4),1,2)","v":878.16915725839067},{"$f":"INDEX(coordonnées_cadran_plat($D129,W$10,$C$3,$C$2,$C$5,$C$6,0,0,$C$4),1,1)","v":1497.1642631655936},{"$f":"INDEX(coordonnées_cadran_plat($D129,W$10,$C$3,$C$2,$C$5,$C$6,0,0,$C$4),1,2)","v":1823.0012928991825}]
[null,7,8,"2010-08-07",{"$f":"INDEX(heures_limites_cadran($D130,$C$3,$C$2,$C$5),1,1)/24","v":"08:30:00"},{"$f":"INDEX(heures_limites_cadran($D130,$C$3,$C$2,$C$5),1,2)/24","v":"18:00:00"},{"$f":"INDEX(coordonnées_cadran_plat($D130,$G$10,$C$3,$C$2,$C$5,$C$6,0,0,$C$4),1,1)","v":2538.097549284777},{"$f":"INDEX(coordonnées_cadran_plat($D130,$G$10,$C$3,$C$2,$C$5,$C$6,0,0,$C$4),1,2)","v":-5154.1360520043409},{"$f":"INDEX(coordonnées_cadran_plat($D130,I$10,$C$3,$C$2,$C$5,$C$6,0,0,$C$4),1,1)","v":1274.2424502011352},{"$f":"INDEX(coordonnées_cadran_plat($D130,I$10,$C$3,$C$2,$C$5,$C$6,0,0,$C$4),1,2)","v":-1664.3815945974438},{"$f":"INDEX(coordonnées_cadran_plat($D130,K$10,$C$3,$C$2,$C$5,$C$6,0,0,$C$4),1,1)","v":1022.6492496062442},{"$f":"INDEX(coordonnées_cadran_plat($D130,K$10,$C$3,$C$2,$C$5,$C$6,0,0,$C$4),1,2)","v":-850.93760043319242},{"$f":"INDEX(coordonnées_cadran_plat($D130,M$10,$C$3,$C$2,$C$5,$C$6,0,0,$C$4),1,1)","v":931.8409402455851},{"$f":"INDEX(coordonnées_cadran_plat($D130,M$10,$C$3,$C$2,$C$5,$C$6,0,0,$C$4),1,2)","v":-436.80428884679179},{"$f":"INDEX(coordonnées_cadran_plat($D130,O$10,$C$3,$C$2,$C$5,$C$6,0,0,$C$4),1,1)","v":903.07972655080607},{"$f":"INDEX(coordonnées_cadran_plat($D130,O$10,$C$3,$C$2,$C$5,$C$6,0,0,$C$4),1,2)","v":-141.34011544231274},{"$f":"INDEX(coordonnées_cadran_plat($D130,Q$10,$C$3,$C$2,$C$5,$C$6,0,0,$C$4),1,1)","v":914.66000003510123},{"$f":"INDEX(coordonnées_cadran_plat($D130,Q$10,$C$3,$C$2,$C$5,$C$6,0,0,$C$4),1,2)","v":126.7640949253005},{"$f":"INDEX(coordonnées_cadran_plat($D130,S$10,$C$3,$C$2,$C$5,$C$6,0,0,$C$4),1,1)","v":970.28254129455343},{"$f":"INDEX(coordonnées_cadran_plat($D130,S$10,$C$3,$C$2,$C$5,$C$6,0,0,$C$4),1,2)","v":430.23808757610931},{"$f":"INDEX(coordonnées_cadran_plat($D130,U$10,$C$3,$C$2,$C$5,$C$6,0,0,$C$4),1,1)","v":1104.2653858433612},{"$f":"INDEX(coordonnées_cadran_plat($D130,U$10,$C$3,$C$2,$C$5,$C$6,0,0,$C$4),1,2)","v":871.28731685303444},{"$f":"INDEX(coordonnées_cadran_plat($D130,W$10,$C$3,$C$2,$C$5,$C$6,0,0,$C$4),1,1)","v":1467.3415136051094},{"$f":"INDEX(coordonnées_cadran_plat($D130,W$10,$C$3,$C$2,$C$5,$C$6,0,0,$C$4),1,2)","v":1799.3915461464767}]
[null,8,8,"2010-08-08",{"$f":"INDEX(heures_limites_cadran($D131,$C$3,$C$2,$C$5),1,1)/24","v":"08:30:00"},{"$f":"INDEX(heures_limites_cadran($D131,$C$3,$C$2,$C$5),1,2)/24","v":"18:00:00"},{"$f":"INDEX(coordonnées_cadran_plat($D131,$G$10,$C$3,$C$2,$C$5,$C$6,0,0,$C$4),1,1)","v":2421.4676935443922},{"$f":"INDEX(coordonnées_cadran_plat($D131,$G$10,$C$3,$C$2,$C$5,$C$6,0,0,$C$4),1,2)","v":-4954.3097808871571},{"$f":"INDEX(coordonnées_cadran_plat($D131,I$10,$C$3,$C$2,$C$5,$C$6,0,0,$C$4),1,1)","v":1248.1982942689842},{"$f":"INDEX(coordonnées_cadran_plat($D131,I$10,$C$3,$C$2,$C$5,$C$6,0,0,$C$4),1,2)","v":-1639.1423215441152},{"$f":"INDEX(coordonnées_cadran_plat($D131,K$10,$C$3,$C$2,$C$5,$C$6,0,0,$C$4),1,1)","v":1007.8066090916381},{"$f":"INDEX(coordonnées_cadran_plat($D131,K$10,$C$3,$C$2,$C$5,$C$6,0,0,$C$4),1,2)","v":-842.02351083711778},{"$f":"INDEX(coordonnées_cadran_plat($D131,M$10,$C$3,$C$2,$C$5,$C$6,0,0,$C$4),1,1)","v":920.56879441944761},{"$f":"INDEX(coordonnées_cadran_plat($D131,M$10,$C$3,$C$2,$C$5,$C$6,0,0,$C$4),1,2)","v":-432.77548584165106},{"$f":"INDEX(coordonnées_cadran_plat($D131,O$10,$C$3,$C$2,$C$5,$C$6,0,0,$C$4),1,1)","v":893.03895779901177},{"$f":"INDEX(coordonnées_cadran_plat($D131,O$10,$C$3,$C$2,$C$5,$C$6,0,0,$C$4),1,2)","v":-139.68722802182151},{"$f":"INDEX(coordonnées_cadran_plat($D131,Q$10,$C$3,$C$2,$C$5,$C$6,0,0,$C$4),1,1)","v":904.54200094525231},{"$f":"INDEX(coordonnées_cadran_plat($D131,Q$10,$C$3,$C$2,$C$5,$C$6,0,0,$C$4),1,2)","v":126.63675186755734},{"$f":"INDEX(coordonnées_cadran_plat($D131,S$10,$C$3,$C$2,$C$5,$C$6,0,0,$C$4),1,1)","v":958.72161064511874},{"$f":"INDEX(coordonnées_cadran_plat($D131,S$10,$C$3,$C$2,$C$5,$C$6,0,0,$C$4),1,2)","v":427.92407509506478},{"$f":"INDEX(coordonnées_cadran_plat($D131,U$10,$C$3,$C$2,$C$5,$C$6,0,0,$C$4),1,1)","v":1088.6175217903149},{"$f":"INDEX(coordonnées_cadran_plat($D131,U$10,$C$3,$C$2,$C$5,$C$6,0,0,$C$4),1,2)","v":864.51866888725192},{"$f":"INDEX(coordonnées_cadran_plat($D131,W$10,$C$3,$C$2,$C$5,$C$6,0,0,$C$4),1,1)","v":1438.0347508899081},{"$f":"INDEX(coordonnées_cadran_plat($D131,W$10,$C$3,$C$2,$C$5,$C$6,0,0,$C$4),1,2)","v":1776.331024845761}]
[null,9,8,"2010-08-09",{"$f":"INDEX(heures_limites_cadran($D132,$C$3,$C$2,$C$5),1,1)/24","v":"08:30:00"},{"$f":"INDEX(heures_limites_cadran($D132,$C$3,$C$2,$C$5),1,2)/24","v":"18:00:00"},{"$f":"INDEX(coordonnées_cadran_plat($D132,$G$10,$C$3,$C$2,$C$5,$C$6,0,0,$C$4),1,1)","v":2311.7734344007063},{"$f":"INDEX(coordonnées_cadran_plat($D132,$G$10,$C$3,$C$2,$C$5,$C$6,0,0,$C$4),1,2)","v":-4765.9155839045761},{"$f":"INDEX(coordonnées_cadran_plat($D132,I$10,$C$3,$C$2,$C$5,$C$6,0,0,$C$4),1,1)","v":1222.5417842825484},{"$f":"INDEX(coordonnées_cadran_plat($D132,I$10,$C$3,$C$2,$C$5,$C$6,0,0,$C$4),1,2)","v":-1614.163761260131},{"$f":"INDEX(coordonnées_cadran_plat($D132,K$10,$C$3,$C$2,$C$5,$C$6,0,0,$C$4),1,1)","v":993.04931458412},{"$f":"INDEX(coordonnées_cadran_plat($D132,K$10,$C$3,$C$2,$C$5,$C$6,0,0,$C$4),1,2)","v":-833.10064365282574},{"$f":"INDEX(coordonnées_cadran_plat($D132,M$10,$C$3,$C$2,$C$5,$C$6,0,0,$C$4),1,1)","v":909.32381357276302},{"$f":"INDEX(coordonnées_cadran_plat($D132,M$10,$C$3,$C$2,$C$5,$C$6,0,0,$C$4),1,2)","v":-428.71404112187457},{"$f":"INDEX(coordonnées_cadran_plat($D132,O$10,$C$3,$C$2,$C$5,$C$6,0,0,$C$4),1,1)","v":883.01086555272229},{"$f":"INDEX(coordonnées_cadran_plat($D132,O$10,$C$3,$C$2,$C$5,$C$6,0,0,$C$4),1,2)","v":-138.00000877773422},{"$f":"INDEX(coordonnées_cadran_plat($D132,Q$10,$C$3,$C$2,$C$5,$C$6,0,0,$C$4),1,1)","v":894.43895257858719},{"$f":"INDEX(coordonnées_cadran_plat($D132,Q$10,$C$3,$C$2,$C$5,$C$6,0,0,$C$4),1,2)","v":126.54657219930979},{"$f":"INDEX(coordonnées_cadran_plat($D132,S$10,$C$3,$C$2,$C$5,$C$6,0,0,$C$4),1,1)","v":947.19641790299386},{"$f":"INDEX(coordonnées_cadran_plat($D132,S$10,$C$3,$C$2,$C$5,$C$6,0,0,$C$4),1,2)","v":425.66167005591421},{"$f":"INDEX(coordonnées_cadran_plat($D132,U$10,$C$3,$C$2,$C$5,$C$6,0,0,$C$4),1,1)","v":1073.0800164209058},{"$f":"INDEX(coordonnées_cadran_plat($D132,U$10,$C$3,$C$2,$C$5,$C$6,0,0,$C$4),1,2)","v":857.86366624531092},{"$f":"INDEX(coordonnées_cadran_plat($D132,W$10,$C$3,$C$2,$C$5,$C$6,0,0,$C$4),1,1)","v":1409.2405243070561},{"$f":"INDEX(coordonnées_cadran_plat($D132,W$10,$C$3,$C$2,$C$5,$C$6,0,0,$C$4),1,2)","v":1753.8106130879648}]
[null,10,8,"2010-08-10",{"$f":"INDEX(heures_limites_cadran($D133,$C$3,$C$2,$C$5),1,1)/24","v":"08:30:00"},{"$f":"INDEX(heures_limites_cadran($D133,$C$3,$C$2,$C$5),1,2)/24","v":"18:00:00"},{"$f":"INDEX(coordonnées_cadran_plat($D133,$G$10,$C$3,$C$2,$C$5,$C$6,0,0,$C$4),1,1)","v":2208.5148842449739},{"$f":"INDEX(coordonnées_cadran_plat($D133,$G$10,$C$3,$C$2,$C$5,$C$6,0,0,$C$4),1,2)","v":-4588.1496287849241},{"$f":"INDEX(coordonnées_cadran_plat($D133,I$10,$C$3,$C$2,$C$5,$C$6,0,0,$C$4),1,1)","v":1197.2846346927954},{"$f":"INDEX(coordonnées_cadran_plat($D133,I$10,$C$3,$C$2,$C$5,$C$6,0,0,$C$4),1,2)","v":-1589.4630336461587},{"$f":"INDEX(coordonnées_cadran_plat($D133,K$10,$C$3,$C$2,$C$5,$C$6,0,0,$C$4),1,1)","v":978.38705820400025},{"$f":"INDEX(coordonnées_cadran_plat($D133,K$10,$C$3,$C$2,$C$5,$C$6,0,0,$C$4),1,2)","v":-824.17693897839081},{"$f":"INDEX(coordonnées_cadran_plat($D133,M$10,$C$3,$C$2,$C$5,$C$6,0,0,$C$4),1,1)","v":898.11315850257279},{"$f":"INDEX(coordonnées_cadran_plat($D133,M$10,$C$3,$C$2,$C$5,$C$6,0,0,$C$4),1,2)","v":-424.62375783126851},{"$f":"INDEX(coordonnées_cadran_plat($D133,O$10,$C$3,$C$2,$C$5,$C$6,0,0,$C$4),1,1)","v":873.00138441506363},{"$f":"INDEX(coordonnées_cadran_plat($D133,O$10,$C$3,$C$2,$C$5,$C$6,0,0,$C$4),1,2)","v":-136.28041240255399},{"$f":"INDEX(coordonnées_cadran_plat($D133,Q$10,$C$3,$C$2,$C$5,$C$6,0,0,$C$4),1,1)","v":884.35632431339309},{"$f":"INDEX(coordonnées_cadran_plat($D133,Q$10,$C$3,$C$2,$C$5,$C$6,0,0,$C$4),1,2)","v":126.49264940861467},{"$f":"INDEX(coordonnées_cadran_plat($D133,S$10,$C$3,$C$2,$C$5,$C$6,0,0,$C$4),1,1)","v":935.71244629428804},{"$f":"INDEX(coordonnées_cadran_plat($D133,S$10,$C$3,$C$2,$C$5,$C$6,0,0,$C$4),1,2)","v":423.45072986129526},{"$f":"INDEX(coordonnées_cadran_plat($D133,U$10,$C$3,$C$2,$C$5,$C$6,0,0,$C$4),1,1)","v":1057.6582457766262},{"$f":"INDEX(coordonnées_cadran_plat($D133,U$10,$C$3,$C$2,$C$5,$C$6,0,0,$C$4),1,2)","v":851.32248432031054},{"$f":"INDEX(coordonnées_cadran_plat($D133,W$10,$C$3,$C$2,$C$5,$C$6,0,0,$C$4),1,1)","v":1380.9545792965557},{"$f":"INDEX(coordonnées_cadran_plat($D133,W$10,$C$3,$C$2,$C$5,$C$6,0,0,$C$4),1,2)","v":1731.8206473863011}]
[null,11,8,"2010-08-11",{"$f":"INDEX(heures_limites_cadran($D134,$C$3,$C$2,$C$5),1,1)/24","v":"08:30:00"},{"$f":"INDEX(heures_limites_cadran($D134,$C$3,$C$2,$C$5),1,2)/24","v":"18:00:00"},{"$f":"INDEX(coordonnées_cadran_plat($D134,$G$10,$C$3,$C$2,$C$5,$C$6,0,0,$C$4),1,1)","v":2111.2327226284415},{"$f":"INDEX(coordonnées_cadran_plat($D134,$G$10,$C$3,$C$2,$C$5,$C$6,0,0,$C$4),1,2)","v":-4420.2721904568998},{"$f":"INDEX(coordonnées_cadran_plat($D134,I$10,$C$3,$C$2,$C$5,$C$6,0,0,$C$4),1,1)","v":1172.4366858629119},{"$f":"INDEX(coordonnées_cadran_plat($D134,I$10,$C$3,$C$2,$C$5,$C$6,0,0,$C$4),1,2)","v":-1565.0554202468227},{"$f":"INDEX(coordonnées_cadran_plat($D134,K$10,$C$3,$C$2,$C$5,$C$6,0,0,$C$4),1,1)","v":963.82881407101763},{"$f":"INDEX(coordonnées_cadran_plat($D134,K$10,$C$3,$C$2,$C$5,$C$6,0,0,$C$4),1,2)","v":-815.25995694580547},{"$f":"INDEX(coordonnées_cadran_plat($D134,M$10,$C$3,$C$2,$C$5,$C$6,0,0,$C$4),1,1)","v":886.94357650683321},{"$f":"INDEX(coordonnées_cadran_plat($D134,M$10,$C$3,$C$2,$C$5,$C$6,0,0,$C$4),1,2)","v":-420.50833713507313},{"$f":"INDEX(coordonnées_cadran_plat($D134,O$10,$C$3,$C$2,$C$5,$C$6,0,0,$C$4),1,1)","v":863.01613245148246},{"$f":"INDEX(coordonnées_cadran_plat($D134,O$10,$C$3,$C$2,$C$5,$C$6,0,0,$C$4),1,2)","v":-134.5303821886904},{"$f":"INDEX(coordonnées_cadran_plat($D134,Q$10,$C$3,$C$2,$C$5,$C$6,0,0,$C$4),1,1)","v":874.29928373809594},{"$f":"INDEX(coordonnées_cadran_plat($D134,Q$10,$C$3,$C$2,$C$5,$C$6,0,0,$C$4),1,2)","v":126.47403377951267},{"$f":"INDEX(coordonnées_cadran_plat($D134,S$10,$C$3,$C$2,$C$5,$C$6,0,0,$C$4),1,1)","v":924.27482641015604},{"$f":"INDEX(coordonnées_cadran_plat($D134,S$10,$C$3,$C$2,$C$5,$C$6,0,0,$C$4),1,2)","v":421.29100040844264},{"$f":"INDEX(coordonnées_cadran_plat($D134,U$10,$C$3,$C$2,$C$5,$C$6,0,0,$C$4),1,1)","v":1042.357073993282},{"$f":"INDEX(coordonnées_cadran_plat($D134,U$10,$C$3,$C$2,$C$5,$C$6,0,0,$C$4),1,2)","v":844.89503981728876},{"$f":"INDEX(coordonnées_cadran_plat($D134,W$10,$C$3,$C$2,$C$5,$C$6,0,0,$C$4),1,1)","v":1353.1719553274856},{"$f":"INDEX(coordonnées_cadran_plat($D134,W$10,$C$3,$C$2,$C$5,$C$6,0,0,$C$4),1,2)","v":1710.3510017737281}]
[null,12,8,"2010-08-12",{"$f":"INDEX(heures_limites_cadran($D135,$C$3,$C$2,$C$5),1,1)/24","v":"08:30:00"},{"$f":"INDEX(heures_limites_cadran($D135,$C$3,$C$2,$C$5),1,2)/24","v":"18:00:00"},{"$f":"INDEX(coordonnées_cadran_plat($D135,$G$10,$C$3,$C$2,$C$5,$C$6,0,0,$C$4),1,1)","v":2019.5047176406931},{"$f":"INDEX(coordonnées_cadran_plat($D135,$G$10,$C$3,$C$2,$C$5,$C$6,0,0,$C$4),1,2)","v":-4261.6022743835983},{"$f":"INDEX(coordonnées_cadran_plat($D135,I$10,$C$3,$C$2,$C$5,$C$6,0,0,$C$4),1,1)","v":1148.0060263716666},{"$f":"INDEX(coordonnées_cadran_plat($D135,I$10,$C$3,$C$2,$C$5,$C$6,0,0,$C$4),1,2)","v":-1540.9544618806206},{"$f":"INDEX(coordonnées_cadran_plat($D135,K$10,$C$3,$C$2,$C$5,$C$6,0,0,$C$4),1,1)","v":949.38285893529132},{"$f":"INDEX(coordonnées_cadran_plat($D135,K$10,$C$3,$C$2,$C$5,$C$6,0,0,$C$4),1,2)","v":-806.35688082872662},{"$f":"INDEX(coordonnées_cadran_plat($D135,M$10,$C$3,$C$2,$C$5,$C$6,0,0,$C$4),1,1)","v":875.8214090097656},{"$f":"INDEX(coordonnées_cadran_plat($D135,M$10,$C$3,$C$2,$C$5,$C$6,0,0,$C$4),1,2)","v":-416.37137556697127},{"$f":"INDEX(coordonnées_cadran_plat($D135,O$10,$C$3,$C$2,$C$5,$C$6,0,0,$C$4),1,1)","v":853.06041684280751},{"$f":"INDEX(coordonnées_cadran_plat($D135,O$10,$C$3,$C$2,$C$5,$C$6,0,0,$C$4),1,2)","v":-132.75184691598983},{"$f":"INDEX(coordonnées_cadran_plat($D135,Q$10,$C$3,$C$2,$C$5,$C$6,0,0,$C$4),1,1)","v":864.27270362205684},{"$f":"INDEX(coordonnées_cadran_plat($D135,Q$10,$C$3,$C$2,$C$5,$C$6,0,0,$C$4),1,2)","v":126.48973627113463},{"$f":"INDEX(coordonnées_cadran_plat($D135,S$10,$C$3,$C$2,$C$5,$C$6,0,0,$C$4),1,1)","v":912.88834809787352},{"$f":"INDEX(coordonnées_cadran_plat($D135,S$10,$C$3,$C$2,$C$5,$C$6,0,0,$C$4),1,2)","v":419.18212286476154},{"$f":"INDEX(coordonnées_cadran_plat($D135,U$10,$C$3,$C$2,$C$5,$C$6,0,0,$C$4),1,1)","v":1027.1808807553741},{"$f":"INDEX(coordonnées_cadran_plat($D135,U$10,$C$3,$C$2,$C$5,$C$6,0,0,$C$4),1,2)","v":838.58100892369657},{"$f":"INDEX(coordonnées_cadran_plat($D135,W$10,$C$3,$C$2,$C$5,$C$6,0,0,$C$4),1,1)","v":1325.8870761019439},{"$f":"INDEX(coordonnées_cadran_plat($D135,W$10,$C$3,$C$2,$C$5,$C$6,0,0,$C$4),1,2)","v":1689.3911654180013}]
[null,13,8,"2010-08-13",{"$f":"INDEX(heures_limites_cadran($D136,$C$3,$C$2,$C$5),1,1)/24","v":"08:30:00"},{"$f":"INDEX(heures_limites_cadran($D136,$C$3,$C$2,$C$5),1,2)/24","v":"18:00:00"},{"$f":"INDEX(coordonnées_cadran_plat($D136,$G$10,$C$3,$C$2,$C$5,$C$6,0,0,$C$4),1,1)","v":1932.9425316135034},{"$f":"INDEX(coordonnées_cadran_plat($D136,$G$10,$C$3,$C$2,$C$5,$C$6,0,0,$C$4),1,2)","v":-4111.5126620226656},{"$f":"INDEX(coordonnées_cadran_plat($D136,I$10,$C$3,$C$2,$C$5,$C$6,0,0,$C$4),1,1)","v":1123.9991133710043},{"$f":"INDEX(coordonnées_cadran_plat($D136,I$10,$C$3,$C$2,$C$5,$C$6,0,0,$C$4),1,2)","v":-1517.1720568033543},{"$f":"INDEX(coordonnées_cadran_plat($D136,K$10,$C$3,$C$2,$C$5,$C$6,0,0,$C$4),1,1)","v":935.05679434564956},{"$f":"INDEX(coordonnées_cadran_plat($D136,K$10,$C$3,$C$2,$C$5,$C$6,0,0,$C$4),1,2)","v":-797.47452161737272},{"$f":"INDEX(coordonnées_cadran_plat($D136,M$10,$C$3,$C$2,$C$5,$C$6,0,0,$C$4),1,1)","v":864.75260022687428},{"$f":"INDEX(coordonnées_cadran_plat($D136,M$10,$C$3,$C$2,$C$5,$C$6,0,0,$C$4),1,2)","v":-412.21636297473918},{"$f":"INDEX(coordonnées_cadran_plat($D136,O$10,$C$3,$C$2,$C$5,$C$6,0,0,$C$4),1,1)","v":843.13924026761492},{"$f":"INDEX(coordonnées_cadran_plat($D136,O$10,$C$3,$C$2,$C$5,$C$6,0,0,$C$4),1,2)","v":-130.9467180113933},{"$f":"INDEX(coordonnées_cadran_plat($D136,Q$10,$C$3,$C$2,$C$5,$C$6,0,0,$C$4),1,1)","v":854.28116942833651},{"$f":"INDEX(coordonnées_cadran_plat($D136,Q$10,$C$3,$C$2,$C$5,$C$6,0,0,$C$4),1,2)","v":126.53873225269741},{"$f":"INDEX(coordonnées_cadran_plat($D136,S$10,$C$3,$C$2,$C$5,$C$6,0,0,$C$4),1,1)","v":901.55747267238735},{"$f":"INDEX(coordonnées_cadran_plat($D136,S$10,$C$3,$C$2,$C$5,$C$6,0,0,$C$4),1,2)","v":417.12364029202445},{"$f":"INDEX(coordonnées_cadran_plat($D136,U$10,$C$3,$C$2,$C$5,$C$6,0,0,$C$4),1,1)","v":1012.1335882571991},{"$f":"INDEX(coordonnées_cadran_plat($D136,U$10,$C$3,$C$2,$C$5,$C$6,0,0,$C$4),1,2)","v":832.37984481782848},{"$f":"INDEX(coordonnées_cadran_plat($D136,W$10,$C$3,$C$2,$C$5,$C$6,0,0,$C$4),1,1)","v":1299.0938324903102},{"$f":"INDEX(coordonnées_cadran_plat($D136,W$10,$C$3,$C$2,$C$5,$C$6,0,0,$C$4),1,2)","v":1668.9303132289581}]
[null,14,8,"2010-08-14",{"$f":"INDEX(heures_limites_cadran($D137,$C$3,$C$2,$C$5),1,1)/24","v":"08:30:00"},{"$f":"INDEX(heures_limites_cadran($D137,$C$3,$C$2,$C$5),1,2)/24","v":"18:00:00"},{"$f":"INDEX(coordonnées_cadran_plat($D137,$G$10,$C$3,$C$2,$C$5,$C$6,0,0,$C$4),1,1)","v":1851.1887953747428},{"$f":"INDEX(coordonnées_cadran_plat($D137,$G$10,$C$3,$C$2,$C$5,$C$6,0,0,$C$4),1,2)","v":-3969.4253585221222},{"$f":"INDEX(coordonnées_cadran_plat($D137,I$10,$C$3,$C$2,$C$5,$C$6,0,0,$C$4),1,1)","v":1100.4208902248172},{"$f":"INDEX(coordonnées_cadran_plat($D137,I$10,$C$3,$C$2,$C$5,$C$6,0,0,$C$4),1,2)","v":-1493.7185585220318},{"$f":"INDEX(coordonnées_cadran_plat($D137,K$10,$C$3,$C$2,$C$5,$C$6,0,0,$C$4),1,1)","v":920.85757007631832},{"$f":"INDEX(coordonnées_cadran_plat($D137,K$10,$C$3,$C$2,$C$5,$C$6,0,0,$C$4),1,2)","v":-788.61932389825427},{"$f":"INDEX(coordonnées_cadran_plat($D137,M$10,$C$3,$C$2,$C$5,$C$6,0,0,$C$4),1,1)","v":853.74270673846934},{"$f":"INDEX(coordonnées_cadran_plat($D137,M$10,$C$3,$C$2,$C$5,$C$6,0,0,$C$4),1,2)","v":-408.0466810247118},{"$f":"INDEX(coordonnées_cadran_plat($D137,O$10,$C$3,$C$2,$C$5,$C$6,0,0,$C$4),1,1)","v":833.2573079249662},{"$f":"INDEX(coordonnées_cadran_plat($D137,O$10,$C$3,$C$2,$C$5,$C$6,0,0,$C$4),1,2)","v":-129.11688697154517},{"$f":"INDEX(coordonnées_cadran_plat($D137,Q$10,$C$3,$C$2,$C$5,$C$6,0,0,$C$4),1,1)","v":844.32898728924442},{"$f":"INDEX(coordonnées_cadran_plat($D137,Q$10,$C$3,$C$2,$C$5,$C$6,0,0,$C$4),1,2)","v":126.61996508967228},{"$f":"INDEX(coordonnées_cadran_plat($D137,S$10,$C$3,$C$2,$C$5,$C$6,0,0,$C$4),1,1)","v":890.28634536119966},{"$f":"INDEX(coordonnées_cadran_plat($D137,S$10,$C$3,$C$2,$C$5,$C$6,0,0,$C$4),1,2)","v":415.11500410156737},{"$f":"INDEX(coordonnées_cadran_plat($D137,U$10,$C$3,$C$2,$C$5,$C$6,0,0,$C$4),1,1)","v":997.2186875790045},{"$f":"INDEX(coordonnées_cadran_plat($D137,U$10,$C$3,$C$2,$C$5,$C$6,0,0,$C$4),1,2)","v":826.29079449245626},{"$f":"INDEX(coordonnées_cadran_plat($D137,W$10,$C$3,$C$2,$C$5,$C$6,0,0,$C$4),1,1)","v":1272.7856586031876},{"$f":"INDEX(coordonnées_cadran_plat($D137,W$10,$C$3,$C$2,$C$5,$C$6,0,0,$C$4),1,2)","v":1648.9573699187658}]
[null,15,8,"2010-08-15",{"$f":"INDEX(heures_limites_cadran($D138,$C$3,$C$2,$C$5),1,1)/24","v":"08:30:00"},{"$f":"INDEX(heures_limites_cadran($D138,$C$3,$C$2,$C$5),1,2)/24","v":"18:30:00"},{"$f":"INDEX(coordonnées_cadran_plat($D138,$G$10,$C$3,$C$2,$C$5,$C$6,0,0,$C$4),1,1)","v":1773.9144337996338},{"$f":"INDEX(coordonnées_cadran_plat($D138,$G$10,$C$3,$C$2,$C$5,$C$6,0,0,$C$4),1,2)","v":-3834.8074195450172},{"$f":"INDEX(coordonnées_cadran_plat($D138,I$10,$C$3,$C$2,$C$5,$C$6,0,0,$C$4),1,1)","v":1077.2749007903858},{"$f":"INDEX(coordonnées_cadran_plat($D138,I$10,$C$3,$C$2,$C$5,$C$6,0,0,$C$4),1,2)","v":-1470.6028724977789},{"$f":"INDEX(coordonnées_cadran_plat($D138,K$10,$C$3,$C$2,$C$5,$C$6,0,0,$C$4),1,1)","v":906.79150855228329},{"$f":"INDEX(coordonnées_cadran_plat($D138,K$10,$C$3,$C$2,$C$5,$C$6,0,0,$C$4),1,2)","v":-779.79737288068338},{"$f":"INDEX(coordonnées_cadran_plat($D138,M$10,$C$3,$C$2,$C$5,$C$6,0,0,$C$4),1,1)","v":842.79690784613899},{"$f":"INDEX(coordonnées_cadran_plat($D138,M$10,$C$3,$C$2,$C$5,$C$6,0,0,$C$4),1,2)","v":-403.86560222800858},{"$f":"INDEX(coordonnées_cadran_plat($D138,O$10,$C$3,$C$2,$C$5,$C$6,0,0,$C$4),1,1)","v":823.41903511221813},{"$f":"INDEX(coordonnées_cadran_plat($D138,O$10,$C$3,$C$2,$C$5,$C$6,0,0,$C$4),1,2)","v":-127.26422303975113},{"$f":"INDEX(coordonnées_cadran_plat($D138,Q$10,$C$3,$C$2,$C$5,$C$6,0,0,$C$4),1,1)","v":834.42019236928013},{"$f":"INDEX(coordonnées_cadran_plat($D138,Q$10,$C$3,$C$2,$C$5,$C$6,0,0,$C$4),1,2)","v":126.7323495770261},{"$f":"INDEX(coordonnées_cadran_plat($D138,S$10,$C$3,$C$2,$C$5,$C$6,0,0,$C$4),1,1)","v":879.07880790372121},{"$f":"INDEX(coordonnées_cadran_plat($D138,S$10,$C$3,$C$2,$C$5,$C$6,0,0,$C$4),1,2)","v":413.15558032685959},{"$f":"INDEX(coordonnées_cadran_plat($D138,U$10,$C$3,$C$2,$C$5,$C$6,0,0,$C$4),1,1)","v":982.43926440047403},{"$f":"INDEX(coordonnées_cadran_plat($D138,U$10,$C$3,$C$2,$C$5,$C$6,0,0,$C$4),1,2)","v":820.31291487829776},{"$f":"INDEX(coordonnées_cadran_plat($D138,W$10,$C$3,$C$2,$C$5,$C$6,0,0,$C$4),1,1)","v":1246.9556014063062},{"$f":"INDEX(coordonnées_cadran_plat($D138,W$10,$C$3,$C$2,$C$5,$C$6,0,0,$C$4),1,2)","v":1629.4610679663297}]
[null,16,8,"2010-08-16",{"$f":"INDEX(heures_limites_cadran($D139,$C$3,$C$2,$C$5),1,1)/24","v":"08:30:00"},{"$f":"INDEX(heures_limites_cadran($D139,$C$3,$C$2,$C$5),1,2)/24","v":"18:30:00"},{"$f":"INDEX(coordonnées_cadran_plat($D139,$G$10,$C$3,$C$2,$C$5,$C$6,0,0,$C$4),1,1)","v":1700.816224810146},{"$f":"INDEX(coordonnées_cadran_plat($D139,$G$10,$C$3,$C$2,$C$5,$C$6,0,0,$C$4),1,2)","v":-3707.1671324238591},{"$f":"INDEX(coordonnées_cadran_plat($D139,I$10,$C$3,$C$2,$C$5,$C$6,0,0,$C$4),1,1)","v":1054.5633998259582},{"$f":"INDEX(coordonnées_cadran_plat($D139,I$10,$C$3,$C$2,$C$5,$C$6,0,0,$C$4),1,2)","v":-1447.832551091597},{"$f":"INDEX(coordonnées_cadran_plat($D139,K$10,$C$3,$C$2,$C$5,$C$6,0,0,$C$4),1,1)","v":892.86433003203763},{"$f":"INDEX(coordonnées_cadran_plat($D139,K$10,$C$3,$C$2,$C$5,$C$6,0,0,$C$4),1,2)","v":-771.01440242008402},{"$f":"INDEX(coordonnées_cadran_plat($D139,M$10,$C$3,$C$2,$C$5,$C$6,0,0,$C$4),1,1)","v":831.92001659363768},{"$f":"INDEX(coordonnées_cadran_plat($D139,M$10,$C$3,$C$2,$C$5,$C$6,0,0,$C$4),1,2)","v":-399.67628944701192},{"$f":"INDEX(coordonnées_cadran_plat($D139,O$10,$C$3,$C$2,$C$5,$C$6,0,0,$C$4),1,1)","v":813.6285552776734},{"$f":"INDEX(coordonnées_cadran_plat($D139,O$10,$C$3,$C$2,$C$5,$C$6,0,0,$C$4),1,2)","v":-125.39057112574463},{"$f":"INDEX(coordonnées_cadran_plat($D139,Q$10,$C$3,$C$2,$C$5,$C$6,0,0,$C$4),1,1)","v":824.55855754555921},{"$f":"INDEX(coordonnées_cadran_plat($D139,Q$10,$C$3,$C$2,$C$5,$C$6,0,0,$C$4),1,2)","v":126.87477521821681},{"$f":"INDEX(coordonnées_cadran_plat($D139,S$10,$C$3,$C$2,$C$5,$C$6,0,0,$C$4),1,1)","v":867.93841123264212},{"$f":"INDEX(coordonnées_cadran_plat($D139,S$10,$C$3,$C$2,$C$5,$C$6,0,0,$C$4),1,2)","v":411.24465570228364},{"$f":"INDEX(coordonnées_cadran_plat($D139,U$10,$C$3,$C$2,$C$5,$C$6,0,0,$C$4),1,1)","v":967.79802398888785},{"$f":"INDEX(coordonnées_cadran_plat($D139,U$10,$C$3,$C$2,$C$5,$C$6,0,0,$C$4),1,2)","v":814.44508826127981},{"$f":"INDEX(coordonnées_cadran_plat($D139,W$10,$C$3,$C$2,$C$5,$C$6,0,0,$C$4),1,1)","v":1221.5963842818726},{"$f":"INDEX(coordonnées_cadran_plat($D139,W$10,$C$3,$C$2,$C$5,$C$6,0,0,$C$4),1,2)","v":1610.4299999291904}]
[null,17,8,"2010-08-17",{"$f":"INDEX(heures_limites_cadran($D140,$C$3,$C$2,$C$5),1,1)/24","v":"08:30:00"},{"$f":"INDEX(heures_limites_cadran($D140,$C$3,$C$2,$C$5),1,2)/24","v":"18:30:00"},{"$f":"INDEX(coordonnées_cadran_plat($D140,$G$10,$C$3,$C$2,$C$5,$C$6,0,0,$C$4),1,1)","v":1631.6145740291736},{"$f":"INDEX(coordonnées_cadran_plat($D140,$G$10,$C$3,$C$2,$C$5,$C$6,0,0,$C$4),1,2)","v":-3586.0505263488203},{"$f":"INDEX(coordonnées_cadran_plat($D140,I$10,$C$3,$C$2,$C$5,$C$6,0,0,$C$4),1,1)","v":1032.2874591218399},{"$f":"INDEX(coordonnées_cadran_plat($D140,I$10,$C$3,$C$2,$C$5,$C$6,0,0,$C$4),1,2)","v":-1425.4138862156299},{"$f":"INDEX(coordonnées_cadran_plat($D140,K$10,$C$3,$C$2,$C$5,$C$6,0,0,$C$4),1,1)","v":879.08117832730954},{"$f":"INDEX(coordonnées_cadran_plat($D140,K$10,$C$3,$C$2,$C$5,$C$6,0,0,$C$4),1,2)","v":-762.27580389701757},{"$f":"INDEX(coordonnées_cadran_plat($D140,M$10,$C$3,$C$2,$C$5,$C$6,0,0,$C$4),1,1)","v":821.11649134017716},{"$f":"INDEX(coordonnées_cadran_plat($D140,M$10,$C$3,$C$2,$C$5,$C$6,0,0,$C$4),1,2)","v":-395.48179584581811},{"$f":"INDEX(coordonnées_cadran_plat($D140,O$10,$C$3,$C$2,$C$5,$C$6,0,0,$C$4),1,1)","v":803.88972847137074},{"$f":"INDEX(coordonnées_cadran_plat($D140,O$10,$C$3,$C$2,$C$5,$C$6,0,0,$C$4),1,2)","v":-123.49774995894246},{"$f":"INDEX(coordonnées_cadran_plat($D140,Q$10,$C$3,$C$2,$C$5,$C$6,0,0,$C$4),1,1)","v":814.7476023405801},{"$f":"INDEX(coordonnées_cadran_plat($D140,Q$10,$C$3,$C$2,$C$5,$C$6,0,0,$C$4),1,2)","v":127.04610934881653},{"$f":"INDEX(coordonnées_cadran_plat($D140,S$10,$C$3,$C$2,$C$5,$C$6,0,0,$C$4),1,1)","v":856.86842817216575},{"$f":"INDEX(coordonnées_cadran_plat($D140,S$10,$C$3,$C$2,$C$5,$C$6,0,0,$C$4),1,2)","v":409.38144353860145},{"$f":"INDEX(coordonnées_cadran_plat($D140,U$10,$C$3,$C$2,$C$5,$C$6,0,0,$C$4),1,1)","v":953.29731541007038},{"$f":"INDEX(coordonnées_cadran_plat($D140,U$10,$C$3,$C$2,$C$5,$C$6,0,0,$C$4),1,2)","v":808.68603699026778},{"$f":"INDEX(coordonnées_cadran_plat($D140,W$10,$C$3,$C$2,$C$5,$C$6,0,0,$C$4),1,1)","v":1196.700464926721},{"$f":"INDEX(coordonnées_cadran_plat($D140,W$10,$C$3,$C$2,$C$5,$C$6,0,0,$C$4),1,2)","v":1591.8526655176338}]
[null,18,8,"2010-08-18",{"$f":"INDEX(heures_limites_cadran($D141,$C$3,$C$2,$C$5),1,1)/24","v":"08:30:00"},{"$f":"INDEX(heures_limites_cadran($D141,$C$3,$C$2,$C$5),1,2)/24","v":"18:30:00"},{"$f":"INDEX(coordonnées_cadran_plat($D141,$G$10,$C$3,$C$2,$C$5,$C$6,0,0,$C$4),1,1)","v":1566.0514877498204},{"$f":"INDEX(coordonnées_cadran_plat($D141,$G$10,$C$3,$C$2,$C$5,$C$6,0,0,$C$4),1,2)","v":-3471.0381864805559},{"$f":"INDEX(coordonnées_cadran_plat($D141,I$10,$C$3,$C$2,$C$5,$C$6,0,0,$C$4),1,1)","v":1010.4470690497467},{"$f":"INDEX(coordonnées_cadran_plat($D141,I$10,$C$3,$C$2,$C$5,$C$6,0,0,$C$4),1,2)","v":-1403.3519992486345},{"$f":"INDEX(coordonnées_cadran_plat($D141,K$10,$C$3,$C$2,$C$5,$C$6,0,0,$C$4),1,1)","v":865.44664685795817},{"$f":"INDEX(coordonnées_cadran_plat($D141,K$10,$C$3,$C$2,$C$5,$C$6,0,0,$C$4),1,2)","v":-753.58663581803614},{"$f":"INDEX(coordonnées_cadran_plat($D141,M$10,$C$3,$C$2,$C$5,$C$6,0,0,$C$4),1,1)","v":810.39044778153948},{"$f":"INDEX(coordonnées_cadran_plat($D141,M$10,$C$3,$C$2,$C$5,$C$6,0,0,$C$4),1,2)","v":-391.28506524498448},{"$f":"INDEX(coordonnées_cadran_plat($D141,O$10,$C$3,$C$2,$C$5,$C$6,0,0,$C$4),1,1)","v":794.20615012319445},{"$f":"INDEX(coordonnées_cadran_plat($D141,O$10,$C$3,$C$2,$C$5,$C$6,0,0,$C$4),1,2)","v":-121.58755046243579},{"$f":"INDEX(coordonnées_cadran_plat($D141,Q$10,$C$3,$C$2,$C$5,$C$6,0,0,$C$4),1,1)","v":804.99060204623356},{"$f":"INDEX(coordonnées_cadran_plat($D141,Q$10,$C$3,$C$2,$C$5,$C$6,0,0,$C$4),1,2)","v":127.24520010453215},{"$f":"INDEX(coordonnées_cadran_plat($D141,S$10,$C$3,$C$2,$C$5,$C$6,0,0,$C$4),1,1)","v":845.8718660942136},{"$f":"INDEX(coordonnées_cadran_plat($D141,S$10,$C$3,$C$2,$C$5,$C$6,0,0,$C$4),1,2)","v":407.56508938891392},{"$f":"INDEX(coordonnées_cadran_plat($D141,U$10,$C$3,$C$2,$C$5,$C$6,0,0,$C$4),1,1)","v":938.93915492215058},{"$f":"INDEX(coordonnées_cadran_plat($D141,U$10,$C$3,$C$2,$C$5,$C$6,0,0,$C$4),1,2)","v":803.0343374786745},{"$f":"INDEX(coordonnées_cadran_plat($D141,W$10,$C$3,$C$2,$C$5,$C$6,0,0,$C$4),1,1)","v":1172.2600879693653},{"$f":"INDEX(coordonnées_cadran_plat($D141,W$10,$C$3,$C$2,$C$5,$C$6,0,0,$C$4),1,2)","v":1573.7175138359596}]
[null,19,8,"2010-08-19",{"$f":"INDEX(heures_limites_cadran($D142,$C$3,$C$2,$C$5),1,1)/24","v":"08:30:00"},{"$f":"INDEX(heures_limites_cadran($D142,$C$3,$C$2,$C$5),1,2)/24","v":"18:30:00"},{"$f":"INDEX(coordonnées_cadran_plat($D142,$G$10,$C$3,$C$2,$C$5,$C$6,0,0,$C$4),1,1)","v":1503.888727643724},{"$f":"INDEX(coordonnées_cadran_plat($D142,$G$10,$C$3,$C$2,$C$5,$C$6,0,0,$C$4),1,2)","v":-3361.7423477036723},{"$f":"INDEX(coordonnées_cadran_plat($D142,I$10,$C$3,$C$2,$C$5,$C$6,0,0,$C$4),1,1)","v":989.04123531561959},{"$f":"INDEX(coordonnées_cadran_plat($D142,I$10,$C$3,$C$2,$C$5,$C$6,0,0,$C$4),1,2)","v":-1381.6509278642825},{"$f":"INDEX(coordonnées_cadran_plat($D142,K$10,$C$3,$C$2,$C$5,$C$6,0,0,$C$4),1,1)","v":851.9648048599604},{"$f":"INDEX(coordonnées_cadran_plat($D142,K$10,$C$3,$C$2,$C$5,$C$6,0,0,$C$4),1,2)","v":-744.9516340136031},{"$f":"INDEX(coordonnées_cadran_plat($D142,M$10,$C$3,$C$2,$C$5,$C$6,0,0,$C$4),1,1)","v":799.7456713213785},{"$f":"INDEX(coordonnées_cadran_plat($D142,M$10,$C$3,$C$2,$C$5,$C$6,0,0,$C$4),1,2)","v":-387.08893284485856},{"$f":"INDEX(coordonnées_cadran_plat($D142,O$10,$C$3,$C$2,$C$5,$C$6,0,0,$C$4),1,1)","v":784.58116008144032},{"$f":"INDEX(coordonnées_cadran_plat($D142,O$10,$C$3,$C$2,$C$5,$C$6,0,0,$C$4),1,2)","v":-119.66173433699785},{"$f":"INDEX(coordonnées_cadran_plat($D142,Q$10,$C$3,$C$2,$C$5,$C$6,0,0,$C$4),1,1)","v":795.29059698377716},{"$f":"INDEX(coordonnées_cadran_plat($D142,Q$10,$C$3,$C$2,$C$5,$C$6,0,0,$C$4),1,2)","v":127.47087923550126},{"$f":"INDEX(coordonnées_cadran_plat($D142,S$10,$C$3,$C$2,$C$5,$C$6,0,0,$C$4),1,1)","v":834.95147948070382},{"$f":"INDEX(coordonnées_cadran_plat($D142,S$10,$C$3,$C$2,$C$5,$C$6,0,0,$C$4),1,2)","v":405.79467650078163},{"$f":"INDEX(coordonnées_cadran_plat($D142,U$10,$C$3,$C$2,$C$5,$C$6,0,0,$C$4),1,1)","v":924.72524852152821},{"$f":"INDEX(coordonnées_cadran_plat($D142,U$10,$C$3,$C$2,$C$5,$C$6,0,0,$C$4),1,2)","v":797.48843350702259},{"$f":"INDEX(coordonnées_cadran_plat($D142,W$10,$C$3,$C$2,$C$5,$C$6,0,0,$C$4),1,1)","v":1148.2673326741412},{"$f":"INDEX(coordonnées_cadran_plat($D142,W$10,$C$3,$C$2,$C$5,$C$6,0,0,$C$4),1,2)","v":1556.012981173154}]
[null,20,8,"2010-08-20",{"$f":"INDEX(heures_limites_cadran($D143,$C$3,$C$2,$C$5),1,1)/24","v":"08:30:00"},{"$f":"INDEX(heures_limites_cadran($D143,$C$3,$C$2,$C$5),1,2)/24","v":"18:30:00"},{"$f":"INDEX(coordonnées_cadran_plat($D143,$G$10,$C$3,$C$2,$C$5,$C$6,0,0,$C$4),1,1)","v":1444.9061315409192},{"$f":"INDEX(coordonnées_cadran_plat($D143,$G$10,$C$3,$C$2,$C$5,$C$6,0,0,$C$4),1,2)","v":-3257.8042447992852},{"$f":"INDEX(coordonnées_cadran_plat($D143,I$10,$C$3,$C$2,$C$5,$C$6,0,0,$C$4),1,1)","v":968.06807077748067},{"$f":"INDEX(coordonnées_cadran_plat($D143,I$10,$C$3,$C$2,$C$5,$C$6,0,0,$C$4),1,2)","v":-1360.3137094989215},{"$f":"INDEX(coordonnées_cadran_plat($D143,K$10,$C$3,$C$2,$C$5,$C$6,0,0,$C$4),1,1)","v":838.6392235826379},{"$f":"INDEX(coordonnées_cadran_plat($D143,K$10,$C$3,$C$2,$C$5,$C$6,0,0,$C$4),1,2)","v":-736.37522231806042},{"$f":"INDEX(coordonnées_cadran_plat($D143,M$10,$C$3,$C$2,$C$5,$C$6,0,0,$C$4),1,1)","v":789.18562970256335},{"$f":"INDEX(coordonnées_cadran_plat($D143,M$10,$C$3,$C$2,$C$5,$C$6,0,0,$C$4),1,2)","v":-382.89612628123302},{"$f":"INDEX(coordonnées_cadran_plat($D143,O$10,$C$3,$C$2,$C$5,$C$6,0,0,$C$4),1,1)","v":775.01785185011693},{"$f":"INDEX(coordonnées_cadran_plat($D143,O$10,$C$3,$C$2,$C$5,$C$6,0,0,$C$4),1,2)","v":-117.72203284280096},{"$f":"INDEX(coordonnées_cadran_plat($D143,Q$10,$C$3,$C$2,$C$5,$C$6,0,0,$C$4),1,1)","v":785.65040184809118},{"$f":"INDEX(coordonnées_cadran_plat($D143,Q$10,$C$3,$C$2,$C$5,$C$6,0,0,$C$4),1,2)","v":127.72196476814594},{"$f":"INDEX(coordonnées_cadran_plat($D143,S$10,$C$3,$C$2,$C$5,$C$6,0,0,$C$4),1,1)","v":824.10978234473225},{"$f":"INDEX(coordonnées_cadran_plat($D143,S$10,$C$3,$C$2,$C$5,$C$6,0,0,$C$4),1,2)","v":404.06923105056086},{"$f":"INDEX(coordonnées_cadran_plat($D143,U$10,$C$3,$C$2,$C$5,$C$6,0,0,$C$4),1,1)","v":910.65701362040988},{"$f":"INDEX(coordonnées_cadran_plat($D143,U$10,$C$3,$C$2,$C$5,$C$6,0,0,$C$4),1,2)","v":792.04664883831822},{"$f":"INDEX(coordonnées_cadran_plat($D143,W$10,$C$3,$C$2,$C$5,$C$6,0,0,$C$4),1,1)","v":1124.7141560836096},{"$f":"INDEX(coordonnées_cadran_plat($D143,W$10,$C$3,$C$2,$C$5,$C$6,0,0,$C$4),1,2)","v":1538.7275247028031}]
[null,21,8,"2010-08-21",{"$f":"INDEX(heures_limites_cadran($D144,$C$3,$C$2,$C$5),1,1)/24","v":"08:30:00"},{"$f":"INDEX(heures_limites_cadran($D144,$C$3,$C$2,$C$5),1,2)/24","v":"18:30:00"},{"$f":"INDEX(coordonnées_cadran_plat($D144,$G$10,$C$3,$C$2,$C$5,$C$6,0,0,$C$4),1,1)","v":1388.9000856367836},{"$f":"INDEX(coordonnées_cadran_plat($D144,$G$10,$C$3,$C$2,$C$5,$C$6,0,0,$C$4),1,2)","v":-3158.8916971720869},{"$f":"INDEX(coordonnées_cadran_plat($D144,I$10,$C$3,$C$2,$C$5,$C$6,0,0,$C$4),1,1)","v":947.52488225826846},{"$f":"INDEX(coordonnées_cadran_plat($D144,I$10,$C$3,$C$2,$C$5,$C$6,0,0,$C$4),1,2)","v":-1339.342461255934},{"$f":"INDEX(coordonnées_cadran_plat($D144,K$10,$C$3,$C$2,$C$5,$C$6,0,0,$C$4),1,1)","v":825.47300232966097},{"$f":"INDEX(coordonnées_cadran_plat($D144,K$10,$C$3,$C$2,$C$5,$C$6,0,0,$C$4),1,2)","v":-727.86152362456323},{"$f":"INDEX(coordonnées_cadran_plat($D144,M$10,$C$3,$C$2,$C$5,$C$6,0,0,$C$4),1,1)","v":778.71348581559346},{"$f":"INDEX(coordonnées_cadran_plat($D144,M$10,$C$3,$C$2,$C$5,$C$6,0,0,$C$4),1,2)","v":-378.70926697910062},{"$f":"INDEX(coordonnées_cadran_plat($D144,O$10,$C$3,$C$2,$C$5,$C$6,0,0,$C$4),1,1)","v":765.51908196756767},{"$f":"INDEX(coordonnées_cadran_plat($D144,O$10,$C$3,$C$2,$C$5,$C$6,0,0,$C$4),1,2)","v":-115.77014576719439},{"$f":"INDEX(coordonnées_cadran_plat($D144,Q$10,$C$3,$C$2,$C$5,$C$6,0,0,$C$4),1,1)","v":776.07261508998545},{"$f":"INDEX(coordonnées_cadran_plat($D144,Q$10,$C$3,$C$2,$C$5,$C$6,0,0,$C$4),1,2)","v":127.99726351790032},{"$f":"INDEX(coordonnées_cadran_plat($D144,S$10,$C$3,$C$2,$C$5,$C$6,0,0,$C$4),1,1)","v":813.34906047052095},{"$f":"INDEX(coordonnées_cadran_plat($D144,S$10,$C$3,$C$2,$C$5,$C$6,0,0,$C$4),1,2)","v":402.38772716020333},{"$f":"INDEX(coordonnées_cadran_plat($D144,U$10,$C$3,$C$2,$C$5,$C$6,0,0,$C$4),1,1)","v":896.73559984204542},{"$f":"INDEX(coordonnées_cadran_plat($D144,U$10,$C$3,$C$2,$C$5,$C$6,0,0,$C$4),1,2)","v":786.70719916030771},{"$f":"INDEX(coordonnées_cadran_plat($D144,W$10,$C$3,$C$2,$C$5,$C$6,0,0,$C$4),1,1)","v":1101.5924319356984},{"$f":"INDEX(coordonnées_cadran_plat($D144,W$10,$C$3,$C$2,$C$5,$C$6,0,0,$C$4),1,2)","v":1521.8496524333368}]
[null,22,8,"2010-08-22",{"$f":"INDEX(heures_limites_cadran($D145,$C$3,$C$2,$C$5),1,1)/24","v":"08:30:00"},{"$f":"INDEX(heures_limites_cadran($D145,$C$3,$C$2,$C$5),1,2)/24","v":"18:30:00"},{"$f":"INDEX(coordonnées_cadran_plat($D145,$G$10,$C$3,$C$2,$C$5,$C$6,0,0,$C$4),1,1)","v":1335.6821345316614},{"$f":"INDEX(coordonnées_cadran_plat($D145,$G$10,$C$3,$C$2,$C$5,$C$6,0,0,$C$4),1,2)","v":-3064.6969076899331},{"$f":"INDEX(coordonnées_cadran_plat($D145,I$10,$C$3,$C$2,$C$5,$C$6,0,0,$C$4),1,1)","v":927.40825234062925},{"$f":"INDEX(coordonnées_cadran_plat($D145,I$10,$C$3,$C$2,$C$5,$C$6,0,0,$C$4),1,2)","v":-1318.7384561086244},{"$f":"INDEX(coordonnées_cadran_plat($D145,K$10,$C$3,$C$2,$C$5,$C$6,0,0,$C$4),1,1)","v":812.46879421515825},{"$f":"INDEX(coordonnées_cadran_plat($D145,K$10,$C$3,$C$2,$C$5,$C$6,0,0,$C$4),1,2)","v":-719.41437121702143},{"$f":"INDEX(coordonnées_cadran_plat($D145,M$10,$C$3,$C$2,$C$5,$C$6,0,0,$C$4),1,1)","v":768.33211060800375},{"$f":"INDEX(coordonnées_cadran_plat($D145,M$10,$C$3,$C$2,$C$5,$C$6,0,0,$C$4),1,2)","v":-374.53087177160853},{"$f":"INDEX(coordonnées_cadran_plat($D145,O$10,$C$3,$C$2,$C$5,$C$6,0,0,$C$4),1,1)","v":756.08747947457186},{"$f":"INDEX(coordonnées_cadran_plat($D145,O$10,$C$3,$C$2,$C$5,$C$6,0,0,$C$4),1,2)","v":-113.80774056643295},{"$f":"INDEX(coordonnées_cadran_plat($D145,Q$10,$C$3,$C$2,$C$5,$C$6,0,0,$C$4),1,1)","v":766.55962829357622},{"$f":"INDEX(coordonnées_cadran_plat($D145,Q$10,$C$3,$C$2,$C$5,$C$6,0,0,$C$4),1,2)","v":128.29557345563163},{"$f":"INDEX(coordonnées_cadran_plat($D145,S$10,$C$3,$C$2,$C$5,$C$6,0,0,$C$4),1,1)","v":802.67138343611873},{"$f":"INDEX(coordonnées_cadran_plat($D145,S$10,$C$3,$C$2,$C$5,$C$6,0,0,$C$4),1,2)","v":400.74909169566348},{"$f":"INDEX(coordonnées_cadran_plat($D145,U$10,$C$3,$C$2,$C$5,$C$6,0,0,$C$4),1,1)","v":882.96190892715401},{"$f":"INDEX(coordonnées_cadran_plat($D145,U$10,$C$3,$C$2,$C$5,$C$6,0,0,$C$4),1,2)","v":781.468203371031},{"$f":"INDEX(coordonnées_cadran_plat($D145,W$10,$C$3,$C$2,$C$5,$C$6,0,0,$C$4),1,1)","v":1078.8939856747679},{"$f":"INDEX(coordonnées_cadran_plat($D145,W$10,$C$3,$C$2,$C$5,$C$6,0,0,$C$4),1,2)","v":1505.3679497285952}]
[null,23,8,"2010-08-23",{"$f":"INDEX(heures_limites_cadran($D146,$C$3,$C$2,$C$5),1,1)/24","v":"08:30:00"},{"$f":"INDEX(heures_limites_cadran($D146,$C$3,$C$2,$C$5),1,2)/24","v":"18:30:00"},{"$f":"INDEX(coordonnées_cadran_plat($D146,$G$10,$C$3,$C$2,$C$5,$C$6,0,0,$C$4),1,1)","v":1285.0777165606667},{"$f":"INDEX(coordonnées_cadran_plat($D146,$G$10,$C$3,$C$2,$C$5,$C$6,0,0,$C$4),1,2)","v":-2974.9344566566397},{"$f":"INDEX(coordonnées_cadran_plat($D146,I$10,$C$3,$C$2,$C$5,$C$6,0,0,$C$4),1,1)","v":907.71411618089587},{"$f":"INDEX(coordonnées_cadran_plat($D146,I$10,$C$3,$C$2,$C$5,$C$6,0,0,$C$4),1,2)","v":-1298.5021953147659},{"$f":"INDEX(coordonnées_cadran_plat($D146,K$10,$C$3,$C$2,$C$5,$C$6,0,0,$C$4),1,1)","v":799.62883152275742},{"$f":"INDEX(coordonnées_cadran_plat($D146,K$10,$C$3,$C$2,$C$5,$C$6,0,0,$C$4),1,2)","v":-711.03732029047023},{"$f":"INDEX(coordonnées_cadran_plat($D146,M$10,$C$3,$C$2,$C$5,$C$6,0,0,$C$4),1,1)","v":758.04409602611145},{"$f":"INDEX(coordonnées_cadran_plat($D146,M$10,$C$3,$C$2,$C$5,$C$6,0,0,$C$4),1,2)","v":-370.36335475261302},{"$f":"INDEX(coordonnées_cadran_plat($D146,O$10,$C$3,$C$2,$C$5,$C$6,0,0,$C$4),1,1)","v":746.72545542331216},{"$f":"INDEX(coordonnées_cadran_plat($D146,O$10,$C$3,$C$2,$C$5,$C$6,0,0,$C$4),1,2)","v":-111.83645166961684},{"$f":"INDEX(coordonnées_cadran_plat($D146,Q$10,$C$3,$C$2,$C$5,$C$6,0,0,$C$4),1,1)","v":757.11363551092359},{"$f":"INDEX(coordonnées_cadran_plat($D146,Q$10,$C$3,$C$2,$C$5,$C$6,0,0,$C$4),1,2)","v":128.61568593189617},{"$f":"INDEX(coordonnées_cadran_plat($D146,S$10,$C$3,$C$2,$C$5,$C$6,0,0,$C$4),1,1)","v":792.07861638827785},{"$f":"INDEX(coordonnées_cadran_plat($D146,S$10,$C$3,$C$2,$C$5,$C$6,0,0,$C$4),1,2)","v":399.15220884913731},{"$f":"INDEX(coordonnées_cadran_plat($D146,U$10,$C$3,$C$2,$C$5,$C$6,0,0,$C$4),1,1)","v":869.3366137517454},{"$f":"INDEX(coordonnées_cadran_plat($D146,U$10,$C$3,$C$2,$C$5,$C$6,0,0,$C$4),1,2)","v":776.32769422824583},{"$f":"INDEX(coordonnées_cadran_plat($D146,W$10,$C$3,$C$2,$C$5,$C$6,0,0,$C$4),1,1)","v":1056.6106258583422},{"$f":"INDEX(coordonnées_cadran_plat($D146,W$10,$C$3,$C$2,$C$5,$C$6,0,0,$C$4),1,2)","v":1489.2711026978698}]
[null,24,8,"2010-08-24",{"$f":"INDEX(heures_limites_cadran($D147,$C$3,$C$2,$C$5),1,1)/24","v":"08:30:00"},{"$f":"INDEX(heures_limites_cadran($D147,$C$3,$C$2,$C$5),1,2)/24","v":"18:30:00"},{"$f":"INDEX(coordonnées_cadran_plat($D147,$G$10,$C$3,$C$2,$C$5,$C$6,0,0,$C$4),1,1)","v":1236.9250128991491},{"$f":"INDEX(coordonnées_cadran_plat($D147,$G$10,$C$3,$C$2,$C$5,$C$6,0,0,$C$4),1,2)","v":-2889.339473411304},{"$f":"INDEX(coordonnées_cadran_plat($D147,I$10,$C$3,$C$2,$C$5,$C$6,0,0,$C$4),1,1)","v":888.43783341926644},{"$f":"INDEX(coordonnées_cadran_plat($D147,I$10,$C$3,$C$2,$C$5,$C$6,0,0,$C$4),1,2)","v":-1278.6334770031551},{"$f":"INDEX(coordonnées_cadran_plat($D147,K$10,$C$3,$C$2,$C$5,$C$6,0,0,$C$4),1,1)","v":786.9549505704349},{"$f":"INDEX(coordonnées_cadran_plat($D147,K$10,$C$3,$C$2,$C$5,$C$6,0,0,$C$4),1,2)","v":-702.73365957857379},{"$f":"INDEX(coordonnées_cadran_plat($D147,M$10,$C$3,$C$2,$C$5,$C$6,0,0,$C$4),1,1)","v":747.85176792646246},{"$f":"INDEX(coordonnées_cadran_plat($D147,M$10,$C$3,$C$2,$C$5,$C$6,0,0,$C$4),1,2)","v":-366.20902933343018},{"$f":"INDEX(coordonnées_cadran_plat($D147,O$10,$C$3,$C$2,$C$5,$C$6,0,0,$C$4),1,1)","v":737.43521238437927},{"$f":"INDEX(coordonnées_cadran_plat($D147,O$10,$C$3,$C$2,$C$5,$C$6,0,0,$C$4),1,2)","v":-109.85787993306255},{"$f":"INDEX(coordonnées_cadran_plat($D147,Q$10,$C$3,$C$2,$C$5,$C$6,0,0,$C$4),1,1)","v":747.73664251980097},{"$f":"INDEX(coordonnées_cadran_plat($D147,Q$10,$C$3,$C$2,$C$5,$C$6,0,0,$C$4),1,2)","v":128.95638776366201},{"$f":"INDEX(coordonnées_cadran_plat($D147,S$10,$C$3,$C$2,$C$5,$C$6,0,0,$C$4),1,1)","v":781.57243154336959},{"$f":"INDEX(coordonnées_cadran_plat($D147,S$10,$C$3,$C$2,$C$5,$C$6,0,0,$C$4),1,2)","v":397.59592450746601},{"$f":"INDEX(coordonnées_cadran_plat($D147,U$10,$C$3,$C$2,$C$5,$C$6,0,0,$C$4),1,1)","v":855.8601764606201},{"$f":"INDEX(coordonnées_cadran_plat($D147,U$10,$C$3,$C$2,$C$5,$C$6,0,0,$C$4),1,2)","v":771.28362838153294},{"$f":"INDEX(coordonnées_cadran_plat($D147,W$10,$C$3,$C$2,$C$5,$C$6,0,0,$C$4),1,1)","v":1034.734172242986},{"$f":"INDEX(coordonnées_cadran_plat($D147,W$10,$C$3,$C$2,$C$5,$C$6,0,0,$C$4),1,2)","v":1473.5479187330386}]
[null,25,8,"2010-08-25",{"$f":"INDEX(heures_limites_cadran($D148,$C$3,$C$2,$C$5),1,1)/24","v":"08:30:00"},{"$f":"INDEX(heures_limites_cadran($D148,$C$3,$C$2,$C$5),1,2)/24","v":"18:30:00"},{"$f":"INDEX(coordonnées_cadran_plat($D148,$G$10,$C$3,$C$2,$C$5,$C$6,0,0,$C$4),1,1)","v":1191.0738999106895},{"$f":"INDEX(coordonnées_cadran_plat($D148,$G$10,$C$3,$C$2,$C$5,$C$6,0,0,$C$4),1,2)","v":-2807.6659694781483},{"$f":"INDEX(coordonnées_cadran_plat($D148,I$10,$C$3,$C$2,$C$5,$C$6,0,0,$C$4),1,1)","v":869.57425529841942},{"$f":"INDEX(coordonnées_cadran_plat($D148,I$10,$C$3,$C$2,$C$5,$C$6,0,0,$C$4),1,2)","v":-1259.1314609367128},{"$f":"INDEX(coordonnées_cadran_plat($D148,K$10,$C$3,$C$2,$C$5,$C$6,0,0,$C$4),1,1)","v":774.44861599861667},{"$f":"INDEX(coordonnées_cadran_plat($D148,K$10,$C$3,$C$2,$C$5,$C$6,0,0,$C$4),1,2)","v":-694.50642301692199},{"$f":"INDEX(coordonnées_cadran_plat($D148,M$10,$C$3,$C$2,$C$5,$C$6,0,0,$C$4),1,1)","v":737.75719890144535},{"$f":"INDEX(coordonnées_cadran_plat($D148,M$10,$C$3,$C$2,$C$5,$C$6,0,0,$C$4),1,2)","v":-362.07011047588293},{"$f":"INDEX(coordonnées_cadran_plat($D148,O$10,$C$3,$C$2,$C$5,$C$6,0,0,$C$4),1,1)","v":728.21875391199126},{"$f":"INDEX(coordonnées_cadran_plat($D148,O$10,$C$3,$C$2,$C$5,$C$6,0,0,$C$4),1,2)","v":-107.87359223414377},{"$f":"INDEX(coordonnées_cadran_plat($D148,Q$10,$C$3,$C$2,$C$5,$C$6,0,0,$C$4),1,1)","v":738.43047597368889},{"$f":"INDEX(coordonnées_cadran_plat($D148,Q$10,$C$3,$C$2,$C$5,$C$6,0,0,$C$4),1,2)","v":129.31646318766991},{"$f":"INDEX(coordonnées_cadran_plat($D148,S$10,$C$3,$C$2,$C$5,$C$6,0,0,$C$4),1,1)","v":771.15431939247526},{"$f":"INDEX(coordonnées_cadran_plat($D148,S$10,$C$3,$C$2,$C$5,$C$6,0,0,$C$4),1,2)","v":396.07905041062628},{"$f":"INDEX(coordonnées_cadran_plat($D148,U$10,$C$3,$C$2,$C$5,$C$6,0,0,$C$4),1,1)","v":842.53286572674676},{"$f":"INDEX(coordonnées_cadran_plat($D148,U$10,$C$3,$C$2,$C$5,$C$6,0,0,$C$4),1,2)","v":766.33389581150857},{"$f":"INDEX(coordonnées_cadran_plat($D148,W$10,$C$3,$C$2,$C$5,$C$6,0,0,$C$4),1,1)","v":1013.2564808169266},{"$f":"INDEX(coordonnées_cadran_plat($D148,W$10,$C$3,$C$2,$C$5,$C$6,0,0,$C$4),1,2)","v":1458.1873444528769}]
[null,26,8,"2010-08-26",{"$f":"INDEX(heures_limites_cadran($D149,$C$3,$C$2,$C$5),1,1)/24","v":"08:30:00"},{"$f":"INDEX(heures_limites_cadran($D149,$C$3,$C$2,$C$5),1,2)/24","v":"18:30:00"},{"$f":"INDEX(coordonnées_cadran_plat($D149,$G$10,$C$3,$C$2,$C$5,$C$6,0,0,$C$4),1,1)","v":1147.3849951301077},{"$f":"INDEX(coordonnées_cadran_plat($D149,$G$10,$C$3,$C$2,$C$5,$C$6,0,0,$C$4),1,2)","v":-2729.6853185253162},{"$f":"INDEX(coordonnées_cadran_plat($D149,I$10,$C$3,$C$2,$C$5,$C$6,0,0,$C$4),1,1)","v":851.11778712875355},{"$f":"INDEX(coordonnées_cadran_plat($D149,I$10,$C$3,$C$2,$C$5,$C$6,0,0,$C$4),1,2)","v":-1239.9947294835688},{"$f":"INDEX(coordonnées_cadran_plat($D149,K$10,$C$3,$C$2,$C$5,$C$6,0,0,$C$4),1,1)","v":762.11094441211378},{"$f":"INDEX(coordonnées_cadran_plat($D149,K$10,$C$3,$C$2,$C$5,$C$6,0,0,$C$4),1,2)","v":-686.35840137579066},{"$f":"INDEX(coordonnées_cadran_plat($D149,M$10,$C$3,$C$2,$C$5,$C$6,0,0,$C$4),1,1)","v":727.76222096939784},{"$f":"INDEX(coordonnées_cadran_plat($D149,M$10,$C$3,$C$2,$C$5,$C$6,0,0,$C$4),1,2)","v":-357.94871707449244},{"$f":"INDEX(coordonnées_cadran_plat($D149,O$10,$C$3,$C$2,$C$5,$C$6,0,0,$C$4),1,1)","v":719.07789393264591},{"$f":"INDEX(coordonnées_cadran_plat($D149,O$10,$C$3,$C$2,$C$5,$C$6,0,0,$C$4),1,2)","v":-105.88512119269835},{"$f":"INDEX(coordonnées_cadran_plat($D149,Q$10,$C$3,$C$2,$C$5,$C$6,0,0,$C$4),1,1)","v":729.19679241738311},{"$f":"INDEX(coordonnées_cadran_plat($D149,Q$10,$C$3,$C$2,$C$5,$C$6,0,0,$C$4),1,2)","v":129.69469568564739},{"$f":"INDEX(coordonnées_cadran_plat($D149,S$10,$C$3,$C$2,$C$5,$C$6,0,0,$C$4),1,1)","v":760.82559959224216},{"$f":"INDEX(coordonnées_cadran_plat($D149,S$10,$C$3,$C$2,$C$5,$C$6,0,0,$C$4),1,2)","v":394.60036810442648},{"$f":"INDEX(coordonnées_cadran_plat($D149,U$10,$C$3,$C$2,$C$5,$C$6,0,0,$C$4),1,1)","v":829.35477314967306},{"$f":"INDEX(coordonnées_cadran_plat($D149,U$10,$C$3,$C$2,$C$5,$C$6,0,0,$C$4),1,2)","v":761.47632869805432},{"$f":"INDEX(coordonnées_cadran_plat($D149,W$10,$C$3,$C$2,$C$5,$C$6,0,0,$C$4),1,1)","v":992.16946602935559},{"$f":"INDEX(coordonnées_cadran_plat($D149,W$10,$C$3,$C$2,$C$5,$C$6,0,0,$C$4),1,2)","v":1443.1784812959943}]
[null,27,8,"2010-08-27",{"$f":"INDEX(heures_limites_cadran($D150,$C$3,$C$2,$C$5),1,1)/24","v":"08:00:00"},{"$f":"INDEX(heures_limites_cadran($D150,$C$3,$C$2,$C$5),1,2)/24","v":"18:30:00"},{"$f":"INDEX(coordonnées_cadran_plat($D150,$G$10,$C$3,$C$2,$C$5,$C$6,0,0,$C$4),1,1)","v":1105.7287881418656},{"$f":"INDEX(coordonnées_cadran_plat($D150,$G$10,$C$3,$C$2,$C$5,$C$6,0,0,$C$4),1,2)","v":-2655.1848696983043},{"$f":"INDEX(coordonnées_cadran_plat($D150,I$10,$C$3,$C$2,$C$5,$C$6,0,0,$C$4),1,1)","v":833.06244626140324},{"$f":"INDEX(coordonnées_cadran_plat($D150,I$10,$C$3,$C$2,$C$5,$C$6,0,0,$C$4),1,2)","v":-1221.2213448632651},{"$f":"INDEX(coordonnées_cadran_plat($D150,K$10,$C$3,$C$2,$C$5,$C$6,0,0,$C$4),1,1)","v":749.94272731843614},{"$f":"INDEX(coordonnées_cadran_plat($D150,K$10,$C$3,$C$2,$C$5,$C$6,0,0,$C$4),1,2)","v":-678.29215380686958},{"$f":"INDEX(coordonnées_cadran_plat($D150,M$10,$C$3,$C$2,$C$5,$C$6,0,0,$C$4),1,1)","v":717.86843808507456},{"$f":"INDEX(coordonnées_cadran_plat($D150,M$10,$C$3,$C$2,$C$5,$C$6,0,0,$C$4),1,2)","v":-353.84687446452267},{"$f":"INDEX(coordonnées_cadran_plat($D150,O$10,$C$3,$C$2,$C$5,$C$6,0,0,$C$4),1,1)","v":710.01426602568779},{"$f":"INDEX(coordonnées_cadran_plat($D150,O$10,$C$3,$C$2,$C$5,$C$6,0,0,$C$4),1,2)","v":-103.89396500997186},{"$f":"INDEX(coordonnées_cadran_plat($D150,Q$10,$C$3,$C$2,$C$5,$C$6,0,0,$C$4),1,1)","v":720.03708714489028},{"$f":"INDEX(coordonnées_cadran_plat($D150,Q$10,$C$3,$C$2,$C$5,$C$6,0,0,$C$4),1,2)","v":130.08986968725458},{"$f":"INDEX(coordonnées_cadran_plat($D150,S$10,$C$3,$C$2,$C$5,$C$6,0,0,$C$4),1,1)","v":750.58743152737509},{"$f":"INDEX(coordonnées_cadran_plat($D150,S$10,$C$3,$C$2,$C$5,$C$6,0,0,$C$4),1,2)","v":393.15863269315327},{"$f":"INDEX(coordonnées_cadran_plat($D150,U$10,$C$3,$C$2,$C$5,$C$6,0,0,$C$4),1,1)","v":816.32582880916698},{"$f":"INDEX(coordonnées_cadran_plat($D150,U$10,$C$3,$C$2,$C$5,$C$6,0,0,$C$4),1,2)","v":756.70870974073989},{"$f":"INDEX(coordonnées_cadran_plat($D150,W$10,$C$3,$C$2,$C$5,$C$6,0,0,$C$4),1,1)","v":971.46512044906615},{"$f":"INDEX(coordonnées_cadran_plat($D150,W$10,$C$3,$C$2,$C$5,$C$6,0,0,$C$4),1,2)","v":1428.510598982738}]
[null,28,8,"2010-08-28",{"$f":"INDEX(heures_limites_cadran($D151,$C$3,$C$2,$C$5),1,1)/24","v":"08:00:00"},{"$f":"INDEX(heures_limites_cadran($D151,$C$3,$C$2,$C$5),1,2)/24","v":"18:30:00"},{"$f":"INDEX(coordonnées_cadran_plat($D151,$G$10,$C$3,$C$2,$C$5,$C$6,0,0,$C$4),1,1)","v":1065.9848484171305},{"$f":"INDEX(coordonnées_cadran_plat($D151,$G$10,$C$3,$C$2,$C$5,$C$6,0,0,$C$4),1,2)","v":-2583.9666820715988},{"$f":"INDEX(coordonnées_cadran_plat($D151,I$10,$C$3,$C$2,$C$5,$C$6,0,0,$C$4),1,1)","v":815.40191574518428},{"$f":"INDEX(coordonnées_cadran_plat($D151,I$10,$C$3,$C$2,$C$5,$C$6,0,0,$C$4),1,2)","v":-1202.8089027524445},{"$f":"INDEX(coordonnées_cadran_plat($D151,K$10,$C$3,$C$2,$C$5,$C$6,0,0,$C$4),1,1)","v":737.94445331659279},{"$f":"INDEX(coordonnées_cadran_plat($D151,K$10,$C$3,$C$2,$C$5,$C$6,0,0,$C$4),1,2)","v":-670.31001925214139},{"$f":"INDEX(coordonnées_cadran_plat($D151,M$10,$C$3,$C$2,$C$5,$C$6,0,0,$C$4),1,1)","v":708.07723843258088},{"$f":"INDEX(coordonnées_cadran_plat($D151,M$10,$C$3,$C$2,$C$5,$C$6,0,0,$C$4),1,2)","v":-349.76651703212656},{"$f":"INDEX(coordonnées_cadran_plat($D151,O$10,$C$3,$C$2,$C$5,$C$6,0,0,$C$4),1,1)","v":701.02933256794495},{"$f":"INDEX(coordonnées_cadran_plat($D151,O$10,$C$3,$C$2,$C$5,$C$6,0,0,$C$4),1,2)","v":-101.90158741460515},{"$f":"INDEX(coordonnées_cadran_plat($D151,Q$10,$C$3,$C$2,$C$5,$C$6,0,0,$C$4),1,1)","v":710.95270287867618},{"$f":"INDEX(coordonnées_cadran_plat($D151,Q$10,$C$3,$C$2,$C$5,$C$6,0,0,$C$4),1,2)","v":130.5007721551338},{"$f":"INDEX(coordonnées_cadran_plat($D151,S$10,$C$3,$C$2,$C$5,$C$6,0,0,$C$4),1,1)","v":740.44082453277531},{"$f":"INDEX(coordonnées_cadran_plat($D151,S$10,$C$3,$C$2,$C$5,$C$6,0,0,$C$4),1,2)","v":391.75257639712345},{"$f":"INDEX(coordonnées_cadran_plat($D151,U$10,$C$3,$C$2,$C$5,$C$6,0,0,$C$4),1,1)","v":803.44581599449521},{"$f":"INDEX(coordonnées_cadran_plat($D151,U$10,$C$3,$C$2,$C$5,$C$6,0,0,$C$4),1,2)","v":752.02877995769063},{"$f":"INDEX(coordonnées_cadran_plat($D151,W$10,$C$3,$C$2,$C$5,$C$6,0,0,$C$4),1,1)","v":951.13553207039672},{"$f":"INDEX(coordonnées_cadran_plat($D151,W$10,$C$3,$C$2,$C$5,$C$6,0,0,$C$4),1,2)","v":1414.1731470529087}]
[null,29,8,"2010-08-29",{"$f":"INDEX(heures_limites_cadran($D152,$C$3,$C$2,$C$5),1,1)/24","v":"08:00:00"},{"$f":"INDEX(heures_limites_cadran($D152,$C$3,$C$2,$C$5),1,2)/24","v":"18:30:00"},{"$f":"INDEX(coordonnées_cadran_plat($D152,$G$10,$C$3,$C$2,$C$5,$C$6,0,0,$C$4),1,1)","v":1028.0411029113513},{"$f":"INDEX(coordonnées_cadran_plat($D152,$G$10,$C$3,$C$2,$C$5,$C$6,0,0,$C$4),1,2)","v":-2515.846369082803},{"$f":"INDEX(coordonnées_cadran_plat($D152,I$10,$C$3,$C$2,$C$5,$C$6,0,0,$C$4),1,1)","v":798.12959385676277},{"$f":"INDEX(coordonnées_cadran_plat($D152,I$10,$C$3,$C$2,$C$5,$C$6,0,0,$C$4),1,2)","v":-1184.7545823565411},{"$f":"INDEX(coordonnées_cadran_plat($D152,K$10,$C$3,$C$2,$C$5,$C$6,0,0,$C$4),1,1)","v":726.11632950056548},{"$f":"INDEX(coordonnées_cadran_plat($D152,K$10,$C$3,$C$2,$C$5,$C$6,0,0,$C$4),1,2)","v":-662.41412767217355},{"$f":"INDEX(coordonnées_cadran_plat($D152,M$10,$C$3,$C$2,$C$5,$C$6,0,0,$C$4),1,1)","v":698.38980646729703},{"$f":"INDEX(coordonnées_cadran_plat($D152,M$10,$C$3,$C$2,$C$5,$C$6,0,0,$C$4),1,2)","v":-345.70949090549493},{"$f":"INDEX(coordonnées_cadran_plat($D152,O$10,$C$3,$C$2,$C$5,$C$6,0,0,$C$4),1,1)","v":692.12439371868231},{"$f":"INDEX(coordonnées_cadran_plat($D152,O$10,$C$3,$C$2,$C$5,$C$6,0,0,$C$4),1,2)","v":-99.909417704843278},{"$f":"INDEX(coordonnées_cadran_plat($D152,Q$10,$C$3,$C$2,$C$5,$C$6,0,0,$C$4),1,1)","v":701.94483825324517},{"$f":"INDEX(coordonnées_cadran_plat($D152,Q$10,$C$3,$C$2,$C$5,$C$6,0,0,$C$4),1,2)","v":130.92619405849402},{"$f":"INDEX(coordonnées_cadran_plat($D152,S$10,$C$3,$C$2,$C$5,$C$6,0,0,$C$4),1,1)","v":730.38664776760947},{"$f":"INDEX(coordonnées_cadran_plat($D152,S$10,$C$3,$C$2,$C$5,$C$6,0,0,$C$4),1,2)","v":390.380911922628},{"$f":"INDEX(coordonnées_cadran_plat($D152,U$10,$C$3,$C$2,$C$5,$C$6,0,0,$C$4),1,1)","v":790.71438513023747},{"$f":"INDEX(coordonnées_cadran_plat($D152,U$10,$C$3,$C$2,$C$5,$C$6,0,0,$C$4),1,2)","v":747.43424598605111},{"$f":"INDEX(coordonnées_cadran_plat($D152,W$10,$C$3,$C$2,$C$5,$C$6,0,0,$C$4),1,1)","v":931.17289946854862},{"$f":"INDEX(coordonnées_cadran_plat($D152,W$10,$C$3,$C$2,$C$5,$C$6,0,0,$C$4),1,2)","v":1400.1557646691726}]
[null,30,8,"2010-08-30",{"$f":"INDEX(heures_limites_cadran($D153,$C$3,$C$2,$C$5),1,1)/24","v":"08:00:00"},{"$f":"INDEX(heures_limites_cadran($D153,$C$3,$C$2,$C$5),1,2)/24","v":"18:30:00"},{"$f":"INDEX(coordonnées_cadran_plat($D153,$G$10,$C$3,$C$2,$C$5,$C$6,0,0,$C$4),1,1)","v":991.79317690579455},{"$f":"INDEX(coordonnées_cadran_plat($D153,$G$10,$C$3,$C$2,$C$5,$C$6,0,0,$C$4),1,2)","v":-2450.6520428357858},{"$f":"INDEX(coordonnées_cadran_plat($D153,I$10,$C$3,$C$2,$C$5,$C$6,0,0,$C$4),1,1)","v":781.23863970105901},{"$f":"INDEX(coordonnées_cadran_plat($D153,I$10,$C$3,$C$2,$C$5,$C$6,0,0,$C$4),1,2)","v":-1167.0551930678955},{"$f":"INDEX(coordonnées_cadran_plat($D153,K$10,$C$3,$C$2,$C$5,$C$6,0,0,$C$4),1,1)","v":714.45830205069558},{"$f":"INDEX(coordonnées_cadran_plat($D153,K$10,$C$3,$C$2,$C$5,$C$6,0,0,$C$4),1,2)","v":-654.60641105519846},{"$f":"INDEX(coordonnées_cadran_plat($D153,M$10,$C$3,$C$2,$C$5,$C$6,0,0,$C$4),1,1)","v":688.80713467871567},{"$f":"INDEX(coordonnées_cadran_plat($D153,M$10,$C$3,$C$2,$C$5,$C$6,0,0,$C$4),1,2)","v":-341.6775567079178},{"$f":"INDEX(coordonnées_cadran_plat($D153,O$10,$C$3,$C$2,$C$5,$C$6,0,0,$C$4),1,1)","v":683.3005962232852},{"$f":"INDEX(coordonnées_cadran_plat($D153,O$10,$C$3,$C$2,$C$5,$C$6,0,0,$C$4),1,2)","v":-97.918850878526797},{"$f":"INDEX(coordonnées_cadran_plat($D153,Q$10,$C$3,$C$2,$C$5,$C$6,0,0,$C$4),1,1)","v":693.01455608805782},{"$f":"INDEX(coordonnées_cadran_plat($D153,Q$10,$C$3,$C$2,$C$5,$C$6,0,0,$C$4),1,2)","v":131.36493174045154},{"$f":"INDEX(coordonnées_cadran_plat($D153,S$10,$C$3,$C$2,$C$5,$C$6,0,0,$C$4),1,1)","v":720.42563973437484},{"$f":"INDEX(coordonnées_cadran_plat($D153,S$10,$C$3,$C$2,$C$5,$C$6,0,0,$C$4),1,2)","v":389.04233564912477},{"$f":"INDEX(coordonnées_cadran_plat($D153,U$10,$C$3,$C$2,$C$5,$C$6,0,0,$C$4),1,1)","v":778.13106692173312},{"$f":"INDEX(coordonnées_cadran_plat($D153,U$10,$C$3,$C$2,$C$5,$C$6,0,0,$C$4),1,2)","v":742.92278690742603},{"$f":"INDEX(coordonnées_cadran_plat($D153,W$10,$C$3,$C$2,$C$5,$C$6,0,0,$C$4),1,1)","v":911.56954499117251},{"$f":"INDEX(coordonnées_cadran_plat($D153,W$10,$C$3,$C$2,$C$5,$C$6,0,0,$C$4),1,2)","v":1386.4482888576001}]
[null,31,8,"2010-08-31",{"$f":"INDEX(heures_limites_cadran($D154,$C$3,$C$2,$C$5),1,1)/24","v":"08:00:00"},{"$f":"INDEX(heures_limites_cadran($D154,$C$3,$C$2,$C$5),1,2)/24","v":"18:30:00"},{"$f":"INDEX(coordonnées_cadran_plat($D154,$G$10,$C$3,$C$2,$C$5,$C$6,0,0,$C$4),1,1)","v":957.14379219288674},{"$f":"INDEX(coordonnées_cadran_plat($D154,$G$10,$C$3,$C$2,$C$5,$C$6,0,0,$C$4),1,2)","v":-2388.2233490937842},{"$f":"INDEX(coordonnées_cadran_plat($D154,I$10,$C$3,$C$2,$C$5,$C$6,0,0,$C$4),1,1)","v":764.72201508319779},{"$f":"INDEX(coordonnées_cadran_plat($D154,I$10,$C$3,$C$2,$C$5,$C$6,0,0,$C$4),1,2)","v":-1149.7072178407545},{"$f":"INDEX(coordonnées_cadran_plat($D154,K$10,$C$3,$C$2,$C$5,$C$6,0,0,$C$4),1,1)","v":702.97007599458505},{"$f":"INDEX(coordonnées_cadran_plat($D154,K$10,$C$3,$C$2,$C$5,$C$6,0,0,$C$4),1,2)","v":-646.88861417574844},{"$f":"INDEX(coordonnées_cadran_plat($D154,M$10,$C$3,$C$2,$C$5,$C$6,0,0,$C$4),1,1)","v":679.33003505004206},{"$f":"INDEX(coordonnées_cadran_plat($D154,M$10,$C$3,$C$2,$C$5,$C$6,0,0,$C$4),1,2)","v":-337.67239235446215},{"$f":"INDEX(coordonnées_cadran_plat($D154,O$10,$C$3,$C$2,$C$5,$C$6,0,0,$C$4),1,1)","v":674.5589420179457},{"$f":"INDEX(coordonnées_cadran_plat($D154,O$10,$C$3,$C$2,$C$5,$C$6,0,0,$C$4),1,2)","v":-95.931247841095043},{"$f":"INDEX(coordonnées_cadran_plat($D154,Q$10,$C$3,$C$2,$C$5,$C$6,0,0,$C$4),1,1)","v":684.16279143761096},{"$f":"INDEX(coordonnées_cadran_plat($D154,Q$10,$C$3,$C$2,$C$5,$C$6,0,0,$C$4),1,2)","v":131.81578818507944},{"$f":"INDEX(coordonnées_cadran_plat($D154,S$10,$C$3,$C$2,$C$5,$C$6,0,0,$C$4),1,1)","v":710.55841744057307},{"$f":"INDEX(coordonnées_cadran_plat($D154,S$10,$C$3,$C$2,$C$5,$C$6,0,0,$C$4),1,2)","v":387.73553064250876},{"$f":"INDEX(coordonnées_cadran_plat($D154,U$10,$C$3,$C$2,$C$5,$C$6,0,0,$C$4),1,1)","v":765.69528474609751},{"$f":"INDEX(coordonnées_cadran_plat($D154,U$10,$C$3,$C$2,$C$5,$C$6,0,0,$C$4),1,2)","v":738.49206062553333},{"$f":"INDEX(coordonnées_cadran_plat($D154,W$10,$C$3,$C$2,$C$5,$C$6,0,0,$C$4),1,1)","v":892.31792616025132},{"$f":"INDEX(coordonnées_cadran_plat($D154,W$10,$C$3,$C$2,$C$5,$C$6,0,0,$C$4),1,2)","v":1373.0407613483846}]
[null,1,9,"2010-09-01",{"$f":"INDEX(heures_limites_cadran($D155,$C$3,$C$2,$C$5),1,1)/24","v":"08:00:00"},{"$f":"INDEX(heures_limites_cadran($D155,$C$3,$C$2,$C$5),1,2)/24","v":"18:30:00"},{"$f":"INDEX(coordonnées_cadran_plat($D155,$G$10,$C$3,$C$2,$C$5,$C$6,0,0,$C$4),1,1)","v":924.00221727234793},{"$f":"INDEX(coordonnées_cadran_plat($D155,$G$10,$C$3,$C$2,$C$5,$C$6,0,0,$C$4),1,2)","v":-2328.4105846518505},{"$f":"INDEX(coordonnées_cadran_plat($D155,I$10,$C$3,$C$2,$C$5,$C$6,0,0,$C$4),1,1)","v":748.5725228563208},{"$f":"INDEX(coordonnées_cadran_plat($D155,I$10,$C$3,$C$2,$C$5,$C$6,0,0,$C$4),1,2)","v":-1132.7068534232985},{"$f":"INDEX(coordonnées_cadran_plat($D155,K$10,$C$3,$C$2,$C$5,$C$6,0,0,$C$4),1,1)","v":691.65113412662765},{"$f":"INDEX(coordonnées_cadran_plat($D155,K$10,$C$3,$C$2,$C$5,$C$6,0,0,$C$4),1,2)","v":-639.26230507509615},{"$f":"INDEX(coordonnées_cadran_plat($D155,M$10,$C$3,$C$2,$C$5,$C$6,0,0,$C$4),1,1)","v":669.95915019520544},{"$f":"INDEX(coordonnées_cadran_plat($D155,M$10,$C$3,$C$2,$C$5,$C$6,0,0,$C$4),1,2)","v":-333.69559587618704},{"$f":"INDEX(coordonnées_cadran_plat($D155,O$10,$C$3,$C$2,$C$5,$C$6,0,0,$C$4),1,1)","v":665.90029662019163},{"$f":"INDEX(coordonnées_cadran_plat($D155,O$10,$C$3,$C$2,$C$5,$C$6,0,0,$C$4),1,2)","v":-93.94793568307108},{"$f":"INDEX(coordonnées_cadran_plat($D155,Q$10,$C$3,$C$2,$C$5,$C$6,0,0,$C$4),1,1)","v":675.39035940856115},{"$f":"INDEX(coordonnées_cadran_plat($D155,Q$10,$C$3,$C$2,$C$5,$C$6,0,0,$C$4),1,2)","v":132.27757418933152},{"$f":"INDEX(coordonnées_cadran_plat($D155,S$10,$C$3,$C$2,$C$5,$C$6,0,0,$C$4),1,1)","v":700.78548520062338},{"$f":"INDEX(coordonnées_cadran_plat($D155,S$10,$C$3,$C$2,$C$5,$C$6,0,0,$C$4),1,2)","v":386.45916950025378},{"$f":"INDEX(coordonnées_cadran_plat($D155,U$10,$C$3,$C$2,$C$5,$C$6,0,0,$C$4),1,1)","v":753.40636631307541},{"$f":"INDEX(coordonnées_cadran_plat($D155,U$10,$C$3,$C$2,$C$5,$C$6,0,0,$C$4),1,2)","v":734.13970981669172},{"$f":"INDEX(coordonnées_cadran_plat($D155,W$10,$C$3,$C$2,$C$5,$C$6,0,0,$C$4),1,1)","v":873.41064544367214},{"$f":"INDEX(coordonnées_cadran_plat($D155,W$10,$C$3,$C$2,$C$5,$C$6,0,0,$C$4),1,2)","v":1359.923434158452}]
[null,2,9,"2010-09-02",{"$f":"INDEX(heures_limites_cadran($D156,$C$3,$C$2,$C$5),1,1)/24","v":"08:00:00"},{"$f":"INDEX(heures_limites_cadran($D156,$C$3,$C$2,$C$5),1,2)/24","v":"18:30:00"},{"$f":"INDEX(coordonnées_cadran_plat($D156,$G$10,$C$3,$C$2,$C$5,$C$6,0,0,$C$4),1,1)","v":892.28376473503613},{"$f":"INDEX(coordonnées_cadran_plat($D156,$G$10,$C$3,$C$2,$C$5,$C$6,0,0,$C$4),1,2)","v":-2271.0738895511927},{"$f":"INDEX(coordonnées_cadran_plat($D156,I$10,$C$3,$C$2,$C$5,$C$6,0,0,$C$4),1,1)","v":732.78284194834021},{"$f":"INDEX(coordonnées_cadran_plat($D156,I$10,$C$3,$C$2,$C$5,$C$6,0,0,$C$4),1,2)","v":-1116.0500475910208},{"$f":"INDEX(coordonnées_cadran_plat($D156,K$10,$C$3,$C$2,$C$5,$C$6,0,0,$C$4),1,1)","v":680.50075508161467},{"$f":"INDEX(coordonnées_cadran_plat($D156,K$10,$C$3,$C$2,$C$5,$C$6,0,0,$C$4),1,2)","v":-631.72888524207417},{"$f":"INDEX(coordonnées_cadran_plat($D156,M$10,$C$3,$C$2,$C$5,$C$6,0,0,$C$4),1,1)","v":660.69496415704123},{"$f":"INDEX(coordonnées_cadran_plat($D156,M$10,$C$3,$C$2,$C$5,$C$6,0,0,$C$4),1,2)","v":-329.74868825665465},{"$f":"INDEX(coordonnées_cadran_plat($D156,O$10,$C$3,$C$2,$C$5,$C$6,0,0,$C$4),1,1)","v":657.32539729248094},{"$f":"INDEX(coordonnées_cadran_plat($D156,O$10,$C$3,$C$2,$C$5,$C$6,0,0,$C$4),1,2)","v":-91.970208018585467},{"$f":"INDEX(coordonnées_cadran_plat($D156,Q$10,$C$3,$C$2,$C$5,$C$6,0,0,$C$4),1,1)","v":666.69796273612837},{"$f":"INDEX(coordonnées_cadran_plat($D156,Q$10,$C$3,$C$2,$C$5,$C$6,0,0,$C$4),1,2)","v":132.74910944601174},{"$f":"INDEX(coordonnées_cadran_plat($D156,S$10,$C$3,$C$2,$C$5,$C$6,0,0,$C$4),1,1)","v":691.10724307860949},{"$f":"INDEX(coordonnées_cadran_plat($D156,S$10,$C$3,$C$2,$C$5,$C$6,0,0,$C$4),1,2)","v":385.21191703585743},{"$f":"INDEX(coordonnées_cadran_plat($D156,U$10,$C$3,$C$2,$C$5,$C$6,0,0,$C$4),1,1)","v":741.26355462321339},{"$f":"INDEX(coordonnées_cadran_plat($D156,U$10,$C$3,$C$2,$C$5,$C$6,0,0,$C$4),1,2)","v":729.86336747808173},{"$f":"INDEX(coordonnées_cadran_plat($D156,W$10,$C$3,$C$2,$C$5,$C$6,0,0,$C$4),1,1)","v":854.84045854542308},{"$f":"INDEX(coordonnées_cadran_plat($D156,W$10,$C$3,$C$2,$C$5,$C$6,0,0,$C$4),1,2)","v":1347.0867740541878}]
[null,3,9,"2010-09-03",{"$f":"INDEX(heures_limites_cadran($D157,$C$3,$C$2,$C$5),1,1)/24","v":"08:00:00"},{"$f":"INDEX(heures_limites_cadran($D157,$C$3,$C$2,$C$5),1,2)/24","v":"18:30:00"},{"$f":"INDEX(coordonnées_cadran_plat($D157,$G$10,$C$3,$C$2,$C$5,$C$6,0,0,$C$4),1,1)","v":861.90933147787484},{"$f":"INDEX(coordonnées_cadran_plat($D157,$G$10,$C$3,$C$2,$C$5,$C$6,0,0,$C$4),1,2)","v":-2216.0825073162891},{"$f":"INDEX(coordonnées_cadran_plat($D157,I$10,$C$3,$C$2,$C$5,$C$6,0,0,$C$4),1,1)","v":717.34555926894222},{"$f":"INDEX(coordonnées_cadran_plat($D157,I$10,$C$3,$C$2,$C$5,$C$6,0,0,$C$4),1,2)","v":-1099.7325335295329},{"$f":"INDEX(coordonnées_cadran_plat($D157,K$10,$C$3,$C$2,$C$5,$C$6,0,0,$C$4),1,1)","v":669.51803056378913},{"$f":"INDEX(coordonnées_cadran_plat($D157,K$10,$C$3,$C$2,$C$5,$C$6,0,0,$C$4),1,2)","v":-624.28959947548265},{"$f":"INDEX(coordonnées_cadran_plat($D157,M$10,$C$3,$C$2,$C$5,$C$6,0,0,$C$4),1,1)","v":651.53781285440584},{"$f":"INDEX(coordonnées_cadran_plat($D157,M$10,$C$3,$C$2,$C$5,$C$6,0,0,$C$4),1,2)","v":-325.83311626763913},{"$f":"INDEX(coordonnées_cadran_plat($D157,O$10,$C$3,$C$2,$C$5,$C$6,0,0,$C$4),1,1)","v":648.83486096861111},{"$f":"INDEX(coordonnées_cadran_plat($D157,O$10,$C$3,$C$2,$C$5,$C$6,0,0,$C$4),1,2)","v":-89.999325377613744},{"$f":"INDEX(coordonnées_cadran_plat($D157,Q$10,$C$3,$C$2,$C$5,$C$6,0,0,$C$4),1,1)","v":658.08619911366372},{"$f":"INDEX(coordonnées_cadran_plat($D157,Q$10,$C$3,$C$2,$C$5,$C$6,0,0,$C$4),1,2)","v":133.22922354285879},{"$f":"INDEX(coordonnées_cadran_plat($D157,S$10,$C$3,$C$2,$C$5,$C$6,0,0,$C$4),1,1)","v":681.52399497425097},{"$f":"INDEX(coordonnées_cadran_plat($D157,S$10,$C$3,$C$2,$C$5,$C$6,0,0,$C$4),1,2)","v":383.99243281071648},{"$f":"INDEX(coordonnées_cadran_plat($D157,U$10,$C$3,$C$2,$C$5,$C$6,0,0,$C$4),1,1)","v":729.266018249691},{"$f":"INDEX(coordonnées_cadran_plat($D157,U$10,$C$3,$C$2,$C$5,$C$6,0,0,$C$4),1,2)","v":725.66066209678274},{"$f":"INDEX(coordonnées_cadran_plat($D157,W$10,$C$3,$C$2,$C$5,$C$6,0,0,$C$4),1,1)","v":836.60028134948959},{"$f":"INDEX(coordonnées_cadran_plat($D157,W$10,$C$3,$C$2,$C$5,$C$6,0,0,$C$4),1,2)","v":1334.5214660121385}]
[null,4,9,"2010-09-04",{"$f":"INDEX(heures_limites_cadran($D158,$C$3,$C$2,$C$5),1,1)/24","v":"08:00:00"},{"$f":"INDEX(heures_limites_cadran($D158,$C$3,$C$2,$C$5),1,2)/24","v":"18:30:00"},{"$f":"INDEX(coordonnées_cadran_plat($D158,$G$10,$C$3,$C$2,$C$5,$C$6,0,0,$C$4),1,1)","v":832.80497781154202},{"$f":"INDEX(coordonnées_cadran_plat($D158,$G$10,$C$3,$C$2,$C$5,$C$6,0,0,$C$4),1,2)","v":-2163.3141070419892},{"$f":"INDEX(coordonnées_cadran_plat($D158,I$10,$C$3,$C$2,$C$5,$C$6,0,0,$C$4),1,1)","v":702.25319869382645},{"$f":"INDEX(coordonnées_cadran_plat($D158,I$10,$C$3,$C$2,$C$5,$C$6,0,0,$C$4),1,2)","v":-1083.7498615166885},{"$f":"INDEX(coordonnées_cadran_plat($D158,K$10,$C$3,$C$2,$C$5,$C$6,0,0,$C$4),1,1)","v":658.70188173756151},{"$f":"INDEX(coordonnées_cadran_plat($D158,K$10,$C$3,$C$2,$C$5,$C$6,0,0,$C$4),1,2)","v":-616.94554541539321},{"$f":"INDEX(coordonnées_cadran_plat($D158,M$10,$C$3,$C$2,$C$5,$C$6,0,0,$C$4),1,1)","v":642.48789416876787},{"$f":"INDEX(coordonnées_cadran_plat($D158,M$10,$C$3,$C$2,$C$5,$C$6,0,0,$C$4),1,2)","v":-321.95025529192844},{"$f":"INDEX(coordonnées_cadran_plat($D158,O$10,$C$3,$C$2,$C$5,$C$6,0,0,$C$4),1,1)","v":640.4291919348143},{"$f":"INDEX(coordonnées_cadran_plat($D158,O$10,$C$3,$C$2,$C$5,$C$6,0,0,$C$4),1,2)","v":-88.036515644471493},{"$f":"INDEX(coordonnées_cadran_plat($D158,Q$10,$C$3,$C$2,$C$5,$C$6,0,0,$C$4),1,1)","v":649.55556827133103},{"$f":"INDEX(coordonnées_cadran_plat($D158,Q$10,$C$3,$C$2,$C$5,$C$6,0,0,$C$4),1,2)","v":133.71675688348157},{"$f":"INDEX(coordonnées_cadran_plat($D158,S$10,$C$3,$C$2,$C$5,$C$6,0,0,$C$4),1,1)","v":672.03595635479655},{"$f":"INDEX(coordonnées_cadran_plat($D158,S$10,$C$3,$C$2,$C$5,$C$6,0,0,$C$4),1,2)","v":382.79937351949997},{"$f":"INDEX(coordonnées_cadran_plat($D158,U$10,$C$3,$C$2,$C$5,$C$6,0,0,$C$4),1,1)","v":717.41286097121224},{"$f":"INDEX(coordonnées_cadran_plat($D158,U$10,$C$3,$C$2,$C$5,$C$6,0,0,$C$4),1,2)","v":721.52922246075582},{"$f":"INDEX(coordonnées_cadran_plat($D158,W$10,$C$3,$C$2,$C$5,$C$6,0,0,$C$4),1,1)","v":818.68319564321507},{"$f":"INDEX(coordonnées_cadran_plat($D158,W$10,$C$3,$C$2,$C$5,$C$6,0,0,$C$4),1,2)","v":1322.2184157911408}]
[null,5,9,"2010-09-05",{"$f":"INDEX(heures_limites_cadran($D159,$C$3,$C$2,$C$5),1,1)/24","v":"08:00:00"},{"$f":"INDEX(heures_limites_cadran($D159,$C$3,$C$2,$C$5),1,2)/24","v":"18:30:00"},{"$f":"INDEX(coordonnées_cadran_plat($D159,$G$10,$C$3,$C$2,$C$5,$C$6,0,0,$C$4),1,1)","v":804.90154190351723},{"$f":"INDEX(coordonnées_cadran_plat($D159,$G$10,$C$3,$C$2,$C$5,$C$6,0,0,$C$4),1,2)","v":-2112.6541617387775},{"$f":"INDEX(coordonnées_cadran_plat($D159,I$10,$C$3,$C$2,$C$5,$C$6,0,0,$C$4),1,1)","v":687.49824731828414},{"$f":"INDEX(coordonnées_cadran_plat($D159,I$10,$C$3,$C$2,$C$5,$C$6,0,0,$C$4),1,2)","v":-1068.0974280518635},{"$f":"INDEX(coordonnées_cadran_plat($D159,K$10,$C$3,$C$2,$C$5,$C$6,0,0,$C$4),1,1)","v":648.05107479067681},{"$f":"INDEX(coordonnées_cadran_plat($D159,K$10,$C$3,$C$2,$C$5,$C$6,0,0,$C$4),1,2)","v":-609.69768273139607},{"$f":"INDEX(coordonnées_cadran_plat($D159,M$10,$C$3,$C$2,$C$5,$C$6,0,0,$C$4),1,1)","v":633.54527766408955},{"$f":"INDEX(coordonnées_cadran_plat($D159,M$10,$C$3,$C$2,$C$5,$C$6,0,0,$C$4),1,2)","v":-318.10141212180196},{"$f":"INDEX(coordonnées_cadran_plat($D159,O$10,$C$3,$C$2,$C$5,$C$6,0,0,$C$4),1,1)","v":632.10878925958241},{"$f":"INDEX(coordonnées_cadran_plat($D159,O$10,$C$3,$C$2,$C$5,$C$6,0,0,$C$4),1,2)","v":-86.082974535462682},{"$f":"INDEX(coordonnées_cadran_plat($D159,Q$10,$C$3,$C$2,$C$5,$C$6,0,0,$C$4),1,1)","v":641.1064788007435},{"$f":"INDEX(coordonnées_cadran_plat($D159,Q$10,$C$3,$C$2,$C$5,$C$6,0,0,$C$4),1,2)","v":134.21056153499487},{"$f":"INDEX(coordonnées_cadran_plat($D159,S$10,$C$3,$C$2,$C$5,$C$6,0,0,$C$4),1,1)","v":662.64326163808585},{"$f":"INDEX(coordonnées_cadran_plat($D159,S$10,$C$3,$C$2,$C$5,$C$6,0,0,$C$4),1,2)","v":381.63139523755774},{"$f":"INDEX(coordonnées_cadran_plat($D159,U$10,$C$3,$C$2,$C$5,$C$6,0,0,$C$4),1,1)","v":705.70313078258562},{"$f":"INDEX(coordonnées_cadran_plat($D159,U$10,$C$3,$C$2,$C$5,$C$6,0,0,$C$4),1,2)","v":717.4666821340561},{"$f":"INDEX(coordonnées_cadran_plat($D159,W$10,$C$3,$C$2,$C$5,$C$6,0,0,$C$4),1,1)","v":801.08245373489308},{"$f":"INDEX(coordonnées_cadran_plat($D159,W$10,$C$3,$C$2,$C$5,$C$6,0,0,$C$4),1,2)","v":1310.1687517151829}]
[null,6,9,"2010-09-06",{"$f":"INDEX(heures_limites_cadran($D160,$C$3,$C$2,$C$5),1,1)/24","v":"08:00:00"},{"$f":"INDEX(heures_limites_cadran($D160,$C$3,$C$2,$C$5),1,2)/24","v":"18:30:00"},{"$f":"INDEX(coordonnées_cadran_plat($D160,$G$10,$C$3,$C$2,$C$5,$C$6,0,0,$C$4),1,1)","v":778.13428634127195},{"$f":"INDEX(coordonnées_cadran_plat($D160,$G$10,$C$3,$C$2,$C$5,$C$6,0,0,$C$4),1,2)","v":-2063.9953778812946},{"$f":"INDEX(coordonnées_cadran_plat($D160,I$10,$C$3,$C$2,$C$5,$C$6,0,0,$C$4),1,1)","v":673.07317916587601},{"$f":"INDEX(coordonnées_cadran_plat($D160,I$10,$C$3,$C$2,$C$5,$C$6,0,0,$C$4),1,2)","v":-1052.7705025800303},{"$f":"INDEX(coordonnées_cadran_plat($D160,K$10,$C$3,$C$2,$C$5,$C$6,0,0,$C$4),1,1)","v":637.56423568396463},{"$f":"INDEX(coordonnées_cadran_plat($D160,K$10,$C$3,$C$2,$C$5,$C$6,0,0,$C$4),1,2)","v":-602.54684196205528},{"$f":"INDEX(coordonnées_cadran_plat($D160,M$10,$C$3,$C$2,$C$5,$C$6,0,0,$C$4),1,1)","v":624.70991393570216},{"$f":"INDEX(coordonnées_cadran_plat($D160,M$10,$C$3,$C$2,$C$5,$C$6,0,0,$C$4),1,2)","v":-314.28782772450347},{"$f":"INDEX(coordonnées_cadran_plat($D160,O$10,$C$3,$C$2,$C$5,$C$6,0,0,$C$4),1,1)","v":623.87395396769364},{"$f":"INDEX(coordonnées_cadran_plat($D160,O$10,$C$3,$C$2,$C$5,$C$6,0,0,$C$4),1,2)","v":-84.139866109515367},{"$f":"INDEX(coordonnées_cadran_plat($D160,Q$10,$C$3,$C$2,$C$5,$C$6,0,0,$C$4),1,1)","v":632.73925472497058},{"$f":"INDEX(coordonnées_cadran_plat($D160,Q$10,$C$3,$C$2,$C$5,$C$6,0,0,$C$4),1,2)","v":134.70950200827244},{"$f":"INDEX(coordonnées_cadran_plat($D160,S$10,$C$3,$C$2,$C$5,$C$6,0,0,$C$4),1,1)","v":653.34597123187427},{"$f":"INDEX(coordonnées_cadran_plat($D160,S$10,$C$3,$C$2,$C$5,$C$6,0,0,$C$4),1,2)","v":380.48715553654205},{"$f":"INDEX(coordonnées_cadran_plat($D160,U$10,$C$3,$C$2,$C$5,$C$6,0,0,$C$4),1,1)","v":694.13582831008421},{"$f":"INDEX(coordonnées_cadran_plat($D160,U$10,$C$3,$C$2,$C$5,$C$6,0,0,$C$4),1,2)","v":713.4706836158598},{"$f":"INDEX(coordonnées_cadran_plat($D160,W$10,$C$3,$C$2,$C$5,$C$6,0,0,$C$4),1,1)","v":783.79148207097705},{"$f":"INDEX(coordonnées_cadran_plat($D160,W$10,$C$3,$C$2,$C$5,$C$6,0,0,$C$4),1,2)","v":1298.3638257595121}]
[null,7,9,"2010-09-07",{"$f":"INDEX(heures_limites_cadran($D161,$C$3,$C$2,$C$5),1,1)/24","v":"08:00:00"},{"$f":"INDEX(heures_limites_cadran($D161,$C$3,$C$2,$C$5),1,2)/24","v":"18:30:00"},{"$f":"INDEX(coordonnées_cadran_plat($D161,$G$10,$C$3,$C$2,$C$5,$C$6,0,0,$C$4),1,1)","v":752.44257390959388},{"$f":"INDEX(coordonnées_cadran_plat($D161,$G$10,$C$3,$C$2,$C$5,$C$6,0,0,$C$4),1,2)","v":-2017.2371715758482},{"$f":"INDEX(coordonnées_cadran_plat($D161,I$10,$C$3,$C$2,$C$5,$C$6,0,0,$C$4),1,1)","v":658.97047653097968},{"$f":"INDEX(coordonnées_cadran_plat($D161,I$10,$C$3,$C$2,$C$5,$C$6,0,0,$C$4),1,2)","v":-1037.7642519553499},{"$f":"INDEX(coordonnées_cadran_plat($D161,K$10,$C$3,$C$2,$C$5,$C$6,0,0,$C$4),1,1)","v":627.23986410550151},{"$f":"INDEX(coordonnées_cadran_plat($D161,K$10,$C$3,$C$2,$C$5,$C$6,0,0,$C$4),1,2)","v":-595.49373299977731},{"$f":"INDEX(coordonnées_cadran_plat($D161,M$10,$C$3,$C$2,$C$5,$C$6,0,0,$C$4),1,1)","v":615.98164358713711},{"$f":"INDEX(coordonnées_cadran_plat($D161,M$10,$C$3,$C$2,$C$5,$C$6,0,0,$C$4),1,2)","v":-310.51067996521226},{"$f":"INDEX(coordonnées_cadran_plat($D161,O$10,$C$3,$C$2,$C$5,$C$6,0,0,$C$4),1,1)","v":615.72489595581112},{"$f":"INDEX(coordonnées_cadran_plat($D161,O$10,$C$3,$C$2,$C$5,$C$6,0,0,$C$4),1,2)","v":-82.20832330590963},{"$f":"INDEX(coordonnées_cadran_plat($D161,Q$10,$C$3,$C$2,$C$5,$C$6,0,0,$C$4),1,1)","v":624.45414181306933},{"$f":"INDEX(coordonnées_cadran_plat($D161,Q$10,$C$3,$C$2,$C$5,$C$6,0,0,$C$4),1,2)","v":135.21245597492458},{"$f":"INDEX(coordonnées_cadran_plat($D161,S$10,$C$3,$C$2,$C$5,$C$6,0,0,$C$4),1,1)","v":644.14407823648253},{"$f":"INDEX(coordonnées_cadran_plat($D161,S$10,$C$3,$C$2,$C$5,$C$6,0,0,$C$4),1,2)","v":379.36531547610645},{"$f":"INDEX(coordonnées_cadran_plat($D161,U$10,$C$3,$C$2,$C$5,$C$6,0,0,$C$4),1,1)","v":682.70991465812574},{"$f":"INDEX(coordonnées_cadran_plat($D161,U$10,$C$3,$C$2,$C$5,$C$6,0,0,$C$4),1,2)","v":709.53888220436932},{"$f":"INDEX(coordonnées_cadran_plat($D161,W$10,$C$3,$C$2,$C$5,$C$6,0,0,$C$4),1,1)","v":766.80388394914905},{"$f":"INDEX(coordonnées_cadran_plat($D161,W$10,$C$3,$C$2,$C$5,$C$6,0,0,$C$4),1,2)","v":1286.7952140211153}]
[null,8,9,"2010-09-08",{"$f":"INDEX(heures_limites_cadran($D162,$C$3,$C$2,$C$5),1,1)/24","v":"08:00:00"},{"$f":"INDEX(heures_limites_cadran($D162,$C$3,$C$2,$C$5),1,2)/24","v":"18:30:00"},{"$f":"INDEX(coordonnées_cadran_plat($D162,$G$10,$C$3,$C$2,$C$5,$C$6,0,0,$C$4),1,1)","v":727.76956995483579},{"$f":"INDEX(coordonnées_cadran_plat($D162,$G$10,$C$3,$C$2,$C$5,$C$6,0,0,$C$4),1,2)","v":-1972.2851872082263},{"$f":"INDEX(coordonnées_cadran_plat($D162,I$10,$C$3,$C$2,$C$5,$C$6,0,0,$C$4),1,1)","v":645.18264912628672},{"$f":"INDEX(coordonnées_cadran_plat($D162,I$10,$C$3,$C$2,$C$5,$C$6,0,0,$C$4),1,2)","v":-1023.0737627843181},{"$f":"INDEX(coordonnées_cadran_plat($D162,K$10,$C$3,$C$2,$C$5,$C$6,0,0,$C$4),1,1)","v":617.07634664888508},{"$f":"INDEX(coordonnées_cadran_plat($D162,K$10,$C$3,$C$2,$C$5,$C$6,0,0,$C$4),1,2)","v":-588.53895322019901},{"$f":"INDEX(coordonnées_cadran_plat($D162,M$10,$C$3,$C$2,$C$5,$C$6,0,0,$C$4),1,1)","v":607.36020583491165},{"$f":"INDEX(coordonnées_cadran_plat($D162,M$10,$C$3,$C$2,$C$5,$C$6,0,0,$C$4),1,2)","v":-306.77108628070056},{"$f":"INDEX(coordonnées_cadran_plat($D162,O$10,$C$3,$C$2,$C$5,$C$6,0,0,$C$4),1,1)","v":607.66174064837958},{"$f":"INDEX(coordonnées_cadran_plat($D162,O$10,$C$3,$C$2,$C$5,$C$6,0,0,$C$4),1,2)","v":-80.28944850353858},{"$f":"INDEX(coordonnées_cadran_plat($D162,Q$10,$C$3,$C$2,$C$5,$C$6,0,0,$C$4),1,1)","v":616.25131364055676},{"$f":"INDEX(coordonnées_cadran_plat($D162,Q$10,$C$3,$C$2,$C$5,$C$6,0,0,$C$4),1,2)","v":135.71831492627618},{"$f":"INDEX(coordonnées_cadran_plat($D162,S$10,$C$3,$C$2,$C$5,$C$6,0,0,$C$4),1,1)","v":635.03751481767927},{"$f":"INDEX(coordonnées_cadran_plat($D162,S$10,$C$3,$C$2,$C$5,$C$6,0,0,$C$4),1,2)","v":378.26454147837609},{"$f":"INDEX(coordonnées_cadran_plat($D162,U$10,$C$3,$C$2,$C$5,$C$6,0,0,$C$4),1,1)","v":671.42431871298231},{"$f":"INDEX(coordonnées_cadran_plat($D162,U$10,$C$3,$C$2,$C$5,$C$6,0,0,$C$4),1,2)","v":705.66894958301589},{"$f":"INDEX(coordonnées_cadran_plat($D162,W$10,$C$3,$C$2,$C$5,$C$6,0,0,$C$4),1,1)","v":750.11344141655366},{"$f":"INDEX(coordonnées_cadran_plat($D162,W$10,$C$3,$C$2,$C$5,$C$6,0,0,$C$4),1,2)","v":1275.4547166516343}]
[null,9,9,"2010-09-09",{"$f":"INDEX(heures_limites_cadran($D163,$C$3,$C$2,$C$5),1,1)/24","v":"08:00:00"},{"$f":"INDEX(heures_limites_cadran($D163,$C$3,$C$2,$C$5),1,2)/24","v":"18:30:00"},{"$f":"INDEX(coordonnées_cadran_plat($D163,$G$10,$C$3,$C$2,$C$5,$C$6,0,0,$C$4),1,1)","v":704.06196896016911},{"$f":"INDEX(coordonnées_cadran_plat($D163,$G$10,$C$3,$C$2,$C$5,$C$6,0,0,$C$4),1,2)","v":-1929.0508548093176},{"$f":"INDEX(coordonnées_cadran_plat($D163,I$10,$C$3,$C$2,$C$5,$C$6,0,0,$C$4),1,1)","v":631.70225119892996},{"$f":"INDEX(coordonnées_cadran_plat($D163,I$10,$C$3,$C$2,$C$5,$C$6,0,0,$C$4),1,2)","v":-1008.6940617850023},{"$f":"INDEX(coordonnées_cadran_plat($D163,K$10,$C$3,$C$2,$C$5,$C$6,0,0,$C$4),1,1)","v":607.07196923805998},{"$f":"INDEX(coordonnées_cadran_plat($D163,K$10,$C$3,$C$2,$C$5,$C$6,0,0,$C$4),1,2)","v":-581.682995255479},{"$f":"INDEX(coordonnées_cadran_plat($D163,M$10,$C$3,$C$2,$C$5,$C$6,0,0,$C$4),1,1)","v":598.84524674372096},{"$f":"INDEX(coordonnées_cadran_plat($D163,M$10,$C$3,$C$2,$C$5,$C$6,0,0,$C$4),1,2)","v":-303.07010629687625},{"$f":"INDEX(coordonnées_cadran_plat($D163,O$10,$C$3,$C$2,$C$5,$C$6,0,0,$C$4),1,1)","v":599.68453539388918},{"$f":"INDEX(coordonnées_cadran_plat($D163,O$10,$C$3,$C$2,$C$5,$C$6,0,0,$C$4),1,2)","v":-78.384314096250449},{"$f":"INDEX(coordonnées_cadran_plat($D163,Q$10,$C$3,$C$2,$C$5,$C$6,0,0,$C$4),1,1)","v":608.13087739790467},{"$f":"INDEX(coordonnées_cadran_plat($D163,Q$10,$C$3,$C$2,$C$5,$C$6,0,0,$C$4),1,2)","v":136.22598477906308},{"$f":"INDEX(coordonnées_cadran_plat($D163,S$10,$C$3,$C$2,$C$5,$C$6,0,0,$C$4),1,1)","v":626.02615825762211},{"$f":"INDEX(coordonnées_cadran_plat($D163,S$10,$C$3,$C$2,$C$5,$C$6,0,0,$C$4),1,2)","v":377.18350709136013},{"$f":"INDEX(coordonnées_cadran_plat($D163,U$10,$C$3,$C$2,$C$5,$C$6,0,0,$C$4),1,1)","v":660.27794392934879},{"$f":"INDEX(coordonnées_cadran_plat($D163,U$10,$C$3,$C$2,$C$5,$C$6,0,0,$C$4),1,2)","v":701.85857714829626},{"$f":"INDEX(coordonnées_cadran_plat($D163,W$10,$C$3,$C$2,$C$5,$C$6,0,0,$C$4),1,1)","v":733.71411643233284},{"$f":"INDEX(coordonnées_cadran_plat($D163,W$10,$C$3,$C$2,$C$5,$C$6,0,0,$C$4),1,2)","v":1264.3343573160851}]
[null,10,9,"2010-09-10",{"$f":"INDEX(heures_limites_cadran($D164,$C$3,$C$2,$C$5),1,1)/24","v":"08:00:00"},{"$f":"INDEX(heures_limites_cadran($D164,$C$3,$C$2,$C$5),1,2)/24","v":"18:30:00"},{"$f":"INDEX(coordonnées_cadran_plat($D164,$G$10,$C$3,$C$2,$C$5,$C$6,0,0,$C$4),1,1)","v":681.26974318219482},{"$f":"INDEX(coordonnées_cadran_plat($D164,$G$10,$C$3,$C$2,$C$5,$C$6,0,0,$C$4),1,2)","v":-1887.4509827421048},{"$f":"INDEX(coordonnées_cadran_plat($D164,I$10,$C$3,$C$2,$C$5,$C$6,0,0,$C$4),1,1)","v":618.5218967699368},{"$f":"INDEX(coordonnées_cadran_plat($D164,I$10,$C$3,$C$2,$C$5,$C$6,0,0,$C$4),1,2)","v":-994.62013429371621},{"$f":"INDEX(coordonnées_cadran_plat($D164,K$10,$C$3,$C$2,$C$5,$C$6,0,0,$C$4),1,1)","v":597.224928822577},{"$f":"INDEX(coordonnées_cadran_plat($D164,K$10,$C$3,$C$2,$C$5,$C$6,0,0,$C$4),1,2)","v":-574.92625441430926},{"$f":"INDEX(coordonnées_cadran_plat($D164,M$10,$C$3,$C$2,$C$5,$C$6,0,0,$C$4),1,1)","v":590.43632709592475},{"$f":"INDEX(coordonnées_cadran_plat($D164,M$10,$C$3,$C$2,$C$5,$C$6,0,0,$C$4),1,2)","v":-299.40874438464982},{"$f":"INDEX(coordonnées_cadran_plat($D164,O$10,$C$3,$C$2,$C$5,$C$6,0,0,$C$4),1,1)","v":591.79325560265249},{"$f":"INDEX(coordonnées_cadran_plat($D164,O$10,$C$3,$C$2,$C$5,$C$6,0,0,$C$4),1,2)","v":-76.493963079898691},{"$f":"INDEX(coordonnées_cadran_plat($D164,Q$10,$C$3,$C$2,$C$5,$C$6,0,0,$C$4),1,1)","v":600.09287944957669},{"$f":"INDEX(coordonnées_cadran_plat($D164,Q$10,$C$3,$C$2,$C$5,$C$6,0,0,$C$4),1,2)","v":136.73438643202508},{"$f":"INDEX(coordonnées_cadran_plat($D164,S$10,$C$3,$C$2,$C$5,$C$6,0,0,$C$4),1,1)","v":617.10983669270195},{"$f":"INDEX(coordonnées_cadran_plat($D164,S$10,$C$3,$C$2,$C$5,$C$6,0,0,$C$4),1,2)","v":376.12089464920643},{"$f":"INDEX(coordonnées_cadran_plat($D164,U$10,$C$3,$C$2,$C$5,$C$6,0,0,$C$4),1,1)","v":649.26967462446532},{"$f":"INDEX(coordonnées_cadran_plat($D164,U$10,$C$3,$C$2,$C$5,$C$6,0,0,$C$4),1,2)","v":698.10547909603918},{"$f":"INDEX(coordonnées_cadran_plat($D164,W$10,$C$3,$C$2,$C$5,$C$6,0,0,$C$4),1,1)","v":717.60005136965697},{"$f":"INDEX(coordonnées_cadran_plat($D164,W$10,$C$3,$C$2,$C$5,$C$6,0,0,$C$4),1,2)","v":1253.4263822418661}]
[null,11,9,"2010-09-11",{"$f":"INDEX(heures_limites_cadran($D165,$C$3,$C$2,$C$5),1,1)/24","v":"08:00:00"},{"$f":"INDEX(heures_limites_cadran($D165,$C$3,$C$2,$C$5),1,2)/24","v":"18:30:00"},{"$f":"INDEX(coordonnées_cadran_plat($D165,$G$10,$C$3,$C$2,$C$5,$C$6,0,0,$C$4),1,1)","v":659.34591140377415},{"$f":"INDEX(coordonnées_cadran_plat($D165,$G$10,$C$3,$C$2,$C$5,$C$6,0,0,$C$4),1,2)","v":-1847.4073826253632},{"$f":"INDEX(coordonnées_cadran_plat($D165,I$10,$C$3,$C$2,$C$5,$C$6,0,0,$C$4),1,1)","v":605.63427314426178},{"$f":"INDEX(coordonnées_cadran_plat($D165,I$10,$C$3,$C$2,$C$5,$C$6,0,0,$C$4),1,2)","v":-980.8469410452692},{"$f":"INDEX(coordonnées_cadran_plat($D165,K$10,$C$3,$C$2,$C$5,$C$6,0,0,$C$4),1,1)","v":587.53334436843863},{"$f":"INDEX(coordonnées_cadran_plat($D165,K$10,$C$3,$C$2,$C$5,$C$6,0,0,$C$4),1,2)","v":-568.26903575190829},{"$f":"INDEX(coordonnées_cadran_plat($D165,M$10,$C$3,$C$2,$C$5,$C$6,0,0,$C$4),1,1)","v":582.13292990037439},{"$f":"INDEX(coordonnées_cadran_plat($D165,M$10,$C$3,$C$2,$C$5,$C$6,0,0,$C$4),1,2)","v":-295.78795214957427},{"$f":"INDEX(coordonnées_cadran_plat($D165,O$10,$C$3,$C$2,$C$5,$C$6,0,0,$C$4),1,1)","v":583.98781062817193},{"$f":"INDEX(coordonnées_cadran_plat($D165,O$10,$C$3,$C$2,$C$5,$C$6,0,0,$C$4),1,2)","v":-74.619409646709897},{"$f":"INDEX(coordonnées_cadran_plat($D165,Q$10,$C$3,$C$2,$C$5,$C$6,0,0,$C$4),1,1)","v":592.13731064743115},{"$f":"INDEX(coordonnées_cadran_plat($D165,Q$10,$C$3,$C$2,$C$5,$C$6,0,0,$C$4),1,2)","v":137.24245627771646},{"$f":"INDEX(coordonnées_cadran_plat($D165,S$10,$C$3,$C$2,$C$5,$C$6,0,0,$C$4),1,1)","v":608.28833454645269},{"$f":"INDEX(coordonnées_cadran_plat($D165,S$10,$C$3,$C$2,$C$5,$C$6,0,0,$C$4),1,2)","v":375.075396834331},{"$f":"INDEX(coordonnées_cadran_plat($D165,U$10,$C$3,$C$2,$C$5,$C$6,0,0,$C$4),1,1)","v":638.39838180352183},{"$f":"INDEX(coordonnées_cadran_plat($D165,U$10,$C$3,$C$2,$C$5,$C$6,0,0,$C$4),1,2)","v":694.40739528134065},{"$f":"INDEX(coordonnées_cadran_plat($D165,W$10,$C$3,$C$2,$C$5,$C$6,0,0,$C$4),1,1)","v":701.76556892326607},{"$f":"INDEX(coordonnées_cadran_plat($D165,W$10,$C$3,$C$2,$C$5,$C$6,0,0,$C$4),1,2)","v":1242.7232589099406}]
[null,12,9,"2010-09-12",{"$f":"INDEX(heures_limites_cadran($D166,$C$3,$C$2,$C$5),1,1)/24","v":"08:00:00"},{"$f":"INDEX(heures_limites_cadran($D166,$C$3,$C$2,$C$5),1,2)/24","v":"19:00:00"},{"$f":"INDEX(coordonnées_cadran_plat($D166,$G$10,$C$3,$C$2,$C$5,$C$6,0,0,$C$4),1,1)","v":638.24632604047304},{"$f":"INDEX(coordonnées_cadran_plat($D166,$G$10,$C$3,$C$2,$C$5,$C$6,0,0,$C$4),1,2)","v":-1808.8465236998297},{"$f":"INDEX(coordonnées_cadran_plat($D166,I$10,$C$3,$C$2,$C$5,$C$6,0,0,$C$4),1,1)","v":593.03215282986503},{"$f":"INDEX(coordonnées_cadran_plat($D166,I$10,$C$3,$C$2,$C$5,$C$6,0,0,$C$4),1,2)","v":-967.36943334719217},{"$f":"INDEX(coordonnées_cadran_plat($D166,K$10,$C$3,$C$2,$C$5,$C$6,0,0,$C$4),1,1)","v":577.99526717084586},{"$f":"INDEX(coordonnées_cadran_plat($D166,K$10,$C$3,$C$2,$C$5,$C$6,0,0,$C$4),1,2)","v":-561.71156079567277},{"$f":"INDEX(coordonnées_cadran_plat($D166,M$10,$C$3,$C$2,$C$5,$C$6,0,0,$C$4),1,1)","v":573.93446754699755},{"$f":"INDEX(coordonnées_cadran_plat($D166,M$10,$C$3,$C$2,$C$5,$C$6,0,0,$C$4),1,2)","v":-292.20863085087899},{"$f":"INDEX(coordonnées_cadran_plat($D166,O$10,$C$3,$C$2,$C$5,$C$6,0,0,$C$4),1,1)","v":576.26804939541955},{"$f":"INDEX(coordonnées_cadran_plat($D166,O$10,$C$3,$C$2,$C$5,$C$6,0,0,$C$4),1,2)","v":-72.761639782720977},{"$f":"INDEX(coordonnées_cadran_plat($D166,Q$10,$C$3,$C$2,$C$5,$C$6,0,0,$C$4),1,1)","v":584.26411140251832},{"$f":"INDEX(coordonnées_cadran_plat($D166,Q$10,$C$3,$C$2,$C$5,$C$6,0,0,$C$4),1,2)","v":137.7491466736677},{"$f":"INDEX(coordonnées_cadran_plat($D166,S$10,$C$3,$C$2,$C$5,$C$6,0,0,$C$4),1,1)","v":599.56139766684328},{"$f":"INDEX(coordonnées_cadran_plat($D166,S$10,$C$3,$C$2,$C$5,$C$6,0,0,$C$4),1,2)","v":374.04571814806343},{"$f":"INDEX(coordonnées_cadran_plat($D166,U$10,$C$3,$C$2,$C$5,$C$6,0,0,$C$4),1,1)","v":627.66292854015546},{"$f":"INDEX(coordonnées_cadran_plat($D166,U$10,$C$3,$C$2,$C$5,$C$6,0,0,$C$4),1,2)","v":690.76209386885853},{"$f":"INDEX(coordonnées_cadran_plat($D166,W$10,$C$3,$C$2,$C$5,$C$6,0,0,$C$4),1,1)","v":686.20517148440968},{"$f":"INDEX(coordonnées_cadran_plat($D166,W$10,$C$3,$C$2,$C$5,$C$6,0,0,$C$4),1,2)","v":1232.2176744387625}]
[null,13,9,"2010-09-13",{"$f":"INDEX(heures_limites_cadran($D167,$C$3,$C$2,$C$5),1,1)/24","v":"07:30:00"},{"$f":"INDEX(heures_limites_cadran($D167,$C$3,$C$2,$C$5),1,2)/24","v":"19:00:00"},{"$f":"INDEX(coordonnées_cadran_plat($D167,$G$10,$C$3,$C$2,$C$5,$C$6,0,0,$C$4),1,1)","v":617.92947700535501},{"$f":"INDEX(coordonnées_cadran_plat($D167,$G$10,$C$3,$C$2,$C$5,$C$6,0,0,$C$4),1,2)","v":-1771.6992140998707},{"$f":"INDEX(coordonnées_cadran_plat($D167,I$10,$C$3,$C$2,$C$5,$C$6,0,0,$C$4),1,1)","v":580.70840399608392},{"$f":"INDEX(coordonnées_cadran_plat($D167,I$10,$C$3,$C$2,$C$5,$C$6,0,0,$C$4),1,2)","v":-954.18256676236251},{"$f":"INDEX(coordonnées_cadran_plat($D167,K$10,$C$3,$C$2,$C$5,$C$6,0,0,$C$4),1,1)","v":568.60869051554198},{"$f":"INDEX(coordonnées_cadran_plat($D167,K$10,$C$3,$C$2,$C$5,$C$6,0,0,$C$4),1,2)","v":-555.25397393225501},{"$f":"INDEX(coordonnées_cadran_plat($D167,M$10,$C$3,$C$2,$C$5,$C$6,0,0,$C$4),1,1)","v":565.84028861468687},{"$f":"INDEX(coordonnées_cadran_plat($D167,M$10,$C$3,$C$2,$C$5,$C$6,0,0,$C$4),1,2)","v":-288.67163374670582},{"$f":"INDEX(coordonnées_cadran_plat($D167,O$10,$C$3,$C$2,$C$5,$C$6,0,0,$C$4),1,1)","v":568.63376577956808},{"$f":"INDEX(coordonnées_cadran_plat($D167,O$10,$C$3,$C$2,$C$5,$C$6,0,0,$C$4),1,2)","v":-70.921611864803552},{"$f":"INDEX(coordonnées_cadran_plat($D167,Q$10,$C$3,$C$2,$C$5,$C$6,0,0,$C$4),1,1)","v":576.47317652005711},{"$f":"INDEX(coordonnées_cadran_plat($D167,Q$10,$C$3,$C$2,$C$5,$C$6,0,0,$C$4),1,2)","v":138.2534263766992},{"$f":"INDEX(coordonnées_cadran_plat($D167,S$10,$C$3,$C$2,$C$5,$C$6,0,0,$C$4),1,1)","v":590.92873817738518},{"$f":"INDEX(coordonnées_cadran_plat($D167,S$10,$C$3,$C$2,$C$5,$C$6,0,0,$C$4),1,2)","v":373.03057629630291},{"$f":"INDEX(coordonnées_cadran_plat($D167,U$10,$C$3,$C$2,$C$5,$C$6,0,0,$C$4),1,1)","v":617.0621749344308},{"$f":"INDEX(coordonnées_cadran_plat($D167,U$10,$C$3,$C$2,$C$5,$C$6,0,0,$C$4),1,2)","v":687.16737378814105},{"$f":"INDEX(coordonnées_cadran_plat($D167,W$10,$C$3,$C$2,$C$5,$C$6,0,0,$C$4),1,1)","v":670.91354003866718},{"$f":"INDEX(coordonnées_cadran_plat($D167,W$10,$C$3,$C$2,$C$5,$C$6,0,0,$C$4),1,2)","v":1221.9025337045223}]
[null,14,9,"2010-09-14",{"$f":"INDEX(heures_limites_cadran($D168,$C$3,$C$2,$C$5),1,1)/24","v":"07:30:00"},{"$f":"INDEX(heures_limites_cadran($D168,$C$3,$C$2,$C$5),1,2)/24","v":"19:00:00"},{"$f":"INDEX(coordonnées_cadran_plat($D168,$G$10,$C$3,$C$2,$C$5,$C$6,0,0,$C$4),1,1)","v":598.35631088461173},{"$f":"INDEX(coordonnées_cadran_plat($D168,$G$10,$C$3,$C$2,$C$5,$C$6,0,0,$C$4),1,2)","v":-1735.9003067328838},{"$f":"INDEX(coordonnées_cadran_plat($D168,I$10,$C$3,$C$2,$C$5,$C$6,0,0,$C$4),1,1)","v":568.65599959411861},{"$f":"INDEX(coordonnées_cadran_plat($D168,I$10,$C$3,$C$2,$C$5,$C$6,0,0,$C$4),1,2)","v":-941.28131340929895},{"$f":"INDEX(coordonnées_cadran_plat($D168,K$10,$C$3,$C$2,$C$5,$C$6,0,0,$C$4),1,1)","v":559.37155871619689},{"$f":"INDEX(coordonnées_cadran_plat($D168,K$10,$C$3,$C$2,$C$5,$C$6,0,0,$C$4),1,2)","v":-548.89634846441209},{"$f":"INDEX(coordonnées_cadran_plat($D168,M$10,$C$3,$C$2,$C$5,$C$6,0,0,$C$4),1,1)","v":557.84968434025052},{"$f":"INDEX(coordonnées_cadran_plat($D168,M$10,$C$3,$C$2,$C$5,$C$6,0,0,$C$4),1,2)","v":-285.17776836329978},{"$f":"INDEX(coordonnées_cadran_plat($D168,O$10,$C$3,$C$2,$C$5,$C$6,0,0,$C$4),1,1)","v":561.08470373974023},{"$f":"INDEX(coordonnées_cadran_plat($D168,O$10,$C$3,$C$2,$C$5,$C$6,0,0,$C$4),1,2)","v":-69.100257254173115},{"$f":"INDEX(coordonnées_cadran_plat($D168,Q$10,$C$3,$C$2,$C$5,$C$6,0,0,$C$4),1,1)","v":568.76435980269866},{"$f":"INDEX(coordonnées_cadran_plat($D168,Q$10,$C$3,$C$2,$C$5,$C$6,0,0,$C$4),1,2)","v":138.75428094383997},{"$f":"INDEX(coordonnées_cadran_plat($D168,S$10,$C$3,$C$2,$C$5,$C$6,0,0,$C$4),1,1)","v":582.39003905073707},{"$f":"INDEX(coordonnées_cadran_plat($D168,S$10,$C$3,$C$2,$C$5,$C$6,0,0,$C$4),1,2)","v":372.02870349424217},{"$f":"INDEX(coordonnées_cadran_plat($D168,U$10,$C$3,$C$2,$C$5,$C$6,0,0,$C$4),1,1)","v":606.59498266954688},{"$f":"INDEX(coordonnées_cadran_plat($D168,U$10,$C$3,$C$2,$C$5,$C$6,0,0,$C$4),1,2)","v":683.62106700573099},{"$f":"INDEX(coordonnées_cadran_plat($D168,W$10,$C$3,$C$2,$C$5,$C$6,0,0,$C$4),1,1)","v":655.8855326370176},{"$f":"INDEX(coordonnées_cadran_plat($D168,W$10,$C$3,$C$2,$C$5,$C$6,0,0,$C$4),1,2)","v":1211.7709572351307}]
[null,15,9,"2010-09-15",{"$f":"INDEX(heures_limites_cadran($D169,$C$3,$C$2,$C$5),1,1)/24","v":"07:30:00"},{"$f":"INDEX(heures_limites_cadran($D169,$C$3,$C$2,$C$5),1,2)/24","v":"19:00:00"},{"$f":"INDEX(coordonnées_cadran_plat($D169,$G$10,$C$3,$C$2,$C$5,$C$6,0,0,$C$4),1,1)","v":579.49006411211099},{"$f":"INDEX(coordonnées_cadran_plat($D169,$G$10,$C$3,$C$2,$C$5,$C$6,0,0,$C$4),1,2)","v":-1701.3884276733775},{"$f":"INDEX(coordonnées_cadran_plat($D169,I$10,$C$3,$C$2,$C$5,$C$6,0,0,$C$4),1,1)","v":556.86802525363669},{"$f":"INDEX(coordonnées_cadran_plat($D169,I$10,$C$3,$C$2,$C$5,$C$6,0,0,$C$4),1,2)","v":-928.66067298324435},{"$f":"INDEX(coordonnées_cadran_plat($D169,K$10,$C$3,$C$2,$C$5,$C$6,0,0,$C$4),1,1)","v":550.28177555515708},{"$f":"INDEX(coordonnées_cadran_plat($D169,K$10,$C$3,$C$2,$C$5,$C$6,0,0,$C$4),1,2)","v":-542.6386923448614},{"$f":"INDEX(coordonnées_cadran_plat($D169,M$10,$C$3,$C$2,$C$5,$C$6,0,0,$C$4),1,1)","v":549.96189475782489},{"$f":"INDEX(coordonnées_cadran_plat($D169,M$10,$C$3,$C$2,$C$5,$C$6,0,0,$C$4),1,2)","v":-281.72779868547394},{"$f":"INDEX(coordonnées_cadran_plat($D169,O$10,$C$3,$C$2,$C$5,$C$6,0,0,$C$4),1,1)","v":553.62056221305875},{"$f":"INDEX(coordonnées_cadran_plat($D169,O$10,$C$3,$C$2,$C$5,$C$6,0,0,$C$4),1,2)","v":-67.298480882486686},{"$f":"INDEX(coordonnées_cadran_plat($D169,Q$10,$C$3,$C$2,$C$5,$C$6,0,0,$C$4),1,1)","v":561.13747842760017},{"$f":"INDEX(coordonnées_cadran_plat($D169,Q$10,$C$3,$C$2,$C$5,$C$6,0,0,$C$4),1,2)","v":139.25071310370299},{"$f":"INDEX(coordonnées_cadran_plat($D169,S$10,$C$3,$C$2,$C$5,$C$6,0,0,$C$4),1,1)","v":573.94495841502965},{"$f":"INDEX(coordonnées_cadran_plat($D169,S$10,$C$3,$C$2,$C$5,$C$6,0,0,$C$4),1,2)","v":371.03884769737175},{"$f":"INDEX(coordonnées_cadran_plat($D169,U$10,$C$3,$C$2,$C$5,$C$6,0,0,$C$4),1,1)","v":596.26021918875074},{"$f":"INDEX(coordonnées_cadran_plat($D169,U$10,$C$3,$C$2,$C$5,$C$6,0,0,$C$4),1,2)","v":680.12104062938397},{"$f":"INDEX(coordonnées_cadran_plat($D169,W$10,$C$3,$C$2,$C$5,$C$6,0,0,$C$4),1,1)","v":641.11618248684238},{"$f":"INDEX(coordonnées_cadran_plat($D169,W$10,$C$3,$C$2,$C$5,$C$6,0,0,$C$4),1,2)","v":1201.8162789153105}]
[null,16,9,"2010-09-16",{"$f":"INDEX(heures_limites_cadran($D170,$C$3,$C$2,$C$5),1,1)/24","v":"07:30:00"},{"$f":"INDEX(heures_limites_cadran($D170,$C$3,$C$2,$C$5),1,2)/24","v":"19:00:00"},{"$f":"INDEX(coordonnées_cadran_plat($D170,$G$10,$C$3,$C$2,$C$5,$C$6,0,0,$C$4),1,1)","v":561.29610895171311},{"$f":"INDEX(coordonnées_cadran_plat($D170,$G$10,$C$3,$C$2,$C$5,$C$6,0,0,$C$4),1,2)","v":-1668.1057251779771},{"$f":"INDEX(coordonnées_cadran_plat($D170,I$10,$C$3,$C$2,$C$5,$C$6,0,0,$C$4),1,1)","v":545.33768606296701},{"$f":"INDEX(coordonnées_cadran_plat($D170,I$10,$C$3,$C$2,$C$5,$C$6,0,0,$C$4),1,2)","v":-916.3156825947633},{"$f":"INDEX(coordonnées_cadran_plat($D170,K$10,$C$3,$C$2,$C$5,$C$6,0,0,$C$4),1,1)","v":541.33721215494529},{"$f":"INDEX(coordonnées_cadran_plat($D170,K$10,$C$3,$C$2,$C$5,$C$6,0,0,$C$4),1,2)","v":-536.48095359684226},{"$f":"INDEX(coordonnées_cadran_plat($D170,M$10,$C$3,$C$2,$C$5,$C$6,0,0,$C$4),1,1)","v":542.17611451787957},{"$f":"INDEX(coordonnées_cadran_plat($D170,M$10,$C$3,$C$2,$C$5,$C$6,0,0,$C$4),1,2)","v":-278.32244726705187},{"$f":"INDEX(coordonnées_cadran_plat($D170,O$10,$C$3,$C$2,$C$5,$C$6,0,0,$C$4),1,1)","v":546.24099977396293},{"$f":"INDEX(coordonnées_cadran_plat($D170,O$10,$C$3,$C$2,$C$5,$C$6,0,0,$C$4),1,2)","v":-65.517161829274713},{"$f":"INDEX(coordonnées_cadran_plat($D170,Q$10,$C$3,$C$2,$C$5,$C$6,0,0,$C$4),1,1)","v":553.5923171032515},{"$f":"INDEX(coordonnées_cadran_plat($D170,Q$10,$C$3,$C$2,$C$5,$C$6,0,0,$C$4),1,2)","v":139.74174310110973},{"$f":"INDEX(coordonnées_cadran_plat($D170,S$10,$C$3,$C$2,$C$5,$C$6,0,0,$C$4),1,1)","v":565.59313360165868},{"$f":"INDEX(coordonnées_cadran_plat($D170,S$10,$C$3,$C$2,$C$5,$C$6,0,0,$C$4),1,2)","v":370.0597737624139},{"$f":"INDEX(coordonnées_cadran_plat($D170,U$10,$C$3,$C$2,$C$5,$C$6,0,0,$C$4),1,1)","v":586.05676151180251},{"$f":"INDEX(coordonnées_cadran_plat($D170,U$10,$C$3,$C$2,$C$5,$C$6,0,0,$C$4),1,2)","v":676.66519885423781},{"$f":"INDEX(coordonnées_cadran_plat($D170,W$10,$C$3,$C$2,$C$5,$C$6,0,0,$C$4),1,1)","v":626.60069570410326},{"$f":"INDEX(coordonnées_cadran_plat($D170,W$10,$C$3,$C$2,$C$5,$C$6,0,0,$C$4),1,2)","v":1192.0320435310721}]
[null,17,9,"2010-09-17",{"$f":"INDEX(heures_limites_cadran($D171,$C$3,$C$2,$C$5),1,1)/24","v":"07:30:00"},{"$f":"INDEX(heures_limites_cadran($D171,$C$3,$C$2,$C$5),1,2)/24","v":"19:00:00"},{"$f":"INDEX(coordonnées_cadran_plat($D171,$G$10,$C$3,$C$2,$C$5,$C$6,0,0,$C$4),1,1)","v":543.74181120603259},{"$f":"INDEX(coordonnées_cadran_plat($D171,$G$10,$C$3,$C$2,$C$5,$C$6,0,0,$C$4),1,2)","v":-1635.9976375918425},{"$f":"INDEX(coordonnées_cadran_plat($D171,I$10,$C$3,$C$2,$C$5,$C$6,0,0,$C$4),1,1)","v":534.05831233214985},{"$f":"INDEX(coordonnées_cadran_plat($D171,I$10,$C$3,$C$2,$C$5,$C$6,0,0,$C$4),1,2)","v":-904.24142551782222},{"$f":"INDEX(coordonnées_cadran_plat($D171,K$10,$C$3,$C$2,$C$5,$C$6,0,0,$C$4),1,1)","v":532.5357143078262},{"$f":"INDEX(coordonnées_cadran_plat($D171,K$10,$C$3,$C$2,$C$5,$C$6,0,0,$C$4),1,2)","v":-530.42302543050596},{"$f":"INDEX(coordonnées_cadran_plat($D171,M$10,$C$3,$C$2,$C$5,$C$6,0,0,$C$4),1,1)","v":534.49149839569338},{"$f":"INDEX(coordonnées_cadran_plat($D171,M$10,$C$3,$C$2,$C$5,$C$6,0,0,$C$4),1,2)","v":-274.96239726031672},{"$f":"INDEX(coordonnées_cadran_plat($D171,O$10,$C$3,$C$2,$C$5,$C$6,0,0,$C$4),1,1)","v":538.94563906515657},{"$f":"INDEX(coordonnées_cadran_plat($D171,O$10,$C$3,$C$2,$C$5,$C$6,0,0,$C$4),1,2)","v":-63.757153886615114},{"$f":"INDEX(coordonnées_cadran_plat($D171,Q$10,$C$3,$C$2,$C$5,$C$6,0,0,$C$4),1,1)","v":546.1286320117631},{"$f":"INDEX(coordonnées_cadran_plat($D171,Q$10,$C$3,$C$2,$C$5,$C$6,0,0,$C$4),1,2)","v":140.22640901836851},{"$f":"INDEX(coordonnées_cadran_plat($D171,S$10,$C$3,$C$2,$C$5,$C$6,0,0,$C$4),1,1)","v":557.3341849443583},{"$f":"INDEX(coordonnées_cadran_plat($D171,S$10,$C$3,$C$2,$C$5,$C$6,0,0,$C$4),1,2)","v":369.09026454394944},{"$f":"INDEX(coordonnées_cadran_plat($D171,U$10,$C$3,$C$2,$C$5,$C$6,0,0,$C$4),1,1)","v":575.98349971063294},{"$f":"INDEX(coordonnées_cadran_plat($D171,U$10,$C$3,$C$2,$C$5,$C$6,0,0,$C$4),1,2)","v":673.25148476381355},{"$f":"INDEX(coordonnées_cadran_plat($D171,W$10,$C$3,$C$2,$C$5,$C$6,0,0,$C$4),1,1)","v":612.33444876466274},{"$f":"INDEX(coordonnées_cadran_plat($D171,W$10,$C$3,$C$2,$C$5,$C$6,0,0,$C$4),1,2)","v":1182.4120041814472}]
[null,18,9,"2010-09-18",{"$f":"INDEX(heures_limites_cadran($D172,$C$3,$C$2,$C$5),1,1)/24","v":"07:30:00"},{"$f":"INDEX(heures_limites_cadran($D172,$C$3,$C$2,$C$5),1,2)/24","v":"19:00:00"},{"$f":"INDEX(coordonnées_cadran_plat($D172,$G$10,$C$3,$C$2,$C$5,$C$6,0,0,$C$4),1,1)","v":526.79639866887055},{"$f":"INDEX(coordonnées_cadran_plat($D172,$G$10,$C$3,$C$2,$C$5,$C$6,0,0,$C$4),1,2)","v":-1605.0126785816276},{"$f":"INDEX(coordonnées_cadran_plat($D172,I$10,$C$3,$C$2,$C$5,$C$6,0,0,$C$4),1,1)","v":523.02336443193735},{"$f":"INDEX(coordonnées_cadran_plat($D172,I$10,$C$3,$C$2,$C$5,$C$6,0,0,$C$4),1,2)","v":-892.43303893329403},{"$f":"INDEX(coordonnées_cadran_plat($D172,K$10,$C$3,$C$2,$C$5,$C$6,0,0,$C$4),1,1)","v":523.8751092901266},{"$f":"INDEX(coordonnées_cadran_plat($D172,K$10,$C$3,$C$2,$C$5,$C$6,0,0,$C$4),1,2)","v":-524.46475106474213},{"$f":"INDEX(coordonnées_cadran_plat($D172,M$10,$C$3,$C$2,$C$5,$C$6,0,0,$C$4),1,1)","v":526.90716649962224},{"$f":"INDEX(coordonnées_cadran_plat($D172,M$10,$C$3,$C$2,$C$5,$C$6,0,0,$C$4),1,2)","v":-271.6482943636222},{"$f":"INDEX(coordonnées_cadran_plat($D172,O$10,$C$3,$C$2,$C$5,$C$6,0,0,$C$4),1,1)","v":531.73407100610302},{"$f":"INDEX(coordonnées_cadran_plat($D172,O$10,$C$3,$C$2,$C$5,$C$6,0,0,$C$4),1,2)","v":-62.019286110170341},{"$f":"INDEX(coordonnées_cadran_plat($D172,Q$10,$C$3,$C$2,$C$5,$C$6,0,0,$C$4),1,1)","v":538.74615454305774},{"$f":"INDEX(coordonnées_cadran_plat($D172,Q$10,$C$3,$C$2,$C$5,$C$6,0,0,$C$4),1,2)","v":140.70376707557693},{"$f":"INDEX(coordonnées_cadran_plat($D172,S$10,$C$3,$C$2,$C$5,$C$6,0,0,$C$4),1,1)","v":549.16771933825316},{"$f":"INDEX(coordonnées_cadran_plat($D172,S$10,$C$3,$C$2,$C$5,$C$6,0,0,$C$4),1,2)","v":368.12912193027233},{"$f":"INDEX(coordonnées_cadran_plat($D172,U$10,$C$3,$C$2,$C$5,$C$6,0,0,$C$4),1,1)","v":566.03934006187342},{"$f":"INDEX(coordonnées_cadran_plat($D172,U$10,$C$3,$C$2,$C$5,$C$6,0,0,$C$4),1,2)","v":669.87788199488921},{"$f":"INDEX(coordonnées_cadran_plat($D172,W$10,$C$3,$C$2,$C$5,$C$6,0,0,$C$4),1,1)","v":598.31298568982334},{"$f":"INDEX(coordonnées_cadran_plat($D172,W$10,$C$3,$C$2,$C$5,$C$6,0,0,$C$4),1,2)","v":1172.9501195821749}]
[null,19,9,{"$f":"DATE($C$7,C173,B173)","v":"2010-09-19"},{"$f":"INDEX(heures_limites_cadran($D173,$C$3,$C$2,$C$5),1,1)/24","v":"07:30:00"},{"$f":"INDEX(heures_limites_cadran($D173,$C$3,$C$2,$C$5),1,2)/24","v":"19:00:00"},{"$f":"INDEX(coordonnées_cadran_plat($D173,$G$10,$C$3,$C$2,$C$5,$C$6,0,0,$C$4),1,1)","v":510.43083942820175},{"$f":"INDEX(coordonnées_cadran_plat($D173,$G$10,$C$3,$C$2,$C$5,$C$6,0,0,$C$4),1,2)","v":-1575.1022382616252},{"$f":"INDEX(coordonnées_cadran_plat($D173,I$10,$C$3,$C$2,$C$5,$C$6,0,0,$C$4),1,1)","v":512.22643679428234},{"$f":"INDEX(coordonnées_cadran_plat($D173,I$10,$C$3,$C$2,$C$5,$C$6,0,0,$C$4),1,2)","v":-880.8857207483685},{"$f":"INDEX(coordonnées_cadran_plat($D173,K$10,$C$3,$C$2,$C$5,$C$6,0,0,$C$4),1,1)","v":515.35321218766478},{"$f":"INDEX(coordonnées_cadran_plat($D173,K$10,$C$3,$C$2,$C$5,$C$6,0,0,$C$4),1,2)","v":-518.60592826535219},{"$f":"INDEX(coordonnées_cadran_plat($D173,M$10,$C$3,$C$2,$C$5,$C$6,0,0,$C$4),1,1)","v":519.4222091895283},{"$f":"INDEX(coordonnées_cadran_plat($D173,M$10,$C$3,$C$2,$C$5,$C$6,0,0,$C$4),1,2)","v":-268.38074868695332},{"$f":"INDEX(coordonnées_cadran_plat($D173,O$10,$C$3,$C$2,$C$5,$C$6,0,0,$C$4),1,1)","v":524.60585878550148},{"$f":"INDEX(coordonnées_cadran_plat($D173,O$10,$C$3,$C$2,$C$5,$C$6,0,0,$C$4),1,2)","v":-60.304363353690697},{"$f":"INDEX(coordonnées_cadran_plat($D173,Q$10,$C$3,$C$2,$C$5,$C$6,0,0,$C$4),1,1)","v":531.44459482725881},{"$f":"INDEX(coordonnées_cadran_plat($D173,Q$10,$C$3,$C$2,$C$5,$C$6,0,0,$C$4),1,2)","v":141.17289191333612},{"$f":"INDEX(coordonnées_cadran_plat($D173,S$10,$C$3,$C$2,$C$5,$C$6,0,0,$C$4),1,1)","v":541.09333356872162},{"$f":"INDEX(coordonnées_cadran_plat($D173,S$10,$C$3,$C$2,$C$5,$C$6,0,0,$C$4),1,2)","v":367.17516782423689},{"$f":"INDEX(coordonnées_cadran_plat($D173,U$10,$C$3,$C$2,$C$5,$C$6,0,0,$C$4),1,1)","v":556.22320789423009},{"$f":"INDEX(coordonnées_cadran_plat($D173,U$10,$C$3,$C$2,$C$5,$C$6,0,0,$C$4),1,2)","v":666.54241627699037},{"$f":"INDEX(coordonnées_cadran_plat($D173,W$10,$C$3,$C$2,$C$5,$C$6,0,0,$C$4),1,1)","v":584.53201499635611},{"$f":"INDEX(coordonnées_cadran_plat($D173,W$10,$C$3,$C$2,$C$5,$C$6,0,0,$C$4),1,2)","v":1163.6405512809233}]
[null,20,9,"2010-09-20",{"$f":"INDEX(heures_limites_cadran($D174,$C$3,$C$2,$C$5),1,1)/24","v":"07:30:00"},{"$f":"INDEX(heures_limites_cadran($D174,$C$3,$C$2,$C$5),1,2)/24","v":"19:00:00"},{"$f":"INDEX(coordonnées_cadran_plat($D174,$G$10,$C$3,$C$2,$C$5,$C$6,0,0,$C$4),1,1)","v":494.61772920656216},{"$f":"INDEX(coordonnées_cadran_plat($D174,$G$10,$C$3,$C$2,$C$5,$C$6,0,0,$C$4),1,2)","v":-1546.2203989177895},{"$f":"INDEX(coordonnées_cadran_plat($D174,I$10,$C$3,$C$2,$C$5,$C$6,0,0,$C$4),1,1)","v":501.66126115454523},{"$f":"INDEX(coordonnées_cadran_plat($D174,I$10,$C$3,$C$2,$C$5,$C$6,0,0,$C$4),1,2)","v":-869.59473556720047},{"$f":"INDEX(coordonnées_cadran_plat($D174,K$10,$C$3,$C$2,$C$5,$C$6,0,0,$C$4),1,1)","v":506.96783175824487},{"$f":"INDEX(coordonnées_cadran_plat($D174,K$10,$C$3,$C$2,$C$5,$C$6,0,0,$C$4),1,2)","v":-512.84631360890728},{"$f":"INDEX(coordonnées_cadran_plat($D174,M$10,$C$3,$C$2,$C$5,$C$6,0,0,$C$4),1,1)","v":512.03569171577988},{"$f":"INDEX(coordonnées_cadran_plat($D174,M$10,$C$3,$C$2,$C$5,$C$6,0,0,$C$4),1,2)","v":-265.16033653572771},{"$f":"INDEX(coordonnées_cadran_plat($D174,O$10,$C$3,$C$2,$C$5,$C$6,0,0,$C$4),1,1)","v":517.56054164420834},{"$f":"INDEX(coordonnées_cadran_plat($D174,O$10,$C$3,$C$2,$C$5,$C$6,0,0,$C$4),1,2)","v":-58.61316678617073},{"$f":"INDEX(coordonnées_cadran_plat($D174,Q$10,$C$3,$C$2,$C$5,$C$6,0,0,$C$4),1,1)","v":524.22364507150019},{"$f":"INDEX(coordonnées_cadran_plat($D174,Q$10,$C$3,$C$2,$C$5,$C$6,0,0,$C$4),1,2)","v":141.63287685949672},{"$f":"INDEX(coordonnées_cadran_plat($D174,S$10,$C$3,$C$2,$C$5,$C$6,0,0,$C$4),1,1)","v":533.11061741837113},{"$f":"INDEX(coordonnées_cadran_plat($D174,S$10,$C$3,$C$2,$C$5,$C$6,0,0,$C$4),1,2)","v":366.2272450714317},{"$f":"INDEX(coordonnées_cadran_plat($D174,U$10,$C$3,$C$2,$C$5,$C$6,0,0,$C$4),1,1)","v":546.53405014697626},{"$f":"INDEX(coordonnées_cadran_plat($D174,U$10,$C$3,$C$2,$C$5,$C$6,0,0,$C$4),1,2)","v":663.24315685518184},{"$f":"INDEX(coordonnées_cadran_plat($D174,W$10,$C$3,$C$2,$C$5,$C$6,0,0,$C$4),1,1)","v":570.98740644023974},{"$f":"INDEX(coordonnées_cadran_plat($D174,W$10,$C$3,$C$2,$C$5,$C$6,0,0,$C$4),1,2)","v":1154.4776608029504}]
[null,21,9,"2010-09-21",{"$f":"INDEX(heures_limites_cadran($D175,$C$3,$C$2,$C$5),1,1)/24","v":"07:30:00"},{"$f":"INDEX(heures_limites_cadran($D175,$C$3,$C$2,$C$5),1,2)/24","v":"19:00:00"},{"$f":"INDEX(coordonnées_cadran_plat($D175,$G$10,$C$3,$C$2,$C$5,$C$6,0,0,$C$4),1,1)","v":479.33118699910023},{"$f":"INDEX(coordonnées_cadran_plat($D175,$G$10,$C$3,$C$2,$C$5,$C$6,0,0,$C$4),1,2)","v":-1518.3237641407777},{"$f":"INDEX(coordonnées_cadran_plat($D175,I$10,$C$3,$C$2,$C$5,$C$6,0,0,$C$4),1,1)","v":491.32170910852733},{"$f":"INDEX(coordonnées_cadran_plat($D175,I$10,$C$3,$C$2,$C$5,$C$6,0,0,$C$4),1,2)","v":-858.55541988356424},{"$f":"INDEX(coordonnées_cadran_plat($D175,K$10,$C$3,$C$2,$C$5,$C$6,0,0,$C$4),1,1)","v":498.71677585592215},{"$f":"INDEX(coordonnées_cadran_plat($D175,K$10,$C$3,$C$2,$C$5,$C$6,0,0,$C$4),1,2)","v":-507.18562648358903},{"$f":"INDEX(coordonnées_cadran_plat($D175,M$10,$C$3,$C$2,$C$5,$C$6,0,0,$C$4),1,1)","v":504.74665858989806},{"$f":"INDEX(coordonnées_cadran_plat($D175,M$10,$C$3,$C$2,$C$5,$C$6,0,0,$C$4),1,2)","v":-261.98760211249743},{"$f":"INDEX(coordonnées_cadran_plat($D175,O$10,$C$3,$C$2,$C$5,$C$6,0,0,$C$4),1,1)","v":510.59763845560525},{"$f":"INDEX(coordonnées_cadran_plat($D175,O$10,$C$3,$C$2,$C$5,$C$6,0,0,$C$4),1,2)","v":-56.946454389174079},{"$f":"INDEX(coordonnées_cadran_plat($D175,Q$10,$C$3,$C$2,$C$5,$C$6,0,0,$C$4),1,1)","v":517.08298270759599},{"$f":"INDEX(coordonnées_cadran_plat($D175,Q$10,$C$3,$C$2,$C$5,$C$6,0,0,$C$4),1,2)","v":142.08283418276943},{"$f":"INDEX(coordonnées_cadran_plat($D175,S$10,$C$3,$C$2,$C$5,$C$6,0,0,$C$4),1,1)","v":525.21915656128056},{"$f":"INDEX(coordonnées_cadran_plat($D175,S$10,$C$3,$C$2,$C$5,$C$6,0,0,$C$4),1,2)","v":365.28421834091552},{"$f":"INDEX(coordonnées_cadran_plat($D175,U$10,$C$3,$C$2,$C$5,$C$6,0,0,$C$4),1,1)","v":536.97083765521859},{"$f":"INDEX(coordonnées_cadran_plat($D175,U$10,$C$3,$C$2,$C$5,$C$6,0,0,$C$4),1,2)","v":659.97821780365894},{"$f":"INDEX(coordonnées_cadran_plat($D175,W$10,$C$3,$C$2,$C$5,$C$6,0,0,$C$4),1,1)","v":557.67518757917833},{"$f":"INDEX(coordonnées_cadran_plat($D175,W$10,$C$3,$C$2,$C$5,$C$6,0,0,$C$4),1,2)","v":1145.4560067429804}]
[null,22,9,"2010-09-22",{"$f":"INDEX(heures_limites_cadran($D176,$C$3,$C$2,$C$5),1,1)/24","v":"07:30:00"},{"$f":"INDEX(heures_limites_cadran($D176,$C$3,$C$2,$C$5),1,2)/24","v":"19:00:00"},{"$f":"INDEX(coordonnées_cadran_plat($D176,$G$10,$C$3,$C$2,$C$5,$C$6,0,0,$C$4),1,1)","v":464.54675833511192},{"$f":"INDEX(coordonnées_cadran_plat($D176,$G$10,$C$3,$C$2,$C$5,$C$6,0,0,$C$4),1,2)","v":-1491.3713002885934},{"$f":"INDEX(coordonnées_cadran_plat($D176,I$10,$C$3,$C$2,$C$5,$C$6,0,0,$C$4),1,1)","v":481.20179405296648},{"$f":"INDEX(coordonnées_cadran_plat($D176,I$10,$C$3,$C$2,$C$5,$C$6,0,0,$C$4),1,2)","v":-847.76318656002809},{"$f":"INDEX(coordonnées_cadran_plat($D176,K$10,$C$3,$C$2,$C$5,$C$6,0,0,$C$4),1,1)","v":490.59785644175253},{"$f":"INDEX(coordonnées_cadran_plat($D176,K$10,$C$3,$C$2,$C$5,$C$6,0,0,$C$4),1,2)","v":-501.62355283675561},{"$f":"INDEX(coordonnées_cadran_plat($D176,M$10,$C$3,$C$2,$C$5,$C$6,0,0,$C$4),1,1)","v":497.55413769677682},{"$f":"INDEX(coordonnées_cadran_plat($D176,M$10,$C$3,$C$2,$C$5,$C$6,0,0,$C$4),1,2)","v":-258.86305913816688},{"$f":"INDEX(coordonnées_cadran_plat($D176,O$10,$C$3,$C$2,$C$5,$C$6,0,0,$C$4),1,1)","v":503.7166511097065},{"$f":"INDEX(coordonnées_cadran_plat($D176,O$10,$C$3,$C$2,$C$5,$C$6,0,0,$C$4),1,2)","v":-55.304961433822243},{"$f":"INDEX(coordonnées_cadran_plat($D176,Q$10,$C$3,$C$2,$C$5,$C$6,0,0,$C$4),1,1)","v":510.02227335706561},{"$f":"INDEX(coordonnées_cadran_plat($D176,Q$10,$C$3,$C$2,$C$5,$C$6,0,0,$C$4),1,2)","v":142.52189533535602},{"$f":"INDEX(coordonnées_cadran_plat($D176,S$10,$C$3,$C$2,$C$5,$C$6,0,0,$C$4),1,1)","v":517.41853525281181},{"$f":"INDEX(coordonnées_cadran_plat($D176,S$10,$C$3,$C$2,$C$5,$C$6,0,0,$C$4),1,2)","v":364.34497496086016},{"$f":"INDEX(coordonnées_cadran_plat($D176,U$10,$C$3,$C$2,$C$5,$C$6,0,0,$C$4),1,1)","v":527.53256717746478},{"$f":"INDEX(coordonnées_cadran_plat($D176,U$10,$C$3,$C$2,$C$5,$C$6,0,0,$C$4),1,2)","v":656.74575923930797},{"$f":"INDEX(coordonnées_cadran_plat($D176,W$10,$C$3,$C$2,$C$5,$C$6,0,0,$C$4),1,1)","v":544.59154017738126},{"$f":"INDEX(coordonnées_cadran_plat($D176,W$10,$C$3,$C$2,$C$5,$C$6,0,0,$C$4),1,2)","v":1136.57034181622}]
[null,23,9,"2010-09-23",{"$f":"INDEX(heures_limites_cadran($D177,$C$3,$C$2,$C$5),1,1)/24","v":"07:30:00"},{"$f":"INDEX(heures_limites_cadran($D177,$C$3,$C$2,$C$5),1,2)/24","v":"19:00:00"},{"$f":"INDEX(coordonnées_cadran_plat($D177,$G$10,$C$3,$C$2,$C$5,$C$6,0,0,$C$4),1,1)","v":450.2413255486411},{"$f":"INDEX(coordonnées_cadran_plat($D177,$G$10,$C$3,$C$2,$C$5,$C$6,0,0,$C$4),1,2)","v":-1465.3241892930619},{"$f":"INDEX(coordonnées_cadran_plat($D177,I$10,$C$3,$C$2,$C$5,$C$6,0,0,$C$4),1,1)","v":471.29567257159908},{"$f":"INDEX(coordonnées_cadran_plat($D177,I$10,$C$3,$C$2,$C$5,$C$6,0,0,$C$4),1,2)","v":-837.21352865650817},{"$f":"INDEX(coordonnées_cadran_plat($D177,K$10,$C$3,$C$2,$C$5,$C$6,0,0,$C$4),1,1)","v":482.60889420432261},{"$f":"INDEX(coordonnées_cadran_plat($D177,K$10,$C$3,$C$2,$C$5,$C$6,0,0,$C$4),1,2)","v":-496.15974868032663},{"$f":"INDEX(coordonnées_cadran_plat($D177,M$10,$C$3,$C$2,$C$5,$C$6,0,0,$C$4),1,1)","v":490.45714415969184},{"$f":"INDEX(coordonnées_cadran_plat($D177,M$10,$C$3,$C$2,$C$5,$C$6,0,0,$C$4),1,2)","v":-255.78719239286826},{"$f":"INDEX(coordonnées_cadran_plat($D177,O$10,$C$3,$C$2,$C$5,$C$6,0,0,$C$4),1,1)","v":496.91706770817899},{"$f":"INDEX(coordonnées_cadran_plat($D177,O$10,$C$3,$C$2,$C$5,$C$6,0,0,$C$4),1,2)","v":-53.68940093585713},{"$f":"INDEX(coordonnées_cadran_plat($D177,Q$10,$C$3,$C$2,$C$5,$C$6,0,0,$C$4),1,1)","v":503.04117361970611},{"$f":"INDEX(coordonnées_cadran_plat($D177,Q$10,$C$3,$C$2,$C$5,$C$6,0,0,$C$4),1,2)","v":142.94921118599839},{"$f":"INDEX(coordonnées_cadran_plat($D177,S$10,$C$3,$C$2,$C$5,$C$6,0,0,$C$4),1,1)","v":509.70833882357022},{"$f":"INDEX(coordonnées_cadran_plat($D177,S$10,$C$3,$C$2,$C$5,$C$6,0,0,$C$4),1,2)","v":363.40842571317836},{"$f":"INDEX(coordonnées_cadran_plat($D177,U$10,$C$3,$C$2,$C$5,$C$6,0,0,$C$4),1,1)","v":518.21826317916623},{"$f":"INDEX(coordonnées_cadran_plat($D177,U$10,$C$3,$C$2,$C$5,$C$6,0,0,$C$4),1,2)","v":653.54398844066293},{"$f":"INDEX(coordonnées_cadran_plat($D177,W$10,$C$3,$C$2,$C$5,$C$6,0,0,$C$4),1,1)","v":531.73279647389347},{"$f":"INDEX(coordonnées_cadran_plat($D177,W$10,$C$3,$C$2,$C$5,$C$6,0,0,$C$4),1,2)","v":1127.8156098809081}]
[null,24,9,"2010-09-24",{"$f":"INDEX(heures_limites_cadran($D178,$C$3,$C$2,$C$5),1,1)/24","v":"07:30:00"},{"$f":"INDEX(heures_limites_cadran($D178,$C$3,$C$2,$C$5),1,2)/24","v":"19:00:00"},{"$f":"INDEX(coordonnées_cadran_plat($D178,$G$10,$C$3,$C$2,$C$5,$C$6,0,0,$C$4),1,1)","v":436.39302449769855},{"$f":"INDEX(coordonnées_cadran_plat($D178,$G$10,$C$3,$C$2,$C$5,$C$6,0,0,$C$4),1,2)","v":-1440.1456919094819},{"$f":"INDEX(coordonnées_cadran_plat($D178,I$10,$C$3,$C$2,$C$5,$C$6,0,0,$C$4),1,1)","v":461.59764532501754},{"$f":"INDEX(coordonnées_cadran_plat($D178,I$10,$C$3,$C$2,$C$5,$C$6,0,0,$C$4),1,2)","v":-826.9020226626933},{"$f":"INDEX(coordonnées_cadran_plat($D178,K$10,$C$3,$C$2,$C$5,$C$6,0,0,$C$4),1,1)","v":474.74772281280735},{"$f":"INDEX(coordonnées_cadran_plat($D178,K$10,$C$3,$C$2,$C$5,$C$6,0,0,$C$4),1,2)","v":-490.79384336371055},{"$f":"INDEX(coordonnées_cadran_plat($D178,M$10,$C$3,$C$2,$C$5,$C$6,0,0,$C$4),1,1)","v":483.45468396815079},{"$f":"INDEX(coordonnées_cadran_plat($D178,M$10,$C$3,$C$2,$C$5,$C$6,0,0,$C$4),1,2)","v":-252.76045917774897},{"$f":"INDEX(coordonnées_cadran_plat($D178,O$10,$C$3,$C$2,$C$5,$C$6,0,0,$C$4),1,1)","v":490.19836557672511},{"$f":"INDEX(coordonnées_cadran_plat($D178,O$10,$C$3,$C$2,$C$5,$C$6,0,0,$C$4),1,2)","v":-52.100464088016992},{"$f":"INDEX(coordonnées_cadran_plat($D178,Q$10,$C$3,$C$2,$C$5,$C$6,0,0,$C$4),1,1)","v":496.13933369192489},{"$f":"INDEX(coordonnées_cadran_plat($D178,Q$10,$C$3,$C$2,$C$5,$C$6,0,0,$C$4),1,2)","v":143.36395224560647},{"$f":"INDEX(coordonnées_cadran_plat($D178,S$10,$C$3,$C$2,$C$5,$C$6,0,0,$C$4),1,1)","v":502.08815598534915},{"$f":"INDEX(coordonnées_cadran_plat($D178,S$10,$C$3,$C$2,$C$5,$C$6,0,0,$C$4),1,2)","v":362.47350558960937},{"$f":"INDEX(coordonnées_cadran_plat($D178,U$10,$C$3,$C$2,$C$5,$C$6,0,0,$C$4),1,1)","v":509.02697938625818},{"$f":"INDEX(coordonnées_cadran_plat($D178,U$10,$C$3,$C$2,$C$5,$C$6,0,0,$C$4),1,2)","v":650.37116087994161},{"$f":"INDEX(coordonnées_cadran_plat($D178,W$10,$C$3,$C$2,$C$5,$C$6,0,0,$C$4),1,1)","v":519.09543533319334},{"$f":"INDEX(coordonnées_cadran_plat($D178,W$10,$C$3,$C$2,$C$5,$C$6,0,0,$C$4),1,2)","v":1119.1869429411506}]
[null,25,9,"2010-09-25",{"$f":"INDEX(heures_limites_cadran($D179,$C$3,$C$2,$C$5),1,1)/24","v":"07:30:00"},{"$f":"INDEX(heures_limites_cadran($D179,$C$3,$C$2,$C$5),1,2)/24","v":"19:00:00"},{"$f":"INDEX(coordonnées_cadran_plat($D179,$G$10,$C$3,$C$2,$C$5,$C$6,0,0,$C$4),1,1)","v":422.98116722027254},{"$f":"INDEX(coordonnées_cadran_plat($D179,$G$10,$C$3,$C$2,$C$5,$C$6,0,0,$C$4),1,2)","v":-1415.8010205876992},{"$f":"INDEX(coordonnées_cadran_plat($D179,I$10,$C$3,$C$2,$C$5,$C$6,0,0,$C$4),1,1)","v":452.10215749674768},{"$f":"INDEX(coordonnées_cadran_plat($D179,I$10,$C$3,$C$2,$C$5,$C$6,0,0,$C$4),1,2)","v":-816.82433118895244},{"$f":"INDEX(coordonnées_cadran_plat($D179,K$10,$C$3,$C$2,$C$5,$C$6,0,0,$C$4),1,1)","v":467.01219282440587},{"$f":"INDEX(coordonnées_cadran_plat($D179,K$10,$C$3,$C$2,$C$5,$C$6,0,0,$C$4),1,2)","v":-485.5254426248697},{"$f":"INDEX(coordonnées_cadran_plat($D179,M$10,$C$3,$C$2,$C$5,$C$6,0,0,$C$4),1,1)","v":476.5457573790419},{"$f":"INDEX(coordonnées_cadran_plat($D179,M$10,$C$3,$C$2,$C$5,$C$6,0,0,$C$4),1,2)","v":-249.78329069893687},{"$f":"INDEX(coordonnées_cadran_plat($D179,O$10,$C$3,$C$2,$C$5,$C$6,0,0,$C$4),1,1)","v":483.56001410167374},{"$f":"INDEX(coordonnées_cadran_plat($D179,O$10,$C$3,$C$2,$C$5,$C$6,0,0,$C$4),1,2)","v":-50.53882066910959},{"$f":"INDEX(coordonnées_cadran_plat($D179,Q$10,$C$3,$C$2,$C$5,$C$6,0,0,$C$4),1,1)","v":489.31639982126114},{"$f":"INDEX(coordonnées_cadran_plat($D179,Q$10,$C$3,$C$2,$C$5,$C$6,0,0,$C$4),1,2)","v":143.76530888718804},{"$f":"INDEX(coordonnées_cadran_plat($D179,S$10,$C$3,$C$2,$C$5,$C$6,0,0,$C$4),1,1)","v":494.55758095698781},{"$f":"INDEX(coordonnées_cadran_plat($D179,S$10,$C$3,$C$2,$C$5,$C$6,0,0,$C$4),1,2)","v":361.53917451216267},{"$f":"INDEX(coordonnées_cadran_plat($D179,U$10,$C$3,$C$2,$C$5,$C$6,0,0,$C$4),1,1)","v":499.95780012117086},{"$f":"INDEX(coordonnées_cadran_plat($D179,U$10,$C$3,$C$2,$C$5,$C$6,0,0,$C$4),1,2)","v":647.22558117282449},{"$f":"INDEX(coordonnées_cadran_plat($D179,W$10,$C$3,$C$2,$C$5,$C$6,0,0,$C$4),1,1)","v":506.67607829602485},{"$f":"INDEX(coordonnées_cadran_plat($D179,W$10,$C$3,$C$2,$C$5,$C$6,0,0,$C$4),1,2)","v":1110.6796581394767}]
[null,26,9,"2010-09-26",{"$f":"INDEX(heures_limites_cadran($D180,$C$3,$C$2,$C$5),1,1)/24","v":"07:30:00"},{"$f":"INDEX(heures_limites_cadran($D180,$C$3,$C$2,$C$5),1,2)/24","v":"19:00:00"},{"$f":"INDEX(coordonnées_cadran_plat($D180,$G$10,$C$3,$C$2,$C$5,$C$6,0,0,$C$4),1,1)","v":409.98617006004872},{"$f":"INDEX(coordonnées_cadran_plat($D180,$G$10,$C$3,$C$2,$C$5,$C$6,0,0,$C$4),1,2)","v":-1392.2572212112398},{"$f":"INDEX(coordonnées_cadran_plat($D180,I$10,$C$3,$C$2,$C$5,$C$6,0,0,$C$4),1,1)","v":442.80379884481562},{"$f":"INDEX(coordonnées_cadran_plat($D180,I$10,$C$3,$C$2,$C$5,$C$6,0,0,$C$4),1,2)","v":-806.97620516271093},{"$f":"INDEX(coordonnées_cadran_plat($D180,K$10,$C$3,$C$2,$C$5,$C$6,0,0,$C$4),1,1)","v":459.40017526703565},{"$f":"INDEX(coordonnées_cadran_plat($D180,K$10,$C$3,$C$2,$C$5,$C$6,0,0,$C$4),1,2)","v":-480.35413142925557},{"$f":"INDEX(coordonnées_cadran_plat($D180,M$10,$C$3,$C$2,$C$5,$C$6,0,0,$C$4),1,1)","v":469.7293621010711},{"$f":"INDEX(coordonnées_cadran_plat($D180,M$10,$C$3,$C$2,$C$5,$C$6,0,0,$C$4),1,2)","v":-246.85609337513242},{"$f":"INDEX(coordonnées_cadran_plat($D180,O$10,$C$3,$C$2,$C$5,$C$6,0,0,$C$4),1,1)","v":477.00147739740385},{"$f":"INDEX(coordonnées_cadran_plat($D180,O$10,$C$3,$C$2,$C$5,$C$6,0,0,$C$4),1,2)","v":-49.005119428567966},{"$f":"INDEX(coordonnées_cadran_plat($D180,Q$10,$C$3,$C$2,$C$5,$C$6,0,0,$C$4),1,1)","v":482.57201660285079},{"$f":"INDEX(coordonnées_cadran_plat($D180,Q$10,$C$3,$C$2,$C$5,$C$6,0,0,$C$4),1,2)","v":144.1524915610822},{"$f":"INDEX(coordonnées_cadran_plat($D180,S$10,$C$3,$C$2,$C$5,$C$6,0,0,$C$4),1,1)","v":487.11621541778027},{"$f":"INDEX(coordonnées_cadran_plat($D180,S$10,$C$3,$C$2,$C$5,$C$6,0,0,$C$4),1,2)","v":360.60441802055925},{"$f":"INDEX(coordonnées_cadran_plat($D180,U$10,$C$3,$C$2,$C$5,$C$6,0,0,$C$4),1,1)","v":491.00984143386324},{"$f":"INDEX(coordonnées_cadran_plat($D180,U$10,$C$3,$C$2,$C$5,$C$6,0,0,$C$4),1,2)","v":644.1056039525522},{"$f":"INDEX(coordonnées_cadran_plat($D180,W$10,$C$3,$C$2,$C$5,$C$6,0,0,$C$4),1,1)","v":494.47148554576501},{"$f":"INDEX(coordonnées_cadran_plat($D180,W$10,$C$3,$C$2,$C$5,$C$6,0,0,$C$4),1,2)","v":1102.2892547446838}]
[null,27,9,"2010-09-27",{"$f":"INDEX(heures_limites_cadran($D181,$C$3,$C$2,$C$5),1,1)/24","v":"07:30:00"},{"$f":"INDEX(heures_limites_cadran($D181,$C$3,$C$2,$C$5),1,2)/24","v":"19:00:00"},{"$f":"INDEX(coordonnées_cadran_plat($D181,$G$10,$C$3,$C$2,$C$5,$C$6,0,0,$C$4),1,1)","v":397.38948683455135},{"$f":"INDEX(coordonnées_cadran_plat($D181,$G$10,$C$3,$C$2,$C$5,$C$6,0,0,$C$4),1,2)","v":-1369.483063019328},{"$f":"INDEX(coordonnées_cadran_plat($D181,I$10,$C$3,$C$2,$C$5,$C$6,0,0,$C$4),1,1)","v":433.69730340279841},{"$f":"INDEX(coordonnées_cadran_plat($D181,I$10,$C$3,$C$2,$C$5,$C$6,0,0,$C$4),1,2)","v":-797.35348557660132},{"$f":"INDEX(coordonnées_cadran_plat($D181,K$10,$C$3,$C$2,$C$5,$C$6,0,0,$C$4),1,1)","v":451.90956491729065},{"$f":"INDEX(coordonnées_cadran_plat($D181,K$10,$C$3,$C$2,$C$5,$C$6,0,0,$C$4),1,2)","v":-475.27947660658043},{"$f":"INDEX(coordonnées_cadran_plat($D181,M$10,$C$3,$C$2,$C$5,$C$6,0,0,$C$4),1,1)","v":463.00449627236031},{"$f":"INDEX(coordonnées_cadran_plat($D181,M$10,$C$3,$C$2,$C$5,$C$6,0,0,$C$4),1,2)","v":-243.97925007026538},{"$f":"INDEX(coordonnées_cadran_plat($D181,O$10,$C$3,$C$2,$C$5,$C$6,0,0,$C$4),1,1)","v":470.5222168110451},{"$f":"INDEX(coordonnées_cadran_plat($D181,O$10,$C$3,$C$2,$C$5,$C$6,0,0,$C$4),1,2)","v":-47.499988446747892},{"$f":"INDEX(coordonnées_cadran_plat($D181,Q$10,$C$3,$C$2,$C$5,$C$6,0,0,$C$4),1,1)","v":475.90582912397065},{"$f":"INDEX(coordonnées_cadran_plat($D181,Q$10,$C$3,$C$2,$C$5,$C$6,0,0,$C$4),1,2)","v":144.52473100711694},{"$f":"INDEX(coordonnées_cadran_plat($D181,S$10,$C$3,$C$2,$C$5,$C$6,0,0,$C$4),1,1)","v":479.76367029560288},{"$f":"INDEX(coordonnées_cadran_plat($D181,S$10,$C$3,$C$2,$C$5,$C$6,0,0,$C$4),1,2)","v":359.66824792877753},{"$f":"INDEX(coordonnées_cadran_plat($D181,U$10,$C$3,$C$2,$C$5,$C$6,0,0,$C$4),1,1)","v":482.18225203912084},{"$f":"INDEX(coordonnées_cadran_plat($D181,U$10,$C$3,$C$2,$C$5,$C$6,0,0,$C$4),1,2)","v":641.00963467174915},{"$f":"INDEX(coordonnées_cadran_plat($D181,W$10,$C$3,$C$2,$C$5,$C$6,0,0,$C$4),1,1)","v":482.47855180482566},{"$f":"INDEX(coordonnées_cadran_plat($D181,W$10,$C$3,$C$2,$C$5,$C$6,0,0,$C$4),1,2)","v":1094.0114111402429}]
[null,28,9,"2010-09-28",{"$f":"INDEX(heures_limites_cadran($D182,$C$3,$C$2,$C$5),1,1)/24","v":"07:30:00"},{"$f":"INDEX(heures_limites_cadran($D182,$C$3,$C$2,$C$5),1,2)/24","v":"19:00:00"},{"$f":"INDEX(coordonnées_cadran_plat($D182,$G$10,$C$3,$C$2,$C$5,$C$6,0,0,$C$4),1,1)","v":385.17354665508839},{"$f":"INDEX(coordonnées_cadran_plat($D182,$G$10,$C$3,$C$2,$C$5,$C$6,0,0,$C$4),1,2)","v":-1347.4489360795133},{"$f":"INDEX(coordonnées_cadran_plat($D182,I$10,$C$3,$C$2,$C$5,$C$6,0,0,$C$4),1,1)","v":424.77754887132937},{"$f":"INDEX(coordonnées_cadran_plat($D182,I$10,$C$3,$C$2,$C$5,$C$6,0,0,$C$4),1,2)","v":-787.95210482935227},{"$f":"INDEX(coordonnées_cadran_plat($D182,K$10,$C$3,$C$2,$C$5,$C$6,0,0,$C$4),1,1)","v":444.53828329290877},{"$f":"INDEX(coordonnées_cadran_plat($D182,K$10,$C$3,$C$2,$C$5,$C$6,0,0,$C$4),1,2)","v":-470.30102929476072},{"$f":"INDEX(coordonnées_cadran_plat($D182,M$10,$C$3,$C$2,$C$5,$C$6,0,0,$C$4),1,1)","v":456.37016124095248},{"$f":"INDEX(coordonnées_cadran_plat($D182,M$10,$C$3,$C$2,$C$5,$C$6,0,0,$C$4),1,2)","v":-241.15312125273294},{"$f":"INDEX(coordonnées_cadran_plat($D182,O$10,$C$3,$C$2,$C$5,$C$6,0,0,$C$4),1,1)","v":464.12169327080619},{"$f":"INDEX(coordonnées_cadran_plat($D182,O$10,$C$3,$C$2,$C$5,$C$6,0,0,$C$4),1,2)","v":-46.024035470148995},{"$f":"INDEX(coordonnées_cadran_plat($D182,Q$10,$C$3,$C$2,$C$5,$C$6,0,0,$C$4),1,1)","v":469.31748496228215},{"$f":"INDEX(coordonnées_cadran_plat($D182,Q$10,$C$3,$C$2,$C$5,$C$6,0,0,$C$4),1,2)","v":144.88127846467449},{"$f":"INDEX(coordonnées_cadran_plat($D182,S$10,$C$3,$C$2,$C$5,$C$6,0,0,$C$4),1,1)","v":472.49956739699593},{"$f":"INDEX(coordonnées_cadran_plat($D182,S$10,$C$3,$C$2,$C$5,$C$6,0,0,$C$4),1,2)","v":358.72970295284165},{"$f":"INDEX(coordonnées_cadran_plat($D182,U$10,$C$3,$C$2,$C$5,$C$6,0,0,$C$4),1,1)","v":473.47421407138256},{"$f":"INDEX(coordonnées_cadran_plat($D182,U$10,$C$3,$C$2,$C$5,$C$6,0,0,$C$4),1,2)","v":637.93613033749762},{"$f":"INDEX(coordonnées_cadran_plat($D182,W$10,$C$3,$C$2,$C$5,$C$6,0,0,$C$4),1,1)","v":470.69430217466521},{"$f":"INDEX(coordonnées_cadran_plat($D182,W$10,$C$3,$C$2,$C$5,$C$6,0,0,$C$4),1,2)","v":1085.8419818198745}]
[null,29,9,"2010-09-29",{"$f":"INDEX(heures_limites_cadran($D183,$C$3,$C$2,$C$5),1,1)/24","v":"08:00:00"},{"$f":"INDEX(heures_limites_cadran($D183,$C$3,$C$2,$C$5),1,2)/24","v":"19:00:00"},{"$f":"INDEX(coordonnées_cadran_plat($D183,$G$10,$C$3,$C$2,$C$5,$C$6,0,0,$C$4),1,1)","v":373.32169604112988},{"$f":"INDEX(coordonnées_cadran_plat($D183,$G$10,$C$3,$C$2,$C$5,$C$6,0,0,$C$4),1,2)","v":-1326.1267557357528},{"$f":"INDEX(coordonnées_cadran_plat($D183,I$10,$C$3,$C$2,$C$5,$C$6,0,0,$C$4),1,1)","v":416.03955573730639},{"$f":"INDEX(coordonnées_cadran_plat($D183,I$10,$C$3,$C$2,$C$5,$C$6,0,0,$C$4),1,2)","v":-778.76808769784373},{"$f":"INDEX(coordonnées_cadran_plat($D183,K$10,$C$3,$C$2,$C$5,$C$6,0,0,$C$4),1,1)","v":437.28428137770811},{"$f":"INDEX(coordonnées_cadran_plat($D183,K$10,$C$3,$C$2,$C$5,$C$6,0,0,$C$4),1,2)","v":-465.41832720067305},{"$f":"INDEX(coordonnées_cadran_plat($D183,M$10,$C$3,$C$2,$C$5,$C$6,0,0,$C$4),1,1)","v":449.82536415731829},{"$f":"INDEX(coordonnées_cadran_plat($D183,M$10,$C$3,$C$2,$C$5,$C$6,0,0,$C$4),1,2)","v":-238.37804608311114},{"$f":"INDEX(coordonnées_cadran_plat($D183,O$10,$C$3,$C$2,$C$5,$C$6,0,0,$C$4),1,1)","v":457.79936948436682},{"$f":"INDEX(coordonnées_cadran_plat($D183,O$10,$C$3,$C$2,$C$5,$C$6,0,0,$C$4),1,2)","v":-44.577848221275623},{"$f":"INDEX(coordonnées_cadran_plat($D183,Q$10,$C$3,$C$2,$C$5,$C$6,0,0,$C$4),1,1)","v":462.80663604360353},{"$f":"INDEX(coordonnées_cadran_plat($D183,Q$10,$C$3,$C$2,$C$5,$C$6,0,0,$C$4),1,2)","v":145.22140588175029},{"$f":"INDEX(coordonnées_cadran_plat($D183,S$10,$C$3,$C$2,$C$5,$C$6,0,0,$C$4),1,1)","v":465.32354088577426},{"$f":"INDEX(coordonnées_cadran_plat($D183,S$10,$C$3,$C$2,$C$5,$C$6,0,0,$C$4),1,2)","v":357.78784931159385},{"$f":"INDEX(coordonnées_cadran_plat($D183,U$10,$C$3,$C$2,$C$5,$C$6,0,0,$C$4),1,1)","v":464.8849436672337},{"$f":"INDEX(coordonnées_cadran_plat($D183,U$10,$C$3,$C$2,$C$5,$C$6,0,0,$C$4),1,2)","v":634.88360018265394},{"$f":"INDEX(coordonnées_cadran_plat($D183,W$10,$C$3,$C$2,$C$5,$C$6,0,0,$C$4),1,1)","v":459.11588793045365},{"$f":"INDEX(coordonnées_cadran_plat($D183,W$10,$C$3,$C$2,$C$5,$C$6,0,0,$C$4),1,2)","v":1077.7769943894159}]
[null,30,9,"2010-09-30",{"$f":"INDEX(heures_limites_cadran($D184,$C$3,$C$2,$C$5),1,1)/24","v":"08:00:00"},{"$f":"INDEX(heures_limites_cadran($D184,$C$3,$C$2,$C$5),1,2)/24","v":"19:00:00"},{"$f":"INDEX(coordonnées_cadran_plat($D184,$G$10,$C$3,$C$2,$C$5,$C$6,0,0,$C$4),1,1)","v":361.81814500124466},{"$f":"INDEX(coordonnées_cadran_plat($D184,$G$10,$C$3,$C$2,$C$5,$C$6,0,0,$C$4),1,2)","v":-1305.4898735035758},{"$f":"INDEX(coordonnées_cadran_plat($D184,I$10,$C$3,$C$2,$C$5,$C$6,0,0,$C$4),1,1)","v":407.47848615449612},{"$f":"INDEX(coordonnées_cadran_plat($D184,I$10,$C$3,$C$2,$C$5,$C$6,0,0,$C$4),1,2)","v":-769.7975519758952},{"$f":"INDEX(coordonnées_cadran_plat($D184,K$10,$C$3,$C$2,$C$5,$C$6,0,0,$C$4),1,1)","v":430.14554209667693},{"$f":"INDEX(coordonnées_cadran_plat($D184,K$10,$C$3,$C$2,$C$5,$C$6,0,0,$C$4),1,2)","v":-460.63089668570535},{"$f":"INDEX(coordonnées_cadran_plat($D184,M$10,$C$3,$C$2,$C$5,$C$6,0,0,$C$4),1,1)","v":443.3691203880424},{"$f":"INDEX(coordonnées_cadran_plat($D184,M$10,$C$3,$C$2,$C$5,$C$6,0,0,$C$4),1,2)","v":-235.65434343204754},{"$f":"INDEX(coordonnées_cadran_plat($D184,O$10,$C$3,$C$2,$C$5,$C$6,0,0,$C$4),1,1)","v":451.55471199311404},{"$f":"INDEX(coordonnées_cadran_plat($D184,O$10,$C$3,$C$2,$C$5,$C$6,0,0,$C$4),1,2)","v":-43.161994683411862},{"$f":"INDEX(coordonnées_cadran_plat($D184,Q$10,$C$3,$C$2,$C$5,$C$6,0,0,$C$4),1,1)","v":456.37294036435549},{"$f":"INDEX(coordonnées_cadran_plat($D184,Q$10,$C$3,$C$2,$C$5,$C$6,0,0,$C$4),1,2)","v":145.54440612372284},{"$f":"INDEX(coordonnées_cadran_plat($D184,S$10,$C$3,$C$2,$C$5,$C$6,0,0,$C$4),1,1)","v":458.23523861690421},{"$f":"INDEX(coordonnées_cadran_plat($D184,S$10,$C$3,$C$2,$C$5,$C$6,0,0,$C$4),1,2)","v":356.84178130227292},{"$f":"INDEX(coordonnées_cadran_plat($D184,U$10,$C$3,$C$2,$C$5,$C$6,0,0,$C$4),1,1)","v":456.41369138574021},{"$f":"INDEX(coordonnées_cadran_plat($D184,U$10,$C$3,$C$2,$C$5,$C$6,0,0,$C$4),1,2)","v":631.85060627740995},{"$f":"INDEX(coordonnées_cadran_plat($D184,W$10,$C$3,$C$2,$C$5,$C$6,0,0,$C$4),1,1)","v":447.74058228234998},{"$f":"INDEX(coordonnées_cadran_plat($D184,W$10,$C$3,$C$2,$C$5,$C$6,0,0,$C$4),1,2)","v":1069.812646582727}]
[null,1,10,"2010-10-01",{"$f":"INDEX(heures_limites_cadran($D185,$C$3,$C$2,$C$5),1,1)/24","v":"08:00:00"},{"$f":"INDEX(heures_limites_cadran($D185,$C$3,$C$2,$C$5),1,2)/24","v":"19:00:00"},{"$f":"INDEX(coordonnées_cadran_plat($D185,$G$10,$C$3,$C$2,$C$5,$C$6,0,0,$C$4),1,1)","v":350.64791678110106},{"$f":"INDEX(coordonnées_cadran_plat($D185,$G$10,$C$3,$C$2,$C$5,$C$6,0,0,$C$4),1,2)","v":-1285.5129939267431},{"$f":"INDEX(coordonnées_cadran_plat($D185,I$10,$C$3,$C$2,$C$5,$C$6,0,0,$C$4),1,1)","v":399.08964261657758},{"$f":"INDEX(coordonnées_cadran_plat($D185,I$10,$C$3,$C$2,$C$5,$C$6,0,0,$C$4),1,2)","v":-761.03670881236212},{"$f":"INDEX(coordonnées_cadran_plat($D185,K$10,$C$3,$C$2,$C$5,$C$6,0,0,$C$4),1,1)","v":423.12008255712982},{"$f":"INDEX(coordonnées_cadran_plat($D185,K$10,$C$3,$C$2,$C$5,$C$6,0,0,$C$4),1,2)","v":-455.93825468665545},{"$f":"INDEX(coordonnées_cadran_plat($D185,M$10,$C$3,$C$2,$C$5,$C$6,0,0,$C$4),1,1)","v":437.00045575944978},{"$f":"INDEX(coordonnées_cadran_plat($D185,M$10,$C$3,$C$2,$C$5,$C$6,0,0,$C$4),1,2)","v":-232.98231283020888},{"$f":"INDEX(coordonnées_cadran_plat($D185,O$10,$C$3,$C$2,$C$5,$C$6,0,0,$C$4),1,1)","v":445.38719308839444},{"$f":"INDEX(coordonnées_cadran_plat($D185,O$10,$C$3,$C$2,$C$5,$C$6,0,0,$C$4),1,2)","v":-41.77702335991107},{"$f":"INDEX(coordonnées_cadran_plat($D185,Q$10,$C$3,$C$2,$C$5,$C$6,0,0,$C$4),1,1)","v":450.01606358443252},{"$f":"INDEX(coordonnées_cadran_plat($D185,Q$10,$C$3,$C$2,$C$5,$C$6,0,0,$C$4),1,2)","v":145.84959318286505},{"$f":"INDEX(coordonnées_cadran_plat($D185,S$10,$C$3,$C$2,$C$5,$C$6,0,0,$C$4),1,1)","v":451.23432333184491},{"$f":"INDEX(coordonnées_cadran_plat($D185,S$10,$C$3,$C$2,$C$5,$C$6,0,0,$C$4),1,2)","v":355.8906218522016},{"$f":"INDEX(coordonnées_cadran_plat($D185,U$10,$C$3,$C$2,$C$5,$C$6,0,0,$C$4),1,1)","v":448.0597424756935},{"$f":"INDEX(coordonnées_cadran_plat($D185,U$10,$C$3,$C$2,$C$5,$C$6,0,0,$C$4),1,2)","v":628.83576408353076},{"$f":"INDEX(coordonnées_cadran_plat($D185,W$10,$C$3,$C$2,$C$5,$C$6,0,0,$C$4),1,1)","v":436.56577611258109},{"$f":"INDEX(coordonnées_cadran_plat($D185,W$10,$C$3,$C$2,$C$5,$C$6,0,0,$C$4),1,2)","v":1061.9453032872545}]
[null,2,10,"2010-10-02",{"$f":"INDEX(heures_limites_cadran($D186,$C$3,$C$2,$C$5),1,1)/24","v":"08:00:00"},{"$f":"INDEX(heures_limites_cadran($D186,$C$3,$C$2,$C$5),1,2)/24","v":"19:00:00"},{"$f":"INDEX(coordonnées_cadran_plat($D186,$G$10,$C$3,$C$2,$C$5,$C$6,0,0,$C$4),1,1)","v":339.79680100271355},{"$f":"INDEX(coordonnées_cadran_plat($D186,$G$10,$C$3,$C$2,$C$5,$C$6,0,0,$C$4),1,2)","v":-1266.1720969506787},{"$f":"INDEX(coordonnées_cadran_plat($D186,I$10,$C$3,$C$2,$C$5,$C$6,0,0,$C$4),1,1)","v":390.86846645074388},{"$f":"INDEX(coordonnées_cadran_plat($D186,I$10,$C$3,$C$2,$C$5,$C$6,0,0,$C$4),1,2)","v":-752.48186277789614},{"$f":"INDEX(coordonnées_cadran_plat($D186,K$10,$C$3,$C$2,$C$5,$C$6,0,0,$C$4),1,1)","v":416.20595607212249},{"$f":"INDEX(coordonnées_cadran_plat($D186,K$10,$C$3,$C$2,$C$5,$C$6,0,0,$C$4),1,2)","v":-451.33991047804358},{"$f":"INDEX(coordonnées_cadran_plat($D186,M$10,$C$3,$C$2,$C$5,$C$6,0,0,$C$4),1,1)","v":430.71840863952826},{"$f":"INDEX(coordonnées_cadran_plat($D186,M$10,$C$3,$C$2,$C$5,$C$6,0,0,$C$4),1,2)","v":-230.36223535178411},{"$f":"INDEX(coordonnées_cadran_plat($D186,O$10,$C$3,$C$2,$C$5,$C$6,0,0,$C$4),1,1)","v":439.29629259538319},{"$f":"INDEX(coordonnées_cadran_plat($D186,O$10,$C$3,$C$2,$C$5,$C$6,0,0,$C$4),1,2)","v":-40.423463508116406},{"$f":"INDEX(coordonnées_cadran_plat($D186,Q$10,$C$3,$C$2,$C$5,$C$6,0,0,$C$4),1,1)","v":443.73568049510652},{"$f":"INDEX(coordonnées_cadran_plat($D186,Q$10,$C$3,$C$2,$C$5,$C$6,0,0,$C$4),1,2)","v":146.13630238878466},{"$f":"INDEX(coordonnées_cadran_plat($D186,S$10,$C$3,$C$2,$C$5,$C$6,0,0,$C$4),1,1)","v":444.32047372137265},{"$f":"INDEX(coordonnées_cadran_plat($D186,S$10,$C$3,$C$2,$C$5,$C$6,0,0,$C$4),1,2)","v":354.93352304798867},{"$f":"INDEX(coordonnées_cadran_plat($D186,U$10,$C$3,$C$2,$C$5,$C$6,0,0,$C$4),1,1)","v":439.82241699900931},{"$f":"INDEX(coordonnées_cadran_plat($D186,U$10,$C$3,$C$2,$C$5,$C$6,0,0,$C$4),1,2)","v":625.83774295468572},{"$f":"INDEX(coordonnées_cadran_plat($D186,W$10,$C$3,$C$2,$C$5,$C$6,0,0,$C$4),1,1)","v":425.58897369812689},{"$f":"INDEX(coordonnées_cadran_plat($D186,W$10,$C$3,$C$2,$C$5,$C$6,0,0,$C$4),1,2)","v":1054.171493585905}]
[null,3,10,"2010-10-03",{"$f":"INDEX(heures_limites_cadran($D187,$C$3,$C$2,$C$5),1,1)/24","v":"08:00:00"},{"$f":"INDEX(heures_limites_cadran($D187,$C$3,$C$2,$C$5),1,2)/24","v":"19:00:00"},{"$f":"INDEX(coordonnées_cadran_plat($D187,$G$10,$C$3,$C$2,$C$5,$C$6,0,0,$C$4),1,1)","v":329.25130994311593},{"$f":"INDEX(coordonnées_cadran_plat($D187,$G$10,$C$3,$C$2,$C$5,$C$6,0,0,$C$4),1,2)","v":-1247.4443654044169},{"$f":"INDEX(coordonnées_cadran_plat($D187,I$10,$C$3,$C$2,$C$5,$C$6,0,0,$C$4),1,1)","v":382.81053615700625},{"$f":"INDEX(coordonnées_cadran_plat($D187,I$10,$C$3,$C$2,$C$5,$C$6,0,0,$C$4),1,2)","v":-744.12941168869884},{"$f":"INDEX(coordonnées_cadran_plat($D187,K$10,$C$3,$C$2,$C$5,$C$6,0,0,$C$4),1,1)","v":409.40125398029772},{"$f":"INDEX(coordonnées_cadran_plat($D187,K$10,$C$3,$C$2,$C$5,$C$6,0,0,$C$4),1,2)","v":-446.83536728578451},{"$f":"INDEX(coordonnées_cadran_plat($D187,M$10,$C$3,$C$2,$C$5,$C$6,0,0,$C$4),1,1)","v":424.52203186610984},{"$f":"INDEX(coordonnées_cadran_plat($D187,M$10,$C$3,$C$2,$C$5,$C$6,0,0,$C$4),1,2)","v":-227.79437443434909},{"$f":"INDEX(coordonnées_cadran_plat($D187,O$10,$C$3,$C$2,$C$5,$C$6,0,0,$C$4),1,1)","v":433.28149953009387},{"$f":"INDEX(coordonnées_cadran_plat($D187,O$10,$C$3,$C$2,$C$5,$C$6,0,0,$C$4),1,2)","v":-39.101825348493527},{"$f":"INDEX(coordonnées_cadran_plat($D187,Q$10,$C$3,$C$2,$C$5,$C$6,0,0,$C$4),1,1)","v":437.53147636728676},{"$f":"INDEX(coordonnées_cadran_plat($D187,Q$10,$C$3,$C$2,$C$5,$C$6,0,0,$C$4),1,2)","v":146.40389062048945},{"$f":"INDEX(coordonnées_cadran_plat($D187,S$10,$C$3,$C$2,$C$5,$C$6,0,0,$C$4),1,1)","v":437.49338536170382},{"$f":"INDEX(coordonnées_cadran_plat($D187,S$10,$C$3,$C$2,$C$5,$C$6,0,0,$C$4),1,2)","v":353.9696666427551},{"$f":"INDEX(coordonnées_cadran_plat($D187,U$10,$C$3,$C$2,$C$5,$C$6,0,0,$C$4),1,1)","v":431.70106981839524},{"$f":"INDEX(coordonnées_cadran_plat($D187,U$10,$C$3,$C$2,$C$5,$C$6,0,0,$C$4),1,2)","v":622.85526658410663},{"$f":"INDEX(coordonnées_cadran_plat($D187,W$10,$C$3,$C$2,$C$5,$C$6,0,0,$C$4),1,1)","v":414.80778842721497},{"$f":"INDEX(coordonnées_cadran_plat($D187,W$10,$C$3,$C$2,$C$5,$C$6,0,0,$C$4),1,2)","v":1046.4879078116437}]
[null,4,10,"2010-10-04",{"$f":"INDEX(heures_limites_cadran($D188,$C$3,$C$2,$C$5),1,1)/24","v":"08:00:00"},{"$f":"INDEX(heures_limites_cadran($D188,$C$3,$C$2,$C$5),1,2)/24","v":"18:30:00"},{"$f":"INDEX(coordonnées_cadran_plat($D188,$G$10,$C$3,$C$2,$C$5,$C$6,0,0,$C$4),1,1)","v":318.99863771968268},{"$f":"INDEX(coordonnées_cadran_plat($D188,$G$10,$C$3,$C$2,$C$5,$C$6,0,0,$C$4),1,2)","v":-1229.3081172160489},{"$f":"INDEX(coordonnées_cadran_plat($D188,I$10,$C$3,$C$2,$C$5,$C$6,0,0,$C$4),1,1)","v":374.91156561658818},{"$f":"INDEX(coordonnées_cadran_plat($D188,I$10,$C$3,$C$2,$C$5,$C$6,0,0,$C$4),1,2)","v":-735.97584621180192},{"$f":"INDEX(coordonnées_cadran_plat($D188,K$10,$C$3,$C$2,$C$5,$C$6,0,0,$C$4),1,1)","v":402.70410727642383},{"$f":"INDEX(coordonnées_cadran_plat($D188,K$10,$C$3,$C$2,$C$5,$C$6,0,0,$C$4),1,2)","v":-442.42412375889404},{"$f":"INDEX(coordonnées_cadran_plat($D188,M$10,$C$3,$C$2,$C$5,$C$6,0,0,$C$4),1,1)","v":418.41039452939128},{"$f":"INDEX(coordonnées_cadran_plat($D188,M$10,$C$3,$C$2,$C$5,$C$6,0,0,$C$4),1,2)","v":-225.27897663591375},{"$f":"INDEX(coordonnées_cadran_plat($D188,O$10,$C$3,$C$2,$C$5,$C$6,0,0,$C$4),1,1)","v":427.3423136349744},{"$f":"INDEX(coordonnées_cadran_plat($D188,O$10,$C$3,$C$2,$C$5,$C$6,0,0,$C$4),1,2)","v":-37.812600248600752},{"$f":"INDEX(coordonnées_cadran_plat($D188,Q$10,$C$3,$C$2,$C$5,$C$6,0,0,$C$4),1,1)","v":431.40314818478066},{"$f":"INDEX(coordonnées_cadran_plat($D188,Q$10,$C$3,$C$2,$C$5,$C$6,0,0,$C$4),1,2)","v":146.65173652057257},{"$f":"INDEX(coordonnées_cadran_plat($D188,S$10,$C$3,$C$2,$C$5,$C$6,0,0,$C$4),1,1)","v":430.75277152953873},{"$f":"INDEX(coordonnées_cadran_plat($D188,S$10,$C$3,$C$2,$C$5,$C$6,0,0,$C$4),1,2)","v":352.99826454327717},{"$f":"INDEX(coordonnées_cadran_plat($D188,U$10,$C$3,$C$2,$C$5,$C$6,0,0,$C$4),1,1)","v":423.69509045775436},{"$f":"INDEX(coordonnées_cadran_plat($D188,U$10,$C$3,$C$2,$C$5,$C$6,0,0,$C$4),1,2)","v":619.8871134026532},{"$f":"INDEX(coordonnées_cadran_plat($D188,W$10,$C$3,$C$2,$C$5,$C$6,0,0,$C$4),1,1)","v":404.21993851757071},{"$f":"INDEX(coordonnées_cadran_plat($D188,W$10,$C$3,$C$2,$C$5,$C$6,0,0,$C$4),1,2)","v":1038.891394616099}]
[null,5,10,"2010-10-05",{"$f":"INDEX(heures_limites_cadran($D189,$C$3,$C$2,$C$5),1,1)/24","v":"08:00:00"},{"$f":"INDEX(heures_limites_cadran($D189,$C$3,$C$2,$C$5),1,2)/24","v":"18:30:00"},{"$f":"INDEX(coordonnées_cadran_plat($D189,$G$10,$C$3,$C$2,$C$5,$C$6,0,0,$C$4),1,1)","v":309.0266221700399},{"$f":"INDEX(coordonnées_cadran_plat($D189,$G$10,$C$3,$C$2,$C$5,$C$6,0,0,$C$4),1,2)","v":-1211.7427420147171},{"$f":"INDEX(coordonnées_cadran_plat($D189,I$10,$C$3,$C$2,$C$5,$C$6,0,0,$C$4),1,1)","v":367.16740219014588},{"$f":"INDEX(coordonnées_cadran_plat($D189,I$10,$C$3,$C$2,$C$5,$C$6,0,0,$C$4),1,2)","v":-728.0177492750214},{"$f":"INDEX(coordonnées_cadran_plat($D189,K$10,$C$3,$C$2,$C$5,$C$6,0,0,$C$4),1,1)","v":396.11268806557479},{"$f":"INDEX(coordonnées_cadran_plat($D189,K$10,$C$3,$C$2,$C$5,$C$6,0,0,$C$4),1,2)","v":-438.1056753071955},{"$f":"INDEX(coordonnées_cadran_plat($D189,M$10,$C$3,$C$2,$C$5,$C$6,0,0,$C$4),1,1)","v":412.38258361584514},{"$f":"INDEX(coordonnées_cadran_plat($D189,M$10,$C$3,$C$2,$C$5,$C$6,0,0,$C$4),1,2)","v":-222.81627233205862},{"$f":"INDEX(coordonnées_cadran_plat($D189,O$10,$C$3,$C$2,$C$5,$C$6,0,0,$C$4),1,1)","v":421.47824679810185},{"$f":"INDEX(coordonnées_cadran_plat($D189,O$10,$C$3,$C$2,$C$5,$C$6,0,0,$C$4),1,2)","v":-36.556260882680405},{"$f":"INDEX(coordonnées_cadran_plat($D189,Q$10,$C$3,$C$2,$C$5,$C$6,0,0,$C$4),1,1)","v":425.35040576711685},{"$f":"INDEX(coordonnées_cadran_plat($D189,Q$10,$C$3,$C$2,$C$5,$C$6,0,0,$C$4),1,2)","v":146.87924071161302},{"$f":"INDEX(coordonnées_cadran_plat($D189,S$10,$C$3,$C$2,$C$5,$C$6,0,0,$C$4),1,1)","v":424.09836390127475},{"$f":"INDEX(coordonnées_cadran_plat($D189,S$10,$C$3,$C$2,$C$5,$C$6,0,0,$C$4),1,2)","v":352.01855927671437},{"$f":"INDEX(coordonnées_cadran_plat($D189,U$10,$C$3,$C$2,$C$5,$C$6,0,0,$C$4),1,1)","v":415.80390284266065},{"$f":"INDEX(coordonnées_cadran_plat($D189,U$10,$C$3,$C$2,$C$5,$C$6,0,0,$C$4),1,2)","v":616.93211692829834},{"$f":"INDEX(coordonnées_cadran_plat($D189,W$10,$C$3,$C$2,$C$5,$C$6,0,0,$C$4),1,1)","v":393.82324274384757},{"$f":"INDEX(coordonnées_cadran_plat($D189,W$10,$C$3,$C$2,$C$5,$C$6,0,0,$C$4),1,2)","v":1031.3789580521027}]
[null,6,10,"2010-10-06",{"$f":"INDEX(heures_limites_cadran($D190,$C$3,$C$2,$C$5),1,1)/24","v":"08:00:00"},{"$f":"INDEX(heures_limites_cadran($D190,$C$3,$C$2,$C$5),1,2)/24","v":"18:30:00"},{"$f":"INDEX(coordonnées_cadran_plat($D190,$G$10,$C$3,$C$2,$C$5,$C$6,0,0,$C$4),1,1)","v":299.32370922988628},{"$f":"INDEX(coordonnées_cadran_plat($D190,$G$10,$C$3,$C$2,$C$5,$C$6,0,0,$C$4),1,2)","v":-1194.7286418034521},{"$f":"INDEX(coordonnées_cadran_plat($D190,I$10,$C$3,$C$2,$C$5,$C$6,0,0,$C$4),1,1)","v":359.57402472450752},{"$f":"INDEX(coordonnées_cadran_plat($D190,I$10,$C$3,$C$2,$C$5,$C$6,0,0,$C$4),1,2)","v":-720.25179530304933},{"$f":"INDEX(coordonnées_cadran_plat($D190,K$10,$C$3,$C$2,$C$5,$C$6,0,0,$C$4),1,1)","v":389.62521085325454},{"$f":"INDEX(coordonnées_cadran_plat($D190,K$10,$C$3,$C$2,$C$5,$C$6,0,0,$C$4),1,2)","v":-433.87951531188656},{"$f":"INDEX(coordonnées_cadran_plat($D190,M$10,$C$3,$C$2,$C$5,$C$6,0,0,$C$4),1,1)","v":406.43770552090672},{"$f":"INDEX(coordonnées_cadran_plat($D190,M$10,$C$3,$C$2,$C$5,$C$6,0,0,$C$4),1,2)","v":-220.40647635445049},{"$f":"INDEX(coordonnées_cadran_plat($D190,O$10,$C$3,$C$2,$C$5,$C$6,0,0,$C$4),1,1)","v":415.68882436098534},{"$f":"INDEX(coordonnées_cadran_plat($D190,O$10,$C$3,$C$2,$C$5,$C$6,0,0,$C$4),1,2)","v":-35.333261367345521},{"$f":"INDEX(coordonnées_cadran_plat($D190,Q$10,$C$3,$C$2,$C$5,$C$6,0,0,$C$4),1,1)","v":419.37297278638181},{"$f":"INDEX(coordonnées_cadran_plat($D190,Q$10,$C$3,$C$2,$C$5,$C$6,0,0,$C$4),1,2)","v":147.08582601474595},{"$f":"INDEX(coordonnées_cadran_plat($D190,S$10,$C$3,$C$2,$C$5,$C$6,0,0,$C$4),1,1)","v":417.52991314165888},{"$f":"INDEX(coordonnées_cadran_plat($D190,S$10,$C$3,$C$2,$C$5,$C$6,0,0,$C$4),1,2)","v":351.0298244382995},{"$f":"INDEX(coordonnées_cadran_plat($D190,U$10,$C$3,$C$2,$C$5,$C$6,0,0,$C$4),1,1)","v":408.02696492847861},{"$f":"INDEX(coordonnées_cadran_plat($D190,U$10,$C$3,$C$2,$C$5,$C$6,0,0,$C$4),1,2)","v":613.98916606853561},{"$f":"INDEX(coordonnées_cadran_plat($D190,W$10,$C$3,$C$2,$C$5,$C$6,0,0,$C$4),1,1)","v":383.61561618083419},{"$f":"INDEX(coordonnées_cadran_plat($D190,W$10,$C$3,$C$2,$C$5,$C$6,0,0,$C$4),1,2)","v":1023.9477546676986}]
[null,7,10,"2010-10-07",{"$f":"INDEX(heures_limites_cadran($D191,$C$3,$C$2,$C$5),1,1)/24","v":"08:00:00"},{"$f":"INDEX(heures_limites_cadran($D191,$C$3,$C$2,$C$5),1,2)/24","v":"18:30:00"},{"$f":"INDEX(coordonnées_cadran_plat($D191,$G$10,$C$3,$C$2,$C$5,$C$6,0,0,$C$4),1,1)","v":289.87891962879445},{"$f":"INDEX(coordonnées_cadran_plat($D191,$G$10,$C$3,$C$2,$C$5,$C$6,0,0,$C$4),1,2)","v":-1178.2471754091889},{"$f":"INDEX(coordonnées_cadran_plat($D191,I$10,$C$3,$C$2,$C$5,$C$6,0,0,$C$4),1,1)","v":352.12754148505485},{"$f":"INDEX(coordonnées_cadran_plat($D191,I$10,$C$3,$C$2,$C$5,$C$6,0,0,$C$4),1,2)","v":-712.67474929830394},{"$f":"INDEX(coordonnées_cadran_plat($D191,K$10,$C$3,$C$2,$C$5,$C$6,0,0,$C$4),1,1)","v":383.23993368329781},{"$f":"INDEX(coordonnées_cadran_plat($D191,K$10,$C$3,$C$2,$C$5,$C$6,0,0,$C$4),1,2)","v":-429.7451362156097},{"$f":"INDEX(coordonnées_cadran_plat($D191,M$10,$C$3,$C$2,$C$5,$C$6,0,0,$C$4),1,1)","v":400.57488743708575},{"$f":"INDEX(coordonnées_cadran_plat($D191,M$10,$C$3,$C$2,$C$5,$C$6,0,0,$C$4),1,2)","v":-218.04978857309581},{"$f":"INDEX(coordonnées_cadran_plat($D191,O$10,$C$3,$C$2,$C$5,$C$6,0,0,$C$4),1,1)","v":409.97358631982007},{"$f":"INDEX(coordonnées_cadran_plat($D191,O$10,$C$3,$C$2,$C$5,$C$6,0,0,$C$4),1,2)","v":-34.144037373284391},{"$f":"INDEX(coordonnées_cadran_plat($D191,Q$10,$C$3,$C$2,$C$5,$C$6,0,0,$C$4),1,1)","v":413.47058768227561},{"$f":"INDEX(coordonnées_cadran_plat($D191,Q$10,$C$3,$C$2,$C$5,$C$6,0,0,$C$4),1,2)","v":147.270937670862},{"$f":"INDEX(coordonnées_cadran_plat($D191,S$10,$C$3,$C$2,$C$5,$C$6,0,0,$C$4),1,1)","v":411.04718938662398},{"$f":"INDEX(coordonnées_cadran_plat($D191,S$10,$C$3,$C$2,$C$5,$C$6,0,0,$C$4),1,2)","v":350.03136511974924},{"$f":"INDEX(coordonnées_cadran_plat($D191,U$10,$C$3,$C$2,$C$5,$C$6,0,0,$C$4),1,1)","v":400.36376822305294},{"$f":"INDEX(coordonnées_cadran_plat($D191,U$10,$C$3,$C$2,$C$5,$C$6,0,0,$C$4),1,2)","v":611.05720537697596},{"$f":"INDEX(coordonnées_cadran_plat($D191,W$10,$C$3,$C$2,$C$5,$C$6,0,0,$C$4),1,1)","v":373.59506596919624},{"$f":"INDEX(coordonnées_cadran_plat($D191,W$10,$C$3,$C$2,$C$5,$C$6,0,0,$C$4),1,2)","v":1016.5950906132925}]
[null,8,10,"2010-10-08",{"$f":"INDEX(heures_limites_cadran($D192,$C$3,$C$2,$C$5),1,1)/24","v":"08:00:00"},{"$f":"INDEX(heures_limites_cadran($D192,$C$3,$C$2,$C$5),1,2)/24","v":"18:30:00"},{"$f":"INDEX(coordonnées_cadran_plat($D192,$G$10,$C$3,$C$2,$C$5,$C$6,0,0,$C$4),1,1)","v":280.68181773814734},{"$f":"INDEX(coordonnées_cadran_plat($D192,$G$10,$C$3,$C$2,$C$5,$C$6,0,0,$C$4),1,2)","v":-1162.2806064410292},{"$f":"INDEX(coordonnées_cadran_plat($D192,I$10,$C$3,$C$2,$C$5,$C$6,0,0,$C$4),1,1)","v":344.82418802880261},{"$f":"INDEX(coordonnées_cadran_plat($D192,I$10,$C$3,$C$2,$C$5,$C$6,0,0,$C$4),1,2)","v":-705.28346578487276},{"$f":"INDEX(coordonnées_cadran_plat($D192,K$10,$C$3,$C$2,$C$5,$C$6,0,0,$C$4),1,1)","v":376.95515913404421},{"$f":"INDEX(coordonnées_cadran_plat($D192,K$10,$C$3,$C$2,$C$5,$C$6,0,0,$C$4),1,2)","v":-425.70203049918945},{"$f":"INDEX(coordonnées_cadran_plat($D192,M$10,$C$3,$C$2,$C$5,$C$6,0,0,$C$4),1,1)","v":394.79327862401732},{"$f":"INDEX(coordonnées_cadran_plat($D192,M$10,$C$3,$C$2,$C$5,$C$6,0,0,$C$4),1,2)","v":-215.74639442400809},{"$f":"INDEX(coordonnées_cadran_plat($D192,O$10,$C$3,$C$2,$C$5,$C$6,0,0,$C$4),1,1)","v":404.33208842453547},{"$f":"INDEX(coordonnées_cadran_plat($D192,O$10,$C$3,$C$2,$C$5,$C$6,0,0,$C$4),1,2)","v":-32.989006214225704},{"$f":"INDEX(coordonnées_cadran_plat($D192,Q$10,$C$3,$C$2,$C$5,$C$6,0,0,$C$4),1,1)","v":407.64300447958715},{"$f":"INDEX(coordonnées_cadran_plat($D192,Q$10,$C$3,$C$2,$C$5,$C$6,0,0,$C$4),1,2)","v":147.43404356403806},{"$f":"INDEX(coordonnées_cadran_plat($D192,S$10,$C$3,$C$2,$C$5,$C$6,0,0,$C$4),1,1)","v":404.64998262524193},{"$f":"INDEX(coordonnées_cadran_plat($D192,S$10,$C$3,$C$2,$C$5,$C$6,0,0,$C$4),1,2)","v":349.02251831932699},{"$f":"INDEX(coordonnées_cadran_plat($D192,U$10,$C$3,$C$2,$C$5,$C$6,0,0,$C$4),1,1)","v":392.813837210695},{"$f":"INDEX(coordonnées_cadran_plat($D192,U$10,$C$3,$C$2,$C$5,$C$6,0,0,$C$4),1,2)","v":608.13523526481731},{"$f":"INDEX(coordonnées_cadran_plat($D192,W$10,$C$3,$C$2,$C$5,$C$6,0,0,$C$4),1,1)","v":363.75968710924741},{"$f":"INDEX(coordonnées_cadran_plat($D192,W$10,$C$3,$C$2,$C$5,$C$6,0,0,$C$4),1,2)","v":1009.3184187563141}]
[null,9,10,"2010-10-09",{"$f":"INDEX(heures_limites_cadran($D193,$C$3,$C$2,$C$5),1,1)/24","v":"08:00:00"},{"$f":"INDEX(heures_limites_cadran($D193,$C$3,$C$2,$C$5),1,2)/24","v":"18:30:00"},{"$f":"INDEX(coordonnées_cadran_plat($D193,$G$10,$C$3,$C$2,$C$5,$C$6,0,0,$C$4),1,1)","v":271.7224824182407},{"$f":"INDEX(coordonnées_cadran_plat($D193,$G$10,$C$3,$C$2,$C$5,$C$6,0,0,$C$4),1,2)","v":-1146.8120545076993},{"$f":"INDEX(coordonnées_cadran_plat($D193,I$10,$C$3,$C$2,$C$5,$C$6,0,0,$C$4),1,1)","v":337.66032503197169},{"$f":"INDEX(coordonnées_cadran_plat($D193,I$10,$C$3,$C$2,$C$5,$C$6,0,0,$C$4),1,2)","v":-698.07488763091146},{"$f":"INDEX(coordonnées_cadran_plat($D193,K$10,$C$3,$C$2,$C$5,$C$6,0,0,$C$4),1,1)","v":370.76923518334388},{"$f":"INDEX(coordonnées_cadran_plat($D193,K$10,$C$3,$C$2,$C$5,$C$6,0,0,$C$4),1,2)","v":-421.74969155043533},{"$f":"INDEX(coordonnées_cadran_plat($D193,M$10,$C$3,$C$2,$C$5,$C$6,0,0,$C$4),1,1)","v":389.09205156643998},{"$f":"INDEX(coordonnées_cadran_plat($D193,M$10,$C$3,$C$2,$C$5,$C$6,0,0,$C$4),1,2)","v":-213.49646538456167},{"$f":"INDEX(coordonnées_cadran_plat($D193,O$10,$C$3,$C$2,$C$5,$C$6,0,0,$C$4),1,1)","v":398.76390318015746},{"$f":"INDEX(coordonnées_cadran_plat($D193,O$10,$C$3,$C$2,$C$5,$C$6,0,0,$C$4),1,2)","v":-31.868566913266044},{"$f":"INDEX(coordonnées_cadran_plat($D193,Q$10,$C$3,$C$2,$C$5,$C$6,0,0,$C$4),1,1)","v":401.8899935118788},{"$f":"INDEX(coordonnées_cadran_plat($D193,Q$10,$C$3,$C$2,$C$5,$C$6,0,0,$C$4),1,2)","v":147.57463444739369},{"$f":"INDEX(coordonnées_cadran_plat($D193,S$10,$C$3,$C$2,$C$5,$C$6,0,0,$C$4),1,1)","v":398.33810298523787},{"$f":"INDEX(coordonnées_cadran_plat($D193,S$10,$C$3,$C$2,$C$5,$C$6,0,0,$C$4),1,2)","v":348.00265333301115},{"$f":"INDEX(coordonnées_cadran_plat($D193,U$10,$C$3,$C$2,$C$5,$C$6,0,0,$C$4),1,1)","v":385.37672868384675},{"$f":"INDEX(coordonnées_cadran_plat($D193,U$10,$C$3,$C$2,$C$5,$C$6,0,0,$C$4),1,2)","v":605.22231216815624},{"$f":"INDEX(coordonnées_cadran_plat($D193,W$10,$C$3,$C$2,$C$5,$C$6,0,0,$C$4),1,1)","v":354.10765828889168},{"$f":"INDEX(coordonnées_cadran_plat($D193,W$10,$C$3,$C$2,$C$5,$C$6,0,0,$C$4),1,2)","v":1002.1153358062744}]
[null,10,10,"2010-10-10",{"$f":"INDEX(heures_limites_cadran($D194,$C$3,$C$2,$C$5),1,1)/24","v":"08:00:00"},{"$f":"INDEX(heures_limites_cadran($D194,$C$3,$C$2,$C$5),1,2)/24","v":"18:30:00"},{"$f":"INDEX(coordonnées_cadran_plat($D194,$G$10,$C$3,$C$2,$C$5,$C$6,0,0,$C$4),1,1)","v":262.99147972369229},{"$f":"INDEX(coordonnées_cadran_plat($D194,$G$10,$C$3,$C$2,$C$5,$C$6,0,0,$C$4),1,2)","v":-1131.8254494661303},{"$f":"INDEX(coordonnées_cadran_plat($D194,I$10,$C$3,$C$2,$C$5,$C$6,0,0,$C$4),1,1)","v":330.63243608407731},{"$f":"INDEX(coordonnées_cadran_plat($D194,I$10,$C$3,$C$2,$C$5,$C$6,0,0,$C$4),1,2)","v":-691.0460447645479},{"$f":"INDEX(coordonnées_cadran_plat($D194,K$10,$C$3,$C$2,$C$5,$C$6,0,0,$C$4),1,1)","v":364.68055595176224},{"$f":"INDEX(coordonnées_cadran_plat($D194,K$10,$C$3,$C$2,$C$5,$C$6,0,0,$C$4),1,2)","v":-417.88761443155147},{"$f":"INDEX(coordonnées_cadran_plat($D194,M$10,$C$3,$C$2,$C$5,$C$6,0,0,$C$4),1,1)","v":383.47040302612339},{"$f":"INDEX(coordonnées_cadran_plat($D194,M$10,$C$3,$C$2,$C$5,$C$6,0,0,$C$4),1,2)","v":-211.30015939814086},{"$f":"INDEX(coordonnées_cadran_plat($D194,O$10,$C$3,$C$2,$C$5,$C$6,0,0,$C$4),1,1)","v":393.26862075459201},{"$f":"INDEX(coordonnées_cadran_plat($D194,O$10,$C$3,$C$2,$C$5,$C$6,0,0,$C$4),1,2)","v":-30.783100247572349},{"$f":"INDEX(coordonnées_cadran_plat($D194,Q$10,$C$3,$C$2,$C$5,$C$6,0,0,$C$4),1,1)","v":396.2113420551355},{"$f":"INDEX(coordonnées_cadran_plat($D194,Q$10,$C$3,$C$2,$C$5,$C$6,0,0,$C$4),1,2)","v":147.69222417046646},{"$f":"INDEX(coordonnées_cadran_plat($D194,S$10,$C$3,$C$2,$C$5,$C$6,0,0,$C$4),1,1)","v":392.11138092644995},{"$f":"INDEX(coordonnées_cadran_plat($D194,S$10,$C$3,$C$2,$C$5,$C$6,0,0,$C$4),1,2)","v":346.97117212740937},{"$f":"INDEX(coordonnées_cadran_plat($D194,U$10,$C$3,$C$2,$C$5,$C$6,0,0,$C$4),1,1)","v":378.05203098876768},{"$f":"INDEX(coordonnées_cadran_plat($D194,U$10,$C$3,$C$2,$C$5,$C$6,0,0,$C$4),1,2)","v":602.31754867180337},{"$f":"INDEX(coordonnées_cadran_plat($D194,W$10,$C$3,$C$2,$C$5,$C$6,0,0,$C$4),1,1)","v":344.63723775088079},{"$f":"INDEX(coordonnées_cadran_plat($D194,W$10,$C$3,$C$2,$C$5,$C$6,0,0,$C$4),1,2)","v":994.98357944539111}]
[null,11,10,"2010-10-11",{"$f":"INDEX(heures_limites_cadran($D195,$C$3,$C$2,$C$5),1,1)/24","v":"08:00:00"},{"$f":"INDEX(heures_limites_cadran($D195,$C$3,$C$2,$C$5),1,2)/24","v":"18:30:00"},{"$f":"INDEX(coordonnées_cadran_plat($D195,$G$10,$C$3,$C$2,$C$5,$C$6,0,0,$C$4),1,1)","v":254.47983733719744},{"$f":"INDEX(coordonnées_cadran_plat($D195,$G$10,$C$3,$C$2,$C$5,$C$6,0,0,$C$4),1,2)","v":-1117.3054884884887},{"$f":"INDEX(coordonnées_cadran_plat($D195,I$10,$C$3,$C$2,$C$5,$C$6,0,0,$C$4),1,1)","v":323.73712545952026},{"$f":"INDEX(coordonnées_cadran_plat($D195,I$10,$C$3,$C$2,$C$5,$C$6,0,0,$C$4),1,2)","v":-684.19405279618695},{"$f":"INDEX(coordonnées_cadran_plat($D195,K$10,$C$3,$C$2,$C$5,$C$6,0,0,$C$4),1,1)","v":358.68756233283875},{"$f":"INDEX(coordonnées_cadran_plat($D195,K$10,$C$3,$C$2,$C$5,$C$6,0,0,$C$4),1,2)","v":-414.11529655028909},{"$f":"INDEX(coordonnées_cadran_plat($D195,M$10,$C$3,$C$2,$C$5,$C$6,0,0,$C$4),1,1)","v":377.92755499315581},{"$f":"INDEX(coordonnées_cadran_plat($D195,M$10,$C$3,$C$2,$C$5,$C$6,0,0,$C$4),1,2)","v":-209.15762125011366},{"$f":"INDEX(coordonnées_cadran_plat($D195,O$10,$C$3,$C$2,$C$5,$C$6,0,0,$C$4),1,1)","v":387.84584979684723},{"$f":"INDEX(coordonnées_cadran_plat($D195,O$10,$C$3,$C$2,$C$5,$C$6,0,0,$C$4),1,2)","v":-29.73296877165799},{"$f":"INDEX(coordonnées_cadran_plat($D195,Q$10,$C$3,$C$2,$C$5,$C$6,0,0,$C$4),1,1)","v":390.60685487514718},{"$f":"INDEX(coordonnées_cadran_plat($D195,Q$10,$C$3,$C$2,$C$5,$C$6,0,0,$C$4),1,2)","v":147.78634990882622},{"$f":"INDEX(coordonnées_cadran_plat($D195,S$10,$C$3,$C$2,$C$5,$C$6,0,0,$C$4),1,1)","v":385.9696673465096},{"$f":"INDEX(coordonnées_cadran_plat($D195,S$10,$C$3,$C$2,$C$5,$C$6,0,0,$C$4),1,2)","v":345.92750969380398},{"$f":"INDEX(coordonnées_cadran_plat($D195,U$10,$C$3,$C$2,$C$5,$C$6,0,0,$C$4),1,1)","v":370.83936319099882},{"$f":"INDEX(coordonnées_cadran_plat($D195,U$10,$C$3,$C$2,$C$5,$C$6,0,0,$C$4),1,2)","v":599.42011358905086},{"$f":"INDEX(coordonnées_cadran_plat($D195,W$10,$C$3,$C$2,$C$5,$C$6,0,0,$C$4),1,1)","v":335.34675920443209},{"$f":"INDEX(coordonnées_cadran_plat($D195,W$10,$C$3,$C$2,$C$5,$C$6,0,0,$C$4),1,2)","v":987.92102546463752}]
[null,12,10,"2010-10-12",{"$f":"INDEX(heures_limites_cadran($D196,$C$3,$C$2,$C$5),1,1)/24","v":"08:00:00"},{"$f":"INDEX(heures_limites_cadran($D196,$C$3,$C$2,$C$5),1,2)/24","v":"18:30:00"},{"$f":"INDEX(coordonnées_cadran_plat($D196,$G$10,$C$3,$C$2,$C$5,$C$6,0,0,$C$4),1,1)","v":246.1790206118277},{"$f":"INDEX(coordonnées_cadran_plat($D196,$G$10,$C$3,$C$2,$C$5,$C$6,0,0,$C$4),1,2)","v":-1103.2375957532629},{"$f":"INDEX(coordonnées_cadran_plat($D196,I$10,$C$3,$C$2,$C$5,$C$6,0,0,$C$4),1,1)","v":316.97111587632799},{"$f":"INDEX(coordonnées_cadran_plat($D196,I$10,$C$3,$C$2,$C$5,$C$6,0,0,$C$4),1,2)","v":-677.51611155951116},{"$f":"INDEX(coordonnées_cadran_plat($D196,K$10,$C$3,$C$2,$C$5,$C$6,0,0,$C$4),1,1)","v":352.78874251886504},{"$f":"INDEX(coordonnées_cadran_plat($D196,K$10,$C$3,$C$2,$C$5,$C$6,0,0,$C$4),1,2)","v":-410.43223824077808},{"$f":"INDEX(coordonnées_cadran_plat($D196,M$10,$C$3,$C$2,$C$5,$C$6,0,0,$C$4),1,1)","v":372.46275554179147},{"$f":"INDEX(coordonnées_cadran_plat($D196,M$10,$C$3,$C$2,$C$5,$C$6,0,0,$C$4),1,2)","v":-207.06898289715588},{"$f":"INDEX(coordonnées_cadran_plat($D196,O$10,$C$3,$C$2,$C$5,$C$6,0,0,$C$4),1,1)","v":382.49521816924931},{"$f":"INDEX(coordonnées_cadran_plat($D196,O$10,$C$3,$C$2,$C$5,$C$6,0,0,$C$4),1,2)","v":-28.718516820955724},{"$f":"INDEX(coordonnées_cadran_plat($D196,Q$10,$C$3,$C$2,$C$5,$C$6,0,0,$C$4),1,1)","v":385.07635469181872},{"$f":"INDEX(coordonnées_cadran_plat($D196,Q$10,$C$3,$C$2,$C$5,$C$6,0,0,$C$4),1,2)","v":147.85657239427772},{"$f":"INDEX(coordonnées_cadran_plat($D196,S$10,$C$3,$C$2,$C$5,$C$6,0,0,$C$4),1,1)","v":379.9128336027988},{"$f":"INDEX(coordonnées_cadran_plat($D196,S$10,$C$3,$C$2,$C$5,$C$6,0,0,$C$4),1,2)","v":344.87113438345875},{"$f":"INDEX(coordonnées_cadran_plat($D196,U$10,$C$3,$C$2,$C$5,$C$6,0,0,$C$4),1,1)","v":363.73837416652742},{"$f":"INDEX(coordonnées_cadran_plat($D196,U$10,$C$3,$C$2,$C$5,$C$6,0,0,$C$4),1,2)","v":596.5292319989212},{"$f":"INDEX(coordonnées_cadran_plat($D196,W$10,$C$3,$C$2,$C$5,$C$6,0,0,$C$4),1,1)","v":326.23462778621689},{"$f":"INDEX(coordonnées_cadran_plat($D196,W$10,$C$3,$C$2,$C$5,$C$6,0,0,$C$4),1,2)","v":980.92568490258623}]
[null,13,10,"2010-10-13",{"$f":"INDEX(heures_limites_cadran($D197,$C$3,$C$2,$C$5),1,1)/24","v":"08:00:00"},{"$f":"INDEX(heures_limites_cadran($D197,$C$3,$C$2,$C$5),1,2)/24","v":"18:30:00"},{"$f":"INDEX(coordonnées_cadran_plat($D197,$G$10,$C$3,$C$2,$C$5,$C$6,0,0,$C$4),1,1)","v":238.08091011071033},{"$f":"INDEX(coordonnées_cadran_plat($D197,$G$10,$C$3,$C$2,$C$5,$C$6,0,0,$C$4),1,2)","v":-1089.6078845797033},{"$f":"INDEX(coordonnées_cadran_plat($D197,I$10,$C$3,$C$2,$C$5,$C$6,0,0,$C$4),1,1)","v":310.3312462505134},{"$f":"INDEX(coordonnées_cadran_plat($D197,I$10,$C$3,$C$2,$C$5,$C$6,0,0,$C$4),1,2)","v":-671.0095035820633},{"$f":"INDEX(coordonnées_cadran_plat($D197,K$10,$C$3,$C$2,$C$5,$C$6,0,0,$C$4),1,1)","v":346.98263242988179},{"$f":"INDEX(coordonnées_cadran_plat($D197,K$10,$C$3,$C$2,$C$5,$C$6,0,0,$C$4),1,2)","v":-406.83794325851318},{"$f":"INDEX(coordonnées_cadran_plat($D197,M$10,$C$3,$C$2,$C$5,$C$6,0,0,$C$4),1,1)","v":367.0752795958212},{"$f":"INDEX(coordonnées_cadran_plat($D197,M$10,$C$3,$C$2,$C$5,$C$6,0,0,$C$4),1,2)","v":-205.03436375156789},{"$f":"INDEX(coordonnées_cadran_plat($D197,O$10,$C$3,$C$2,$C$5,$C$6,0,0,$C$4),1,1)","v":377.21637359770307},{"$f":"INDEX(coordonnées_cadran_plat($D197,O$10,$C$3,$C$2,$C$5,$C$6,0,0,$C$4),1,2)","v":-27.740070495208567},{"$f":"INDEX(coordonnées_cadran_plat($D197,Q$10,$C$3,$C$2,$C$5,$C$6,0,0,$C$4),1,1)","v":379.61968256404435},{"$f":"INDEX(coordonnées_cadran_plat($D197,Q$10,$C$3,$C$2,$C$5,$C$6,0,0,$C$4),1,2)","v":147.90247614641532},{"$f":"INDEX(coordonnées_cadran_plat($D197,S$10,$C$3,$C$2,$C$5,$C$6,0,0,$C$4),1,1)","v":373.94077145462865},{"$f":"INDEX(coordonnées_cadran_plat($D197,S$10,$C$3,$C$2,$C$5,$C$6,0,0,$C$4),1,2)","v":343.80154822383986},{"$f":"INDEX(coordonnées_cadran_plat($D197,U$10,$C$3,$C$2,$C$5,$C$6,0,0,$C$4),1,1)","v":356.74874162399868},{"$f":"INDEX(coordonnées_cadran_plat($D197,U$10,$C$3,$C$2,$C$5,$C$6,0,0,$C$4),1,2)","v":593.64418523984671},{"$f":"INDEX(coordonnées_cadran_plat($D197,W$10,$C$3,$C$2,$C$5,$C$6,0,0,$C$4),1,1)","v":317.29931607536582},{"$f":"INDEX(coordonnées_cadran_plat($D197,W$10,$C$3,$C$2,$C$5,$C$6,0,0,$C$4),1,2)","v":973.99570118592362}]
[null,14,10,"2010-10-14",{"$f":"INDEX(heures_limites_cadran($D198,$C$3,$C$2,$C$5),1,1)/24","v":"08:00:00"},{"$f":"INDEX(heures_limites_cadran($D198,$C$3,$C$2,$C$5),1,2)/24","v":"18:30:00"},{"$f":"INDEX(coordonnées_cadran_plat($D198,$G$10,$C$3,$C$2,$C$5,$C$6,0,0,$C$4),1,1)","v":230.17778054242638},{"$f":"INDEX(coordonnées_cadran_plat($D198,$G$10,$C$3,$C$2,$C$5,$C$6,0,0,$C$4),1,2)","v":-1076.4031218379623},{"$f":"INDEX(coordonnées_cadran_plat($D198,I$10,$C$3,$C$2,$C$5,$C$6,0,0,$C$4),1,1)","v":303.81446945363649},{"$f":"INDEX(coordonnées_cadran_plat($D198,I$10,$C$3,$C$2,$C$5,$C$6,0,0,$C$4),1,2)","v":-664.67159249493295},{"$f":"INDEX(coordonnées_cadran_plat($D198,K$10,$C$3,$C$2,$C$5,$C$6,0,0,$C$4),1,1)","v":341.26781605296128},{"$f":"INDEX(coordonnées_cadran_plat($D198,K$10,$C$3,$C$2,$C$5,$C$6,0,0,$C$4),1,2)","v":-403.33191919478236},{"$f":"INDEX(coordonnées_cadran_plat($D198,M$10,$C$3,$C$2,$C$5,$C$6,0,0,$C$4),1,1)","v":361.76442960817002},{"$f":"INDEX(coordonnées_cadran_plat($D198,M$10,$C$3,$C$2,$C$5,$C$6,0,0,$C$4),1,2)","v":-203.05387092268839},{"$f":"INDEX(coordonnées_cadran_plat($D198,O$10,$C$3,$C$2,$C$5,$C$6,0,0,$C$4),1,1)","v":372.00898424295735},{"$f":"INDEX(coordonnées_cadran_plat($D198,O$10,$C$3,$C$2,$C$5,$C$6,0,0,$C$4),1,2)","v":-26.797937623704957},{"$f":"INDEX(coordonnées_cadran_plat($D198,Q$10,$C$3,$C$2,$C$5,$C$6,0,0,$C$4),1,1)","v":374.23669819804257},{"$f":"INDEX(coordonnées_cadran_plat($D198,Q$10,$C$3,$C$2,$C$5,$C$6,0,0,$C$4),1,2)","v":147.92366970397933},{"$f":"INDEX(coordonnées_cadran_plat($D198,S$10,$C$3,$C$2,$C$5,$C$6,0,0,$C$4),1,1)","v":368.05339292939686},{"$f":"INDEX(coordonnées_cadran_plat($D198,S$10,$C$3,$C$2,$C$5,$C$6,0,0,$C$4),1,2)","v":342.71828721493057},{"$f":"INDEX(coordonnées_cadran_plat($D198,U$10,$C$3,$C$2,$C$5,$C$6,0,0,$C$4),1,1)","v":349.87017106353187},{"$f":"INDEX(coordonnées_cadran_plat($D198,U$10,$C$3,$C$2,$C$5,$C$6,0,0,$C$4),1,2)","v":590.76431086043578},{"$f":"INDEX(coordonnées_cadran_plat($D198,W$10,$C$3,$C$2,$C$5,$C$6,0,0,$C$4),1,1)","v":308.5393601668423},{"$f":"INDEX(coordonnées_cadran_plat($D198,W$10,$C$3,$C$2,$C$5,$C$6,0,0,$C$4),1,2)","v":967.12934727006439}]
[null,15,10,"2010-10-15",{"$f":"INDEX(heures_limites_cadran($D199,$C$3,$C$2,$C$5),1,1)/24","v":"08:00:00"},{"$f":"INDEX(heures_limites_cadran($D199,$C$3,$C$2,$C$5),1,2)/24","v":"18:30:00"},{"$f":"INDEX(coordonnées_cadran_plat($D199,$G$10,$C$3,$C$2,$C$5,$C$6,0,0,$C$4),1,1)","v":222.46228099678345},{"$f":"INDEX(coordonnées_cadran_plat($D199,$G$10,$C$3,$C$2,$C$5,$C$6,0,0,$C$4),1,2)","v":-1063.6106944818666},{"$f":"INDEX(coordonnées_cadran_plat($D199,I$10,$C$3,$C$2,$C$5,$C$6,0,0,$C$4),1,1)","v":297.417850080204},{"$f":"INDEX(coordonnées_cadran_plat($D199,I$10,$C$3,$C$2,$C$5,$C$6,0,0,$C$4),1,2)","v":-658.49982139093424},{"$f":"INDEX(coordonnées_cadran_plat($D199,K$10,$C$3,$C$2,$C$5,$C$6,0,0,$C$4),1,1)","v":335.64292569863511},{"$f":"INDEX(coordonnées_cadran_plat($D199,K$10,$C$3,$C$2,$C$5,$C$6,0,0,$C$4),1,2)","v":-399.91367781511786},{"$f":"INDEX(coordonnées_cadran_plat($D199,M$10,$C$3,$C$2,$C$5,$C$6,0,0,$C$4),1,1)","v":356.52953615901936},{"$f":"INDEX(coordonnées_cadran_plat($D199,M$10,$C$3,$C$2,$C$5,$C$6,0,0,$C$4),1,2)","v":-201.12759941697433},{"$f":"INDEX(coordonnées_cadran_plat($D199,O$10,$C$3,$C$2,$C$5,$C$6,0,0,$C$4),1,1)","v":366.87273919646583},{"$f":"INDEX(coordonnées_cadran_plat($D199,O$10,$C$3,$C$2,$C$5,$C$6,0,0,$C$4),1,2)","v":-25.892407712637631},{"$f":"INDEX(coordonnées_cadran_plat($D199,Q$10,$C$3,$C$2,$C$5,$C$6,0,0,$C$4),1,1)","v":368.92728018241502},{"$f":"INDEX(coordonnées_cadran_plat($D199,Q$10,$C$3,$C$2,$C$5,$C$6,0,0,$C$4),1,2)","v":147.91978585587228},{"$f":"INDEX(coordonnées_cadran_plat($D199,S$10,$C$3,$C$2,$C$5,$C$6,0,0,$C$4),1,1)","v":362.2506301165302},{"$f":"INDEX(coordonnées_cadran_plat($D199,S$10,$C$3,$C$2,$C$5,$C$6,0,0,$C$4),1,2)","v":341.62092160599133},{"$f":"INDEX(coordonnées_cadran_plat($D199,U$10,$C$3,$C$2,$C$5,$C$6,0,0,$C$4),1,1)","v":343.10239467724119},{"$f":"INDEX(coordonnées_cadran_plat($D199,U$10,$C$3,$C$2,$C$5,$C$6,0,0,$C$4),1,2)","v":587.88900252675273},{"$f":"INDEX(coordonnées_cadran_plat($D199,W$10,$C$3,$C$2,$C$5,$C$6,0,0,$C$4),1,1)","v":299.95335580761571},{"$f":"INDEX(coordonnées_cadran_plat($D199,W$10,$C$3,$C$2,$C$5,$C$6,0,0,$C$4),1,2)","v":960.32502277725791}]
[null,16,10,"2010-10-16",{"$f":"INDEX(heures_limites_cadran($D200,$C$3,$C$2,$C$5),1,1)/24","v":"08:00:00"},{"$f":"INDEX(heures_limites_cadran($D200,$C$3,$C$2,$C$5),1,2)/24","v":"18:30:00"},{"$f":"INDEX(coordonnées_cadran_plat($D200,$G$10,$C$3,$C$2,$C$5,$C$6,0,0,$C$4),1,1)","v":214.92741639384812},{"$f":"INDEX(coordonnées_cadran_plat($D200,$G$10,$C$3,$C$2,$C$5,$C$6,0,0,$C$4),1,2)","v":-1051.2185780601665},{"$f":"INDEX(coordonnées_cadran_plat($D200,I$10,$C$3,$C$2,$C$5,$C$6,0,0,$C$4),1,1)","v":291.13856223056496},{"$f":"INDEX(coordonnées_cadran_plat($D200,I$10,$C$3,$C$2,$C$5,$C$6,0,0,$C$4),1,2)","v":-652.49171113905641},{"$f":"INDEX(coordonnées_cadran_plat($D200,K$10,$C$3,$C$2,$C$5,$C$6,0,0,$C$4),1,1)","v":330.10664218062072},{"$f":"INDEX(coordonnées_cadran_plat($D200,K$10,$C$3,$C$2,$C$5,$C$6,0,0,$C$4),1,2)","v":-396.58273532579494},{"$f":"INDEX(coordonnées_cadran_plat($D200,M$10,$C$3,$C$2,$C$5,$C$6,0,0,$C$4),1,1)","v":351.36995847664997},{"$f":"INDEX(coordonnées_cadran_plat($D200,M$10,$C$3,$C$2,$C$5,$C$6,0,0,$C$4),1,2)","v":-199.25563229891731},{"$f":"INDEX(coordonnées_cadran_plat($D200,O$10,$C$3,$C$2,$C$5,$C$6,0,0,$C$4),1,1)","v":361.80734890378903},{"$f":"INDEX(coordonnées_cadran_plat($D200,O$10,$C$3,$C$2,$C$5,$C$6,0,0,$C$4),1,2)","v":-25.023751875621706},{"$f":"INDEX(coordonnées_cadran_plat($D200,Q$10,$C$3,$C$2,$C$5,$C$6,0,0,$C$4),1,1)","v":363.69132615281961},{"$f":"INDEX(coordonnées_cadran_plat($D200,Q$10,$C$3,$C$2,$C$5,$C$6,0,0,$C$4),1,2)","v":147.8904818712472},{"$f":"INDEX(coordonnées_cadran_plat($D200,S$10,$C$3,$C$2,$C$5,$C$6,0,0,$C$4),1,1)","v":356.53243489262888},{"$f":"INDEX(coordonnées_cadran_plat($D200,S$10,$C$3,$C$2,$C$5,$C$6,0,0,$C$4),1,2)","v":340.50905615119774},{"$f":"INDEX(coordonnées_cadran_plat($D200,U$10,$C$3,$C$2,$C$5,$C$6,0,0,$C$4),1,1)","v":336.44517019656877},{"$f":"INDEX(coordonnées_cadran_plat($D200,U$10,$C$3,$C$2,$C$5,$C$6,0,0,$C$4),1,2)","v":585.01770988632722},{"$f":"INDEX(coordonnées_cadran_plat($D200,W$10,$C$3,$C$2,$C$5,$C$6,0,0,$C$4),1,1)","v":291.53995459970565},{"$f":"INDEX(coordonnées_cadran_plat($D200,W$10,$C$3,$C$2,$C$5,$C$6,0,0,$C$4),1,2)","v":953.58125113164556}]
[null,17,10,"2010-10-17",{"$f":"INDEX(heures_limites_cadran($D201,$C$3,$C$2,$C$5),1,1)/24","v":"08:00:00"},{"$f":"INDEX(heures_limites_cadran($D201,$C$3,$C$2,$C$5),1,2)/24","v":"18:30:00"},{"$f":"INDEX(coordonnées_cadran_plat($D201,$G$10,$C$3,$C$2,$C$5,$C$6,0,0,$C$4),1,1)","v":207.5665300651539},{"$f":"INDEX(coordonnées_cadran_plat($D201,$G$10,$C$3,$C$2,$C$5,$C$6,0,0,$C$4),1,2)","v":-1039.2153070741915},{"$f":"INDEX(coordonnées_cadran_plat($D201,I$10,$C$3,$C$2,$C$5,$C$6,0,0,$C$4),1,1)","v":284.97388731438468},{"$f":"INDEX(coordonnées_cadran_plat($D201,I$10,$C$3,$C$2,$C$5,$C$6,0,0,$C$4),1,2)","v":-646.64485866247264},{"$f":"INDEX(coordonnées_cadran_plat($D201,K$10,$C$3,$C$2,$C$5,$C$6,0,0,$C$4),1,1)","v":324.65769492457804},{"$f":"INDEX(coordonnées_cadran_plat($D201,K$10,$C$3,$C$2,$C$5,$C$6,0,0,$C$4),1,2)","v":-393.33861257289152},{"$f":"INDEX(coordonnées_cadran_plat($D201,M$10,$C$3,$C$2,$C$5,$C$6,0,0,$C$4),1,1)","v":346.2850848848492},{"$f":"INDEX(coordonnées_cadran_plat($D201,M$10,$C$3,$C$2,$C$5,$C$6,0,0,$C$4),1,2)","v":-197.43804081415752},{"$f":"INDEX(coordonnées_cadran_plat($D201,O$10,$C$3,$C$2,$C$5,$C$6,0,0,$C$4),1,1)","v":356.81254551855},{"$f":"INDEX(coordonnées_cadran_plat($D201,O$10,$C$3,$C$2,$C$5,$C$6,0,0,$C$4),1,2)","v":-24.192222748534959},{"$f":"INDEX(coordonnées_cadran_plat($D201,Q$10,$C$3,$C$2,$C$5,$C$6,0,0,$C$4),1,1)","v":358.52875288902021},{"$f":"INDEX(coordonnées_cadran_plat($D201,Q$10,$C$3,$C$2,$C$5,$C$6,0,0,$C$4),1,2)","v":147.83543972741202},{"$f":"INDEX(coordonnées_cadran_plat($D201,S$10,$C$3,$C$2,$C$5,$C$6,0,0,$C$4),1,1)","v":350.89877858149811},{"$f":"INDEX(coordonnées_cadran_plat($D201,S$10,$C$3,$C$2,$C$5,$C$6,0,0,$C$4),1,2)","v":339.3823303443877},{"$f":"INDEX(coordonnées_cadran_plat($D201,U$10,$C$3,$C$2,$C$5,$C$6,0,0,$C$4),1,1)","v":329.89827969129539},{"$f":"INDEX(coordonnées_cadran_plat($D201,U$10,$C$3,$C$2,$C$5,$C$6,0,0,$C$4),1,2)","v":582.14993838862597},{"$f":"INDEX(coordonnées_cadran_plat($D201,W$10,$C$3,$C$2,$C$5,$C$6,0,0,$C$4),1,1)","v":283.29786027417902},{"$f":"INDEX(coordonnées_cadran_plat($D201,W$10,$C$3,$C$2,$C$5,$C$6,0,0,$C$4),1,2)","v":946.89667668989648}]
[null,18,10,"2010-10-18",{"$f":"INDEX(heures_limites_cadran($D202,$C$3,$C$2,$C$5),1,1)/24","v":"08:00:00"},{"$f":"INDEX(heures_limites_cadran($D202,$C$3,$C$2,$C$5),1,2)/24","v":"18:30:00"},{"$f":"INDEX(coordonnées_cadran_plat($D202,$G$10,$C$3,$C$2,$C$5,$C$6,0,0,$C$4),1,1)","v":200.3732873915352},{"$f":"INDEX(coordonnées_cadran_plat($D202,$G$10,$C$3,$C$2,$C$5,$C$6,0,0,$C$4),1,2)","v":-1027.5899470602858},{"$f":"INDEX(coordonnées_cadran_plat($D202,I$10,$C$3,$C$2,$C$5,$C$6,0,0,$C$4),1,1)","v":278.92121187899272},{"$f":"INDEX(coordonnées_cadran_plat($D202,I$10,$C$3,$C$2,$C$5,$C$6,0,0,$C$4),1,2)","v":-640.95693518651899},{"$f":"INDEX(coordonnées_cadran_plat($D202,K$10,$C$3,$C$2,$C$5,$C$6,0,0,$C$4),1,1)","v":319.29486201108062},{"$f":"INDEX(coordonnées_cadran_plat($D202,K$10,$C$3,$C$2,$C$5,$C$6,0,0,$C$4),1,2)","v":-390.18083517795787},{"$f":"INDEX(coordonnées_cadran_plat($D202,M$10,$C$3,$C$2,$C$5,$C$6,0,0,$C$4),1,1)","v":341.27433318056507},{"$f":"INDEX(coordonnées_cadran_plat($D202,M$10,$C$3,$C$2,$C$5,$C$6,0,0,$C$4),1,2)","v":-195.67488447694336},{"$f":"INDEX(coordonnées_cadran_plat($D202,O$10,$C$3,$C$2,$C$5,$C$6,0,0,$C$4),1,1)","v":351.88808318979056},{"$f":"INDEX(coordonnées_cadran_plat($D202,O$10,$C$3,$C$2,$C$5,$C$6,0,0,$C$4),1,2)","v":-23.398054389445097},{"$f":"INDEX(coordonnées_cadran_plat($D202,Q$10,$C$3,$C$2,$C$5,$C$6,0,0,$C$4),1,1)","v":353.43949634719041},{"$f":"INDEX(coordonnées_cadran_plat($D202,Q$10,$C$3,$C$2,$C$5,$C$6,0,0,$C$4),1,2)","v":147.75436633532698},{"$f":"INDEX(coordonnées_cadran_plat($D202,S$10,$C$3,$C$2,$C$5,$C$6,0,0,$C$4),1,1)","v":345.34965155226621},{"$f":"INDEX(coordonnées_cadran_plat($D202,S$10,$C$3,$C$2,$C$5,$C$6,0,0,$C$4),1,2)","v":338.24041863162643},{"$f":"INDEX(coordonnées_cadran_plat($D202,U$10,$C$3,$C$2,$C$5,$C$6,0,0,$C$4),1,1)","v":323.46152832510217},{"$f":"INDEX(coordonnées_cadran_plat($D202,U$10,$C$3,$C$2,$C$5,$C$6,0,0,$C$4),1,2)","v":579.28524906069742},{"$f":"INDEX(coordonnées_cadran_plat($D202,W$10,$C$3,$C$2,$C$5,$C$6,0,0,$C$4),1,1)","v":275.22582503978862},{"$f":"INDEX(coordonnées_cadran_plat($D202,W$10,$C$3,$C$2,$C$5,$C$6,0,0,$C$4),1,2)","v":940.27006186552035}]
[null,19,10,"2010-10-19",{"$f":"INDEX(heures_limites_cadran($D203,$C$3,$C$2,$C$5),1,1)/24","v":"08:00:00"},{"$f":"INDEX(heures_limites_cadran($D203,$C$3,$C$2,$C$5),1,2)/24","v":"18:30:00"},{"$f":"INDEX(coordonnées_cadran_plat($D203,$G$10,$C$3,$C$2,$C$5,$C$6,0,0,$C$4),1,1)","v":193.34166042886093},{"$f":"INDEX(coordonnées_cadran_plat($D203,$G$10,$C$3,$C$2,$C$5,$C$6,0,0,$C$4),1,2)","v":-1016.3320682808601},{"$f":"INDEX(coordonnées_cadran_plat($D203,I$10,$C$3,$C$2,$C$5,$C$6,0,0,$C$4),1,1)","v":272.97802546621466},{"$f":"INDEX(coordonnées_cadran_plat($D203,I$10,$C$3,$C$2,$C$5,$C$6,0,0,$C$4),1,2)","v":-635.42568446274936},{"$f":"INDEX(coordonnées_cadran_plat($D203,K$10,$C$3,$C$2,$C$5,$C$6,0,0,$C$4),1,1)","v":314.01697015793133},{"$f":"INDEX(coordonnées_cadran_plat($D203,K$10,$C$3,$C$2,$C$5,$C$6,0,0,$C$4),1,2)","v":-387.10893361352601},{"$f":"INDEX(coordonnées_cadran_plat($D203,M$10,$C$3,$C$2,$C$5,$C$6,0,0,$C$4),1,1)","v":336.33715094514963},{"$f":"INDEX(coordonnées_cadran_plat($D203,M$10,$C$3,$C$2,$C$5,$C$6,0,0,$C$4),1,2)","v":-193.96621112359009},{"$f":"INDEX(coordonnées_cadran_plat($D203,O$10,$C$3,$C$2,$C$5,$C$6,0,0,$C$4),1,1)","v":347.03373828527009},{"$f":"INDEX(coordonnées_cadran_plat($D203,O$10,$C$3,$C$2,$C$5,$C$6,0,0,$C$4),1,2)","v":-22.641462164953936},{"$f":"INDEX(coordonnées_cadran_plat($D203,Q$10,$C$3,$C$2,$C$5,$C$6,0,0,$C$4),1,1)","v":348.42351163002473},{"$f":"INDEX(coordonnées_cadran_plat($D203,Q$10,$C$3,$C$2,$C$5,$C$6,0,0,$C$4),1,2)","v":147.64699376147891},{"$f":"INDEX(coordonnées_cadran_plat($D203,S$10,$C$3,$C$2,$C$5,$C$6,0,0,$C$4),1,1)","v":339.88506275906798},{"$f":"INDEX(coordonnées_cadran_plat($D203,S$10,$C$3,$C$2,$C$5,$C$6,0,0,$C$4),1,2)","v":337.08303060121926},{"$f":"INDEX(coordonnées_cadran_plat($D203,U$10,$C$3,$C$2,$C$5,$C$6,0,0,$C$4),1,1)","v":317.13474307234566},{"$f":"INDEX(coordonnées_cadran_plat($D203,U$10,$C$3,$C$2,$C$5,$C$6,0,0,$C$4),1,2)","v":576.4232582395565},{"$f":"INDEX(coordonnées_cadran_plat($D203,W$10,$C$3,$C$2,$C$5,$C$6,0,0,$C$4),1,1)","v":267.32264601023365},{"$f":"INDEX(coordonnées_cadran_plat($D203,W$10,$C$3,$C$2,$C$5,$C$6,0,0,$C$4),1,2)","v":933.70028424627344}]
[null,20,10,"2010-10-20",{"$f":"INDEX(heures_limites_cadran($D204,$C$3,$C$2,$C$5),1,1)/24","v":"08:30:00"},{"$f":"INDEX(heures_limites_cadran($D204,$C$3,$C$2,$C$5),1,2)/24","v":"18:00:00"},{"$f":"INDEX(coordonnées_cadran_plat($D204,$G$10,$C$3,$C$2,$C$5,$C$6,0,0,$C$4),1,1)","v":186.46591345621385},{"$f":"INDEX(coordonnées_cadran_plat($D204,$G$10,$C$3,$C$2,$C$5,$C$6,0,0,$C$4),1,2)","v":-1005.4317209207828},{"$f":"INDEX(coordonnées_cadran_plat($D204,I$10,$C$3,$C$2,$C$5,$C$6,0,0,$C$4),1,1)","v":267.14191850075281},{"$f":"INDEX(coordonnées_cadran_plat($D204,I$10,$C$3,$C$2,$C$5,$C$6,0,0,$C$4),1,2)","v":-630.04892097395771},{"$f":"INDEX(coordonnées_cadran_plat($D204,K$10,$C$3,$C$2,$C$5,$C$6,0,0,$C$4),1,1)","v":308.82289464611762},{"$f":"INDEX(coordonnées_cadran_plat($D204,K$10,$C$3,$C$2,$C$5,$C$6,0,0,$C$4),1,2)","v":-384.12244322252542},{"$f":"INDEX(coordonnées_cadran_plat($D204,M$10,$C$3,$C$2,$C$5,$C$6,0,0,$C$4),1,1)","v":331.47301579253724},{"$f":"INDEX(coordonnées_cadran_plat($D204,M$10,$C$3,$C$2,$C$5,$C$6,0,0,$C$4),1,2)","v":-192.31205693338094},{"$f":"INDEX(coordonnées_cadran_plat($D204,O$10,$C$3,$C$2,$C$5,$C$6,0,0,$C$4),1,1)","v":342.24930955338112},{"$f":"INDEX(coordonnées_cadran_plat($D204,O$10,$C$3,$C$2,$C$5,$C$6,0,0,$C$4),1,2)","v":-21.922642623711141},{"$f":"INDEX(coordonnées_cadran_plat($D204,Q$10,$C$3,$C$2,$C$5,$C$6,0,0,$C$4),1,1)","v":343.48077289717031},{"$f":"INDEX(coordonnées_cadran_plat($D204,Q$10,$C$3,$C$2,$C$5,$C$6,0,0,$C$4),1,2)","v":147.51307944526243},{"$f":"INDEX(coordonnées_cadran_plat($D204,S$10,$C$3,$C$2,$C$5,$C$6,0,0,$C$4),1,1)","v":334.5050392254069},{"$f":"INDEX(coordonnées_cadran_plat($D204,S$10,$C$3,$C$2,$C$5,$C$6,0,0,$C$4),1,2)","v":335.90991115027373},{"$f":"INDEX(coordonnées_cadran_plat($D204,U$10,$C$3,$C$2,$C$5,$C$6,0,0,$C$4),1,1)","v":310.91777140061481},{"$f":"INDEX(coordonnées_cadran_plat($D204,U$10,$C$3,$C$2,$C$5,$C$6,0,0,$C$4),1,2)","v":573.56363725936785},{"$f":"INDEX(coordonnées_cadran_plat($D204,W$10,$C$3,$C$2,$C$5,$C$6,0,0,$C$4),1,1)","v":259.58716171336459},{"$f":"INDEX(coordonnées_cadran_plat($D204,W$10,$C$3,$C$2,$C$5,$C$6,0,0,$C$4),1,2)","v":927.1863337038809}]
[null,21,10,"2010-10-21",{"$f":"INDEX(heures_limites_cadran($D205,$C$3,$C$2,$C$5),1,1)/24","v":"08:30:00"},{"$f":"INDEX(heures_limites_cadran($D205,$C$3,$C$2,$C$5),1,2)/24","v":"18:00:00"},{"$f":"INDEX(coordonnées_cadran_plat($D205,$G$10,$C$3,$C$2,$C$5,$C$6,0,0,$C$4),1,1)","v":179.7405893871308},{"$f":"INDEX(coordonnées_cadran_plat($D205,$G$10,$C$3,$C$2,$C$5,$C$6,0,0,$C$4),1,2)","v":-994.8794116901887},{"$f":"INDEX(coordonnées_cadran_plat($D205,I$10,$C$3,$C$2,$C$5,$C$6,0,0,$C$4),1,1)","v":261.41058021279014},{"$f":"INDEX(coordonnées_cadran_plat($D205,I$10,$C$3,$C$2,$C$5,$C$6,0,0,$C$4),1,2)","v":-624.82452812514828},{"$f":"INDEX(coordonnées_cadran_plat($D205,K$10,$C$3,$C$2,$C$5,$C$6,0,0,$C$4),1,1)","v":303.71155919371182},{"$f":"INDEX(coordonnées_cadran_plat($D205,K$10,$C$3,$C$2,$C$5,$C$6,0,0,$C$4),1,2)","v":-381.22090418462273},{"$f":"INDEX(coordonnées_cadran_plat($D205,M$10,$C$3,$C$2,$C$5,$C$6,0,0,$C$4),1,1)","v":326.6814355572248},{"$f":"INDEX(coordonnées_cadran_plat($D205,M$10,$C$3,$C$2,$C$5,$C$6,0,0,$C$4),1,2)","v":-190.71244641905946},{"$f":"INDEX(coordonnées_cadran_plat($D205,O$10,$C$3,$C$2,$C$5,$C$6,0,0,$C$4),1,1)","v":337.53461822606579},{"$f":"INDEX(coordonnées_cadran_plat($D205,O$10,$C$3,$C$2,$C$5,$C$6,0,0,$C$4),1,2)","v":-21.241773358630603},{"$f":"INDEX(coordonnées_cadran_plat($D205,Q$10,$C$3,$C$2,$C$5,$C$6,0,0,$C$4),1,1)","v":338.61127321860585},{"$f":"INDEX(coordonnées_cadran_plat($D205,Q$10,$C$3,$C$2,$C$5,$C$6,0,0,$C$4),1,2)","v":147.35240641121791},{"$f":"INDEX(coordonnées_cadran_plat($D205,S$10,$C$3,$C$2,$C$5,$C$6,0,0,$C$4),1,1)","v":329.20962547647167},{"$f":"INDEX(coordonnées_cadran_plat($D205,S$10,$C$3,$C$2,$C$5,$C$6,0,0,$C$4),1,2)","v":334.72084062682342},{"$f":"INDEX(coordonnées_cadran_plat($D205,U$10,$C$3,$C$2,$C$5,$C$6,0,0,$C$4),1,1)","v":304.81047992357844},{"$f":"INDEX(coordonnées_cadran_plat($D205,U$10,$C$3,$C$2,$C$5,$C$6,0,0,$C$4),1,2)","v":570.70611209327728},{"$f":"INDEX(coordonnées_cadran_plat($D205,W$10,$C$3,$C$2,$C$5,$C$6,0,0,$C$4),1,1)","v":252.01824868603902},{"$f":"INDEX(coordonnées_cadran_plat($D205,W$10,$C$3,$C$2,$C$5,$C$6,0,0,$C$4),1,2)","v":920.72730949585412}]
[null,22,10,"2010-10-22",{"$f":"INDEX(heures_limites_cadran($D206,$C$3,$C$2,$C$5),1,1)/24","v":"08:30:00"},{"$f":"INDEX(heures_limites_cadran($D206,$C$3,$C$2,$C$5),1,2)/24","v":"18:00:00"},{"$f":"INDEX(coordonnées_cadran_plat($D206,$G$10,$C$3,$C$2,$C$5,$C$6,0,0,$C$4),1,1)","v":173.16049698830409},{"$f":"INDEX(coordonnées_cadran_plat($D206,$G$10,$C$3,$C$2,$C$5,$C$6,0,0,$C$4),1,2)","v":-984.66608174191936},{"$f":"INDEX(coordonnées_cadran_plat($D206,I$10,$C$3,$C$2,$C$5,$C$6,0,0,$C$4),1,1)","v":255.78179659675229},{"$f":"INDEX(coordonnées_cadran_plat($D206,I$10,$C$3,$C$2,$C$5,$C$6,0,0,$C$4),1,2)","v":-619.75045642429507},{"$f":"INDEX(coordonnées_cadran_plat($D206,K$10,$C$3,$C$2,$C$5,$C$6,0,0,$C$4),1,1)","v":298.68193578121492},{"$f":"INDEX(coordonnées_cadran_plat($D206,K$10,$C$3,$C$2,$C$5,$C$6,0,0,$C$4),1,2)","v":-378.40386143335661},{"$f":"INDEX(coordonnées_cadran_plat($D206,M$10,$C$3,$C$2,$C$5,$C$6,0,0,$C$4),1,1)","v":321.96194842480531},{"$f":"INDEX(coordonnées_cadran_plat($D206,M$10,$C$3,$C$2,$C$5,$C$6,0,0,$C$4),1,2)","v":-189.16739238854089},{"$f":"INDEX(coordonnées_cadran_plat($D206,O$10,$C$3,$C$2,$C$5,$C$6,0,0,$C$4),1,1)","v":332.88950806494501},{"$f":"INDEX(coordonnées_cadran_plat($D206,O$10,$C$3,$C$2,$C$5,$C$6,0,0,$C$4),1,2)","v":-20.599012858551401},{"$f":"INDEX(coordonnées_cadran_plat($D206,Q$10,$C$3,$C$2,$C$5,$C$6,0,0,$C$4),1,1)","v":333.81502437319182},{"$f":"INDEX(coordonnées_cadran_plat($D206,Q$10,$C$3,$C$2,$C$5,$C$6,0,0,$C$4),1,2)","v":147.1647834744841},{"$f":"INDEX(coordonnées_cadran_plat($D206,S$10,$C$3,$C$2,$C$5,$C$6,0,0,$C$4),1,1)","v":323.99888292249466},{"$f":"INDEX(coordonnées_cadran_plat($D206,S$10,$C$3,$C$2,$C$5,$C$6,0,0,$C$4),1,2)","v":333.51563494702037},{"$f":"INDEX(coordonnées_cadran_plat($D206,U$10,$C$3,$C$2,$C$5,$C$6,0,0,$C$4),1,1)","v":298.8127530286115},{"$f":"INDEX(coordonnées_cadran_plat($D206,U$10,$C$3,$C$2,$C$5,$C$6,0,0,$C$4),1,2)","v":567.85046295104382},{"$f":"INDEX(coordonnées_cadran_plat($D206,W$10,$C$3,$C$2,$C$5,$C$6,0,0,$C$4),1,1)","v":244.61481815776375},{"$f":"INDEX(coordonnées_cadran_plat($D206,W$10,$C$3,$C$2,$C$5,$C$6,0,0,$C$4),1,2)","v":914.32241735744037}]
[null,23,10,"2010-10-23",{"$f":"INDEX(heures_limites_cadran($D207,$C$3,$C$2,$C$5),1,1)/24","v":"08:30:00"},{"$f":"INDEX(heures_limites_cadran($D207,$C$3,$C$2,$C$5),1,2)/24","v":"18:00:00"},{"$f":"INDEX(coordonnées_cadran_plat($D207,$G$10,$C$3,$C$2,$C$5,$C$6,0,0,$C$4),1,1)","v":166.72069885364235},{"$f":"INDEX(coordonnées_cadran_plat($D207,$G$10,$C$3,$C$2,$C$5,$C$6,0,0,$C$4),1,2)","v":-974.78308582027125},{"$f":"INDEX(coordonnées_cadran_plat($D207,I$10,$C$3,$C$2,$C$5,$C$6,0,0,$C$4),1,1)","v":250.25344840794475},{"$f":"INDEX(coordonnées_cadran_plat($D207,I$10,$C$3,$C$2,$C$5,$C$6,0,0,$C$4),1,2)","v":-614.82472165702268},{"$f":"INDEX(coordonnées_cadran_plat($D207,K$10,$C$3,$C$2,$C$5,$C$6,0,0,$C$4),1,1)","v":293.73304443232439},{"$f":"INDEX(coordonnées_cadran_plat($D207,K$10,$C$3,$C$2,$C$5,$C$6,0,0,$C$4),1,2)","v":-375.67086452601217},{"$f":"INDEX(coordonnées_cadran_plat($D207,M$10,$C$3,$C$2,$C$5,$C$6,0,0,$C$4),1,1)","v":317.31412300798212},{"$f":"INDEX(coordonnées_cadran_plat($D207,M$10,$C$3,$C$2,$C$5,$C$6,0,0,$C$4),1,2)","v":-187.67689587902919},{"$f":"INDEX(coordonnées_cadran_plat($D207,O$10,$C$3,$C$2,$C$5,$C$6,0,0,$C$4),1,1)","v":328.31384535304977},{"$f":"INDEX(coordonnées_cadran_plat($D207,O$10,$C$3,$C$2,$C$5,$C$6,0,0,$C$4),1,2)","v":-19.994500350694477},{"$f":"INDEX(coordonnées_cadran_plat($D207,Q$10,$C$3,$C$2,$C$5,$C$6,0,0,$C$4),1,1)","v":329.09205659489106},{"$f":"INDEX(coordonnées_cadran_plat($D207,Q$10,$C$3,$C$2,$C$5,$C$6,0,0,$C$4),1,2)","v":146.95004543934957},{"$f":"INDEX(coordonnées_cadran_plat($D207,S$10,$C$3,$C$2,$C$5,$C$6,0,0,$C$4),1,1)","v":318.87288919619772},{"$f":"INDEX(coordonnées_cadran_plat($D207,S$10,$C$3,$C$2,$C$5,$C$6,0,0,$C$4),1,2)","v":332.29414568619939},{"$f":"INDEX(coordonnées_cadran_plat($D207,U$10,$C$3,$C$2,$C$5,$C$6,0,0,$C$4),1,1)","v":292.9244914833256},{"$f":"INDEX(coordonnées_cadran_plat($D207,U$10,$C$3,$C$2,$C$5,$C$6,0,0,$C$4),1,2)","v":564.99652383021328},{"$f":"INDEX(coordonnées_cadran_plat($D207,W$10,$C$3,$C$2,$C$5,$C$6,0,0,$C$4),1,1)","v":237.3758128264661},{"$f":"INDEX(coordonnées_cadran_plat($D207,W$10,$C$3,$C$2,$C$5,$C$6,0,0,$C$4),1,2)","v":907.97096658537305}]
[null,24,10,"2010-10-24",{"$f":"INDEX(heures_limites_cadran($D208,$C$3,$C$2,$C$5),1,1)/24","v":"08:30:00"},{"$f":"INDEX(heures_limites_cadran($D208,$C$3,$C$2,$C$5),1,2)/24","v":"18:00:00"},{"$f":"INDEX(coordonnées_cadran_plat($D208,$G$10,$C$3,$C$2,$C$5,$C$6,0,0,$C$4),1,1)","v":160.41650008617049},{"$f":"INDEX(coordonnées_cadran_plat($D208,$G$10,$C$3,$C$2,$C$5,$C$6,0,0,$C$4),1,2)","v":-965.22217256138708},{"$f":"INDEX(coordonnées_cadran_plat($D208,I$10,$C$3,$C$2,$C$5,$C$6,0,0,$C$4),1,1)","v":244.82350919829358},{"$f":"INDEX(coordonnées_cadran_plat($D208,I$10,$C$3,$C$2,$C$5,$C$6,0,0,$C$4),1,2)","v":-610.04540305805142},{"$f":"INDEX(coordonnées_cadran_plat($D208,K$10,$C$3,$C$2,$C$5,$C$6,0,0,$C$4),1,1)","v":288.86395295266072},{"$f":"INDEX(coordonnées_cadran_plat($D208,K$10,$C$3,$C$2,$C$5,$C$6,0,0,$C$4),1,2)","v":-373.02146747046515},{"$f":"INDEX(coordonnées_cadran_plat($D208,M$10,$C$3,$C$2,$C$5,$C$6,0,0,$C$4),1,1)","v":312.73755837009315},{"$f":"INDEX(coordonnées_cadran_plat($D208,M$10,$C$3,$C$2,$C$5,$C$6,0,0,$C$4),1,2)","v":-186.24094606589736},{"$f":"INDEX(coordonnées_cadran_plat($D208,O$10,$C$3,$C$2,$C$5,$C$6,0,0,$C$4),1,1)","v":323.80751883398688},{"$f":"INDEX(coordonnées_cadran_plat($D208,O$10,$C$3,$C$2,$C$5,$C$6,0,0,$C$4),1,2)","v":-19.428355635275427},{"$f":"INDEX(coordonnées_cadran_plat($D208,Q$10,$C$3,$C$2,$C$5,$C$6,0,0,$C$4),1,1)","v":324.44241826879613},{"$f":"INDEX(coordonnées_cadran_plat($D208,Q$10,$C$3,$C$2,$C$5,$C$6,0,0,$C$4),1,2)","v":146.70805328902426},{"$f":"INDEX(coordonnées_cadran_plat($D208,S$10,$C$3,$C$2,$C$5,$C$6,0,0,$C$4),1,1)","v":313.83173744741242},{"$f":"INDEX(coordonnées_cadran_plat($D208,S$10,$C$3,$C$2,$C$5,$C$6,0,0,$C$4),1,2)","v":331.05626014325054},{"$f":"INDEX(coordonnées_cadran_plat($D208,U$10,$C$3,$C$2,$C$5,$C$6,0,0,$C$4),1,1)","v":287.14561102544047},{"$f":"INDEX(coordonnées_cadran_plat($D208,U$10,$C$3,$C$2,$C$5,$C$6,0,0,$C$4),1,2)","v":562.14418202180957},{"$f":"INDEX(coordonnées_cadran_plat($D208,W$10,$C$3,$C$2,$C$5,$C$6,0,0,$C$4),1,1)","v":230.30020372936741},{"$f":"INDEX(coordonnées_cadran_plat($D208,W$10,$C$3,$C$2,$C$5,$C$6,0,0,$C$4),1,2)","v":901.67236711279497}]
[null,25,10,"2010-10-25",{"$f":"INDEX(heures_limites_cadran($D209,$C$3,$C$2,$C$5),1,1)/24","v":"08:30:00"},{"$f":"INDEX(heures_limites_cadran($D209,$C$3,$C$2,$C$5),1,2)/24","v":"18:00:00"},{"$f":"INDEX(coordonnées_cadran_plat($D209,$G$10,$C$3,$C$2,$C$5,$C$6,0,0,$C$4),1,1)","v":154.24343764264771},{"$f":"INDEX(coordonnées_cadran_plat($D209,$G$10,$C$3,$C$2,$C$5,$C$6,0,0,$C$4),1,2)","v":-955.97546587259012},{"$f":"INDEX(coordonnées_cadran_plat($D209,I$10,$C$3,$C$2,$C$5,$C$6,0,0,$C$4),1,1)","v":239.49004339222094},{"$f":"INDEX(coordonnées_cadran_plat($D209,I$10,$C$3,$C$2,$C$5,$C$6,0,0,$C$4),1,2)","v":-605.41064148259636},{"$f":"INDEX(coordonnées_cadran_plat($D209,K$10,$C$3,$C$2,$C$5,$C$6,0,0,$C$4),1,1)","v":284.07377662990547},{"$f":"INDEX(coordonnées_cadran_plat($D209,K$10,$C$3,$C$2,$C$5,$C$6,0,0,$C$4),1,2)","v":-370.45522851073025},{"$f":"INDEX(coordonnées_cadran_plat($D209,M$10,$C$3,$C$2,$C$5,$C$6,0,0,$C$4),1,1)","v":308.23188399881519},{"$f":"INDEX(coordonnées_cadran_plat($D209,M$10,$C$3,$C$2,$C$5,$C$6,0,0,$C$4),1,2)","v":-184.85952014750018},{"$f":"INDEX(coordonnées_cadran_plat($D209,O$10,$C$3,$C$2,$C$5,$C$6,0,0,$C$4),1,1)","v":319.37043960082275},{"$f":"INDEX(coordonnées_cadran_plat($D209,O$10,$C$3,$C$2,$C$5,$C$6,0,0,$C$4),1,2)","v":-18.900678913176701},{"$f":"INDEX(coordonnées_cadran_plat($D209,Q$10,$C$3,$C$2,$C$5,$C$6,0,0,$C$4),1,1)","v":319.86617557933528},{"$f":"INDEX(coordonnées_cadran_plat($D209,Q$10,$C$3,$C$2,$C$5,$C$6,0,0,$C$4),1,2)","v":146.43869436597478},{"$f":"INDEX(coordonnées_cadran_plat($D209,S$10,$C$3,$C$2,$C$5,$C$6,0,0,$C$4),1,1)","v":308.87553559782515},{"$f":"INDEX(coordonnées_cadran_plat($D209,S$10,$C$3,$C$2,$C$5,$C$6,0,0,$C$4),1,2)","v":329.8019013769827},{"$f":"INDEX(coordonnées_cadran_plat($D209,U$10,$C$3,$C$2,$C$5,$C$6,0,0,$C$4),1,1)","v":281.47604094013144},{"$f":"INDEX(coordonnées_cadran_plat($D209,U$10,$C$3,$C$2,$C$5,$C$6,0,0,$C$4),1,2)","v":559.29337757041969},{"$f":"INDEX(coordonnées_cadran_plat($D209,W$10,$C$3,$C$2,$C$5,$C$6,0,0,$C$4),1,1)","v":223.38698721193711},{"$f":"INDEX(coordonnées_cadran_plat($D209,W$10,$C$3,$C$2,$C$5,$C$6,0,0,$C$4),1,2)","v":895.42612657441316}]
[null,26,10,"2010-10-26",{"$f":"INDEX(heures_limites_cadran($D210,$C$3,$C$2,$C$5),1,1)/24","v":"08:30:00"},{"$f":"INDEX(heures_limites_cadran($D210,$C$3,$C$2,$C$5),1,2)/24","v":"18:00:00"},{"$f":"INDEX(coordonnées_cadran_plat($D210,$G$10,$C$3,$C$2,$C$5,$C$6,0,0,$C$4),1,1)","v":148.19727029953651},{"$f":"INDEX(coordonnées_cadran_plat($D210,$G$10,$C$3,$C$2,$C$5,$C$6,0,0,$C$4),1,2)","v":-947.03544732206637},{"$f":"INDEX(coordonnées_cadran_plat($D210,I$10,$C$3,$C$2,$C$5,$C$6,0,0,$C$4),1,1)","v":234.25120440307708},{"$f":"INDEX(coordonnées_cadran_plat($D210,I$10,$C$3,$C$2,$C$5,$C$6,0,0,$C$4),1,2)","v":-600.91863758004251},{"$f":"INDEX(coordonnées_cadran_plat($D210,K$10,$C$3,$C$2,$C$5,$C$6,0,0,$C$4),1,1)","v":279.36167789754904},{"$f":"INDEX(coordonnées_cadran_plat($D210,K$10,$C$3,$C$2,$C$5,$C$6,0,0,$C$4),1,2)","v":-367.97170987455945},{"$f":"INDEX(coordonnées_cadran_plat($D210,M$10,$C$3,$C$2,$C$5,$C$6,0,0,$C$4),1,1)","v":303.7967597318501},{"$f":"INDEX(coordonnées_cadran_plat($D210,M$10,$C$3,$C$2,$C$5,$C$6,0,0,$C$4),1,2)","v":-183.53258320782891},{"$f":"INDEX(coordonnées_cadran_plat($D210,O$10,$C$3,$C$2,$C$5,$C$6,0,0,$C$4),1,1)","v":315.00254093640842},{"$f":"INDEX(coordonnées_cadran_plat($D210,O$10,$C$3,$C$2,$C$5,$C$6,0,0,$C$4),1,2)","v":-18.411550608116709},{"$f":"INDEX(coordonnées_cadran_plat($D210,Q$10,$C$3,$C$2,$C$5,$C$6,0,0,$C$4),1,1)","v":315.36341211275334},{"$f":"INDEX(coordonnées_cadran_plat($D210,Q$10,$C$3,$C$2,$C$5,$C$6,0,0,$C$4),1,2)","v":146.14188254174908},{"$f":"INDEX(coordonnées_cadran_plat($D210,S$10,$C$3,$C$2,$C$5,$C$6,0,0,$C$4),1,1)","v":304.00440555879828},{"$f":"INDEX(coordonnées_cadran_plat($D210,S$10,$C$3,$C$2,$C$5,$C$6,0,0,$C$4),1,2)","v":328.53102821412062},{"$f":"INDEX(coordonnées_cadran_plat($D210,U$10,$C$3,$C$2,$C$5,$C$6,0,0,$C$4),1,1)","v":275.91572262879504},{"$f":"INDEX(coordonnées_cadran_plat($D210,U$10,$C$3,$C$2,$C$5,$C$6,0,0,$C$4),1,2)","v":556.44410268775493},{"$f":"INDEX(coordonnées_cadran_plat($D210,W$10,$C$3,$C$2,$C$5,$C$6,0,0,$C$4),1,1)","v":216.63518199762498},{"$f":"INDEX(coordonnées_cadran_plat($D210,W$10,$C$3,$C$2,$C$5,$C$6,0,0,$C$4),1,2)","v":889.23184736514509}]
[null,27,10,"2010-10-27",{"$f":"INDEX(heures_limites_cadran($D211,$C$3,$C$2,$C$5),1,1)/24","v":"08:30:00"},{"$f":"INDEX(heures_limites_cadran($D211,$C$3,$C$2,$C$5),1,2)/24","v":"18:00:00"},{"$f":"INDEX(coordonnées_cadran_plat($D211,$G$10,$C$3,$C$2,$C$5,$C$6,0,0,$C$4),1,1)","v":142.27396920143343},{"$f":"INDEX(coordonnées_cadran_plat($D211,$G$10,$C$3,$C$2,$C$5,$C$6,0,0,$C$4),1,2)","v":-938.39493947580104},{"$f":"INDEX(coordonnées_cadran_plat($D211,I$10,$C$3,$C$2,$C$5,$C$6,0,0,$C$4),1,1)","v":229.10523279044099},{"$f":"INDEX(coordonnées_cadran_plat($D211,I$10,$C$3,$C$2,$C$5,$C$6,0,0,$C$4),1,2)","v":-596.56764997256744},{"$f":"INDEX(coordonnées_cadran_plat($D211,K$10,$C$3,$C$2,$C$5,$C$6,0,0,$C$4),1,1)","v":274.7268659649859},{"$f":"INDEX(coordonnées_cadran_plat($D211,K$10,$C$3,$C$2,$C$5,$C$6,0,0,$C$4),1,2)","v":-365.57047748504272},{"$f":"INDEX(coordonnées_cadran_plat($D211,M$10,$C$3,$C$2,$C$5,$C$6,0,0,$C$4),1,1)","v":299.43187563690049},{"$f":"INDEX(coordonnées_cadran_plat($D211,M$10,$C$3,$C$2,$C$5,$C$6,0,0,$C$4),1,2)","v":-182.26008805839652},{"$f":"INDEX(coordonnées_cadran_plat($D211,O$10,$C$3,$C$2,$C$5,$C$6,0,0,$C$4),1,1)","v":310.70377810709851},{"$f":"INDEX(coordonnées_cadran_plat($D211,O$10,$C$3,$C$2,$C$5,$C$6,0,0,$C$4),1,2)","v":-17.96103118452335},{"$f":"INDEX(coordonnées_cadran_plat($D211,Q$10,$C$3,$C$2,$C$5,$C$6,0,0,$C$4),1,1)","v":310.93422841598465},{"$f":"INDEX(coordonnées_cadran_plat($D211,Q$10,$C$3,$C$2,$C$5,$C$6,0,0,$C$4),1,2)","v":145.8175583749115},{"$f":"INDEX(coordonnées_cadran_plat($D211,S$10,$C$3,$C$2,$C$5,$C$6,0,0,$C$4),1,1)","v":299.21848241525157},{"$f":"INDEX(coordonnées_cadran_plat($D211,S$10,$C$3,$C$2,$C$5,$C$6,0,0,$C$4),1,2)","v":327.24363522782602},{"$f":"INDEX(coordonnées_cadran_plat($D211,U$10,$C$3,$C$2,$C$5,$C$6,0,0,$C$4),1,1)","v":270.46460817346588},{"$f":"INDEX(coordonnées_cadran_plat($D211,U$10,$C$3,$C$2,$C$5,$C$6,0,0,$C$4),1,2)","v":553.5964011206072},{"$f":"INDEX(coordonnées_cadran_plat($D211,W$10,$C$3,$C$2,$C$5,$C$6,0,0,$C$4),1,1)","v":210.04382636104887},{"$f":"INDEX(coordonnées_cadran_plat($D211,W$10,$C$3,$C$2,$C$5,$C$6,0,0,$C$4),1,2)","v":883.08922369031961}]
[null,28,10,"2010-10-28",{"$f":"INDEX(heures_limites_cadran($D212,$C$3,$C$2,$C$5),1,1)/24","v":"08:30:00"},{"$f":"INDEX(heures_limites_cadran($D212,$C$3,$C$2,$C$5),1,2)/24","v":"18:00:00"},{"$f":"INDEX(coordonnées_cadran_plat($D212,$G$10,$C$3,$C$2,$C$5,$C$6,0,0,$C$4),1,1)","v":136.46970895590758},{"$f":"INDEX(coordonnées_cadran_plat($D212,$G$10,$C$3,$C$2,$C$5,$C$6,0,0,$C$4),1,2)","v":-930.04709012241506},{"$f":"INDEX(coordonnées_cadran_plat($D212,I$10,$C$3,$C$2,$C$5,$C$6,0,0,$C$4),1,1)","v":224.05045445847762},{"$f":"INDEX(coordonnées_cadran_plat($D212,I$10,$C$3,$C$2,$C$5,$C$6,0,0,$C$4),1,2)","v":-592.35599344025491},{"$f":"INDEX(coordonnées_cadran_plat($D212,K$10,$C$3,$C$2,$C$5,$C$6,0,0,$C$4),1,1)","v":270.16859641563047},{"$f":"INDEX(coordonnées_cadran_plat($D212,K$10,$C$3,$C$2,$C$5,$C$6,0,0,$C$4),1,2)","v":-363.2511006395485},{"$f":"INDEX(coordonnées_cadran_plat($D212,M$10,$C$3,$C$2,$C$5,$C$6,0,0,$C$4),1,1)","v":295.13695184753828},{"$f":"INDEX(coordonnées_cadran_plat($D212,M$10,$C$3,$C$2,$C$5,$C$6,0,0,$C$4),1,2)","v":-181.04197506125811},{"$f":"INDEX(coordonnées_cadran_plat($D212,O$10,$C$3,$C$2,$C$5,$C$6,0,0,$C$4),1,1)","v":306.47412811158432},{"$f":"INDEX(coordonnées_cadran_plat($D212,O$10,$C$3,$C$2,$C$5,$C$6,0,0,$C$4),1,2)","v":-17.549160962463969},{"$f":"INDEX(coordonnées_cadran_plat($D212,Q$10,$C$3,$C$2,$C$5,$C$6,0,0,$C$4),1,1)","v":306.57874151418463},{"$f":"INDEX(coordonnées_cadran_plat($D212,Q$10,$C$3,$C$2,$C$5,$C$6,0,0,$C$4),1,2)","v":145.46568925621614},{"$f":"INDEX(coordonnées_cadran_plat($D212,S$10,$C$3,$C$2,$C$5,$C$6,0,0,$C$4),1,1)","v":294.5179135784681},{"$f":"INDEX(coordonnées_cadran_plat($D212,S$10,$C$3,$C$2,$C$5,$C$6,0,0,$C$4),1,2)","v":325.93975268572871},{"$f":"INDEX(coordonnées_cadran_plat($D212,U$10,$C$3,$C$2,$C$5,$C$6,0,0,$C$4),1,1)","v":265.12265890069853},{"$f":"INDEX(coordonnées_cadran_plat($D212,U$10,$C$3,$C$2,$C$5,$C$6,0,0,$C$4),1,2)","v":550.75036747257593},{"$f":"INDEX(coordonnées_cadran_plat($D212,W$10,$C$3,$C$2,$C$5,$C$6,0,0,$C$4),1,1)","v":203.6119754070769},{"$f":"INDEX(coordonnées_cadran_plat($D212,W$10,$C$3,$C$2,$C$5,$C$6,0,0,$C$4),1,2)","v":876.99803860950112}]
[null,29,10,"2010-10-29",{"$f":"INDEX(heures_limites_cadran($D213,$C$3,$C$2,$C$5),1,1)/24","v":"08:30:00"},{"$f":"INDEX(heures_limites_cadran($D213,$C$3,$C$2,$C$5),1,2)/24","v":"18:00:00"},{"$f":"INDEX(coordonnées_cadran_plat($D213,$G$10,$C$3,$C$2,$C$5,$C$6,0,0,$C$4),1,1)","v":130.78085924101842},{"$f":"INDEX(coordonnées_cadran_plat($D213,$G$10,$C$3,$C$2,$C$5,$C$6,0,0,$C$4),1,2)","v":-921.98535733083384},{"$f":"INDEX(coordonnées_cadran_plat($D213,I$10,$C$3,$C$2,$C$5,$C$6,0,0,$C$4),1,1)","v":219.0852788950468},{"$f":"INDEX(coordonnées_cadran_plat($D213,I$10,$C$3,$C$2,$C$5,$C$6,0,0,$C$4),1,2)","v":-588.28203711469496},{"$f":"INDEX(coordonnées_cadran_plat($D213,K$10,$C$3,$C$2,$C$5,$C$6,0,0,$C$4),1,1)","v":265.68617077549317},{"$f":"INDEX(coordonnées_cadran_plat($D213,K$10,$C$3,$C$2,$C$5,$C$6,0,0,$C$4),1,2)","v":-361.01315165722525},{"$f":"INDEX(coordonnées_cadran_plat($D213,M$10,$C$3,$C$2,$C$5,$C$6,0,0,$C$4),1,1)","v":290.91173835684504},{"$f":"INDEX(coordonnées_cadran_plat($D213,M$10,$C$3,$C$2,$C$5,$C$6,0,0,$C$4),1,2)","v":-179.87817193451596},{"$f":"INDEX(coordonnées_cadran_plat($D213,O$10,$C$3,$C$2,$C$5,$C$6,0,0,$C$4),1,1)","v":302.31358938656223},{"$f":"INDEX(coordonnées_cadran_plat($D213,O$10,$C$3,$C$2,$C$5,$C$6,0,0,$C$4),1,2)","v":-17.175959930954864},{"$f":"INDEX(coordonnées_cadran_plat($D213,Q$10,$C$3,$C$2,$C$5,$C$6,0,0,$C$4),1,1)","v":302.29708438881721},{"$f":"INDEX(coordonnées_cadran_plat($D213,Q$10,$C$3,$C$2,$C$5,$C$6,0,0,$C$4),1,2)","v":145.08626953975468},{"$f":"INDEX(coordonnées_cadran_plat($D213,S$10,$C$3,$C$2,$C$5,$C$6,0,0,$C$4),1,1)","v":289.90285791069215},{"$f":"INDEX(coordonnées_cadran_plat($D213,S$10,$C$3,$C$2,$C$5,$C$6,0,0,$C$4),1,2)","v":324.61944646716745},{"$f":"INDEX(coordonnées_cadran_plat($D213,U$10,$C$3,$C$2,$C$5,$C$6,0,0,$C$4),1,1)","v":259.88984394885762},{"$f":"INDEX(coordonnées_cadran_plat($D213,U$10,$C$3,$C$2,$C$5,$C$6,0,0,$C$4),1,2)","v":547.9061464800659},{"$f":"INDEX(coordonnées_cadran_plat($D213,W$10,$C$3,$C$2,$C$5,$C$6,0,0,$C$4),1,1)","v":197.33869845803213},{"$f":"INDEX(coordonnées_cadran_plat($D213,W$10,$C$3,$C$2,$C$5,$C$6,0,0,$C$4),1,2)","v":870.9581610759044}]
[null,30,10,"2010-10-30",{"$f":"INDEX(heures_limites_cadran($D214,$C$3,$C$2,$C$5),1,1)/24","v":"08:30:00"},{"$f":"INDEX(heures_limites_cadran($D214,$C$3,$C$2,$C$5),1,2)/24","v":"18:00:00"},{"$f":"INDEX(coordonnées_cadran_plat($D214,$G$10,$C$3,$C$2,$C$5,$C$6,0,0,$C$4),1,1)","v":125.20397689396887},{"$f":"INDEX(coordonnées_cadran_plat($D214,$G$10,$C$3,$C$2,$C$5,$C$6,0,0,$C$4),1,2)","v":-914.20349528927159},{"$f":"INDEX(coordonnées_cadran_plat($D214,I$10,$C$3,$C$2,$C$5,$C$6,0,0,$C$4),1,1)","v":214.20819745119314},{"$f":"INDEX(coordonnées_cadran_plat($D214,I$10,$C$3,$C$2,$C$5,$C$6,0,0,$C$4),1,2)","v":-584.34420268231236},{"$f":"INDEX(coordonnées_cadran_plat($D214,K$10,$C$3,$C$2,$C$5,$C$6,0,0,$C$4),1,1)","v":261.27893605359924},{"$f":"INDEX(coordonnées_cadran_plat($D214,K$10,$C$3,$C$2,$C$5,$C$6,0,0,$C$4),1,2)","v":-358.85620549810267},{"$f":"INDEX(coordonnées_cadran_plat($D214,M$10,$C$3,$C$2,$C$5,$C$6,0,0,$C$4),1,1)","v":286.75601477046649},{"$f":"INDEX(coordonnées_cadran_plat($D214,M$10,$C$3,$C$2,$C$5,$C$6,0,0,$C$4),1,2)","v":-178.76859354197165},{"$f":"INDEX(coordonnées_cadran_plat($D214,O$10,$C$3,$C$2,$C$5,$C$6,0,0,$C$4),1,1)","v":298.22218147100261},{"$f":"INDEX(coordonnées_cadran_plat($D214,O$10,$C$3,$C$2,$C$5,$C$6,0,0,$C$4),1,2)","v":-16.841427560537362},{"$f":"INDEX(coordonnées_cadran_plat($D214,Q$10,$C$3,$C$2,$C$5,$C$6,0,0,$C$4),1,1)","v":298.08940541853167},{"$f":"INDEX(coordonnées_cadran_plat($D214,Q$10,$C$3,$C$2,$C$5,$C$6,0,0,$C$4),1,2)","v":144.67932065893532},{"$f":"INDEX(coordonnées_cadran_plat($D214,S$10,$C$3,$C$2,$C$5,$C$6,0,0,$C$4),1,1)","v":285.3734848244448},{"$f":"INDEX(coordonnées_cadran_plat($D214,S$10,$C$3,$C$2,$C$5,$C$6,0,0,$C$4),1,2)","v":323.28281794821402},{"$f":"INDEX(coordonnées_cadran_plat($D214,U$10,$C$3,$C$2,$C$5,$C$6,0,0,$C$4),1,1)","v":254.76613884254758},{"$f":"INDEX(coordonnées_cadran_plat($D214,U$10,$C$3,$C$2,$C$5,$C$6,0,0,$C$4),1,2)","v":545.06393224280987},{"$f":"INDEX(coordonnées_cadran_plat($D214,W$10,$C$3,$C$2,$C$5,$C$6,0,0,$C$4),1,1)","v":191.22307655113397},{"$f":"INDEX(coordonnées_cadran_plat($D214,W$10,$C$3,$C$2,$C$5,$C$6,0,0,$C$4),1,2)","v":864.96954297162074}]
[null,31,10,"2010-10-31",{"$f":"INDEX(heures_limites_cadran($D215,$C$3,$C$2,$C$5),1,1)/24","v":"08:30:00"},{"$f":"INDEX(heures_limites_cadran($D215,$C$3,$C$2,$C$5),1,2)/24","v":"18:00:00"},{"$f":"INDEX(coordonnées_cadran_plat($D215,$G$10,$C$3,$C$2,$C$5,$C$6,0,0,$C$4),1,1)","v":119.73579845183549},{"$f":"INDEX(coordonnées_cadran_plat($D215,$G$10,$C$3,$C$2,$C$5,$C$6,0,0,$C$4),1,2)","v":-906.69554087756376},{"$f":"INDEX(coordonnées_cadran_plat($D215,I$10,$C$3,$C$2,$C$5,$C$6,0,0,$C$4),1,1)","v":209.41778166044182},{"$f":"INDEX(coordonnées_cadran_plat($D215,I$10,$C$3,$C$2,$C$5,$C$6,0,0,$C$4),1,2)","v":-580.54096259925143},{"$f":"INDEX(coordonnées_cadran_plat($D215,K$10,$C$3,$C$2,$C$5,$C$6,0,0,$C$4),1,1)","v":256.94628425579168},{"$f":"INDEX(coordonnées_cadran_plat($D215,K$10,$C$3,$C$2,$C$5,$C$6,0,0,$C$4),1,2)","v":-356.77983935597268},{"$f":"INDEX(coordonnées_cadran_plat($D215,M$10,$C$3,$C$2,$C$5,$C$6,0,0,$C$4),1,1)","v":282.66959002048014},{"$f":"INDEX(coordonnées_cadran_plat($D215,M$10,$C$3,$C$2,$C$5,$C$6,0,0,$C$4),1,2)","v":-177.71314166875101},{"$f":"INDEX(coordonnées_cadran_plat($D215,O$10,$C$3,$C$2,$C$5,$C$6,0,0,$C$4),1,1)","v":294.1999446304701},{"$f":"INDEX(coordonnées_cadran_plat($D215,O$10,$C$3,$C$2,$C$5,$C$6,0,0,$C$4),1,2)","v":-16.54554261726306},{"$f":"INDEX(coordonnées_cadran_plat($D215,Q$10,$C$3,$C$2,$C$5,$C$6,0,0,$C$4),1,1)","v":293.95586778476149},{"$f":"INDEX(coordonnées_cadran_plat($D215,Q$10,$C$3,$C$2,$C$5,$C$6,0,0,$C$4),1,2)","v":144.24489122618783},{"$f":"INDEX(coordonnées_cadran_plat($D215,S$10,$C$3,$C$2,$C$5,$C$6,0,0,$C$4),1,1)","v":280.92997335936485},{"$f":"INDEX(coordonnées_cadran_plat($D215,S$10,$C$3,$C$2,$C$5,$C$6,0,0,$C$4),1,2)","v":321.93000385433794},{"$f":"INDEX(coordonnées_cadran_plat($D215,U$10,$C$3,$C$2,$C$5,$C$6,0,0,$C$4),1,1)","v":249.75152407801406},{"$f":"INDEX(coordonnées_cadran_plat($D215,U$10,$C$3,$C$2,$C$5,$C$6,0,0,$C$4),1,2)","v":542.22396740899126},{"$f":"INDEX(coordonnées_cadran_plat($D215,W$10,$C$3,$C$2,$C$5,$C$6,0,0,$C$4),1,1)","v":185.26420004821543},{"$f":"INDEX(coordonnées_cadran_plat($D215,W$10,$C$3,$C$2,$C$5,$C$6,0,0,$C$4),1,2)","v":859.03221614103154}]
[null,1,11,"2010-11-01",{"$f":"INDEX(heures_limites_cadran($D216,$C$3,$C$2,$C$5),1,1)/24","v":"08:30:00"},{"$f":"INDEX(heures_limites_cadran($D216,$C$3,$C$2,$C$5),1,2)/24","v":"18:00:00"},{"$f":"INDEX(coordonnées_cadran_plat($D216,$G$10,$C$3,$C$2,$C$5,$C$6,0,0,$C$4),1,1)","v":114.37323311664608},{"$f":"INDEX(coordonnées_cadran_plat($D216,$G$10,$C$3,$C$2,$C$5,$C$6,0,0,$C$4),1,2)","v":-899.45580092791897},{"$f":"INDEX(coordonnées_cadran_plat($D216,I$10,$C$3,$C$2,$C$5,$C$6,0,0,$C$4),1,1)","v":204.71268159709658},{"$f":"INDEX(coordonnées_cadran_plat($D216,I$10,$C$3,$C$2,$C$5,$C$6,0,0,$C$4),1,2)","v":-576.87083831840243},{"$f":"INDEX(coordonnées_cadran_plat($D216,K$10,$C$3,$C$2,$C$5,$C$6,0,0,$C$4),1,1)","v":252.68765187361086},{"$f":"INDEX(coordonnées_cadran_plat($D216,K$10,$C$3,$C$2,$C$5,$C$6,0,0,$C$4),1,2)","v":-354.78363222636472},{"$f":"INDEX(coordonnées_cadran_plat($D216,M$10,$C$3,$C$2,$C$5,$C$6,0,0,$C$4),1,1)","v":278.65230204163259},{"$f":"INDEX(coordonnées_cadran_plat($D216,M$10,$C$3,$C$2,$C$5,$C$6,0,0,$C$4),1,2)","v":-176.71170478417147},{"$f":"INDEX(coordonnées_cadran_plat($D216,O$10,$C$3,$C$2,$C$5,$C$6,0,0,$C$4),1,1)","v":290.24693944315607},{"$f":"INDEX(coordonnées_cadran_plat($D216,O$10,$C$3,$C$2,$C$5,$C$6,0,0,$C$4),1,2)","v":-16.288262978635835},{"$f":"INDEX(coordonnées_cadran_plat($D216,Q$10,$C$3,$C$2,$C$5,$C$6,0,0,$C$4),1,1)","v":289.89664884416385},{"$f":"INDEX(coordonnées_cadran_plat($D216,Q$10,$C$3,$C$2,$C$5,$C$6,0,0,$C$4),1,2)","v":143.78305711531934},{"$f":"INDEX(coordonnées_cadran_plat($D216,S$10,$C$3,$C$2,$C$5,$C$6,0,0,$C$4),1,1)","v":276.57251123940586},{"$f":"INDEX(coordonnées_cadran_plat($D216,S$10,$C$3,$C$2,$C$5,$C$6,0,0,$C$4),1,2)","v":320.56117607963444},{"$f":"INDEX(coordonnées_cadran_plat($D216,U$10,$C$3,$C$2,$C$5,$C$6,0,0,$C$4),1,1)","v":244.84598372305629},{"$f":"INDEX(coordonnées_cadran_plat($D216,U$10,$C$3,$C$2,$C$5,$C$6,0,0,$C$4),1,2)","v":539.38654231584155},{"$f":"INDEX(coordonnées_cadran_plat($D216,W$10,$C$3,$C$2,$C$5,$C$6,0,0,$C$4),1,1)","v":179.46116635919071},{"$f":"INDEX(coordonnées_cadran_plat($D216,W$10,$C$3,$C$2,$C$5,$C$6,0,0,$C$4),1,2)","v":853.14628942420097}]
[null,2,11,"2010-11-02",{"$f":"INDEX(heures_limites_cadran($D217,$C$3,$C$2,$C$5),1,1)/24","v":"08:30:00"},{"$f":"INDEX(heures_limites_cadran($D217,$C$3,$C$2,$C$5),1,2)/24","v":"18:00:00"},{"$f":"INDEX(coordonnées_cadran_plat($D217,$G$10,$C$3,$C$2,$C$5,$C$6,0,0,$C$4),1,1)","v":109.11335611901029},{"$f":"INDEX(coordonnées_cadran_plat($D217,$G$10,$C$3,$C$2,$C$5,$C$6,0,0,$C$4),1,2)","v":-892.478840132762},{"$f":"INDEX(coordonnées_cadran_plat($D217,I$10,$C$3,$C$2,$C$5,$C$6,0,0,$C$4),1,1)","v":200.09162427282104},{"$f":"INDEX(coordonnées_cadran_plat($D217,I$10,$C$3,$C$2,$C$5,$C$6,0,0,$C$4),1,2)","v":-573.33239852967358},{"$f":"INDEX(coordonnées_cadran_plat($D217,K$10,$C$3,$C$2,$C$5,$C$6,0,0,$C$4),1,1)","v":248.50251934897193},{"$f":"INDEX(coordonnées_cadran_plat($D217,K$10,$C$3,$C$2,$C$5,$C$6,0,0,$C$4),1,2)","v":-352.86716445269309},{"$f":"INDEX(coordonnées_cadran_plat($D217,M$10,$C$3,$C$2,$C$5,$C$6,0,0,$C$4),1,1)","v":274.70401741128956},{"$f":"INDEX(coordonnées_cadran_plat($D217,M$10,$C$3,$C$2,$C$5,$C$6,0,0,$C$4),1,2)","v":-175.76415779346951},{"$f":"INDEX(coordonnées_cadran_plat($D217,O$10,$C$3,$C$2,$C$5,$C$6,0,0,$C$4),1,1)","v":286.36324634923488},{"$f":"INDEX(coordonnées_cadran_plat($D217,O$10,$C$3,$C$2,$C$5,$C$6,0,0,$C$4),1,2)","v":-16.069525453164847},{"$f":"INDEX(coordonnées_cadran_plat($D217,Q$10,$C$3,$C$2,$C$5,$C$6,0,0,$C$4),1,1)","v":285.91193946987482},{"$f":"INDEX(coordonnées_cadran_plat($D217,Q$10,$C$3,$C$2,$C$5,$C$6,0,0,$C$4),1,2)","v":143.29392152526219},{"$f":"INDEX(coordonnées_cadran_plat($D217,S$10,$C$3,$C$2,$C$5,$C$6,0,0,$C$4),1,1)","v":272.3012939132467},{"$f":"INDEX(coordonnées_cadran_plat($D217,S$10,$C$3,$C$2,$C$5,$C$6,0,0,$C$4),1,2)","v":319.17654147232605},{"$f":"INDEX(coordonnées_cadran_plat($D217,U$10,$C$3,$C$2,$C$5,$C$6,0,0,$C$4),1,1)","v":240.04950403507792},{"$f":"INDEX(coordonnées_cadran_plat($D217,U$10,$C$3,$C$2,$C$5,$C$6,0,0,$C$4),1,2)","v":536.55199408607575},{"$f":"INDEX(coordonnées_cadran_plat($D217,W$10,$C$3,$C$2,$C$5,$C$6,0,0,$C$4),1,1)","v":173.81307778095277},{"$f":"INDEX(coordonnées_cadran_plat($D217,W$10,$C$3,$C$2,$C$5,$C$6,0,0,$C$4),1,2)","v":847.31194569278853}]
[null,3,11,"2010-11-03",{"$f":"INDEX(heures_limites_cadran($D218,$C$3,$C$2,$C$5),1,1)/24","v":"08:30:00"},{"$f":"INDEX(heures_limites_cadran($D218,$C$3,$C$2,$C$5),1,2)/24","v":"18:00:00"},{"$f":"INDEX(coordonnées_cadran_plat($D218,$G$10,$C$3,$C$2,$C$5,$C$6,0,0,$C$4),1,1)","v":103.95340245681594},{"$f":"INDEX(coordonnées_cadran_plat($D218,$G$10,$C$3,$C$2,$C$5,$C$6,0,0,$C$4),1,2)","v":-885.75946955984818},{"$f":"INDEX(coordonnées_cadran_plat($D218,I$10,$C$3,$C$2,$C$5,$C$6,0,0,$C$4),1,1)","v":195.55341207017588},{"$f":"INDEX(coordonnées_cadran_plat($D218,I$10,$C$3,$C$2,$C$5,$C$6,0,0,$C$4),1,2)","v":-569.92425741490956},{"$f":"INDEX(coordonnées_cadran_plat($D218,K$10,$C$3,$C$2,$C$5,$C$6,0,0,$C$4),1,1)","v":244.39041051617195},{"$f":"INDEX(coordonnées_cadran_plat($D218,K$10,$C$3,$C$2,$C$5,$C$6,0,0,$C$4),1,2)","v":-351.03001725180292},{"$f":"INDEX(coordonnées_cadran_plat($D218,M$10,$C$3,$C$2,$C$5,$C$6,0,0,$C$4),1,1)","v":270.82463095423554},{"$f":"INDEX(coordonnées_cadran_plat($D218,M$10,$C$3,$C$2,$C$5,$C$6,0,0,$C$4),1,2)","v":-174.87036178035603},{"$f":"INDEX(coordonnées_cadran_plat($D218,O$10,$C$3,$C$2,$C$5,$C$6,0,0,$C$4),1,1)","v":282.54896516489663},{"$f":"INDEX(coordonnées_cadran_plat($D218,O$10,$C$3,$C$2,$C$5,$C$6,0,0,$C$4),1,2)","v":-15.889245605052141},{"$f":"INDEX(coordonnées_cadran_plat($D218,Q$10,$C$3,$C$2,$C$5,$C$6,0,0,$C$4),1,1)","v":282.0019433636611},{"$f":"INDEX(coordonnées_cadran_plat($D218,Q$10,$C$3,$C$2,$C$5,$C$6,0,0,$C$4),1,2)","v":142.77761502421254},{"$f":"INDEX(coordonnées_cadran_plat($D218,S$10,$C$3,$C$2,$C$5,$C$6,0,0,$C$4),1,1)","v":268.11652358067528},{"$f":"INDEX(coordonnées_cadran_plat($D218,S$10,$C$3,$C$2,$C$5,$C$6,0,0,$C$4),1,2)","v":317.77634158530537},{"$f":"INDEX(coordonnées_cadran_plat($D218,U$10,$C$3,$C$2,$C$5,$C$6,0,0,$C$4),1,1)","v":235.36207210078257},{"$f":"INDEX(coordonnées_cadran_plat($D218,U$10,$C$3,$C$2,$C$5,$C$6,0,0,$C$4),1,2)","v":533.72070568072718},{"$f":"INDEX(coordonnées_cadran_plat($D218,W$10,$C$3,$C$2,$C$5,$C$6,0,0,$C$4),1,1)","v":168.31903945307866},{"$f":"INDEX(coordonnées_cadran_plat($D218,W$10,$C$3,$C$2,$C$5,$C$6,0,0,$C$4),1,2)","v":841.52943888930349}]
[null,4,11,"2010-11-04",{"$f":"INDEX(heures_limites_cadran($D219,$C$3,$C$2,$C$5),1,1)/24","v":"08:30:00"},{"$f":"INDEX(heures_limites_cadran($D219,$C$3,$C$2,$C$5),1,2)/24","v":"18:00:00"},{"$f":"INDEX(coordonnées_cadran_plat($D219,$G$10,$C$3,$C$2,$C$5,$C$6,0,0,$C$4),1,1)","v":98.890760986029818},{"$f":"INDEX(coordonnées_cadran_plat($D219,$G$10,$C$3,$C$2,$C$5,$C$6,0,0,$C$4),1,2)","v":-879.29273573836065},{"$f":"INDEX(coordonnées_cadran_plat($D219,I$10,$C$3,$C$2,$C$5,$C$6,0,0,$C$4),1,1)","v":191.09692121233999},{"$f":"INDEX(coordonnées_cadran_plat($D219,I$10,$C$3,$C$2,$C$5,$C$6,0,0,$C$4),1,2)","v":-566.64507291727148},{"$f":"INDEX(coordonnées_cadran_plat($D219,K$10,$C$3,$C$2,$C$5,$C$6,0,0,$C$4),1,1)","v":240.35089202183926},{"$f":"INDEX(coordonnées_cadran_plat($D219,K$10,$C$3,$C$2,$C$5,$C$6,0,0,$C$4),1,2)","v":-349.27177222105047},{"$f":"INDEX(coordonnées_cadran_plat($D219,M$10,$C$3,$C$2,$C$5,$C$6,0,0,$C$4),1,1)","v":267.01406531368951},{"$f":"INDEX(coordonnées_cadran_plat($D219,M$10,$C$3,$C$2,$C$5,$C$6,0,0,$C$4),1,2)","v":-174.03016374142152},{"$f":"INDEX(coordonnées_cadran_plat($D219,O$10,$C$3,$C$2,$C$5,$C$6,0,0,$C$4),1,1)","v":278.80421456267658},{"$f":"INDEX(coordonnées_cadran_plat($D219,O$10,$C$3,$C$2,$C$5,$C$6,0,0,$C$4),1,2)","v":-15.747317585011757},{"$f":"INDEX(coordonnées_cadran_plat($D219,Q$10,$C$3,$C$2,$C$5,$C$6,0,0,$C$4),1,1)","v":278.16687634094842},{"$f":"INDEX(coordonnées_cadran_plat($D219,Q$10,$C$3,$C$2,$C$5,$C$6,0,0,$C$4),1,2)","v":142.23429557307398},{"$f":"INDEX(coordonnées_cadran_plat($D219,S$10,$C$3,$C$2,$C$5,$C$6,0,0,$C$4),1,1)","v":264.01840820779876},{"$f":"INDEX(coordonnées_cadran_plat($D219,S$10,$C$3,$C$2,$C$5,$C$6,0,0,$C$4),1,2)","v":316.3608523923964},{"$f":"INDEX(coordonnées_cadran_plat($D219,U$10,$C$3,$C$2,$C$5,$C$6,0,0,$C$4),1,1)","v":230.78367450076371},{"$f":"INDEX(coordonnées_cadran_plat($D219,U$10,$C$3,$C$2,$C$5,$C$6,0,0,$C$4),1,2)","v":530.89310490996195},{"$f":"INDEX(coordonnées_cadran_plat($D219,W$10,$C$3,$C$2,$C$5,$C$6,0,0,$C$4),1,1)","v":162.9781574312205},{"$f":"INDEX(coordonnées_cadran_plat($D219,W$10,$C$3,$C$2,$C$5,$C$6,0,0,$C$4),1,2)","v":835.79909107436572}]
[null,5,11,"2010-11-05",{"$f":"INDEX(heures_limites_cadran($D220,$C$3,$C$2,$C$5),1,1)/24","v":"08:30:00"},{"$f":"INDEX(heures_limites_cadran($D220,$C$3,$C$2,$C$5),1,2)/24","v":"18:00:00"},{"$f":"INDEX(coordonnées_cadran_plat($D220,$G$10,$C$3,$C$2,$C$5,$C$6,0,0,$C$4),1,1)","v":93.922968842713544},{"$f":"INDEX(coordonnées_cadran_plat($D220,$G$10,$C$3,$C$2,$C$5,$C$6,0,0,$C$4),1,2)","v":-873.07391028208883},{"$f":"INDEX(coordonnées_cadran_plat($D220,I$10,$C$3,$C$2,$C$5,$C$6,0,0,$C$4),1,1)","v":186.72110026734302},{"$f":"INDEX(coordonnées_cadran_plat($D220,I$10,$C$3,$C$2,$C$5,$C$6,0,0,$C$4),1,2)","v":-563.49354502663948},{"$f":"INDEX(coordonnées_cadran_plat($D220,K$10,$C$3,$C$2,$C$5,$C$6,0,0,$C$4),1,1)","v":236.38357272388006},{"$f":"INDEX(coordonnées_cadran_plat($D220,K$10,$C$3,$C$2,$C$5,$C$6,0,0,$C$4),1,2)","v":-347.59201082869856},{"$f":"INDEX(coordonnées_cadran_plat($D220,M$10,$C$3,$C$2,$C$5,$C$6,0,0,$C$4),1,1)","v":263.2722704895603},{"$f":"INDEX(coordonnées_cadran_plat($D220,M$10,$C$3,$C$2,$C$5,$C$6,0,0,$C$4),1,2)","v":-173.2433963144494},{"$f":"INDEX(coordonnées_cadran_plat($D220,O$10,$C$3,$C$2,$C$5,$C$6,0,0,$C$4),1,1)","v":275.12913151950528},{"$f":"INDEX(coordonnées_cadran_plat($D220,O$10,$C$3,$C$2,$C$5,$C$6,0,0,$C$4),1,2)","v":-15.643613968733691},{"$f":"INDEX(coordonnées_cadran_plat($D220,Q$10,$C$3,$C$2,$C$5,$C$6,0,0,$C$4),1,1)","v":274.40696559077105},{"$f":"INDEX(coordonnées_cadran_plat($D220,Q$10,$C$3,$C$2,$C$5,$C$6,0,0,$C$4),1,2)","v":141.66414852711159},{"$f":"INDEX(coordonnées_cadran_plat($D220,S$10,$C$3,$C$2,$C$5,$C$6,0,0,$C$4),1,1)","v":260.00716053377869},{"$f":"INDEX(coordonnées_cadran_plat($D220,S$10,$C$3,$C$2,$C$5,$C$6,0,0,$C$4),1,2)","v":314.93038396849272},{"$f":"INDEX(coordonnées_cadran_plat($D220,U$10,$C$3,$C$2,$C$5,$C$6,0,0,$C$4),1,1)","v":226.31429600244635},{"$f":"INDEX(coordonnées_cadran_plat($D220,U$10,$C$3,$C$2,$C$5,$C$6,0,0,$C$4),1,2)","v":528.06966340173506},{"$f":"INDEX(coordonnées_cadran_plat($D220,W$10,$C$3,$C$2,$C$5,$C$6,0,0,$C$4),1,1)","v":157.78953687921555},{"$f":"INDEX(coordonnées_cadran_plat($D220,W$10,$C$3,$C$2,$C$5,$C$6,0,0,$C$4),1,2)","v":830.12128948275563}]
[null,6,11,"2010-11-06",{"$f":"INDEX(heures_limites_cadran($D221,$C$3,$C$2,$C$5),1,1)/24","v":"08:30:00"},{"$f":"INDEX(heures_limites_cadran($D221,$C$3,$C$2,$C$5),1,2)/24","v":"18:00:00"},{"$f":"INDEX(coordonnées_cadran_plat($D221,$G$10,$C$3,$C$2,$C$5,$C$6,0,0,$C$4),1,1)","v":89.047706176366972},{"$f":"INDEX(coordonnées_cadran_plat($D221,$G$10,$C$3,$C$2,$C$5,$C$6,0,0,$C$4),1,2)","v":-867.098480017513},{"$f":"INDEX(coordonnées_cadran_plat($D221,I$10,$C$3,$C$2,$C$5,$C$6,0,0,$C$4),1,1)","v":182.4249686859487},{"$f":"INDEX(coordonnées_cadran_plat($D221,I$10,$C$3,$C$2,$C$5,$C$6,0,0,$C$4),1,2)","v":-560.46841408084867},{"$f":"INDEX(coordonnées_cadran_plat($D221,K$10,$C$3,$C$2,$C$5,$C$6,0,0,$C$4),1,1)","v":232.48810306984134},{"$f":"INDEX(coordonnées_cadran_plat($D221,K$10,$C$3,$C$2,$C$5,$C$6,0,0,$C$4),1,2)","v":-345.99031388980796},{"$f":"INDEX(coordonnées_cadran_plat($D221,M$10,$C$3,$C$2,$C$5,$C$6,0,0,$C$4),1,1)","v":259.59922334516921},{"$f":"INDEX(coordonnées_cadran_plat($D221,M$10,$C$3,$C$2,$C$5,$C$6,0,0,$C$4),1,2)","v":-172.50987750166956},{"$f":"INDEX(coordonnées_cadran_plat($D221,O$10,$C$3,$C$2,$C$5,$C$6,0,0,$C$4),1,1)","v":271.5238707339193},{"$f":"INDEX(coordonnées_cadran_plat($D221,O$10,$C$3,$C$2,$C$5,$C$6,0,0,$C$4),1,2)","v":-15.577985604473714},{"$f":"INDEX(coordonnées_cadran_plat($D221,Q$10,$C$3,$C$2,$C$5,$C$6,0,0,$C$4),1,1)","v":270.72244891271845},{"$f":"INDEX(coordonnées_cadran_plat($D221,Q$10,$C$3,$C$2,$C$5,$C$6,0,0,$C$4),1,2)","v":141.06738661487753},{"$f":"INDEX(coordonnées_cadran_plat($D221,S$10,$C$3,$C$2,$C$5,$C$6,0,0,$C$4),1,1)","v":256.08299707193288},{"$f":"INDEX(coordonnées_cadran_plat($D221,S$10,$C$3,$C$2,$C$5,$C$6,0,0,$C$4),1,2)","v":313.48528013443394},{"$f":"INDEX(coordonnées_cadran_plat($D221,U$10,$C$3,$C$2,$C$5,$C$6,0,0,$C$4),1,1)","v":221.95391828447404},{"$f":"INDEX(coordonnées_cadran_plat($D221,U$10,$C$3,$C$2,$C$5,$C$6,0,0,$C$4),1,2)","v":525.2508955302178},{"$f":"INDEX(coordonnées_cadran_plat($D221,W$10,$C$3,$C$2,$C$5,$C$6,0,0,$C$4),1,1)","v":152.75228038052455},{"$f":"INDEX(coordonnées_cadran_plat($D221,W$10,$C$3,$C$2,$C$5,$C$6,0,0,$C$4),1,2)","v":824.49648359239336}]
[null,7,11,"2010-11-07",{"$f":"INDEX(heures_limites_cadran($D222,$C$3,$C$2,$C$5),1,1)/24","v":"08:30:00"},{"$f":"INDEX(heures_limites_cadran($D222,$C$3,$C$2,$C$5),1,2)/24","v":"17:30:00"},{"$f":"INDEX(coordonnées_cadran_plat($D222,$G$10,$C$3,$C$2,$C$5,$C$6,0,0,$C$4),1,1)","v":84.262791176333835},{"$f":"INDEX(coordonnées_cadran_plat($D222,$G$10,$C$3,$C$2,$C$5,$C$6,0,0,$C$4),1,2)","v":-861.36213758662927},{"$f":"INDEX(coordonnées_cadran_plat($D222,I$10,$C$3,$C$2,$C$5,$C$6,0,0,$C$4),1,1)","v":178.20761537138063},{"$f":"INDEX(coordonnées_cadran_plat($D222,I$10,$C$3,$C$2,$C$5,$C$6,0,0,$C$4),1,2)","v":-557.56845908374521},{"$f":"INDEX(coordonnées_cadran_plat($D222,K$10,$C$3,$C$2,$C$5,$C$6,0,0,$C$4),1,1)","v":228.66417445568112},{"$f":"INDEX(coordonnées_cadran_plat($D222,K$10,$C$3,$C$2,$C$5,$C$6,0,0,$C$4),1,2)","v":-344.46626102870908},{"$f":"INDEX(coordonnées_cadran_plat($D222,M$10,$C$3,$C$2,$C$5,$C$6,0,0,$C$4),1,1)","v":255.99492708325835},{"$f":"INDEX(coordonnées_cadran_plat($D222,M$10,$C$3,$C$2,$C$5,$C$6,0,0,$C$4),1,2)","v":-171.82941039027051},{"$f":"INDEX(coordonnées_cadran_plat($D222,O$10,$C$3,$C$2,$C$5,$C$6,0,0,$C$4),1,1)","v":267.9886040139711},{"$f":"INDEX(coordonnées_cadran_plat($D222,O$10,$C$3,$C$2,$C$5,$C$6,0,0,$C$4),1,2)","v":-15.550261470626255},{"$f":"INDEX(coordonnées_cadran_plat($D222,Q$10,$C$3,$C$2,$C$5,$C$6,0,0,$C$4),1,1)","v":267.11357393281372},{"$f":"INDEX(coordonnées_cadran_plat($D222,Q$10,$C$3,$C$2,$C$5,$C$6,0,0,$C$4),1,2)","v":140.44424989321914},{"$f":"INDEX(coordonnées_cadran_plat($D222,S$10,$C$3,$C$2,$C$5,$C$6,0,0,$C$4),1,1)","v":252.24613710787943},{"$f":"INDEX(coordonnées_cadran_plat($D222,S$10,$C$3,$C$2,$C$5,$C$6,0,0,$C$4),1,2)","v":312.02591806554619},{"$f":"INDEX(coordonnées_cadran_plat($D222,U$10,$C$3,$C$2,$C$5,$C$6,0,0,$C$4),1,1)","v":217.70251869560036},{"$f":"INDEX(coordonnées_cadran_plat($D222,U$10,$C$3,$C$2,$C$5,$C$6,0,0,$C$4),1,2)","v":522.43735730526316},{"$f":"INDEX(coordonnées_cadran_plat($D222,W$10,$C$3,$C$2,$C$5,$C$6,0,0,$C$4),1,1)","v":147.86548636939685},{"$f":"INDEX(coordonnées_cadran_plat($D222,W$10,$C$3,$C$2,$C$5,$C$6,0,0,$C$4),1,2)","v":818.92518220794295}]
[null,8,11,"2010-11-08",{"$f":"INDEX(heures_limites_cadran($D223,$C$3,$C$2,$C$5),1,1)/24","v":"08:30:00"},{"$f":"INDEX(heures_limites_cadran($D223,$C$3,$C$2,$C$5),1,2)/24","v":"17:30:00"},{"$f":"INDEX(coordonnées_cadran_plat($D223,$G$10,$C$3,$C$2,$C$5,$C$6,0,0,$C$4),1,1)","v":79.566175373475645},{"$f":"INDEX(coordonnées_cadran_plat($D223,$G$10,$C$3,$C$2,$C$5,$C$6,0,0,$C$4),1,2)","v":-855.8607724968939},{"$f":"INDEX(coordonnées_cadran_plat($D223,I$10,$C$3,$C$2,$C$5,$C$6,0,0,$C$4),1,1)","v":174.0681972796001},{"$f":"INDEX(coordonnées_cadran_plat($D223,I$10,$C$3,$C$2,$C$5,$C$6,0,0,$C$4),1,2)","v":-554.79249604039035},{"$f":"INDEX(coordonnées_cadran_plat($D223,K$10,$C$3,$C$2,$C$5,$C$6,0,0,$C$4),1,1)","v":224.91151856513397},{"$f":"INDEX(coordonnées_cadran_plat($D223,K$10,$C$3,$C$2,$C$5,$C$6,0,0,$C$4),1,2)","v":-343.01943013045451},{"$f":"INDEX(coordonnées_cadran_plat($D223,M$10,$C$3,$C$2,$C$5,$C$6,0,0,$C$4),1,1)","v":252.45941069255005},{"$f":"INDEX(coordonnées_cadran_plat($D223,M$10,$C$3,$C$2,$C$5,$C$6,0,0,$C$4),1,2)","v":-171.20178287088271},{"$f":"INDEX(coordonnées_cadran_plat($D223,O$10,$C$3,$C$2,$C$5,$C$6,0,0,$C$4),1,1)","v":264.5235196371529},{"$f":"INDEX(coordonnées_cadran_plat($D223,O$10,$C$3,$C$2,$C$5,$C$6,0,0,$C$4),1,2)","v":-15.560248545312637},{"$f":"INDEX(coordonnées_cadran_plat($D223,Q$10,$C$3,$C$2,$C$5,$C$6,0,0,$C$4),1,1)","v":263.58059730051195},{"$f":"INDEX(coordonnées_cadran_plat($D223,Q$10,$C$3,$C$2,$C$5,$C$6,0,0,$C$4),1,2)","v":139.79500567776117},{"$f":"INDEX(coordonnées_cadran_plat($D223,S$10,$C$3,$C$2,$C$5,$C$6,0,0,$C$4),1,1)","v":248.49680169747771},{"$f":"INDEX(coordonnées_cadran_plat($D223,S$10,$C$3,$C$2,$C$5,$C$6,0,0,$C$4),1,2)","v":310.55270786407704},{"$f":"INDEX(coordonnées_cadran_plat($D223,U$10,$C$3,$C$2,$C$5,$C$6,0,0,$C$4),1,1)","v":213.56006905109518},{"$f":"INDEX(coordonnées_cadran_plat($D223,U$10,$C$3,$C$2,$C$5,$C$6,0,0,$C$4),1,2)","v":519.62964522363097},{"$f":"INDEX(coordonnées_cadran_plat($D223,W$10,$C$3,$C$2,$C$5,$C$6,0,0,$C$4),1,1)","v":143.12824768197112},{"$f":"INDEX(coordonnées_cadran_plat($D223,W$10,$C$3,$C$2,$C$5,$C$6,0,0,$C$4),1,2)","v":813.40795056325851}]
[null,9,11,"2010-11-09",{"$f":"INDEX(heures_limites_cadran($D224,$C$3,$C$2,$C$5),1,1)/24","v":"09:00:00"},{"$f":"INDEX(heures_limites_cadran($D224,$C$3,$C$2,$C$5),1,2)/24","v":"17:30:00"},{"$f":"INDEX(coordonnées_cadran_plat($D224,$G$10,$C$3,$C$2,$C$5,$C$6,0,0,$C$4),1,1)","v":74.955939200949075},{"$f":"INDEX(coordonnées_cadran_plat($D224,$G$10,$C$3,$C$2,$C$5,$C$6,0,0,$C$4),1,2)","v":-850.59046259216871},{"$f":"INDEX(coordonnées_cadran_plat($D224,I$10,$C$3,$C$2,$C$5,$C$6,0,0,$C$4),1,1)","v":170.00593804864249},{"$f":"INDEX(coordonnées_cadran_plat($D224,I$10,$C$3,$C$2,$C$5,$C$6,0,0,$C$4),1,2)","v":-552.13937630953626},{"$f":"INDEX(coordonnées_cadran_plat($D224,K$10,$C$3,$C$2,$C$5,$C$6,0,0,$C$4),1,1)","v":221.2299066902348},{"$f":"INDEX(coordonnées_cadran_plat($D224,K$10,$C$3,$C$2,$C$5,$C$6,0,0,$C$4),1,2)","v":-341.64939678278347},{"$f":"INDEX(coordonnées_cadran_plat($D224,M$10,$C$3,$C$2,$C$5,$C$6,0,0,$C$4),1,1)","v":248.99272836566612},{"$f":"INDEX(coordonnées_cadran_plat($D224,M$10,$C$3,$C$2,$C$5,$C$6,0,0,$C$4),1,2)","v":-170.62676735632863},{"$f":"INDEX(coordonnées_cadran_plat($D224,O$10,$C$3,$C$2,$C$5,$C$6,0,0,$C$4),1,1)","v":261.12882168396408},{"$f":"INDEX(coordonnées_cadran_plat($D224,O$10,$C$3,$C$2,$C$5,$C$6,0,0,$C$4),1,2)","v":-15.607731688610789},{"$f":"INDEX(coordonnées_cadran_plat($D224,Q$10,$C$3,$C$2,$C$5,$C$6,0,0,$C$4),1,1)","v":260.12378386874036},{"$f":"INDEX(coordonnées_cadran_plat($D224,Q$10,$C$3,$C$2,$C$5,$C$6,0,0,$C$4),1,2)","v":139.11994844746945},{"$f":"INDEX(coordonnées_cadran_plat($D224,S$10,$C$3,$C$2,$C$5,$C$6,0,0,$C$4),1,1)","v":244.83521266730975},{"$f":"INDEX(coordonnées_cadran_plat($D224,S$10,$C$3,$C$2,$C$5,$C$6,0,0,$C$4),1,2)","v":309.0660920953199},{"$f":"INDEX(coordonnées_cadran_plat($D224,U$10,$C$3,$C$2,$C$5,$C$6,0,0,$C$4),1,1)","v":209.52653446955799},{"$f":"INDEX(coordonnées_cadran_plat($D224,U$10,$C$3,$C$2,$C$5,$C$6,0,0,$C$4),1,2)","v":516.82839508372342},{"$f":"INDEX(coordonnées_cadran_plat($D224,W$10,$C$3,$C$2,$C$5,$C$6,0,0,$C$4),1,1)","v":138.53965022727735},{"$f":"INDEX(coordonnées_cadran_plat($D224,W$10,$C$3,$C$2,$C$5,$C$6,0,0,$C$4),1,2)","v":807.9454074450224}]
[null,10,11,"2010-11-10",{"$f":"INDEX(heures_limites_cadran($D225,$C$3,$C$2,$C$5),1,1)/24","v":"09:00:00"},{"$f":"INDEX(heures_limites_cadran($D225,$C$3,$C$2,$C$5),1,2)/24","v":"17:30:00"},{"$f":"INDEX(coordonnées_cadran_plat($D225,$G$10,$C$3,$C$2,$C$5,$C$6,0,0,$C$4),1,1)","v":70.430287798863446},{"$f":"INDEX(coordonnées_cadran_plat($D225,$G$10,$C$3,$C$2,$C$5,$C$6,0,0,$C$4),1,2)","v":-845.54746591908838},{"$f":"INDEX(coordonnées_cadran_plat($D225,I$10,$C$3,$C$2,$C$5,$C$6,0,0,$C$4),1,1)","v":166.02012665533576},{"$f":"INDEX(coordonnées_cadran_plat($D225,I$10,$C$3,$C$2,$C$5,$C$6,0,0,$C$4),1,2)","v":-549.60798497404585},{"$f":"INDEX(coordonnées_cadran_plat($D225,K$10,$C$3,$C$2,$C$5,$C$6,0,0,$C$4),1,1)","v":217.61914903352218},{"$f":"INDEX(coordonnées_cadran_plat($D225,K$10,$C$3,$C$2,$C$5,$C$6,0,0,$C$4),1,2)","v":-340.35573370980035},{"$f":"INDEX(coordonnées_cadran_plat($D225,M$10,$C$3,$C$2,$C$5,$C$6,0,0,$C$4),1,1)","v":245.59495888945003},{"$f":"INDEX(coordonnées_cadran_plat($D225,M$10,$C$3,$C$2,$C$5,$C$6,0,0,$C$4),1,2)","v":-170.10412050153093},{"$f":"INDEX(coordonnées_cadran_plat($D225,O$10,$C$3,$C$2,$C$5,$C$6,0,0,$C$4),1,1)","v":257.80472934639312},{"$f":"INDEX(coordonnées_cadran_plat($D225,O$10,$C$3,$C$2,$C$5,$C$6,0,0,$C$4),1,2)","v":-15.69247353903185},{"$f":"INDEX(coordonnées_cadran_plat($D225,Q$10,$C$3,$C$2,$C$5,$C$6,0,0,$C$4),1,1)","v":256.74340585915377},{"$f":"INDEX(coordonnées_cadran_plat($D225,Q$10,$C$3,$C$2,$C$5,$C$6,0,0,$C$4),1,2)","v":138.41939972321396},{"$f":"INDEX(coordonnées_cadran_plat($D225,S$10,$C$3,$C$2,$C$5,$C$6,0,0,$C$4),1,1)","v":241.2615916202227},{"$f":"INDEX(coordonnées_cadran_plat($D225,S$10,$C$3,$C$2,$C$5,$C$6,0,0,$C$4),1,2)","v":307.5665452874062},{"$f":"INDEX(coordonnées_cadran_plat($D225,U$10,$C$3,$C$2,$C$5,$C$6,0,0,$C$4),1,1)","v":205.60187225267083},{"$f":"INDEX(coordonnées_cadran_plat($D225,U$10,$C$3,$C$2,$C$5,$C$6,0,0,$C$4),1,2)","v":514.03428076658076},{"$f":"INDEX(coordonnées_cadran_plat($D225,W$10,$C$3,$C$2,$C$5,$C$6,0,0,$C$4),1,1)","v":134.09877177773905},{"$f":"INDEX(coordonnées_cadran_plat($D225,W$10,$C$3,$C$2,$C$5,$C$6,0,0,$C$4),1,2)","v":802.53822234168535}]
[null,11,11,"2010-11-11",{"$f":"INDEX(heures_limites_cadran($D226,$C$3,$C$2,$C$5),1,1)/24","v":"09:00:00"},{"$f":"INDEX(heures_limites_cadran($D226,$C$3,$C$2,$C$5),1,2)/24","v":"17:30:00"},{"$f":"INDEX(coordonnées_cadran_plat($D226,$G$10,$C$3,$C$2,$C$5,$C$6,0,0,$C$4),1,1)","v":65.987547047660243},{"$f":"INDEX(coordonnées_cadran_plat($D226,$G$10,$C$3,$C$2,$C$5,$C$6,0,0,$C$4),1,2)","v":-840.72821296781092},{"$f":"INDEX(coordonnées_cadran_plat($D226,I$10,$C$3,$C$2,$C$5,$C$6,0,0,$C$4),1,1)","v":162.11011609774999},{"$f":"INDEX(coordonnées_cadran_plat($D226,I$10,$C$3,$C$2,$C$5,$C$6,0,0,$C$4),1,2)","v":-547.19723922964454},{"$f":"INDEX(coordonnées_cadran_plat($D226,K$10,$C$3,$C$2,$C$5,$C$6,0,0,$C$4),1,1)","v":214.07909399197584},{"$f":"INDEX(coordonnées_cadran_plat($D226,K$10,$C$3,$C$2,$C$5,$C$6,0,0,$C$4),1,2)","v":-339.13801019995606},{"$f":"INDEX(coordonnées_cadran_plat($D226,M$10,$C$3,$C$2,$C$5,$C$6,0,0,$C$4),1,1)","v":242.26620500853318},{"$f":"INDEX(coordonnées_cadran_plat($D226,M$10,$C$3,$C$2,$C$5,$C$6,0,0,$C$4),1,2)","v":-169.63358292680635},{"$f":"INDEX(coordonnées_cadran_plat($D226,O$10,$C$3,$C$2,$C$5,$C$6,0,0,$C$4),1,1)","v":254.55147621296999},{"$f":"INDEX(coordonnées_cadran_plat($D226,O$10,$C$3,$C$2,$C$5,$C$6,0,0,$C$4),1,2)","v":-15.814214425720564},{"$f":"INDEX(coordonnées_cadran_plat($D226,Q$10,$C$3,$C$2,$C$5,$C$6,0,0,$C$4),1,1)","v":253.43974201459994},{"$f":"INDEX(coordonnées_cadran_plat($D226,Q$10,$C$3,$C$2,$C$5,$C$6,0,0,$C$4),1,2)","v":137.69370791844582},{"$f":"INDEX(coordonnées_cadran_plat($D226,S$10,$C$3,$C$2,$C$5,$C$6,0,0,$C$4),1,1)","v":237.77615894876564},{"$f":"INDEX(coordonnées_cadran_plat($D226,S$10,$C$3,$C$2,$C$5,$C$6,0,0,$C$4),1,2)","v":306.05457339492898},{"$f":"INDEX(coordonnées_cadran_plat($D226,U$10,$C$3,$C$2,$C$5,$C$6,0,0,$C$4),1,1)","v":201.78603081075423},{"$f":"INDEX(coordonnées_cadran_plat($D226,U$10,$C$3,$C$2,$C$5,$C$6,0,0,$C$4),1,2)","v":511.24801298245558},{"$f":"INDEX(coordonnées_cadran_plat($D226,W$10,$C$3,$C$2,$C$5,$C$6,0,0,$C$4),1,1)","v":129.80468087888596},{"$f":"INDEX(coordonnées_cadran_plat($D226,W$10,$C$3,$C$2,$C$5,$C$6,0,0,$C$4),1,2)","v":797.18711261969167}]
[null,12,11,"2010-11-12",{"$f":"INDEX(heures_limites_cadran($D227,$C$3,$C$2,$C$5),1,1)/24","v":"09:00:00"},{"$f":"INDEX(heures_limites_cadran($D227,$C$3,$C$2,$C$5),1,2)/24","v":"17:30:00"},{"$f":"INDEX(coordonnées_cadran_plat($D227,$G$10,$C$3,$C$2,$C$5,$C$6,0,0,$C$4),1,1)","v":61.626159817485615},{"$f":"INDEX(coordonnées_cadran_plat($D227,$G$10,$C$3,$C$2,$C$5,$C$6,0,0,$C$4),1,2)","v":-836.12929926314746},{"$f":"INDEX(coordonnées_cadran_plat($D227,I$10,$C$3,$C$2,$C$5,$C$6,0,0,$C$4),1,1)","v":158.27532210198478},{"$f":"INDEX(coordonnées_cadran_plat($D227,I$10,$C$3,$C$2,$C$5,$C$6,0,0,$C$4),1,2)","v":-544.90608679178399},{"$f":"INDEX(coordonnées_cadran_plat($D227,K$10,$C$3,$C$2,$C$5,$C$6,0,0,$C$4),1,1)","v":210.60962742319006},{"$f":"INDEX(coordonnées_cadran_plat($D227,K$10,$C$3,$C$2,$C$5,$C$6,0,0,$C$4),1,2)","v":-337.99579152909047},{"$f":"INDEX(coordonnées_cadran_plat($D227,M$10,$C$3,$C$2,$C$5,$C$6,0,0,$C$4),1,1)","v":239.00659276321664},{"$f":"INDEX(coordonnées_cadran_plat($D227,M$10,$C$3,$C$2,$C$5,$C$6,0,0,$C$4),1,2)","v":-169.21487894546524},{"$f":"INDEX(coordonnées_cadran_plat($D227,O$10,$C$3,$C$2,$C$5,$C$6,0,0,$C$4),1,1)","v":251.36930953175312},{"$f":"INDEX(coordonnées_cadran_plat($D227,O$10,$C$3,$C$2,$C$5,$C$6,0,0,$C$4),1,2)","v":-15.972672296908167},{"$f":"INDEX(coordonnées_cadran_plat($D227,Q$10,$C$3,$C$2,$C$5,$C$6,0,0,$C$4),1,1)","v":250.21307674093953},{"$f":"INDEX(coordonnées_cadran_plat($D227,Q$10,$C$3,$C$2,$C$5,$C$6,0,0,$C$4),1,2)","v":136.94324816246865},{"$f":"INDEX(coordonnées_cadran_plat($D227,S$10,$C$3,$C$2,$C$5,$C$6,0,0,$C$4),1,1)","v":234.37913285898622},{"$f":"INDEX(coordonnées_cadran_plat($D227,S$10,$C$3,$C$2,$C$5,$C$6,0,0,$C$4),1,2)","v":304.53071322655836},{"$f":"INDEX(coordonnées_cadran_plat($D227,U$10,$C$3,$C$2,$C$5,$C$6,0,0,$C$4),1,1)","v":198.07894863632018},{"$f":"INDEX(coordonnées_cadran_plat($D227,U$10,$C$3,$C$2,$C$5,$C$6,0,0,$C$4),1,2)","v":508.47033798728086},{"$f":"INDEX(coordonnées_cadran_plat($D227,W$10,$C$3,$C$2,$C$5,$C$6,0,0,$C$4),1,1)","v":125.6564358772375},{"$f":"INDEX(coordonnées_cadran_plat($D227,W$10,$C$3,$C$2,$C$5,$C$6,0,0,$C$4),1,2)","v":791.89284073208523}]
[null,13,11,"2010-11-13",{"$f":"INDEX(heures_limites_cadran($D228,$C$3,$C$2,$C$5),1,1)/24","v":"09:00:00"},{"$f":"INDEX(heures_limites_cadran($D228,$C$3,$C$2,$C$5),1,2)/24","v":"17:30:00"},{"$f":"INDEX(coordonnées_cadran_plat($D228,$G$10,$C$3,$C$2,$C$5,$C$6,0,0,$C$4),1,1)","v":57.344682419748608},{"$f":"INDEX(coordonnées_cadran_plat($D228,$G$10,$C$3,$C$2,$C$5,$C$6,0,0,$C$4),1,2)","v":-831.74747828827128},{"$f":"INDEX(coordonnées_cadran_plat($D228,I$10,$C$3,$C$2,$C$5,$C$6,0,0,$C$4),1,1)","v":154.51522185136139},{"$f":"INDEX(coordonnées_cadran_plat($D228,I$10,$C$3,$C$2,$C$5,$C$6,0,0,$C$4),1,2)","v":-542.73350432158259},{"$f":"INDEX(coordonnées_cadran_plat($D228,K$10,$C$3,$C$2,$C$5,$C$6,0,0,$C$4),1,1)","v":207.21067189386301},{"$f":"INDEX(coordonnées_cadran_plat($D228,K$10,$C$3,$C$2,$C$5,$C$6,0,0,$C$4),1,2)","v":-336.92863838081792},{"$f":"INDEX(coordonnées_cadran_plat($D228,M$10,$C$3,$C$2,$C$5,$C$6,0,0,$C$4),1,1)","v":235.81627080249248},{"$f":"INDEX(coordonnées_cadran_plat($D228,M$10,$C$3,$C$2,$C$5,$C$6,0,0,$C$4),1,2)","v":-168.84771629757759},{"$f":"INDEX(coordonnées_cadran_plat($D228,O$10,$C$3,$C$2,$C$5,$C$6,0,0,$C$4),1,1)","v":248.25848945278551},{"$f":"INDEX(coordonnées_cadran_plat($D228,O$10,$C$3,$C$2,$C$5,$C$6,0,0,$C$4),1,2)","v":-16.167542666824559},{"$f":"INDEX(coordonnées_cadran_plat($D228,Q$10,$C$3,$C$2,$C$5,$C$6,0,0,$C$4),1,1)","v":247.06369924027251},{"$f":"INDEX(coordonnées_cadran_plat($D228,Q$10,$C$3,$C$2,$C$5,$C$6,0,0,$C$4),1,2)","v":136.16842209455498},{"$f":"INDEX(coordonnées_cadran_plat($D228,S$10,$C$3,$C$2,$C$5,$C$6,0,0,$C$4),1,1)","v":231.07072840719277},{"$f":"INDEX(coordonnées_cadran_plat($D228,S$10,$C$3,$C$2,$C$5,$C$6,0,0,$C$4),1,2)","v":302.99553183685902},{"$f":"INDEX(coordonnées_cadran_plat($D228,U$10,$C$3,$C$2,$C$5,$C$6,0,0,$C$4),1,1)","v":194.48055332810137},{"$f":"INDEX(coordonnées_cadran_plat($D228,U$10,$C$3,$C$2,$C$5,$C$6,0,0,$C$4),1,2)","v":505.7020362697067},{"$f":"INDEX(coordonnées_cadran_plat($D228,W$10,$C$3,$C$2,$C$5,$C$6,0,0,$C$4),1,1)","v":121.65308406566045},{"$f":"INDEX(coordonnées_cadran_plat($D228,W$10,$C$3,$C$2,$C$5,$C$6,0,0,$C$4),1,2)","v":786.65621146102364}]
[null,14,11,"2010-11-14",{"$f":"INDEX(heures_limites_cadran($D229,$C$3,$C$2,$C$5),1,1)/24","v":"09:00:00"},{"$f":"INDEX(heures_limites_cadran($D229,$C$3,$C$2,$C$5),1,2)/24","v":"17:30:00"},{"$f":"INDEX(coordonnées_cadran_plat($D229,$G$10,$C$3,$C$2,$C$5,$C$6,0,0,$C$4),1,1)","v":53.141781249399408},{"$f":"INDEX(coordonnées_cadran_plat($D229,$G$10,$C$3,$C$2,$C$5,$C$6,0,0,$C$4),1,2)","v":-827.57965472018145},{"$f":"INDEX(coordonnées_cadran_plat($D229,I$10,$C$3,$C$2,$C$5,$C$6,0,0,$C$4),1,1)","v":150.82935273632725},{"$f":"INDEX(coordonnées_cadran_plat($D229,I$10,$C$3,$C$2,$C$5,$C$6,0,0,$C$4),1,2)","v":-540.67849587093099},{"$f":"INDEX(coordonnées_cadran_plat($D229,K$10,$C$3,$C$2,$C$5,$C$6,0,0,$C$4),1,1)","v":203.88218591094412},{"$f":"INDEX(coordonnées_cadran_plat($D229,K$10,$C$3,$C$2,$C$5,$C$6,0,0,$C$4),1,2)","v":-335.93610626530568},{"$f":"INDEX(coordonnées_cadran_plat($D229,M$10,$C$3,$C$2,$C$5,$C$6,0,0,$C$4),1,1)","v":232.69540967310013},{"$f":"INDEX(coordonnées_cadran_plat($D229,M$10,$C$3,$C$2,$C$5,$C$6,0,0,$C$4),1,2)","v":-168.53178589147649},{"$f":"INDEX(coordonnées_cadran_plat($D229,O$10,$C$3,$C$2,$C$5,$C$6,0,0,$C$4),1,1)","v":245.21928825154529},{"$f":"INDEX(coordonnées_cadran_plat($D229,O$10,$C$3,$C$2,$C$5,$C$6,0,0,$C$4),1,2)","v":-16.398498581382906},{"$f":"INDEX(coordonnées_cadran_plat($D229,Q$10,$C$3,$C$2,$C$5,$C$6,0,0,$C$4),1,1)","v":243.99190263771953},{"$f":"INDEX(coordonnées_cadran_plat($D229,Q$10,$C$3,$C$2,$C$5,$C$6,0,0,$C$4),1,2)","v":135.36965762912308},{"$f":"INDEX(coordonnées_cadran_plat($D229,S$10,$C$3,$C$2,$C$5,$C$6,0,0,$C$4),1,1)","v":227.85115655224925},{"$f":"INDEX(coordonnées_cadran_plat($D229,S$10,$C$3,$C$2,$C$5,$C$6,0,0,$C$4),1,2)","v":301.44962588313109},{"$f":"INDEX(coordonnées_cadran_plat($D229,U$10,$C$3,$C$2,$C$5,$C$6,0,0,$C$4),1,1)","v":190.99076066765278},{"$f":"INDEX(coordonnées_cadran_plat($D229,U$10,$C$3,$C$2,$C$5,$C$6,0,0,$C$4),1,2)","v":502.94392121107836},{"$f":"INDEX(coordonnées_cadran_plat($D229,W$10,$C$3,$C$2,$C$5,$C$6,0,0,$C$4),1,1)","v":117.79366094465317},{"$f":"INDEX(coordonnées_cadran_plat($D229,W$10,$C$3,$C$2,$C$5,$C$6,0,0,$C$4),1,2)","v":781.4780691998352}]
[null,15,11,"2010-11-15",{"$f":"INDEX(heures_limites_cadran($D230,$C$3,$C$2,$C$5),1,1)/24","v":"09:00:00"},{"$f":"INDEX(heures_limites_cadran($D230,$C$3,$C$2,$C$5),1,2)/24","v":"17:30:00"},{"$f":"INDEX(coordonnées_cadran_plat($D230,$G$10,$C$3,$C$2,$C$5,$C$6,0,0,$C$4),1,1)","v":49.016229606070254},{"$f":"INDEX(coordonnées_cadran_plat($D230,$G$10,$C$3,$C$2,$C$5,$C$6,0,0,$C$4),1,2)","v":-823.62287796032047},{"$f":"INDEX(coordonnées_cadran_plat($D230,I$10,$C$3,$C$2,$C$5,$C$6,0,0,$C$4),1,1)","v":147.21731112378302},{"$f":"INDEX(coordonnées_cadran_plat($D230,I$10,$C$3,$C$2,$C$5,$C$6,0,0,$C$4),1,2)","v":-538.74009134675202},{"$f":"INDEX(coordonnées_cadran_plat($D230,K$10,$C$3,$C$2,$C$5,$C$6,0,0,$C$4),1,1)","v":200.62416313542599},{"$f":"INDEX(coordonnées_cadran_plat($D230,K$10,$C$3,$C$2,$C$5,$C$6,0,0,$C$4),1,2)","v":-335.01774493879299},{"$f":"INDEX(coordonnées_cadran_plat($D230,M$10,$C$3,$C$2,$C$5,$C$6,0,0,$C$4),1,1)","v":229.64420108572074},{"$f":"INDEX(coordonnées_cadran_plat($D230,M$10,$C$3,$C$2,$C$5,$C$6,0,0,$C$4),1,2)","v":-168.26676155413151},{"$f":"INDEX(coordonnées_cadran_plat($D230,O$10,$C$3,$C$2,$C$5,$C$6,0,0,$C$4),1,1)","v":242.25198953496255},{"$f":"INDEX(coordonnées_cadran_plat($D230,O$10,$C$3,$C$2,$C$5,$C$6,0,0,$C$4),1,2)","v":-16.665190604168515},{"$f":"INDEX(coordonnées_cadran_plat($D230,Q$10,$C$3,$C$2,$C$5,$C$6,0,0,$C$4),1,1)","v":240.99798310380862},{"$f":"INDEX(coordonnées_cadran_plat($D230,Q$10,$C$3,$C$2,$C$5,$C$6,0,0,$C$4),1,2)","v":134.54740869085779},{"$f":"INDEX(coordonnées_cadran_plat($D230,S$10,$C$3,$C$2,$C$5,$C$6,0,0,$C$4),1,1)","v":224.7206232257856},{"$f":"INDEX(coordonnées_cadran_plat($D230,S$10,$C$3,$C$2,$C$5,$C$6,0,0,$C$4),1,2)","v":299.89362094706166},{"$f":"INDEX(coordonnées_cadran_plat($D230,U$10,$C$3,$C$2,$C$5,$C$6,0,0,$C$4),1,1)","v":187.60947375051902},{"$f":"INDEX(coordonnées_cadran_plat($D230,U$10,$C$3,$C$2,$C$5,$C$6,0,0,$C$4),1,2)","v":500.19683772033102},{"$f":"INDEX(coordonnées_cadran_plat($D230,W$10,$C$3,$C$2,$C$5,$C$6,0,0,$C$4),1,1)","v":114.07718959849115},{"$f":"INDEX(coordonnées_cadran_plat($D230,W$10,$C$3,$C$2,$C$5,$C$6,0,0,$C$4),1,2)","v":776.35929527554981}]
[null,16,11,"2010-11-16",{"$f":"INDEX(heures_limites_cadran($D231,$C$3,$C$2,$C$5),1,1)/24","v":"09:00:00"},{"$f":"INDEX(heures_limites_cadran($D231,$C$3,$C$2,$C$5),1,2)/24","v":"17:30:00"},{"$f":"INDEX(coordonnées_cadran_plat($D231,$G$10,$C$3,$C$2,$C$5,$C$6,0,0,$C$4),1,1)","v":44.966904683134047},{"$f":"INDEX(coordonnées_cadran_plat($D231,$G$10,$C$3,$C$2,$C$5,$C$6,0,0,$C$4),1,2)","v":-819.87433594355878},{"$f":"INDEX(coordonnées_cadran_plat($D231,I$10,$C$3,$C$2,$C$5,$C$6,0,0,$C$4),1,1)","v":143.67875114354334},{"$f":"INDEX(coordonnées_cadran_plat($D231,I$10,$C$3,$C$2,$C$5,$C$6,0,0,$C$4),1,2)","v":-536.9173449954086},{"$f":"INDEX(coordonnées_cadran_plat($D231,K$10,$C$3,$C$2,$C$5,$C$6,0,0,$C$4),1,1)","v":197.4366315791377},{"$f":"INDEX(coordonnées_cadran_plat($D231,K$10,$C$3,$C$2,$C$5,$C$6,0,0,$C$4),1,2)","v":-334.17309782460097},{"$f":"INDEX(coordonnées_cadran_plat($D231,M$10,$C$3,$C$2,$C$5,$C$6,0,0,$C$4),1,1)","v":226.66285715899838},{"$f":"INDEX(coordonnées_cadran_plat($D231,M$10,$C$3,$C$2,$C$5,$C$6,0,0,$C$4),1,2)","v":-168.05229979239533},{"$f":"INDEX(coordonnées_cadran_plat($D231,O$10,$C$3,$C$2,$C$5,$C$6,0,0,$C$4),1,1)","v":239.35688743150138},{"$f":"INDEX(coordonnées_cadran_plat($D231,O$10,$C$3,$C$2,$C$5,$C$6,0,0,$C$4),1,2)","v":-16.967246823934776},{"$f":"INDEX(coordonnées_cadran_plat($D231,Q$10,$C$3,$C$2,$C$5,$C$6,0,0,$C$4),1,1)","v":238.08223897463},{"$f":"INDEX(coordonnées_cadran_plat($D231,Q$10,$C$3,$C$2,$C$5,$C$6,0,0,$C$4),1,2)","v":133.70215491980258},{"$f":"INDEX(coordonnées_cadran_plat($D231,S$10,$C$3,$C$2,$C$5,$C$6,0,0,$C$4),1,1)","v":221.67932842282426},{"$f":"INDEX(coordonnées_cadran_plat($D231,S$10,$C$3,$C$2,$C$5,$C$6,0,0,$C$4),1,2)","v":298.32817082264103},{"$f":"INDEX(coordonnées_cadran_plat($D231,U$10,$C$3,$C$2,$C$5,$C$6,0,0,$C$4),1,1)","v":184.33658217387182},{"$f":"INDEX(coordonnées_cadran_plat($D231,U$10,$C$3,$C$2,$C$5,$C$6,0,0,$C$4),1,2)","v":497.46166084692413},{"$f":"INDEX(coordonnées_cadran_plat($D231,W$10,$C$3,$C$2,$C$5,$C$6,0,0,$C$4),1,1)","v":110.50268018418775},{"$f":"INDEX(coordonnées_cadran_plat($D231,W$10,$C$3,$C$2,$C$5,$C$6,0,0,$C$4),1,2)","v":771.30080531765645}]
[null,17,11,"2010-11-17",{"$f":"INDEX(heures_limites_cadran($D232,$C$3,$C$2,$C$5),1,1)/24","v":"09:00:00"},{"$f":"INDEX(heures_limites_cadran($D232,$C$3,$C$2,$C$5),1,2)/24","v":"17:30:00"},{"$f":"INDEX(coordonnées_cadran_plat($D232,$G$10,$C$3,$C$2,$C$5,$C$6,0,0,$C$4),1,1)","v":40.992784714808046},{"$f":"INDEX(coordonnées_cadran_plat($D232,$G$10,$C$3,$C$2,$C$5,$C$6,0,0,$C$4),1,2)","v":-816.33134920953989},{"$f":"INDEX(coordonnées_cadran_plat($D232,I$10,$C$3,$C$2,$C$5,$C$6,0,0,$C$4),1,1)","v":140.21338349084192},{"$f":"INDEX(coordonnées_cadran_plat($D232,I$10,$C$3,$C$2,$C$5,$C$6,0,0,$C$4),1,2)","v":-535.20933390700054},{"$f":"INDEX(coordonnées_cadran_plat($D232,K$10,$C$3,$C$2,$C$5,$C$6,0,0,$C$4),1,1)","v":194.31965278453706},{"$f":"INDEX(coordonnées_cadran_plat($D232,K$10,$C$3,$C$2,$C$5,$C$6,0,0,$C$4),1,2)","v":-333.40170143800236},{"$f":"INDEX(coordonnées_cadran_plat($D232,M$10,$C$3,$C$2,$C$5,$C$6,0,0,$C$4),1,1)","v":223.7516096425997},{"$f":"INDEX(coordonnées_cadran_plat($D232,M$10,$C$3,$C$2,$C$5,$C$6,0,0,$C$4),1,2)","v":-167.88803956618239},{"$f":"INDEX(coordonnées_cadran_plat($D232,O$10,$C$3,$C$2,$C$5,$C$6,0,0,$C$4),1,1)","v":236.53428576690567},{"$f":"INDEX(coordonnées_cadran_plat($D232,O$10,$C$3,$C$2,$C$5,$C$6,0,0,$C$4),1,2)","v":-17.30427288444233},{"$f":"INDEX(coordonnées_cadran_plat($D232,Q$10,$C$3,$C$2,$C$5,$C$6,0,0,$C$4),1,1)","v":235.24496987183932},{"$f":"INDEX(coordonnées_cadran_plat($D232,Q$10,$C$3,$C$2,$C$5,$C$6,0,0,$C$4),1,2)","v":132.83440134545452},{"$f":"INDEX(coordonnées_cadran_plat($D232,S$10,$C$3,$C$2,$C$5,$C$6,0,0,$C$4),1,1)","v":218.72746531516808},{"$f":"INDEX(coordonnées_cadran_plat($D232,S$10,$C$3,$C$2,$C$5,$C$6,0,0,$C$4),1,2)","v":296.7539567704892},{"$f":"INDEX(coordonnées_cadran_plat($D232,U$10,$C$3,$C$2,$C$5,$C$6,0,0,$C$4),1,1)","v":181.17196128224754},{"$f":"INDEX(coordonnées_cadran_plat($D232,U$10,$C$3,$C$2,$C$5,$C$6,0,0,$C$4),1,2)","v":494.73929437300325},{"$f":"INDEX(coordonnées_cadran_plat($D232,W$10,$C$3,$C$2,$C$5,$C$6,0,0,$C$4),1,1)","v":107.06912953169845},{"$f":"INDEX(coordonnées_cadran_plat($D232,W$10,$C$3,$C$2,$C$5,$C$6,0,0,$C$4),1,2)","v":766.3035466747906}]
[null,18,11,"2010-11-18",{"$f":"INDEX(heures_limites_cadran($D233,$C$3,$C$2,$C$5),1,1)/24","v":"09:00:00"},{"$f":"INDEX(heures_limites_cadran($D233,$C$3,$C$2,$C$5),1,2)/24","v":"17:30:00"},{"$f":"INDEX(coordonnées_cadran_plat($D233,$G$10,$C$3,$C$2,$C$5,$C$6,0,0,$C$4),1,1)","v":37.092946271327648},{"$f":"INDEX(coordonnées_cadran_plat($D233,$G$10,$C$3,$C$2,$C$5,$C$6,0,0,$C$4),1,2)","v":-812.99136522199365},{"$f":"INDEX(coordonnées_cadran_plat($D233,I$10,$C$3,$C$2,$C$5,$C$6,0,0,$C$4),1,1)","v":136.82097424274428},{"$f":"INDEX(coordonnées_cadran_plat($D233,I$10,$C$3,$C$2,$C$5,$C$6,0,0,$C$4),1,2)","v":-533.61515654038578},{"$f":"INDEX(coordonnées_cadran_plat($D233,K$10,$C$3,$C$2,$C$5,$C$6,0,0,$C$4),1,1)","v":191.27332098772538},{"$f":"INDEX(coordonnées_cadran_plat($D233,K$10,$C$3,$C$2,$C$5,$C$6,0,0,$C$4),1,2)","v":-332.70308481603411},{"$f":"INDEX(coordonnées_cadran_plat($D233,M$10,$C$3,$C$2,$C$5,$C$6,0,0,$C$4),1,1)","v":220.91070912015076},{"$f":"INDEX(coordonnées_cadran_plat($D233,M$10,$C$3,$C$2,$C$5,$C$6,0,0,$C$4),1,2)","v":-167.77360207514837},{"$f":"INDEX(coordonnées_cadran_plat($D233,O$10,$C$3,$C$2,$C$5,$C$6,0,0,$C$4),1,1)","v":233.78449722732779},{"$f":"INDEX(coordonnées_cadran_plat($D233,O$10,$C$3,$C$2,$C$5,$C$6,0,0,$C$4),1,2)","v":-17.675852037677654},{"$f":"INDEX(coordonnées_cadran_plat($D233,Q$10,$C$3,$C$2,$C$5,$C$6,0,0,$C$4),1,1)","v":232.48647582465853},{"$f":"INDEX(coordonnées_cadran_plat($D233,Q$10,$C$3,$C$2,$C$5,$C$6,0,0,$C$4),1,2)","v":131.94467803029596},{"$f":"INDEX(coordonnées_cadran_plat($D233,S$10,$C$3,$C$2,$C$5,$C$6,0,0,$C$4),1,1)","v":215.86521938978856},{"$f":"INDEX(coordonnées_cadran_plat($D233,S$10,$C$3,$C$2,$C$5,$C$6,0,0,$C$4),1,2)","v":295.17168673956394},{"$f":"INDEX(coordonnées_cadran_plat($D233,U$10,$C$3,$C$2,$C$5,$C$6,0,0,$C$4),1,1)","v":178.11547147299473},{"$f":"INDEX(coordonnées_cadran_plat($D233,U$10,$C$3,$C$2,$C$5,$C$6,0,0,$C$4),1,2)","v":492.03066938810349},{"$f":"INDEX(coordonnées_cadran_plat($D233,W$10,$C$3,$C$2,$C$5,$C$6,0,0,$C$4),1,1)","v":103.77552085309621},{"$f":"INDEX(coordonnées_cadran_plat($D233,W$10,$C$3,$C$2,$C$5,$C$6,0,0,$C$4),1,2)","v":761.36849588358552}]
[null,19,11,"2010-11-19",{"$f":"INDEX(heures_limites_cadran($D234,$C$3,$C$2,$C$5),1,1)/24","v":"09:00:00"},{"$f":"INDEX(heures_limites_cadran($D234,$C$3,$C$2,$C$5),1,2)/24","v":"17:30:00"},{"$f":"INDEX(coordonnées_cadran_plat($D234,$G$10,$C$3,$C$2,$C$5,$C$6,0,0,$C$4),1,1)","v":33.266561692505512},{"$f":"INDEX(coordonnées_cadran_plat($D234,$G$10,$C$3,$C$2,$C$5,$C$6,0,0,$C$4),1,2)","v":-809.85195292324045},{"$f":"INDEX(coordonnées_cadran_plat($D234,I$10,$C$3,$C$2,$C$5,$C$6,0,0,$C$4),1,1)","v":133.50134368715484},{"$f":"INDEX(coordonnées_cadran_plat($D234,I$10,$C$3,$C$2,$C$5,$C$6,0,0,$C$4),1,2)","v":-532.13393126909739},{"$f":"INDEX(coordonnées_cadran_plat($D234,K$10,$C$3,$C$2,$C$5,$C$6,0,0,$C$4),1,1)","v":188.29776226484142},{"$f":"INDEX(coordonnées_cadran_plat($D234,K$10,$C$3,$C$2,$C$5,$C$6,0,0,$C$4),1,2)","v":-332.07676895400874},{"$f":"INDEX(coordonnées_cadran_plat($D234,M$10,$C$3,$C$2,$C$5,$C$6,0,0,$C$4),1,1)","v":218.14042419301057},{"$f":"INDEX(coordonnées_cadran_plat($D234,M$10,$C$3,$C$2,$C$5,$C$6,0,0,$C$4),1,2)","v":-167.70859056056315},{"$f":"INDEX(coordonnées_cadran_plat($D234,O$10,$C$3,$C$2,$C$5,$C$6,0,0,$C$4),1,1)","v":231.10784251129962},{"$f":"INDEX(coordonnées_cadran_plat($D234,O$10,$C$3,$C$2,$C$5,$C$6,0,0,$C$4),1,2)","v":-18.08154522161707},{"$f":"INDEX(coordonnées_cadran_plat($D234,Q$10,$C$3,$C$2,$C$5,$C$6,0,0,$C$4),1,1)","v":229.80705639594001},{"$f":"INDEX(coordonnées_cadran_plat($D234,Q$10,$C$3,$C$2,$C$5,$C$6,0,0,$C$4),1,2)","v":131.03353968189396},{"$f":"INDEX(coordonnées_cadran_plat($D234,S$10,$C$3,$C$2,$C$5,$C$6,0,0,$C$4),1,1)","v":213.09276761451082},{"$f":"INDEX(coordonnées_cadran_plat($D234,S$10,$C$3,$C$2,$C$5,$C$6,0,0,$C$4),1,2)","v":293.58209455738864},{"$f":"INDEX(coordonnées_cadran_plat($D234,U$10,$C$3,$C$2,$C$5,$C$6,0,0,$C$4),1,1)","v":175.16695756265287},{"$f":"INDEX(coordonnées_cadran_plat($D234,U$10,$C$3,$C$2,$C$5,$C$6,0,0,$C$4),1,2)","v":489.33674284872768},{"$f":"INDEX(coordonnées_cadran_plat($D234,W$10,$C$3,$C$2,$C$5,$C$6,0,0,$C$4),1,1)","v":100.62082355850406},{"$f":"INDEX(coordonnées_cadran_plat($D234,W$10,$C$3,$C$2,$C$5,$C$6,0,0,$C$4),1,2)","v":756.49665619263078}]
[null,20,11,"2010-11-20",{"$f":"INDEX(heures_limites_cadran($D235,$C$3,$C$2,$C$5),1,1)/24","v":"09:00:00"},{"$f":"INDEX(heures_limites_cadran($D235,$C$3,$C$2,$C$5),1,2)/24","v":"17:30:00"},{"$f":"INDEX(coordonnées_cadran_plat($D235,$G$10,$C$3,$C$2,$C$5,$C$6,0,0,$C$4),1,1)","v":29.51289665196035},{"$f":"INDEX(coordonnées_cadran_plat($D235,$G$10,$C$3,$C$2,$C$5,$C$6,0,0,$C$4),1,2)","v":-806.91079750951428},{"$f":"INDEX(coordonnées_cadran_plat($D235,I$10,$C$3,$C$2,$C$5,$C$6,0,0,$C$4),1,1)","v":130.25436516246526},{"$f":"INDEX(coordonnées_cadran_plat($D235,I$10,$C$3,$C$2,$C$5,$C$6,0,0,$C$4),1,2)","v":-530.76479494896046},{"$f":"INDEX(coordonnées_cadran_plat($D235,K$10,$C$3,$C$2,$C$5,$C$6,0,0,$C$4),1,1)","v":185.39313366185033},{"$f":"INDEX(coordonnées_cadran_plat($D235,K$10,$C$3,$C$2,$C$5,$C$6,0,0,$C$4),1,2)","v":-331.52226625065583},{"$f":"INDEX(coordonnées_cadran_plat($D235,M$10,$C$3,$C$2,$C$5,$C$6,0,0,$C$4),1,1)","v":215.44104064612378},{"$f":"INDEX(coordonnées_cadran_plat($D235,M$10,$C$3,$C$2,$C$5,$C$6,0,0,$C$4),1,2)","v":-167.69259012330861},{"$f":"INDEX(coordonnées_cadran_plat($D235,O$10,$C$3,$C$2,$C$5,$C$6,0,0,$C$4),1,1)","v":228.50464947234323},{"$f":"INDEX(coordonnées_cadran_plat($D235,O$10,$C$3,$C$2,$C$5,$C$6,0,0,$C$4),1,2)","v":-18.520891163272093},{"$f":"INDEX(coordonnées_cadran_plat($D235,Q$10,$C$3,$C$2,$C$5,$C$6,0,0,$C$4),1,1)","v":227.20700981443275},{"$f":"INDEX(coordonnées_cadran_plat($D235,Q$10,$C$3,$C$2,$C$5,$C$6,0,0,$C$4),1,2)","v":130.10156523375863},{"$f":"INDEX(coordonnées_cadran_plat($D235,S$10,$C$3,$C$2,$C$5,$C$6,0,0,$C$4),1,1)","v":210.41027763314099},{"$f":"INDEX(coordonnées_cadran_plat($D235,S$10,$C$3,$C$2,$C$5,$C$6,0,0,$C$4),1,2)","v":291.9859390895632},{"$f":"INDEX(coordonnées_cadran_plat($D235,U$10,$C$3,$C$2,$C$5,$C$6,0,0,$C$4),1,1)","v":172.32624821562965},{"$f":"INDEX(coordonnées_cadran_plat($D235,U$10,$C$3,$C$2,$C$5,$C$6,0,0,$C$4),1,2)","v":486.65849612519116},{"$f":"INDEX(coordonnées_cadran_plat($D235,W$10,$C$3,$C$2,$C$5,$C$6,0,0,$C$4),1,1)","v":97.603993176358756},{"$f":"INDEX(coordonnées_cadran_plat($D235,W$10,$C$3,$C$2,$C$5,$C$6,0,0,$C$4),1,2)","v":751.68905514454912}]
[null,21,11,"2010-11-21",{"$f":"INDEX(heures_limites_cadran($D236,$C$3,$C$2,$C$5),1,1)/24","v":"09:00:00"},{"$f":"INDEX(heures_limites_cadran($D236,$C$3,$C$2,$C$5),1,2)/24","v":"17:30:00"},{"$f":"INDEX(coordonnées_cadran_plat($D236,$G$10,$C$3,$C$2,$C$5,$C$6,0,0,$C$4),1,1)","v":25.831307842761507},{"$f":"INDEX(coordonnées_cadran_plat($D236,$G$10,$C$3,$C$2,$C$5,$C$6,0,0,$C$4),1,2)","v":-804.16569541622744},{"$f":"INDEX(coordonnées_cadran_plat($D236,I$10,$C$3,$C$2,$C$5,$C$6,0,0,$C$4),1,1)","v":127.07996390671191},{"$f":"INDEX(coordonnées_cadran_plat($D236,I$10,$C$3,$C$2,$C$5,$C$6,0,0,$C$4),1,2)","v":-529.50690150714263},{"$f":"INDEX(coordonnées_cadran_plat($D236,K$10,$C$3,$C$2,$C$5,$C$6,0,0,$C$4),1,1)","v":182.55962230820887},{"$f":"INDEX(coordonnées_cadran_plat($D236,K$10,$C$3,$C$2,$C$5,$C$6,0,0,$C$4),1,2)","v":-331.03907996255248},{"$f":"INDEX(coordonnées_cadran_plat($D236,M$10,$C$3,$C$2,$C$5,$C$6,0,0,$C$4),1,1)","v":212.81286059674937},{"$f":"INDEX(coordonnées_cadran_plat($D236,M$10,$C$3,$C$2,$C$5,$C$6,0,0,$C$4),1,2)","v":-167.72516755982628},{"$f":"INDEX(coordonnées_cadran_plat($D236,O$10,$C$3,$C$2,$C$5,$C$6,0,0,$C$4),1,1)","v":225.9752522538823},{"$f":"INDEX(coordonnées_cadran_plat($D236,O$10,$C$3,$C$2,$C$5,$C$6,0,0,$C$4),1,2)","v":-18.993406507774292},{"$f":"INDEX(coordonnées_cadran_plat($D236,Q$10,$C$3,$C$2,$C$5,$C$6,0,0,$C$4),1,1)","v":224.68663211532265},{"$f":"INDEX(coordonnées_cadran_plat($D236,Q$10,$C$3,$C$2,$C$5,$C$6,0,0,$C$4),1,2)","v":129.14935739506583},{"$f":"INDEX(coordonnées_cadran_plat($D236,S$10,$C$3,$C$2,$C$5,$C$6,0,0,$C$4),1,1)","v":207.81790699202466},{"$f":"INDEX(coordonnées_cadran_plat($D236,S$10,$C$3,$C$2,$C$5,$C$6,0,0,$C$4),1,2)","v":290.38400336994448},{"$f":"INDEX(coordonnées_cadran_plat($D236,U$10,$C$3,$C$2,$C$5,$C$6,0,0,$C$4),1,1)","v":169.59315543593516},{"$f":"INDEX(coordonnées_cadran_plat($D236,U$10,$C$3,$C$2,$C$5,$C$6,0,0,$C$4),1,2)","v":483.9969335391844},{"$f":"INDEX(coordonnées_cadran_plat($D236,W$10,$C$3,$C$2,$C$5,$C$6,0,0,$C$4),1,1)","v":94.723971375149844},{"$f":"INDEX(coordonnées_cadran_plat($D236,W$10,$C$3,$C$2,$C$5,$C$6,0,0,$C$4),1,2)","v":746.94674222010485}]
[null,22,11,{"$f":"DATE($C$7,C237,B237)","v":"2010-11-22"},{"$f":"INDEX(heures_limites_cadran($D237,$C$3,$C$2,$C$5),1,1)/24","v":"09:00:00"},{"$f":"INDEX(heures_limites_cadran($D237,$C$3,$C$2,$C$5),1,2)/24","v":"17:30:00"},{"$f":"INDEX(coordonnées_cadran_plat($D237,$G$10,$C$3,$C$2,$C$5,$C$6,0,0,$C$4),1,1)","v":22.221240776786711},{"$f":"INDEX(coordonnées_cadran_plat($D237,$G$10,$C$3,$C$2,$C$5,$C$6,0,0,$C$4),1,2)","v":-801.61454950238817},{"$f":"INDEX(coordonnées_cadran_plat($D237,I$10,$C$3,$C$2,$C$5,$C$6,0,0,$C$4),1,1)","v":123.97811591401907},{"$f":"INDEX(coordonnées_cadran_plat($D237,I$10,$C$3,$C$2,$C$5,$C$6,0,0,$C$4),1,2)","v":-528.35942055446947},{"$f":"INDEX(coordonnées_cadran_plat($D237,K$10,$C$3,$C$2,$C$5,$C$6,0,0,$C$4),1,1)","v":179.79744451423343},{"$f":"INDEX(coordonnées_cadran_plat($D237,K$10,$C$3,$C$2,$C$5,$C$6,0,0,$C$4),1,2)","v":-330.62670367068995},{"$f":"INDEX(coordonnées_cadran_plat($D237,M$10,$C$3,$C$2,$C$5,$C$6,0,0,$C$4),1,1)","v":210.25620162737724},{"$f":"INDEX(coordonnées_cadran_plat($D237,M$10,$C$3,$C$2,$C$5,$C$6,0,0,$C$4),1,2)","v":-167.80587121714109},{"$f":"INDEX(coordonnées_cadran_plat($D237,O$10,$C$3,$C$2,$C$5,$C$6,0,0,$C$4),1,1)","v":223.51999041809003},{"$f":"INDEX(coordonnées_cadran_plat($D237,O$10,$C$3,$C$2,$C$5,$C$6,0,0,$C$4),1,2)","v":-19.498585974624714},{"$f":"INDEX(coordonnées_cadran_plat($D237,Q$10,$C$3,$C$2,$C$5,$C$6,0,0,$C$4),1,1)","v":222.24621629113676},{"$f":"INDEX(coordonnées_cadran_plat($D237,Q$10,$C$3,$C$2,$C$5,$C$6,0,0,$C$4),1,2)","v":128.17754216874508},{"$f":"INDEX(coordonnées_cadran_plat($D237,S$10,$C$3,$C$2,$C$5,$C$6,0,0,$C$4),1,1)","v":205.31580240014119},{"$f":"INDEX(coordonnées_cadran_plat($D237,S$10,$C$3,$C$2,$C$5,$C$6,0,0,$C$4),1,2)","v":288.77709370270776},{"$f":"INDEX(coordonnées_cadran_plat($D237,U$10,$C$3,$C$2,$C$5,$C$6,0,0,$C$4),1,1)","v":166.9674741231363},{"$f":"INDEX(coordonnées_cadran_plat($D237,U$10,$C$3,$C$2,$C$5,$C$6,0,0,$C$4),1,2)","v":481.35308089300042},{"$f":"INDEX(coordonnées_cadran_plat($D237,W$10,$C$3,$C$2,$C$5,$C$6,0,0,$C$4),1,1)","v":91.979686084225349},{"$f":"INDEX(coordonnées_cadran_plat($D237,W$10,$C$3,$C$2,$C$5,$C$6,0,0,$C$4),1,2)","v":742.27078654572006}]
[null,23,11,"2010-11-23",{"$f":"INDEX(heures_limites_cadran($D238,$C$3,$C$2,$C$5),1,1)/24","v":"09:00:00"},{"$f":"INDEX(heures_limites_cadran($D238,$C$3,$C$2,$C$5),1,2)/24","v":"17:30:00"},{"$f":"INDEX(coordonnées_cadran_plat($D238,$G$10,$C$3,$C$2,$C$5,$C$6,0,0,$C$4),1,1)","v":18.682227690767274},{"$f":"INDEX(coordonnées_cadran_plat($D238,$G$10,$C$3,$C$2,$C$5,$C$6,0,0,$C$4),1,2)","v":-799.25536442229679},{"$f":"INDEX(coordonnées_cadran_plat($D238,I$10,$C$3,$C$2,$C$5,$C$6,0,0,$C$4),1,1)","v":120.94884679748026},{"$f":"INDEX(coordonnées_cadran_plat($D238,I$10,$C$3,$C$2,$C$5,$C$6,0,0,$C$4),1,2)","v":-527.32153602018263},{"$f":"INDEX(coordonnées_cadran_plat($D238,K$10,$C$3,$C$2,$C$5,$C$6,0,0,$C$4),1,1)","v":177.10684485269562},{"$f":"INDEX(coordonnées_cadran_plat($D238,K$10,$C$3,$C$2,$C$5,$C$6,0,0,$C$4),1,2)","v":-330.28462075964404},{"$f":"INDEX(coordonnées_cadran_plat($D238,M$10,$C$3,$C$2,$C$5,$C$6,0,0,$C$4),1,1)","v":207.77139590387523},{"$f":"INDEX(coordonnées_cadran_plat($D238,M$10,$C$3,$C$2,$C$5,$C$6,0,0,$C$4),1,2)","v":-167.93423086824097},{"$f":"INDEX(coordonnées_cadran_plat($D238,O$10,$C$3,$C$2,$C$5,$C$6,0,0,$C$4),1,1)","v":221.13920807053552},{"$f":"INDEX(coordonnées_cadran_plat($D238,O$10,$C$3,$C$2,$C$5,$C$6,0,0,$C$4),1,2)","v":-20.035902541463397},{"$f":"INDEX(coordonnées_cadran_plat($D238,Q$10,$C$3,$C$2,$C$5,$C$6,0,0,$C$4),1,1)","v":219.88605145504948},{"$f":"INDEX(coordonnées_cadran_plat($D238,Q$10,$C$3,$C$2,$C$5,$C$6,0,0,$C$4),1,2)","v":127.18676833886808},{"$f":"INDEX(coordonnées_cadran_plat($D238,S$10,$C$3,$C$2,$C$5,$C$6,0,0,$C$4),1,1)","v":202.90409902454701},{"$f":"INDEX(coordonnées_cadran_plat($D238,S$10,$C$3,$C$2,$C$5,$C$6,0,0,$C$4),1,2)","v":287.16603873727195},{"$f":"INDEX(coordonnées_cadran_plat($D238,U$10,$C$3,$C$2,$C$5,$C$6,0,0,$C$4),1,1)","v":164.44898169285722},{"$f":"INDEX(coordonnées_cadran_plat($D238,U$10,$C$3,$C$2,$C$5,$C$6,0,0,$C$4),1,2)","v":478.72798399557337},{"$f":"INDEX(coordonnées_cadran_plat($D238,W$10,$C$3,$C$2,$C$5,$C$6,0,0,$C$4),1,1)","v":89.370051710124727},{"$f":"INDEX(coordonnées_cadran_plat($D238,W$10,$C$3,$C$2,$C$5,$C$6,0,0,$C$4),1,2)","v":737.66227466944611}]
[null,24,11,"2010-11-24",{"$f":"INDEX(heures_limites_cadran($D239,$C$3,$C$2,$C$5),1,1)/24","v":"09:00:00"},{"$f":"INDEX(heures_limites_cadran($D239,$C$3,$C$2,$C$5),1,2)/24","v":"17:30:00"},{"$f":"INDEX(coordonnées_cadran_plat($D239,$G$10,$C$3,$C$2,$C$5,$C$6,0,0,$C$4),1,1)","v":15.213885551275697},{"$f":"INDEX(coordonnées_cadran_plat($D239,$G$10,$C$3,$C$2,$C$5,$C$6,0,0,$C$4),1,2)","v":-797.08624217607553},{"$f":"INDEX(coordonnées_cadran_plat($D239,I$10,$C$3,$C$2,$C$5,$C$6,0,0,$C$4),1,1)","v":117.99223065642359},{"$f":"INDEX(coordonnées_cadran_plat($D239,I$10,$C$3,$C$2,$C$5,$C$6,0,0,$C$4),1,2)","v":-526.39244481102367},{"$f":"INDEX(coordonnées_cadran_plat($D239,K$10,$C$3,$C$2,$C$5,$C$6,0,0,$C$4),1,1)","v":174.48809522475537},{"$f":"INDEX(coordonnées_cadran_plat($D239,K$10,$C$3,$C$2,$C$5,$C$6,0,0,$C$4),1,2)","v":-330.01230391157344},{"$f":"INDEX(coordonnées_cadran_plat($D239,M$10,$C$3,$C$2,$C$5,$C$6,0,0,$C$4),1,1)","v":205.35878927998033},{"$f":"INDEX(coordonnées_cadran_plat($D239,M$10,$C$3,$C$2,$C$5,$C$6,0,0,$C$4),1,2)","v":-168.10975760941037},{"$f":"INDEX(coordonnées_cadran_plat($D239,O$10,$C$3,$C$2,$C$5,$C$6,0,0,$C$4),1,1)","v":218.83325298224062},{"$f":"INDEX(coordonnées_cadran_plat($D239,O$10,$C$3,$C$2,$C$5,$C$6,0,0,$C$4),1,2)","v":-20.604807656340629},{"$f":"INDEX(coordonnées_cadran_plat($D239,Q$10,$C$3,$C$2,$C$5,$C$6,0,0,$C$4),1,1)","v":217.60642201865116},{"$f":"INDEX(coordonnées_cadran_plat($D239,Q$10,$C$3,$C$2,$C$5,$C$6,0,0,$C$4),1,2)","v":126.17770692675542},{"$f":"INDEX(coordonnées_cadran_plat($D239,S$10,$C$3,$C$2,$C$5,$C$6,0,0,$C$4),1,1)","v":200.58291982297303},{"$f":"INDEX(coordonnées_cadran_plat($D239,S$10,$C$3,$C$2,$C$5,$C$6,0,0,$C$4),1,2)","v":285.55168851825704},{"$f":"INDEX(coordonnées_cadran_plat($D239,U$10,$C$3,$C$2,$C$5,$C$6,0,0,$C$4),1,1)","v":162.037437762525},{"$f":"INDEX(coordonnées_cadran_plat($D239,U$10,$C$3,$C$2,$C$5,$C$6,0,0,$C$4),1,2)","v":476.12270718621915},{"$f":"INDEX(coordonnées_cadran_plat($D239,W$10,$C$3,$C$2,$C$5,$C$6,0,0,$C$4),1,1)","v":86.893969445895252},{"$f":"INDEX(coordonnées_cadran_plat($D239,W$10,$C$3,$C$2,$C$5,$C$6,0,0,$C$4),1,2)","v":733.12230840588211}]
[null,25,11,"2010-11-25",{"$f":"INDEX(heures_limites_cadran($D240,$C$3,$C$2,$C$5),1,1)/24","v":"09:00:00"},{"$f":"INDEX(heures_limites_cadran($D240,$C$3,$C$2,$C$5),1,2)/24","v":"17:30:00"},{"$f":"INDEX(coordonnées_cadran_plat($D240,$G$10,$C$3,$C$2,$C$5,$C$6,0,0,$C$4),1,1)","v":11.815914152049347},{"$f":"INDEX(coordonnées_cadran_plat($D240,$G$10,$C$3,$C$2,$C$5,$C$6,0,0,$C$4),1,2)","v":-795.10537782953793},{"$f":"INDEX(coordonnées_cadran_plat($D240,I$10,$C$3,$C$2,$C$5,$C$6,0,0,$C$4),1,1)","v":115.10838894701524},{"$f":"INDEX(coordonnées_cadran_plat($D240,I$10,$C$3,$C$2,$C$5,$C$6,0,0,$C$4),1,2)","v":-525.57135549446696},{"$f":"INDEX(coordonnées_cadran_plat($D240,K$10,$C$3,$C$2,$C$5,$C$6,0,0,$C$4),1,1)","v":171.94149391054813},{"$f":"INDEX(coordonnées_cadran_plat($D240,K$10,$C$3,$C$2,$C$5,$C$6,0,0,$C$4),1,2)","v":-329.80921461641373},{"$f":"INDEX(coordonnées_cadran_plat($D240,M$10,$C$3,$C$2,$C$5,$C$6,0,0,$C$4),1,1)","v":203.01874038954469},{"$f":"INDEX(coordonnées_cadran_plat($D240,M$10,$C$3,$C$2,$C$5,$C$6,0,0,$C$4),1,2)","v":-168.33194378023205},{"$f":"INDEX(coordonnées_cadran_plat($D240,O$10,$C$3,$C$2,$C$5,$C$6,0,0,$C$4),1,1)","v":216.60247571108297},{"$f":"INDEX(coordonnées_cadran_plat($D240,O$10,$C$3,$C$2,$C$5,$C$6,0,0,$C$4),1,2)","v":-21.204731478638436},{"$f":"INDEX(coordonnées_cadran_plat($D240,Q$10,$C$3,$C$2,$C$5,$C$6,0,0,$C$4),1,1)","v":215.40760688615745},{"$f":"INDEX(coordonnées_cadran_plat($D240,Q$10,$C$3,$C$2,$C$5,$C$6,0,0,$C$4),1,2)","v":125.15105061691484},{"$f":"INDEX(coordonnées_cadran_plat($D240,S$10,$C$3,$C$2,$C$5,$C$6,0,0,$C$4),1,1)","v":198.35237491530455},{"$f":"INDEX(coordonnées_cadran_plat($D240,S$10,$C$3,$C$2,$C$5,$C$6,0,0,$C$4),1,2)","v":283.93491351110924},{"$f":"INDEX(coordonnées_cadran_plat($D240,U$10,$C$3,$C$2,$C$5,$C$6,0,0,$C$4),1,1)","v":159.73258390261472},{"$f":"INDEX(coordonnées_cadran_plat($D240,U$10,$C$3,$C$2,$C$5,$C$6,0,0,$C$4),1,2)","v":473.53833185945928},{"$f":"INDEX(coordonnées_cadran_plat($D240,W$10,$C$3,$C$2,$C$5,$C$6,0,0,$C$4),1,1)","v":84.550327669754324},{"$f":"INDEX(coordonnées_cadran_plat($D240,W$10,$C$3,$C$2,$C$5,$C$6,0,0,$C$4),1,2)","v":728.65200275413611}]
[null,26,11,"2010-11-26",{"$f":"INDEX(heures_limites_cadran($D241,$C$3,$C$2,$C$5),1,1)/24","v":"09:00:00"},{"$f":"INDEX(heures_limites_cadran($D241,$C$3,$C$2,$C$5),1,2)/24","v":"17:30:00"},{"$f":"INDEX(coordonnées_cadran_plat($D241,$G$10,$C$3,$C$2,$C$5,$C$6,0,0,$C$4),1,1)","v":8.4880942973061284},{"$f":"INDEX(coordonnées_cadran_plat($D241,$G$10,$C$3,$C$2,$C$5,$C$6,0,0,$C$4),1,2)","v":-793.31105539470752},{"$f":"INDEX(coordonnées_cadran_plat($D241,I$10,$C$3,$C$2,$C$5,$C$6,0,0,$C$4),1,1)","v":112.29748935460805},{"$f":"INDEX(coordonnées_cadran_plat($D241,I$10,$C$3,$C$2,$C$5,$C$6,0,0,$C$4),1,2)","v":-524.85748700730426},{"$f":"INDEX(coordonnées_cadran_plat($D241,K$10,$C$3,$C$2,$C$5,$C$6,0,0,$C$4),1,1)","v":169.46736460486753},{"$f":"INDEX(coordonnées_cadran_plat($D241,K$10,$C$3,$C$2,$C$5,$C$6,0,0,$C$4),1,2)","v":-329.6748026997339},{"$f":"INDEX(coordonnées_cadran_plat($D241,M$10,$C$3,$C$2,$C$5,$C$6,0,0,$C$4),1,1)","v":200.7516197275348},{"$f":"INDEX(coordonnées_cadran_plat($D241,M$10,$C$3,$C$2,$C$5,$C$6,0,0,$C$4),1,2)","v":-168.60026290806263},{"$f":"INDEX(coordonnées_cadran_plat($D241,O$10,$C$3,$C$2,$C$5,$C$6,0,0,$C$4),1,1)","v":214.44722872416534},{"$f":"INDEX(coordonnées_cadran_plat($D241,O$10,$C$3,$C$2,$C$5,$C$6,0,0,$C$4),1,2)","v":-21.835083149693663},{"$f":"INDEX(coordonnées_cadran_plat($D241,Q$10,$C$3,$C$2,$C$5,$C$6,0,0,$C$4),1,1)","v":213.28987866705575},{"$f":"INDEX(coordonnées_cadran_plat($D241,Q$10,$C$3,$C$2,$C$5,$C$6,0,0,$C$4),1,2)","v":124.10751315250799},{"$f":"INDEX(coordonnées_cadran_plat($D241,S$10,$C$3,$C$2,$C$5,$C$6,0,0,$C$4),1,1)","v":196.21256099551593},{"$f":"INDEX(coordonnées_cadran_plat($D241,S$10,$C$3,$C$2,$C$5,$C$6,0,0,$C$4),1,2)","v":282.31660360576461},{"$f":"INDEX(coordonnées_cadran_plat($D241,U$10,$C$3,$C$2,$C$5,$C$6,0,0,$C$4),1,1)","v":157.53414345347605},{"$f":"INDEX(coordonnées_cadran_plat($D241,U$10,$C$3,$C$2,$C$5,$C$6,0,0,$C$4),1,2)","v":470.97595499411898},{"$f":"INDEX(coordonnées_cadran_plat($D241,W$10,$C$3,$C$2,$C$5,$C$6,0,0,$C$4),1,1)","v":82.338002429868212},{"$f":"INDEX(coordonnées_cadran_plat($D241,W$10,$C$3,$C$2,$C$5,$C$6,0,0,$C$4),1,2)","v":724.25248389075421}]
[null,27,11,"2010-11-27",{"$f":"INDEX(heures_limites_cadran($D242,$C$3,$C$2,$C$5),1,1)/24","v":"09:00:00"},{"$f":"INDEX(heures_limites_cadran($D242,$C$3,$C$2,$C$5),1,2)/24","v":"17:30:00"},{"$f":"INDEX(coordonnées_cadran_plat($D242,$G$10,$C$3,$C$2,$C$5,$C$6,0,0,$C$4),1,1)","v":5.2302860645333604},{"$f":"INDEX(coordonnées_cadran_plat($D242,$G$10,$C$3,$C$2,$C$5,$C$6,0,0,$C$4),1,2)","v":-791.70164386367549},{"$f":"INDEX(coordonnées_cadran_plat($D242,I$10,$C$3,$C$2,$C$5,$C$6,0,0,$C$4),1,1)","v":109.55974466652417},{"$f":"INDEX(coordonnées_cadran_plat($D242,I$10,$C$3,$C$2,$C$5,$C$6,0,0,$C$4),1,2)","v":-524.25006739038281},{"$f":"INDEX(coordonnées_cadran_plat($D242,K$10,$C$3,$C$2,$C$5,$C$6,0,0,$C$4),1,1)","v":167.06605543814274},{"$f":"INDEX(coordonnées_cadran_plat($D242,K$10,$C$3,$C$2,$C$5,$C$6,0,0,$C$4),1,2)","v":-329.60850587009685},{"$f":"INDEX(coordonnées_cadran_plat($D242,M$10,$C$3,$C$2,$C$5,$C$6,0,0,$C$4),1,1)","v":198.55780872127715},{"$f":"INDEX(coordonnées_cadran_plat($D242,M$10,$C$3,$C$2,$C$5,$C$6,0,0,$C$4),1,2)","v":-168.91416967768939},{"$f":"INDEX(coordonnées_cadran_plat($D242,O$10,$C$3,$C$2,$C$5,$C$6,0,0,$C$4),1,1)","v":212.36786552308894},{"$f":"INDEX(coordonnées_cadran_plat($D242,O$10,$C$3,$C$2,$C$5,$C$6,0,0,$C$4),1,2)","v":-22.495251093153755},{"$f":"INDEX(coordonnées_cadran_plat($D242,Q$10,$C$3,$C$2,$C$5,$C$6,0,0,$C$4),1,1)","v":211.25350290910652},{"$f":"INDEX(coordonnées_cadran_plat($D242,Q$10,$C$3,$C$2,$C$5,$C$6,0,0,$C$4),1,2)","v":123.04782870152009},{"$f":"INDEX(coordonnées_cadran_plat($D242,S$10,$C$3,$C$2,$C$5,$C$6,0,0,$C$4),1,1)","v":194.16356078551374},{"$f":"INDEX(coordonnées_cadran_plat($D242,S$10,$C$3,$C$2,$C$5,$C$6,0,0,$C$4),1,2)","v":280.69766709972993},{"$f":"INDEX(coordonnées_cadran_plat($D242,U$10,$C$3,$C$2,$C$5,$C$6,0,0,$C$4),1,1)","v":155.44182140772534},{"$f":"INDEX(coordonnées_cadran_plat($D242,U$10,$C$3,$C$2,$C$5,$C$6,0,0,$C$4),1,2)","v":468.43668768912045},{"$f":"INDEX(coordonnées_cadran_plat($D242,W$10,$C$3,$C$2,$C$5,$C$6,0,0,$C$4),1,1)","v":80.255858011829631},{"$f":"INDEX(coordonnées_cadran_plat($D242,W$10,$C$3,$C$2,$C$5,$C$6,0,0,$C$4),1,2)","v":719.92488723970666}]
[null,28,11,"2010-11-28",{"$f":"INDEX(heures_limites_cadran($D243,$C$3,$C$2,$C$5),1,1)/24","v":"09:00:00"},{"$f":"INDEX(heures_limites_cadran($D243,$C$3,$C$2,$C$5),1,2)/24","v":"17:30:00"},{"$f":"INDEX(coordonnées_cadran_plat($D243,$G$10,$C$3,$C$2,$C$5,$C$6,0,0,$C$4),1,1)","v":2.0424271413299109},{"$f":"INDEX(coordonnées_cadran_plat($D243,$G$10,$C$3,$C$2,$C$5,$C$6,0,0,$C$4),1,2)","v":-790.27559338758249},{"$f":"INDEX(coordonnées_cadran_plat($D243,I$10,$C$3,$C$2,$C$5,$C$6,0,0,$C$4),1,1)","v":106.89541164403656},{"$f":"INDEX(coordonnées_cadran_plat($D243,I$10,$C$3,$C$2,$C$5,$C$6,0,0,$C$4),1,2)","v":-523.74833255020849},{"$f":"INDEX(coordonnées_cadran_plat($D243,K$10,$C$3,$C$2,$C$5,$C$6,0,0,$C$4),1,1)","v":164.7379379833836},{"$f":"INDEX(coordonnées_cadran_plat($D243,K$10,$C$3,$C$2,$C$5,$C$6,0,0,$C$4),1,2)","v":-329.60974928707151},{"$f":"INDEX(coordonnées_cadran_plat($D243,M$10,$C$3,$C$2,$C$5,$C$6,0,0,$C$4),1,1)","v":196.43769879325225},{"$f":"INDEX(coordonnées_cadran_plat($D243,M$10,$C$3,$C$2,$C$5,$C$6,0,0,$C$4),1,2)","v":-169.27309992734462},{"$f":"INDEX(coordonnées_cadran_plat($D243,O$10,$C$3,$C$2,$C$5,$C$6,0,0,$C$4),1,1)","v":210.36473977390486},{"$f":"INDEX(coordonnées_cadran_plat($D243,O$10,$C$3,$C$2,$C$5,$C$6,0,0,$C$4),1,2)","v":-23.184603345468165},{"$f":"INDEX(coordonnées_cadran_plat($D243,Q$10,$C$3,$C$2,$C$5,$C$6,0,0,$C$4),1,1)","v":209.29873735358944},{"$f":"INDEX(coordonnées_cadran_plat($D243,Q$10,$C$3,$C$2,$C$5,$C$6,0,0,$C$4),1,2)","v":121.97275119378709},{"$f":"INDEX(coordonnées_cadran_plat($D243,S$10,$C$3,$C$2,$C$5,$C$6,0,0,$C$4),1,1)","v":192.2054425323079},{"$f":"INDEX(coordonnées_cadran_plat($D243,S$10,$C$3,$C$2,$C$5,$C$6,0,0,$C$4),1,2)","v":279.07902966209247},{"$f":"INDEX(coordonnées_cadran_plat($D243,U$10,$C$3,$C$2,$C$5,$C$6,0,0,$C$4),1,1)","v":153.45530435805017},{"$f":"INDEX(coordonnées_cadran_plat($D243,U$10,$C$3,$C$2,$C$5,$C$6,0,0,$C$4),1,2)","v":465.92165370853178},{"$f":"INDEX(coordonnées_cadran_plat($D243,W$10,$C$3,$C$2,$C$5,$C$6,0,0,$C$4),1,1)","v":78.302747585119718},{"$f":"INDEX(coordonnées_cadran_plat($D243,W$10,$C$3,$C$2,$C$5,$C$6,0,0,$C$4),1,2)","v":715.67035562204819}]
[null,29,11,"2010-11-29",{"$f":"INDEX(heures_limites_cadran($D244,$C$3,$C$2,$C$5),1,1)/24","v":"09:30:00"},{"$f":"INDEX(heures_limites_cadran($D244,$C$3,$C$2,$C$5),1,2)/24","v":"17:30:00"},{"$f":"INDEX(coordonnées_cadran_plat($D244,$G$10,$C$3,$C$2,$C$5,$C$6,0,0,$C$4),1,1)","v":-1.0754687700686825},{"$f":"INDEX(coordonnées_cadran_plat($D244,$G$10,$C$3,$C$2,$C$5,$C$6,0,0,$C$4),1,2)","v":-789.03143159546414},{"$f":"INDEX(coordonnées_cadran_plat($D244,I$10,$C$3,$C$2,$C$5,$C$6,0,0,$C$4),1,1)","v":104.30478989233653},{"$f":"INDEX(coordonnées_cadran_plat($D244,I$10,$C$3,$C$2,$C$5,$C$6,0,0,$C$4),1,2)","v":-523.35152504854955},{"$f":"INDEX(coordonnées_cadran_plat($D244,K$10,$C$3,$C$2,$C$5,$C$6,0,0,$C$4),1,1)","v":162.48340624943478},{"$f":"INDEX(coordonnées_cadran_plat($D244,K$10,$C$3,$C$2,$C$5,$C$6,0,0,$C$4),1,2)","v":-329.67794515175643},{"$f":"INDEX(coordonnées_cadran_plat($D244,M$10,$C$3,$C$2,$C$5,$C$6,0,0,$C$4),1,1)","v":194.39169041674521},{"$f":"INDEX(coordonnées_cadran_plat($D244,M$10,$C$3,$C$2,$C$5,$C$6,0,0,$C$4),1,2)","v":-169.6764706723946},{"$f":"INDEX(coordonnées_cadran_plat($D244,O$10,$C$3,$C$2,$C$5,$C$6,0,0,$C$4),1,1)","v":208.43820444357493},{"$f":"INDEX(coordonnées_cadran_plat($D244,O$10,$C$3,$C$2,$C$5,$C$6,0,0,$C$4),1,2)","v":-23.902487916901563},{"$f":"INDEX(coordonnées_cadran_plat($D244,Q$10,$C$3,$C$2,$C$5,$C$6,0,0,$C$4),1,1)","v":207.42583121467285},{"$f":"INDEX(coordonnées_cadran_plat($D244,Q$10,$C$3,$C$2,$C$5,$C$6,0,0,$C$4),1,2)","v":120.88305362982716},{"$f":"INDEX(coordonnées_cadran_plat($D244,S$10,$C$3,$C$2,$C$5,$C$6,0,0,$C$4),1,1)","v":190.33825954971329},{"$f":"INDEX(coordonnées_cadran_plat($D244,S$10,$C$3,$C$2,$C$5,$C$6,0,0,$C$4),1,2)","v":277.46163328064199},{"$f":"INDEX(coordonnées_cadran_plat($D244,U$10,$C$3,$C$2,$C$5,$C$6,0,0,$C$4),1,1)","v":151.57426050992493},{"$f":"INDEX(coordonnées_cadran_plat($D244,U$10,$C$3,$C$2,$C$5,$C$6,0,0,$C$4),1,2)","v":463.43198803927618},{"$f":"INDEX(coordonnées_cadran_plat($D244,W$10,$C$3,$C$2,$C$5,$C$6,0,0,$C$4),1,1)","v":76.477513925224684},{"$f":"INDEX(coordonnées_cadran_plat($D244,W$10,$C$3,$C$2,$C$5,$C$6,0,0,$C$4),1,2)","v":711.49003748618043}]
[null,30,11,"2010-11-30",{"$f":"INDEX(heures_limites_cadran($D245,$C$3,$C$2,$C$5),1,1)/24","v":"09:30:00"},{"$f":"INDEX(heures_limites_cadran($D245,$C$3,$C$2,$C$5),1,2)/24","v":"17:30:00"},{"$f":"INDEX(coordonnées_cadran_plat($D245,$G$10,$C$3,$C$2,$C$5,$C$6,0,0,$C$4),1,1)","v":-4.1233134850309865},{"$f":"INDEX(coordonnées_cadran_plat($D245,$G$10,$C$3,$C$2,$C$5,$C$6,0,0,$C$4),1,2)","v":-787.96776004482899},{"$f":"INDEX(coordonnées_cadran_plat($D245,I$10,$C$3,$C$2,$C$5,$C$6,0,0,$C$4),1,1)","v":101.78822072747325},{"$f":"INDEX(coordonnées_cadran_plat($D245,I$10,$C$3,$C$2,$C$5,$C$6,0,0,$C$4),1,2)","v":-523.0588929205054},{"$f":"INDEX(coordonnées_cadran_plat($D245,K$10,$C$3,$C$2,$C$5,$C$6,0,0,$C$4),1,1)","v":160.30287566110576},{"$f":"INDEX(coordonnées_cadran_plat($D245,K$10,$C$3,$C$2,$C$5,$C$6,0,0,$C$4),1,2)","v":-329.8124923212124},{"$f":"INDEX(coordonnées_cadran_plat($D245,M$10,$C$3,$C$2,$C$5,$C$6,0,0,$C$4),1,1)","v":192.42019216584981},{"$f":"INDEX(coordonnées_cadran_plat($D245,M$10,$C$3,$C$2,$C$5,$C$6,0,0,$C$4),1,2)","v":-170.123680157384},{"$f":"INDEX(coordonnées_cadran_plat($D245,O$10,$C$3,$C$2,$C$5,$C$6,0,0,$C$4),1,1)","v":206.58861094473826},{"$f":"INDEX(coordonnées_cadran_plat($D245,O$10,$C$3,$C$2,$C$5,$C$6,0,0,$C$4),1,2)","v":-24.648233183197082},{"$f":"INDEX(coordonnées_cadran_plat($D245,Q$10,$C$3,$C$2,$C$5,$C$6,0,0,$C$4),1,1)","v":205.63502448462617},{"$f":"INDEX(coordonnées_cadran_plat($D245,Q$10,$C$3,$C$2,$C$5,$C$6,0,0,$C$4),1,2)","v":119.77952736229692},{"$f":"INDEX(coordonnées_cadran_plat($D245,S$10,$C$3,$C$2,$C$5,$C$6,0,0,$C$4),1,1)","v":188.5620498057298},{"$f":"INDEX(coordonnées_cadran_plat($D245,S$10,$C$3,$C$2,$C$5,$C$6,0,0,$C$4),1,2)","v":275.84643519413959},{"$f":"INDEX(coordonnées_cadran_plat($D245,U$10,$C$3,$C$2,$C$5,$C$6,0,0,$C$4),1,1)","v":149.79833975884733},{"$f":"INDEX(coordonnées_cadran_plat($D245,U$10,$C$3,$C$2,$C$5,$C$6,0,0,$C$4),1,2)","v":460.96883546339365},{"$f":"INDEX(coordonnées_cadran_plat($D245,W$10,$C$3,$C$2,$C$5,$C$6,0,0,$C$4),1,1)","v":74.778990207317364},{"$f":"INDEX(coordonnées_cadran_plat($D245,W$10,$C$3,$C$2,$C$5,$C$6,0,0,$C$4),1,2)","v":707.38508522169582}]
[null,1,12,"2010-12-01",{"$f":"INDEX(heures_limites_cadran($D246,$C$3,$C$2,$C$5),1,1)/24","v":"09:30:00"},{"$f":"INDEX(heures_limites_cadran($D246,$C$3,$C$2,$C$5),1,2)/24","v":"17:30:00"},{"$f":"INDEX(coordonnées_cadran_plat($D246,$G$10,$C$3,$C$2,$C$5,$C$6,0,0,$C$4),1,1)","v":-7.1009458115761195},{"$f":"INDEX(coordonnées_cadran_plat($D246,$G$10,$C$3,$C$2,$C$5,$C$6,0,0,$C$4),1,2)","v":-787.08325079996359},{"$f":"INDEX(coordonnées_cadran_plat($D246,I$10,$C$3,$C$2,$C$5,$C$6,0,0,$C$4),1,1)","v":99.346086038818711},{"$f":"INDEX(coordonnées_cadran_plat($D246,I$10,$C$3,$C$2,$C$5,$C$6,0,0,$C$4),1,2)","v":-522.86968852317011},{"$f":"INDEX(coordonnées_cadran_plat($D246,K$10,$C$3,$C$2,$C$5,$C$6,0,0,$C$4),1,1)","v":158.19678202690596},{"$f":"INDEX(coordonnées_cadran_plat($D246,K$10,$C$3,$C$2,$C$5,$C$6,0,0,$C$4),1,2)","v":-330.01277594821994},{"$f":"INDEX(coordonnées_cadran_plat($D246,M$10,$C$3,$C$2,$C$5,$C$6,0,0,$C$4),1,1)","v":190.52361976132622},{"$f":"INDEX(coordonnées_cadran_plat($D246,M$10,$C$3,$C$2,$C$5,$C$6,0,0,$C$4),1,2)","v":-170.61410793745597},{"$f":"INDEX(coordonnées_cadran_plat($D246,O$10,$C$3,$C$2,$C$5,$C$6,0,0,$C$4),1,1)","v":204.81630829069499},{"$f":"INDEX(coordonnées_cadran_plat($D246,O$10,$C$3,$C$2,$C$5,$C$6,0,0,$C$4),1,2)","v":-25.421148307952663},{"$f":"INDEX(coordonnées_cadran_plat($D246,Q$10,$C$3,$C$2,$C$5,$C$6,0,0,$C$4),1,1)","v":203.92654726669306},{"$f":"INDEX(coordonnées_cadran_plat($D246,Q$10,$C$3,$C$2,$C$5,$C$6,0,0,$C$4),1,2)","v":118.6629813507398},{"$f":"INDEX(coordonnées_cadran_plat($D246,S$10,$C$3,$C$2,$C$5,$C$6,0,0,$C$4),1,1)","v":186.8768355565899},{"$f":"INDEX(coordonnées_cadran_plat($D246,S$10,$C$3,$C$2,$C$5,$C$6,0,0,$C$4),1,2)","v":274.23440681090983},{"$f":"INDEX(coordonnées_cadran_plat($D246,U$10,$C$3,$C$2,$C$5,$C$6,0,0,$C$4),1,1)","v":148.12717383116558},{"$f":"INDEX(coordonnées_cadran_plat($D246,U$10,$C$3,$C$2,$C$5,$C$6,0,0,$C$4),1,2)","v":458.53334914876928},{"$f":"INDEX(coordonnées_cadran_plat($D246,W$10,$C$3,$C$2,$C$5,$C$6,0,0,$C$4),1,1)","v":73.206000868080054},{"$f":"INDEX(coordonnées_cadran_plat($D246,W$10,$C$3,$C$2,$C$5,$C$6,0,0,$C$4),1,2)","v":703.35665355763263}]
[null,2,12,"2010-12-02",{"$f":"INDEX(heures_limites_cadran($D247,$C$3,$C$2,$C$5),1,1)/24","v":"09:30:00"},{"$f":"INDEX(heures_limites_cadran($D247,$C$3,$C$2,$C$5),1,2)/24","v":"17:30:00"},{"$f":"INDEX(coordonnées_cadran_plat($D247,$G$10,$C$3,$C$2,$C$5,$C$6,0,0,$C$4),1,1)","v":-10.008132972630444},{"$f":"INDEX(coordonnées_cadran_plat($D247,$G$10,$C$3,$C$2,$C$5,$C$6,0,0,$C$4),1,2)","v":-786.37664313184928},{"$f":"INDEX(coordonnées_cadran_plat($D247,I$10,$C$3,$C$2,$C$5,$C$6,0,0,$C$4),1,1)","v":96.978807146665872},{"$f":"INDEX(coordonnées_cadran_plat($D247,I$10,$C$3,$C$2,$C$5,$C$6,0,0,$C$4),1,2)","v":-522.78316741453546},{"$f":"INDEX(coordonnées_cadran_plat($D247,K$10,$C$3,$C$2,$C$5,$C$6,0,0,$C$4),1,1)","v":156.16558049496072},{"$f":"INDEX(coordonnées_cadran_plat($D247,K$10,$C$3,$C$2,$C$5,$C$6,0,0,$C$4),1,2)","v":-330.2781671479168},{"$f":"INDEX(coordonnées_cadran_plat($D247,M$10,$C$3,$C$2,$C$5,$C$6,0,0,$C$4),1,1)","v":188.70239511372986},{"$f":"INDEX(coordonnées_cadran_plat($D247,M$10,$C$3,$C$2,$C$5,$C$6,0,0,$C$4),1,2)","v":-171.14711499011869},{"$f":"INDEX(coordonnées_cadran_plat($D247,O$10,$C$3,$C$2,$C$5,$C$6,0,0,$C$4),1,1)","v":203.12164226238116},{"$f":"INDEX(coordonnées_cadran_plat($D247,O$10,$C$3,$C$2,$C$5,$C$6,0,0,$C$4),1,2)","v":-26.220523695582575},{"$f":"INDEX(coordonnées_cadran_plat($D247,Q$10,$C$3,$C$2,$C$5,$C$6,0,0,$C$4),1,1)","v":202.30061913721607},{"$f":"INDEX(coordonnées_cadran_plat($D247,Q$10,$C$3,$C$2,$C$5,$C$6,0,0,$C$4),1,2)","v":117.53424139090357},{"$f":"INDEX(coordonnées_cadran_plat($D247,S$10,$C$3,$C$2,$C$5,$C$6,0,0,$C$4),1,1)","v":185.28262302835535},{"$f":"INDEX(coordonnées_cadran_plat($D247,S$10,$C$3,$C$2,$C$5,$C$6,0,0,$C$4),1,2)","v":272.62653261665781},{"$f":"INDEX(coordonnées_cadran_plat($D247,U$10,$C$3,$C$2,$C$5,$C$6,0,0,$C$4),1,1)","v":146.56037648794972},{"$f":"INDEX(coordonnées_cadran_plat($D247,U$10,$C$3,$C$2,$C$5,$C$6,0,0,$C$4),1,2)","v":456.12668925920985},{"$f":"INDEX(coordonnées_cadran_plat($D247,W$10,$C$3,$C$2,$C$5,$C$6,0,0,$C$4),1,1)","v":71.757362531829898},{"$f":"INDEX(coordonnées_cadran_plat($D247,W$10,$C$3,$C$2,$C$5,$C$6,0,0,$C$4),1,2)","v":699.40589804622527}]
[null,3,12,"2010-12-03",{"$f":"INDEX(heures_limites_cadran($D248,$C$3,$C$2,$C$5),1,1)/24","v":"09:30:00"},{"$f":"INDEX(heures_limites_cadran($D248,$C$3,$C$2,$C$5),1,2)/24","v":"17:30:00"},{"$f":"INDEX(coordonnées_cadran_plat($D248,$G$10,$C$3,$C$2,$C$5,$C$6,0,0,$C$4),1,1)","v":-12.844571980129899},{"$f":"INDEX(coordonnées_cadran_plat($D248,$G$10,$C$3,$C$2,$C$5,$C$6,0,0,$C$4),1,2)","v":-785.84674033463409},{"$f":"INDEX(coordonnées_cadran_plat($D248,I$10,$C$3,$C$2,$C$5,$C$6,0,0,$C$4),1,1)","v":94.686843653508021},{"$f":"INDEX(coordonnées_cadran_plat($D248,I$10,$C$3,$C$2,$C$5,$C$6,0,0,$C$4),1,2)","v":-522.79858726516647},{"$f":"INDEX(coordonnées_cadran_plat($D248,K$10,$C$3,$C$2,$C$5,$C$6,0,0,$C$4),1,1)","v":154.20974449789696},{"$f":"INDEX(coordonnées_cadran_plat($D248,K$10,$C$3,$C$2,$C$5,$C$6,0,0,$C$4),1,2)","v":-330.60802269279804},{"$f":"INDEX(coordonnées_cadran_plat($D248,M$10,$C$3,$C$2,$C$5,$C$6,0,0,$C$4),1,1)","v":186.95694536546293},{"$f":"INDEX(coordonnées_cadran_plat($D248,M$10,$C$3,$C$2,$C$5,$C$6,0,0,$C$4),1,2)","v":-171.72204385799665},{"$f":"INDEX(coordonnées_cadran_plat($D248,O$10,$C$3,$C$2,$C$5,$C$6,0,0,$C$4),1,1)","v":201.5049545891589},{"$f":"INDEX(coordonnées_cadran_plat($D248,O$10,$C$3,$C$2,$C$5,$C$6,0,0,$C$4),1,2)","v":-27.045631475120356},{"$f":"INDEX(coordonnées_cadran_plat($D248,Q$10,$C$3,$C$2,$C$5,$C$6,0,0,$C$4),1,1)","v":200.75744853867275},{"$f":"INDEX(coordonnées_cadran_plat($D248,Q$10,$C$3,$C$2,$C$5,$C$6,0,0,$C$4),1,2)","v":116.39414931956706},{"$f":"INDEX(coordonnées_cadran_plat($D248,S$10,$C$3,$C$2,$C$5,$C$6,0,0,$C$4),1,1)","v":183.77940214681291},{"$f":"INDEX(coordonnées_cadran_plat($D248,S$10,$C$3,$C$2,$C$5,$C$6,0,0,$C$4),1,2)","v":271.0238090730216},{"$f":"INDEX(coordonnées_cadran_plat($D248,U$10,$C$3,$C$2,$C$5,$C$6,0,0,$C$4),1,1)","v":145.0975437905991},{"$f":"INDEX(coordonnées_cadran_plat($D248,U$10,$C$3,$C$2,$C$5,$C$6,0,0,$C$4),1,2)","v":453.75002158819262},{"$f":"INDEX(coordonnées_cadran_plat($D248,W$10,$C$3,$C$2,$C$5,$C$6,0,0,$C$4),1,1)","v":70.431884997080999},{"$f":"INDEX(coordonnées_cadran_plat($D248,W$10,$C$3,$C$2,$C$5,$C$6,0,0,$C$4),1,2)","v":695.53397363411193}]
[null,4,12,"2010-12-04",{"$f":"INDEX(heures_limites_cadran($D249,$C$3,$C$2,$C$5),1,1)/24","v":"09:30:00"},{"$f":"INDEX(heures_limites_cadran($D249,$C$3,$C$2,$C$5),1,2)/24","v":"17:30:00"},{"$f":"INDEX(coordonnées_cadran_plat($D249,$G$10,$C$3,$C$2,$C$5,$C$6,0,0,$C$4),1,1)","v":-15.609890965793088},{"$f":"INDEX(coordonnées_cadran_plat($D249,$G$10,$C$3,$C$2,$C$5,$C$6,0,0,$C$4),1,2)","v":-785.49240665501986},{"$f":"INDEX(coordonnées_cadran_plat($D249,I$10,$C$3,$C$2,$C$5,$C$6,0,0,$C$4),1,1)","v":92.470692288636755},{"$f":"INDEX(coordonnées_cadran_plat($D249,I$10,$C$3,$C$2,$C$5,$C$6,0,0,$C$4),1,2)","v":-522.91520680271753},{"$f":"INDEX(coordonnées_cadran_plat($D249,K$10,$C$3,$C$2,$C$5,$C$6,0,0,$C$4),1,1)","v":152.32976468758372},{"$f":"INDEX(coordonnées_cadran_plat($D249,K$10,$C$3,$C$2,$C$5,$C$6,0,0,$C$4),1,2)","v":-331.00168473727052},{"$f":"INDEX(coordonnées_cadran_plat($D249,M$10,$C$3,$C$2,$C$5,$C$6,0,0,$C$4),1,1)","v":185.28770193326622},{"$f":"INDEX(coordonnées_cadran_plat($D249,M$10,$C$3,$C$2,$C$5,$C$6,0,0,$C$4),1,2)","v":-172.3382188234196},{"$f":"INDEX(coordonnées_cadran_plat($D249,O$10,$C$3,$C$2,$C$5,$C$6,0,0,$C$4),1,1)","v":199.96658214527434},{"$f":"INDEX(coordonnées_cadran_plat($D249,O$10,$C$3,$C$2,$C$5,$C$6,0,0,$C$4),1,2)","v":-27.895726014238036},{"$f":"INDEX(coordonnées_cadran_plat($D249,Q$10,$C$3,$C$2,$C$5,$C$6,0,0,$C$4),1,1)","v":199.29723220510331},{"$f":"INDEX(coordonnées_cadran_plat($D249,Q$10,$C$3,$C$2,$C$5,$C$6,0,0,$C$4),1,2)","v":115.24356219599967},{"$f":"INDEX(coordonnées_cadran_plat($D249,S$10,$C$3,$C$2,$C$5,$C$6,0,0,$C$4),1,1)","v":182.3671463162664},{"$f":"INDEX(coordonnées_cadran_plat($D249,S$10,$C$3,$C$2,$C$5,$C$6,0,0,$C$4),1,2)","v":269.42724350898669},{"$f":"INDEX(coordonnées_cadran_plat($D249,U$10,$C$3,$C$2,$C$5,$C$6,0,0,$C$4),1,1)","v":143.73825442717768},{"$f":"INDEX(coordonnées_cadran_plat($D249,U$10,$C$3,$C$2,$C$5,$C$6,0,0,$C$4),1,2)","v":451.40451621781529},{"$f":"INDEX(coordonnées_cadran_plat($D249,W$10,$C$3,$C$2,$C$5,$C$6,0,0,$C$4),1,1)","v":69.22837227988002},{"$f":"INDEX(coordonnées_cadran_plat($D249,W$10,$C$3,$C$2,$C$5,$C$6,0,0,$C$4),1,2)","v":691.74203332129048}]
[null,5,12,"2010-12-05",{"$f":"INDEX(heures_limites_cadran($D250,$C$3,$C$2,$C$5),1,1)/24","v":"09:30:00"},{"$f":"INDEX(heures_limites_cadran($D250,$C$3,$C$2,$C$5),1,2)/24","v":"17:30:00"},{"$f":"INDEX(coordonnées_cadran_plat($D250,$G$10,$C$3,$C$2,$C$5,$C$6,0,0,$C$4),1,1)","v":-18.303650472574496},{"$f":"INDEX(coordonnées_cadran_plat($D250,$G$10,$C$3,$C$2,$C$5,$C$6,0,0,$C$4),1,2)","v":-785.31256433016506},{"$f":"INDEX(coordonnées_cadran_plat($D250,I$10,$C$3,$C$2,$C$5,$C$6,0,0,$C$4),1,1)","v":90.330885744906951},{"$f":"INDEX(coordonnées_cadran_plat($D250,I$10,$C$3,$C$2,$C$5,$C$6,0,0,$C$4),1,2)","v":-523.13228479163115},{"$f":"INDEX(coordonnées_cadran_plat($D250,K$10,$C$3,$C$2,$C$5,$C$6,0,0,$C$4),1,1)","v":150.52614786049423},{"$f":"INDEX(coordonnées_cadran_plat($D250,K$10,$C$3,$C$2,$C$5,$C$6,0,0,$C$4),1,2)","v":-331.45848057354107},{"$f":"INDEX(coordonnées_cadran_plat($D250,M$10,$C$3,$C$2,$C$5,$C$6,0,0,$C$4),1,1)","v":183.69509955283846},{"$f":"INDEX(coordonnées_cadran_plat($D250,M$10,$C$3,$C$2,$C$5,$C$6,0,0,$C$4),1,2)","v":-172.99494611542218},{"$f":"INDEX(coordonnées_cadran_plat($D250,O$10,$C$3,$C$2,$C$5,$C$6,0,0,$C$4),1,1)","v":198.50685616372235},{"$f":"INDEX(coordonnées_cadran_plat($D250,O$10,$C$3,$C$2,$C$5,$C$6,0,0,$C$4),1,2)","v":-28.77004446369012},{"$f":"INDEX(coordonnées_cadran_plat($D250,Q$10,$C$3,$C$2,$C$5,$C$6,0,0,$C$4),1,1)","v":197.92015462140748},{"$f":"INDEX(coordonnées_cadran_plat($D250,Q$10,$C$3,$C$2,$C$5,$C$6,0,0,$C$4),1,2)","v":114.08335146126737},{"$f":"INDEX(coordonnées_cadran_plat($D250,S$10,$C$3,$C$2,$C$5,$C$6,0,0,$C$4),1,1)","v":181.04581224773398},{"$f":"INDEX(coordonnées_cadran_plat($D250,S$10,$C$3,$C$2,$C$5,$C$6,0,0,$C$4),1,2)","v":267.83785300733371},{"$f":"INDEX(coordonnées_cadran_plat($D250,U$10,$C$3,$C$2,$C$5,$C$6,0,0,$C$4),1,1)","v":142.48207009828141},{"$f":"INDEX(coordonnées_cadran_plat($D250,U$10,$C$3,$C$2,$C$5,$C$6,0,0,$C$4),1,2)","v":449.09134620512629},{"$f":"INDEX(coordonnées_cadran_plat($D250,W$10,$C$3,$C$2,$C$5,$C$6,0,0,$C$4),1,1)","v":68.145623710001274},{"$f":"INDEX(coordonnées_cadran_plat($D250,W$10,$C$3,$C$2,$C$5,$C$6,0,0,$C$4),1,2)","v":688.03122690916052}]
[null,6,12,"2010-12-06",{"$f":"INDEX(heures_limites_cadran($D251,$C$3,$C$2,$C$5),1,1)/24","v":"09:30:00"},{"$f":"INDEX(heures_limites_cadran($D251,$C$3,$C$2,$C$5),1,2)/24","v":"17:30:00"},{"$f":"INDEX(coordonnées_cadran_plat($D251,$G$10,$C$3,$C$2,$C$5,$C$6,0,0,$C$4),1,1)","v":-20.925344710853302},{"$f":"INDEX(coordonnées_cadran_plat($D251,$G$10,$C$3,$C$2,$C$5,$C$6,0,0,$C$4),1,2)","v":-785.30619073040623},{"$f":"INDEX(coordonnées_cadran_plat($D251,I$10,$C$3,$C$2,$C$5,$C$6,0,0,$C$4),1,1)","v":88.267991507627812},{"$f":"INDEX(coordonnées_cadran_plat($D251,I$10,$C$3,$C$2,$C$5,$C$6,0,0,$C$4),1,2)","v":-523.44907904804836},{"$f":"INDEX(coordonnées_cadran_plat($D251,K$10,$C$3,$C$2,$C$5,$C$6,0,0,$C$4),1,1)","v":148.79941587479777},{"$f":"INDEX(coordonnées_cadran_plat($D251,K$10,$C$3,$C$2,$C$5,$C$6,0,0,$C$4),1,2)","v":-331.9777224196792},{"$f":"INDEX(coordonnées_cadran_plat($D251,M$10,$C$3,$C$2,$C$5,$C$6,0,0,$C$4),1,1)","v":182.17957532723312},{"$f":"INDEX(coordonnées_cadran_plat($D251,M$10,$C$3,$C$2,$C$5,$C$6,0,0,$C$4),1,2)","v":-173.69151414958992},{"$f":"INDEX(coordonnées_cadran_plat($D251,O$10,$C$3,$C$2,$C$5,$C$6,0,0,$C$4),1,1)","v":197.12610146936149},{"$f":"INDEX(coordonnées_cadran_plat($D251,O$10,$C$3,$C$2,$C$5,$C$6,0,0,$C$4),1,2)","v":-29.667807331203925},{"$f":"INDEX(coordonnées_cadran_plat($D251,Q$10,$C$3,$C$2,$C$5,$C$6,0,0,$C$4),1,1)","v":196.62638751786375},{"$f":"INDEX(coordonnées_cadran_plat($D251,Q$10,$C$3,$C$2,$C$5,$C$6,0,0,$C$4),1,2)","v":112.91440207686992},{"$f":"INDEX(coordonnées_cadran_plat($D251,S$10,$C$3,$C$2,$C$5,$C$6,0,0,$C$4),1,1)","v":179.8153398368768},{"$f":"INDEX(coordonnées_cadran_plat($D251,S$10,$C$3,$C$2,$C$5,$C$6,0,0,$C$4),1,2)","v":266.25666328819324},{"$f":"INDEX(coordonnées_cadran_plat($D251,U$10,$C$3,$C$2,$C$5,$C$6,0,0,$C$4),1,1)","v":141.32853596076808},{"$f":"INDEX(coordonnées_cadran_plat($D251,U$10,$C$3,$C$2,$C$5,$C$6,0,0,$C$4),1,2)","v":446.81168629933796},{"$f":"INDEX(coordonnées_cadran_plat($D251,W$10,$C$3,$C$2,$C$5,$C$6,0,0,$C$4),1,1)","v":67.182435076474988},{"$f":"INDEX(coordonnées_cadran_plat($D251,W$10,$C$3,$C$2,$C$5,$C$6,0,0,$C$4),1,2)","v":684.4026998375781}]
[null,7,12,"2010-12-07",{"$f":"INDEX(heures_limites_cadran($D252,$C$3,$C$2,$C$5),1,1)/24","v":"09:30:00"},{"$f":"INDEX(heures_limites_cadran($D252,$C$3,$C$2,$C$5),1,2)/24","v":"17:30:00"},{"$f":"INDEX(coordonnées_cadran_plat($D252,$G$10,$C$3,$C$2,$C$5,$C$6,0,0,$C$4),1,1)","v":-23.474402783416473},{"$f":"INDEX(coordonnées_cadran_plat($D252,$G$10,$C$3,$C$2,$C$5,$C$6,0,0,$C$4),1,2)","v":-785.47231560411865},{"$f":"INDEX(coordonnées_cadran_plat($D252,I$10,$C$3,$C$2,$C$5,$C$6,0,0,$C$4),1,1)","v":86.282610674432362},{"$f":"INDEX(coordonnées_cadran_plat($D252,I$10,$C$3,$C$2,$C$5,$C$6,0,0,$C$4),1,2)","v":-523.86484549258023},{"$f":"INDEX(coordonnées_cadran_plat($D252,K$10,$C$3,$C$2,$C$5,$C$6,0,0,$C$4),1,1)","v":147.15010456015227},{"$f":"INDEX(coordonnées_cadran_plat($D252,K$10,$C$3,$C$2,$C$5,$C$6,0,0,$C$4),1,2)","v":-332.55870724157222},{"$f":"INDEX(coordonnées_cadran_plat($D252,M$10,$C$3,$C$2,$C$5,$C$6,0,0,$C$4),1,1)","v":180.74156778065878},{"$f":"INDEX(coordonnées_cadran_plat($D252,M$10,$C$3,$C$2,$C$5,$C$6,0,0,$C$4),1,2)","v":-174.42719380164436},{"$f":"INDEX(coordonnées_cadran_plat($D252,O$10,$C$3,$C$2,$C$5,$C$6,0,0,$C$4),1,1)","v":195.82463573294268},{"$f":"INDEX(coordonnées_cadran_plat($D252,O$10,$C$3,$C$2,$C$5,$C$6,0,0,$C$4),1,2)","v":-30.588219085079018},{"$f":"INDEX(coordonnées_cadran_plat($D252,Q$10,$C$3,$C$2,$C$5,$C$6,0,0,$C$4),1,1)","v":195.41608940115134},{"$f":"INDEX(coordonnées_cadran_plat($D252,Q$10,$C$3,$C$2,$C$5,$C$6,0,0,$C$4),1,2)","v":111.73761164388179},{"$f":"INDEX(coordonnées_cadran_plat($D252,S$10,$C$3,$C$2,$C$5,$C$6,0,0,$C$4),1,1)","v":178.67565209189002},{"$f":"INDEX(coordonnées_cadran_plat($D252,S$10,$C$3,$C$2,$C$5,$C$6,0,0,$C$4),1,2)","v":264.68470759183356},{"$f":"INDEX(coordonnées_cadran_plat($D252,U$10,$C$3,$C$2,$C$5,$C$6,0,0,$C$4),1,1)","v":140.27718112808293},{"$f":"INDEX(coordonnées_cadran_plat($D252,U$10,$C$3,$C$2,$C$5,$C$6,0,0,$C$4),1,2)","v":444.56671169080818},{"$f":"INDEX(coordonnées_cadran_plat($D252,W$10,$C$3,$C$2,$C$5,$C$6,0,0,$C$4),1,1)","v":66.337599818552292},{"$f":"INDEX(coordonnées_cadran_plat($D252,W$10,$C$3,$C$2,$C$5,$C$6,0,0,$C$4),1,2)","v":680.85759211189441}]
[null,8,12,"2010-12-08",{"$f":"INDEX(heures_limites_cadran($D253,$C$3,$C$2,$C$5),1,1)/24","v":"09:30:00"},{"$f":"INDEX(heures_limites_cadran($D253,$C$3,$C$2,$C$5),1,2)/24","v":"17:30:00"},{"$f":"INDEX(coordonnées_cadran_plat($D253,$G$10,$C$3,$C$2,$C$5,$C$6,0,0,$C$4),1,1)","v":-25.950189882624763},{"$f":"INDEX(coordonnées_cadran_plat($D253,$G$10,$C$3,$C$2,$C$5,$C$6,0,0,$C$4),1,2)","v":-785.81001842126989},{"$f":"INDEX(coordonnées_cadran_plat($D253,I$10,$C$3,$C$2,$C$5,$C$6,0,0,$C$4),1,1)","v":84.37537676619273},{"$f":"INDEX(coordonnées_cadran_plat($D253,I$10,$C$3,$C$2,$C$5,$C$6,0,0,$C$4),1,2)","v":-524.3788372413693},{"$f":"INDEX(coordonnées_cadran_plat($D253,K$10,$C$3,$C$2,$C$5,$C$6,0,0,$C$4),1,1)","v":145.57876262130196},{"$f":"INDEX(coordonnées_cadran_plat($D253,K$10,$C$3,$C$2,$C$5,$C$6,0,0,$C$4),1,2)","v":-333.20071660975458},{"$f":"INDEX(coordonnées_cadran_plat($D253,M$10,$C$3,$C$2,$C$5,$C$6,0,0,$C$4),1,1)","v":179.38151591951703},{"$f":"INDEX(coordonnées_cadran_plat($D253,M$10,$C$3,$C$2,$C$5,$C$6,0,0,$C$4),1,2)","v":-175.20123871464062},{"$f":"INDEX(coordonnées_cadran_plat($D253,O$10,$C$3,$C$2,$C$5,$C$6,0,0,$C$4),1,1)","v":194.60276874786564},{"$f":"INDEX(coordonnées_cadran_plat($D253,O$10,$C$3,$C$2,$C$5,$C$6,0,0,$C$4),1,2)","v":-31.530468786153858},{"$f":"INDEX(coordonnées_cadran_plat($D253,Q$10,$C$3,$C$2,$C$5,$C$6,0,0,$C$4),1,1)","v":194.28940512305834},{"$f":"INDEX(coordonnées_cadran_plat($D253,Q$10,$C$3,$C$2,$C$5,$C$6,0,0,$C$4),1,2)","v":110.55388950424705},{"$f":"INDEX(coordonnées_cadran_plat($D253,S$10,$C$3,$C$2,$C$5,$C$6,0,0,$C$4),1,1)","v":177.62665511142714},{"$f":"INDEX(coordonnées_cadran_plat($D253,S$10,$C$3,$C$2,$C$5,$C$6,0,0,$C$4),1,2)","v":263.12302556298079},{"$f":"INDEX(coordonnées_cadran_plat($D253,U$10,$C$3,$C$2,$C$5,$C$6,0,0,$C$4),1,1)","v":139.32751922537358},{"$f":"INDEX(coordonnées_cadran_plat($D253,U$10,$C$3,$C$2,$C$5,$C$6,0,0,$C$4),1,2)","v":442.35759679475069},{"$f":"INDEX(coordonnées_cadran_plat($D253,W$10,$C$3,$C$2,$C$5,$C$6,0,0,$C$4),1,1)","v":65.609910258410125},{"$f":"INDEX(coordonnées_cadran_plat($D253,W$10,$C$3,$C$2,$C$5,$C$6,0,0,$C$4),1,2)","v":677.39703732047701}]
[null,9,12,"2010-12-09",{"$f":"INDEX(heures_limites_cadran($D254,$C$3,$C$2,$C$5),1,1)/24","v":"09:30:00"},{"$f":"INDEX(heures_limites_cadran($D254,$C$3,$C$2,$C$5),1,2)/24","v":"17:30:00"},{"$f":"INDEX(coordonnées_cadran_plat($D254,$G$10,$C$3,$C$2,$C$5,$C$6,0,0,$C$4),1,1)","v":-28.352008463666134},{"$f":"INDEX(coordonnées_cadran_plat($D254,$G$10,$C$3,$C$2,$C$5,$C$6,0,0,$C$4),1,2)","v":-786.31842581409137},{"$f":"INDEX(coordonnées_cadran_plat($D254,I$10,$C$3,$C$2,$C$5,$C$6,0,0,$C$4),1,1)","v":82.546954528492634},{"$f":"INDEX(coordonnées_cadran_plat($D254,I$10,$C$3,$C$2,$C$5,$C$6,0,0,$C$4),1,2)","v":-524.99030373730307},{"$f":"INDEX(coordonnées_cadran_plat($D254,K$10,$C$3,$C$2,$C$5,$C$6,0,0,$C$4),1,1)","v":144.08595053669541},{"$f":"INDEX(coordonnées_cadran_plat($D254,K$10,$C$3,$C$2,$C$5,$C$6,0,0,$C$4),1,2)","v":-333.90301659254885},{"$f":"INDEX(coordonnées_cadran_plat($D254,M$10,$C$3,$C$2,$C$5,$C$6,0,0,$C$4),1,1)","v":178.0998583023453},{"$f":"INDEX(coordonnées_cadran_plat($D254,M$10,$C$3,$C$2,$C$5,$C$6,0,0,$C$4),1,2)","v":-176.01288564042005},{"$f":"INDEX(coordonnées_cadran_plat($D254,O$10,$C$3,$C$2,$C$5,$C$6,0,0,$C$4),1,1)","v":193.46080173124213},{"$f":"INDEX(coordonnées_cadran_plat($D254,O$10,$C$3,$C$2,$C$5,$C$6,0,0,$C$4),1,2)","v":-32.493730748268149},{"$f":"INDEX(coordonnées_cadran_plat($D254,Q$10,$C$3,$C$2,$C$5,$C$6,0,0,$C$4),1,1)","v":193.24646548797381},{"$f":"INDEX(coordonnées_cadran_plat($D254,Q$10,$C$3,$C$2,$C$5,$C$6,0,0,$C$4),1,2)","v":109.36415582547622},{"$f":"INDEX(coordonnées_cadran_plat($D254,S$10,$C$3,$C$2,$C$5,$C$6,0,0,$C$4),1,1)","v":176.66823811255796},{"$f":"INDEX(coordonnées_cadran_plat($D254,S$10,$C$3,$C$2,$C$5,$C$6,0,0,$C$4),1,2)","v":261.57266213823124},{"$f":"INDEX(coordonnées_cadran_plat($D254,U$10,$C$3,$C$2,$C$5,$C$6,0,0,$C$4),1,1)","v":138.47904899769253},{"$f":"INDEX(coordonnées_cadran_plat($D254,U$10,$C$3,$C$2,$C$5,$C$6,0,0,$C$4),1,2)","v":440.1855140715075},{"$f":"INDEX(coordonnées_cadran_plat($D254,W$10,$C$3,$C$2,$C$5,$C$6,0,0,$C$4),1,1)","v":64.998158872393404},{"$f":"INDEX(coordonnées_cadran_plat($D254,W$10,$C$3,$C$2,$C$5,$C$6,0,0,$C$4),1,2)","v":674.02216174136811}]
[null,10,12,"2010-12-10",{"$f":"INDEX(heures_limites_cadran($D255,$C$3,$C$2,$C$5),1,1)/24","v":"09:30:00"},{"$f":"INDEX(heures_limites_cadran($D255,$C$3,$C$2,$C$5),1,2)/24","v":"17:30:00"},{"$f":"INDEX(coordonnées_cadran_plat($D255,$G$10,$C$3,$C$2,$C$5,$C$6,0,0,$C$4),1,1)","v":-30.679099396580227},{"$f":"INDEX(coordonnées_cadran_plat($D255,$G$10,$C$3,$C$2,$C$5,$C$6,0,0,$C$4),1,2)","v":-786.99670911155044},{"$f":"INDEX(coordonnées_cadran_plat($D255,I$10,$C$3,$C$2,$C$5,$C$6,0,0,$C$4),1,1)","v":80.798038723495878},{"$f":"INDEX(coordonnées_cadran_plat($D255,I$10,$C$3,$C$2,$C$5,$C$6,0,0,$C$4),1,2)","v":-525.69848992263212},{"$f":"INDEX(coordonnées_cadran_plat($D255,K$10,$C$3,$C$2,$C$5,$C$6,0,0,$C$4),1,1)","v":142.67223945341382},{"$f":"INDEX(coordonnées_cadran_plat($D255,K$10,$C$3,$C$2,$C$5,$C$6,0,0,$C$4),1,2)","v":-334.66485768637557},{"$f":"INDEX(coordonnées_cadran_plat($D255,M$10,$C$3,$C$2,$C$5,$C$6,0,0,$C$4),1,1)","v":176.89703212040484},{"$f":"INDEX(coordonnées_cadran_plat($D255,M$10,$C$3,$C$2,$C$5,$C$6,0,0,$C$4),1,2)","v":-176.86135481560081},{"$f":"INDEX(coordonnées_cadran_plat($D255,O$10,$C$3,$C$2,$C$5,$C$6,0,0,$C$4),1,1)","v":192.39902665097662},{"$f":"INDEX(coordonnées_cadran_plat($D255,O$10,$C$3,$C$2,$C$5,$C$6,0,0,$C$4),1,2)","v":-33.477165225832344},{"$f":"INDEX(coordonnées_cadran_plat($D255,Q$10,$C$3,$C$2,$C$5,$C$6,0,0,$C$4),1,1)","v":192.28738690015209},{"$f":"INDEX(coordonnées_cadran_plat($D255,Q$10,$C$3,$C$2,$C$5,$C$6,0,0,$C$4),1,2)","v":108.16934067061095},{"$f":"INDEX(coordonnées_cadran_plat($D255,S$10,$C$3,$C$2,$C$5,$C$6,0,0,$C$4),1,1)","v":175.80027350852143},{"$f":"INDEX(coordonnées_cadran_plat($D255,S$10,$C$3,$C$2,$C$5,$C$6,0,0,$C$4),1,2)","v":260.03466643933291},{"$f":"INDEX(coordonnées_cadran_plat($D255,U$10,$C$3,$C$2,$C$5,$C$6,0,0,$C$4),1,1)","v":137.73125496944854},{"$f":"INDEX(coordonnées_cadran_plat($D255,U$10,$C$3,$C$2,$C$5,$C$6,0,0,$C$4),1,2)","v":438.05163288510192},{"$f":"INDEX(coordonnées_cadran_plat($D255,W$10,$C$3,$C$2,$C$5,$C$6,0,0,$C$4),1,1)","v":64.501139596745475},{"$f":"INDEX(coordonnées_cadran_plat($D255,W$10,$C$3,$C$2,$C$5,$C$6,0,0,$C$4),1,2)","v":670.73408353979028}]
[null,11,12,"2010-12-11",{"$f":"INDEX(heures_limites_cadran($D256,$C$3,$C$2,$C$5),1,1)/24","v":"09:30:00"},{"$f":"INDEX(heures_limites_cadran($D256,$C$3,$C$2,$C$5),1,2)/24","v":"17:30:00"},{"$f":"INDEX(coordonnées_cadran_plat($D256,$G$10,$C$3,$C$2,$C$5,$C$6,0,0,$C$4),1,1)","v":-32.930643101023264},{"$f":"INDEX(coordonnées_cadran_plat($D256,$G$10,$C$3,$C$2,$C$5,$C$6,0,0,$C$4),1,2)","v":-787.84408196747574},{"$f":"INDEX(coordonnées_cadran_plat($D256,I$10,$C$3,$C$2,$C$5,$C$6,0,0,$C$4),1,1)","v":79.129352912009978},{"$f":"INDEX(coordonnées_cadran_plat($D256,I$10,$C$3,$C$2,$C$5,$C$6,0,0,$C$4),1,2)","v":-526.50263545493567},{"$f":"INDEX(coordonnées_cadran_plat($D256,K$10,$C$3,$C$2,$C$5,$C$6,0,0,$C$4),1,1)","v":141.33821007972739},{"$f":"INDEX(coordonnées_cadran_plat($D256,K$10,$C$3,$C$2,$C$5,$C$6,0,0,$C$4),1,2)","v":-335.48547478448177},{"$f":"INDEX(coordonnées_cadran_plat($D256,M$10,$C$3,$C$2,$C$5,$C$6,0,0,$C$4),1,1)","v":175.77347229082508},{"$f":"INDEX(coordonnées_cadran_plat($D256,M$10,$C$3,$C$2,$C$5,$C$6,0,0,$C$4),1,2)","v":-177.7458503717169},{"$f":"INDEX(coordonnées_cadran_plat($D256,O$10,$C$3,$C$2,$C$5,$C$6,0,0,$C$4),1,1)","v":191.41772558040824},{"$f":"INDEX(coordonnées_cadran_plat($D256,O$10,$C$3,$C$2,$C$5,$C$6,0,0,$C$4),1,2)","v":-34.479919128128365},{"$f":"INDEX(coordonnées_cadran_plat($D256,Q$10,$C$3,$C$2,$C$5,$C$6,0,0,$C$4),1,1)","v":191.41227105164018},{"$f":"INDEX(coordonnées_cadran_plat($D256,Q$10,$C$3,$C$2,$C$5,$C$6,0,0,$C$4),1,2)","v":106.97038305484044},{"$f":"INDEX(coordonnées_cadran_plat($D256,S$10,$C$3,$C$2,$C$5,$C$6,0,0,$C$4),1,1)","v":175.02261703600345},{"$f":"INDEX(coordonnées_cadran_plat($D256,S$10,$C$3,$C$2,$C$5,$C$6,0,0,$C$4),1,2)","v":258.51009067419051},{"$f":"INDEX(coordonnées_cadran_plat($D256,U$10,$C$3,$C$2,$C$5,$C$6,0,0,$C$4),1,1)","v":137.08360815312659},{"$f":"INDEX(coordonnées_cadran_plat($D256,U$10,$C$3,$C$2,$C$5,$C$6,0,0,$C$4),1,2)","v":435.9571184022202},{"$f":"INDEX(coordonnées_cadran_plat($D256,W$10,$C$3,$C$2,$C$5,$C$6,0,0,$C$4),1,1)","v":64.11764916487013},{"$f":"INDEX(coordonnées_cadran_plat($D256,W$10,$C$3,$C$2,$C$5,$C$6,0,0,$C$4),1,2)","v":667.53391205475566}]
[null,12,12,"2010-12-12",{"$f":"INDEX(heures_limites_cadran($D257,$C$3,$C$2,$C$5),1,1)/24","v":"09:30:00"},{"$f":"INDEX(heures_limites_cadran($D257,$C$3,$C$2,$C$5),1,2)/24","v":"17:30:00"},{"$f":"INDEX(coordonnées_cadran_plat($D257,$G$10,$C$3,$C$2,$C$5,$C$6,0,0,$C$4),1,1)","v":-35.105760665780174},{"$f":"INDEX(coordonnées_cadran_plat($D257,$G$10,$C$3,$C$2,$C$5,$C$6,0,0,$C$4),1,2)","v":-788.85979807918397},{"$f":"INDEX(coordonnées_cadran_plat($D257,I$10,$C$3,$C$2,$C$5,$C$6,0,0,$C$4),1,1)","v":77.541648226130604},{"$f":"INDEX(coordonnées_cadran_plat($D257,I$10,$C$3,$C$2,$C$5,$C$6,0,0,$C$4),1,2)","v":-527.40197396706731},{"$f":"INDEX(coordonnées_cadran_plat($D257,K$10,$C$3,$C$2,$C$5,$C$6,0,0,$C$4),1,1)","v":140.08445157659554},{"$f":"INDEX(coordonnées_cadran_plat($D257,K$10,$C$3,$C$2,$C$5,$C$6,0,0,$C$4),1,2)","v":-336.36408718530265},{"$f":"INDEX(coordonnées_cadran_plat($D257,M$10,$C$3,$C$2,$C$5,$C$6,0,0,$C$4),1,1)","v":174.72961056388593},{"$f":"INDEX(coordonnées_cadran_plat($D257,M$10,$C$3,$C$2,$C$5,$C$6,0,0,$C$4),1,2)","v":-178.66556078034768},{"$f":"INDEX(coordonnées_cadran_plat($D257,O$10,$C$3,$C$2,$C$5,$C$6,0,0,$C$4),1,1)","v":190.51717008208064},{"$f":"INDEX(coordonnées_cadran_plat($D257,O$10,$C$3,$C$2,$C$5,$C$6,0,0,$C$4),1,2)","v":-35.501126759133058},{"$f":"INDEX(coordonnées_cadran_plat($D257,Q$10,$C$3,$C$2,$C$5,$C$6,0,0,$C$4),1,1)","v":190.62120465165907},{"$f":"INDEX(coordonnées_cadran_plat($D257,Q$10,$C$3,$C$2,$C$5,$C$6,0,0,$C$4),1,2)","v":105.76822999065126},{"$f":"INDEX(coordonnées_cadran_plat($D257,S$10,$C$3,$C$2,$C$5,$C$6,0,0,$C$4),1,1)","v":174.33510793153127},{"$f":"INDEX(coordonnées_cadran_plat($D257,S$10,$C$3,$C$2,$C$5,$C$6,0,0,$C$4),1,2)","v":256.99998904732195},{"$f":"INDEX(coordonnées_cadran_plat($D257,U$10,$C$3,$C$2,$C$5,$C$6,0,0,$C$4),1,1)","v":136.53556680530818},{"$f":"INDEX(coordonnées_cadran_plat($D257,U$10,$C$3,$C$2,$C$5,$C$6,0,0,$C$4),1,2)","v":433.90313053299309},{"$f":"INDEX(coordonnées_cadran_plat($D257,W$10,$C$3,$C$2,$C$5,$C$6,0,0,$C$4),1,1)","v":63.846488472460351},{"$f":"INDEX(coordonnées_cadran_plat($D257,W$10,$C$3,$C$2,$C$5,$C$6,0,0,$C$4),1,2)","v":664.42274717530574}]
[null,13,12,"2010-12-13",{"$f":"INDEX(heures_limites_cadran($D258,$C$3,$C$2,$C$5),1,1)/24","v":"09:30:00"},{"$f":"INDEX(heures_limites_cadran($D258,$C$3,$C$2,$C$5),1,2)/24","v":"17:30:00"},{"$f":"INDEX(coordonnées_cadran_plat($D258,$G$10,$C$3,$C$2,$C$5,$C$6,0,0,$C$4),1,1)","v":-37.203514956530341},{"$f":"INDEX(coordonnées_cadran_plat($D258,$G$10,$C$3,$C$2,$C$5,$C$6,0,0,$C$4),1,2)","v":-790.04314899693577},{"$f":"INDEX(coordonnées_cadran_plat($D258,I$10,$C$3,$C$2,$C$5,$C$6,0,0,$C$4),1,1)","v":76.035702132261093},{"$f":"INDEX(coordonnées_cadran_plat($D258,I$10,$C$3,$C$2,$C$5,$C$6,0,0,$C$4),1,2)","v":-528.39573237348259},{"$f":"INDEX(coordonnées_cadran_plat($D258,K$10,$C$3,$C$2,$C$5,$C$6,0,0,$C$4),1,1)","v":138.91156044983629},{"$f":"INDEX(coordonnées_cadran_plat($D258,K$10,$C$3,$C$2,$C$5,$C$6,0,0,$C$4),1,2)","v":-337.29989864077208},{"$f":"INDEX(coordonnées_cadran_plat($D258,M$10,$C$3,$C$2,$C$5,$C$6,0,0,$C$4),1,1)","v":173.7658746464447},{"$f":"INDEX(coordonnées_cadran_plat($D258,M$10,$C$3,$C$2,$C$5,$C$6,0,0,$C$4),1,2)","v":-179.61965933236198},{"$f":"INDEX(coordonnées_cadran_plat($D258,O$10,$C$3,$C$2,$C$5,$C$6,0,0,$C$4),1,1)","v":189.69762062209583},{"$f":"INDEX(coordonnées_cadran_plat($D258,O$10,$C$3,$C$2,$C$5,$C$6,0,0,$C$4),1,2)","v":-36.539910582021697},{"$f":"INDEX(coordonnées_cadran_plat($D258,Q$10,$C$3,$C$2,$C$5,$C$6,0,0,$C$4),1,1)","v":189.91425919810752},{"$f":"INDEX(coordonnées_cadran_plat($D258,Q$10,$C$3,$C$2,$C$5,$C$6,0,0,$C$4),1,2)","v":104.56383552297616},{"$f":"INDEX(coordonnées_cadran_plat($D258,S$10,$C$3,$C$2,$C$5,$C$6,0,0,$C$4),1,1)","v":173.73756915638748},{"$f":"INDEX(coordonnées_cadran_plat($D258,S$10,$C$3,$C$2,$C$5,$C$6,0,0,$C$4),1,2)","v":255.50541668233296},{"$f":"INDEX(coordonnées_cadran_plat($D258,U$10,$C$3,$C$2,$C$5,$C$6,0,0,$C$4),1,1)","v":136.08657722791548},{"$f":"INDEX(coordonnées_cadran_plat($D258,U$10,$C$3,$C$2,$C$5,$C$6,0,0,$C$4),1,2)","v":431.89082291518054},{"$f":"INDEX(coordonnées_cadran_plat($D258,W$10,$C$3,$C$2,$C$5,$C$6,0,0,$C$4),1,1)","v":63.686463967542139},{"$f":"INDEX(coordonnées_cadran_plat($D258,W$10,$C$3,$C$2,$C$5,$C$6,0,0,$C$4),1,2)","v":661.40167880502077}]
[null,14,12,"2010-12-14",{"$f":"INDEX(heures_limites_cadran($D259,$C$3,$C$2,$C$5),1,1)/24","v":"09:30:00"},{"$f":"INDEX(heures_limites_cadran($D259,$C$3,$C$2,$C$5),1,2)/24","v":"17:30:00"},{"$f":"INDEX(coordonnées_cadran_plat($D259,$G$10,$C$3,$C$2,$C$5,$C$6,0,0,$C$4),1,1)","v":-39.222911714098331},{"$f":"INDEX(coordonnées_cadran_plat($D259,$G$10,$C$3,$C$2,$C$5,$C$6,0,0,$C$4),1,2)","v":-791.39346202270099},{"$f":"INDEX(coordonnées_cadran_plat($D259,I$10,$C$3,$C$2,$C$5,$C$6,0,0,$C$4),1,1)","v":74.612317184980796},{"$f":"INDEX(coordonnées_cadran_plat($D259,I$10,$C$3,$C$2,$C$5,$C$6,0,0,$C$4),1,2)","v":-529.48313022409855},{"$f":"INDEX(coordonnées_cadran_plat($D259,K$10,$C$3,$C$2,$C$5,$C$6,0,0,$C$4),1,1)","v":137.82013944421121},{"$f":"INDEX(coordonnées_cadran_plat($D259,K$10,$C$3,$C$2,$C$5,$C$6,0,0,$C$4),1,2)","v":-338.29209744627605},{"$f":"INDEX(coordonnées_cadran_plat($D259,M$10,$C$3,$C$2,$C$5,$C$6,0,0,$C$4),1,1)","v":172.88268734314966},{"$f":"INDEX(coordonnées_cadran_plat($D259,M$10,$C$3,$C$2,$C$5,$C$6,0,0,$C$4),1,2)","v":-180.60730465166765},{"$f":"INDEX(coordonnées_cadran_plat($D259,O$10,$C$3,$C$2,$C$5,$C$6,0,0,$C$4),1,1)","v":188.959326016468},{"$f":"INDEX(coordonnées_cadran_plat($D259,O$10,$C$3,$C$2,$C$5,$C$6,0,0,$C$4),1,2)","v":-37.595382007226796},{"$f":"INDEX(coordonnées_cadran_plat($D259,Q$10,$C$3,$C$2,$C$5,$C$6,0,0,$C$4),1,1)","v":189.29149079177012},{"$f":"INDEX(coordonnées_cadran_plat($D259,Q$10,$C$3,$C$2,$C$5,$C$6,0,0,$C$4),1,2)","v":103.35815975629863},{"$f":"INDEX(coordonnées_cadran_plat($D259,S$10,$C$3,$C$2,$C$5,$C$6,0,0,$C$4),1,1)","v":173.22980766942575},{"$f":"INDEX(coordonnées_cadran_plat($D259,S$10,$C$3,$C$2,$C$5,$C$6,0,0,$C$4),1,2)","v":254.02742855790228},{"$f":"INDEX(coordonnées_cadran_plat($D259,U$10,$C$3,$C$2,$C$5,$C$6,0,0,$C$4),1,1)","v":135.73607461253462},{"$f":"INDEX(coordonnées_cadran_plat($D259,U$10,$C$3,$C$2,$C$5,$C$6,0,0,$C$4),1,2)","v":429.92134194313826},{"$f":"INDEX(coordonnées_cadran_plat($D259,W$10,$C$3,$C$2,$C$5,$C$6,0,0,$C$4),1,1)","v":63.636389062207485},{"$f":"INDEX(coordonnées_cadran_plat($D259,W$10,$C$3,$C$2,$C$5,$C$6,0,0,$C$4),1,2)","v":658.47178641445623}]
[null,15,12,"2010-12-15",{"$f":"INDEX(heures_limites_cadran($D260,$C$3,$C$2,$C$5),1,1)/24","v":"09:30:00"},{"$f":"INDEX(heures_limites_cadran($D260,$C$3,$C$2,$C$5),1,2)/24","v":"17:30:00"},{"$f":"INDEX(coordonnées_cadran_plat($D260,$G$10,$C$3,$C$2,$C$5,$C$6,0,0,$C$4),1,1)","v":-41.162900645419704},{"$f":"INDEX(coordonnées_cadran_plat($D260,$G$10,$C$3,$C$2,$C$5,$C$6,0,0,$C$4),1,2)","v":-792.91009819747296},{"$f":"INDEX(coordonnées_cadran_plat($D260,I$10,$C$3,$C$2,$C$5,$C$6,0,0,$C$4),1,1)","v":73.272319772219859},{"$f":"INDEX(coordonnées_cadran_plat($D260,I$10,$C$3,$C$2,$C$5,$C$6,0,0,$C$4),1,2)","v":-530.66337910707364},{"$f":"INDEX(coordonnées_cadran_plat($D260,K$10,$C$3,$C$2,$C$5,$C$6,0,0,$C$4),1,1)","v":136.81079644126498},{"$f":"INDEX(coordonnées_cadran_plat($D260,K$10,$C$3,$C$2,$C$5,$C$6,0,0,$C$4),1,2)","v":-339.33985657236173},{"$f":"INDEX(coordonnées_cadran_plat($D260,M$10,$C$3,$C$2,$C$5,$C$6,0,0,$C$4),1,1)","v":172.08046571732621},{"$f":"INDEX(coordonnées_cadran_plat($D260,M$10,$C$3,$C$2,$C$5,$C$6,0,0,$C$4),1,2)","v":-181.62764124280974},{"$f":"INDEX(coordonnées_cadran_plat($D260,O$10,$C$3,$C$2,$C$5,$C$6,0,0,$C$4),1,1)","v":188.30252291083207},{"$f":"INDEX(coordonnées_cadran_plat($D260,O$10,$C$3,$C$2,$C$5,$C$6,0,0,$C$4),1,2)","v":-38.666642202905926},{"$f":"INDEX(coordonnées_cadran_plat($D260,Q$10,$C$3,$C$2,$C$5,$C$6,0,0,$C$4),1,1)","v":188.7529399936796},{"$f":"INDEX(coordonnées_cadran_plat($D260,Q$10,$C$3,$C$2,$C$5,$C$6,0,0,$C$4),1,2)","v":102.15216787530463},{"$f":"INDEX(coordonnées_cadran_plat($D260,S$10,$C$3,$C$2,$C$5,$C$6,0,0,$C$4),1,1)","v":172.81161474694019},{"$f":"INDEX(coordonnées_cadran_plat($D260,S$10,$C$3,$C$2,$C$5,$C$6,0,0,$C$4),1,2)","v":252.56707845967003},{"$f":"INDEX(coordonnées_cadran_plat($D260,U$10,$C$3,$C$2,$C$5,$C$6,0,0,$C$4),1,1)","v":135.48348392559851},{"$f":"INDEX(coordonnées_cadran_plat($D260,U$10,$C$3,$C$2,$C$5,$C$6,0,0,$C$4),1,2)","v":427.99582584296542},{"$f":"INDEX(coordonnées_cadran_plat($D260,W$10,$C$3,$C$2,$C$5,$C$6,0,0,$C$4),1,1)","v":63.695085563016725},{"$f":"INDEX(coordonnées_cadran_plat($D260,W$10,$C$3,$C$2,$C$5,$C$6,0,0,$C$4),1,2)","v":655.63413868072644}]
[null,16,12,"2010-12-16",{"$f":"INDEX(heures_limites_cadran($D261,$C$3,$C$2,$C$5),1,1)/24","v":"09:30:00"},{"$f":"INDEX(heures_limites_cadran($D261,$C$3,$C$2,$C$5),1,2)/24","v":"17:30:00"},{"$f":"INDEX(coordonnées_cadran_plat($D261,$G$10,$C$3,$C$2,$C$5,$C$6,0,0,$C$4),1,1)","v":-43.02237651000943},{"$f":"INDEX(coordonnées_cadran_plat($D261,$G$10,$C$3,$C$2,$C$5,$C$6,0,0,$C$4),1,2)","v":-794.59245037808796},{"$f":"INDEX(coordonnées_cadran_plat($D261,I$10,$C$3,$C$2,$C$5,$C$6,0,0,$C$4),1,1)","v":72.016558852121818},{"$f":"INDEX(coordonnées_cadran_plat($D261,I$10,$C$3,$C$2,$C$5,$C$6,0,0,$C$4),1,2)","v":-531.93568210249873},{"$f":"INDEX(coordonnées_cadran_plat($D261,K$10,$C$3,$C$2,$C$5,$C$6,0,0,$C$4),1,1)","v":135.88414336248184},{"$f":"INDEX(coordonnées_cadran_plat($D261,K$10,$C$3,$C$2,$C$5,$C$6,0,0,$C$4),1,2)","v":-340.44233383933118},{"$f":"INDEX(coordonnées_cadran_plat($D261,M$10,$C$3,$C$2,$C$5,$C$6,0,0,$C$4),1,1)","v":171.35962027321449},{"$f":"INDEX(coordonnées_cadran_plat($D261,M$10,$C$3,$C$2,$C$5,$C$6,0,0,$C$4),1,2)","v":-182.67980007256455},{"$f":"INDEX(coordonnées_cadran_plat($D261,O$10,$C$3,$C$2,$C$5,$C$6,0,0,$C$4),1,1)","v":187.72743529476591},{"$f":"INDEX(coordonnées_cadran_plat($D261,O$10,$C$3,$C$2,$C$5,$C$6,0,0,$C$4),1,2)","v":-39.752782926633536},{"$f":"INDEX(coordonnées_cadran_plat($D261,Q$10,$C$3,$C$2,$C$5,$C$6,0,0,$C$4),1,1)","v":188.29863172597692},{"$f":"INDEX(coordonnées_cadran_plat($D261,Q$10,$C$3,$C$2,$C$5,$C$6,0,0,$C$4),1,2)","v":100.94682916115057},{"$f":"INDEX(coordonnées_cadran_plat($D261,S$10,$C$3,$C$2,$C$5,$C$6,0,0,$C$4),1,1)","v":172.48276634877536},{"$f":"INDEX(coordonnées_cadran_plat($D261,S$10,$C$3,$C$2,$C$5,$C$6,0,0,$C$4),1,2)","v":251.12541794941191},{"$f":"INDEX(coordonnées_cadran_plat($D261,U$10,$C$3,$C$2,$C$5,$C$6,0,0,$C$4),1,1)","v":135.32822083219426},{"$f":"INDEX(coordonnées_cadran_plat($D261,U$10,$C$3,$C$2,$C$5,$C$6,0,0,$C$4),1,2)","v":426.11540379509665},{"$f":"INDEX(coordonnées_cadran_plat($D261,W$10,$C$3,$C$2,$C$5,$C$6,0,0,$C$4),1,1)","v":63.861385117371533},{"$f":"INDEX(coordonnées_cadran_plat($D261,W$10,$C$3,$C$2,$C$5,$C$6,0,0,$C$4),1,2)","v":652.88979321282693}]
[null,17,12,"2010-12-17",{"$f":"INDEX(heures_limites_cadran($D262,$C$3,$C$2,$C$5),1,1)/24","v":"09:30:00"},{"$f":"INDEX(heures_limites_cadran($D262,$C$3,$C$2,$C$5),1,2)/24","v":"17:30:00"},{"$f":"INDEX(coordonnées_cadran_plat($D262,$G$10,$C$3,$C$2,$C$5,$C$6,0,0,$C$4),1,1)","v":-44.80018020311298},{"$f":"INDEX(coordonnées_cadran_plat($D262,$G$10,$C$3,$C$2,$C$5,$C$6,0,0,$C$4),1,2)","v":-796.4399414018759},{"$f":"INDEX(coordonnées_cadran_plat($D262,I$10,$C$3,$C$2,$C$5,$C$6,0,0,$C$4),1,1)","v":70.845904682432462},{"$f":"INDEX(coordonnées_cadran_plat($D262,I$10,$C$3,$C$2,$C$5,$C$6,0,0,$C$4),1,2)","v":-533.29923328811105},{"$f":"INDEX(coordonnées_cadran_plat($D262,K$10,$C$3,$C$2,$C$5,$C$6,0,0,$C$4),1,1)","v":135.04079507952619},{"$f":"INDEX(coordonnées_cadran_plat($D262,K$10,$C$3,$C$2,$C$5,$C$6,0,0,$C$4),1,2)","v":-341.59867213512462},{"$f":"INDEX(coordonnées_cadran_plat($D262,M$10,$C$3,$C$2,$C$5,$C$6,0,0,$C$4),1,1)","v":170.72055416145179},{"$f":"INDEX(coordonnées_cadran_plat($D262,M$10,$C$3,$C$2,$C$5,$C$6,0,0,$C$4),1,2)","v":-183.76289918435961},{"$f":"INDEX(coordonnées_cadran_plat($D262,O$10,$C$3,$C$2,$C$5,$C$6,0,0,$C$4),1,1)","v":187.23427405194775},{"$f":"INDEX(coordonnées_cadran_plat($D262,O$10,$C$3,$C$2,$C$5,$C$6,0,0,$C$4),1,2)","v":-40.852887376662316},{"$f":"INDEX(coordonnées_cadran_plat($D262,Q$10,$C$3,$C$2,$C$5,$C$6,0,0,$C$4),1,1)","v":187.92857521651436},{"$f":"INDEX(coordonnées_cadran_plat($D262,Q$10,$C$3,$C$2,$C$5,$C$6,0,0,$C$4),1,2)","v":99.743116004679308},{"$f":"INDEX(coordonnées_cadran_plat($D262,S$10,$C$3,$C$2,$C$5,$C$6,0,0,$C$4),1,1)","v":172.24302352959151},{"$f":"INDEX(coordonnées_cadran_plat($D262,S$10,$C$3,$C$2,$C$5,$C$6,0,0,$C$4),1,2)","v":249.70349535375595},{"$f":"INDEX(coordonnées_cadran_plat($D262,U$10,$C$3,$C$2,$C$5,$C$6,0,0,$C$4),1,1)","v":135.2696926563454},{"$f":"INDEX(coordonnées_cadran_plat($D262,U$10,$C$3,$C$2,$C$5,$C$6,0,0,$C$4),1,2)","v":424.28119510473414},{"$f":"INDEX(coordonnées_cadran_plat($D262,W$10,$C$3,$C$2,$C$5,$C$6,0,0,$C$4),1,1)","v":64.134130673097445},{"$f":"INDEX(coordonnées_cadran_plat($D262,W$10,$C$3,$C$2,$C$5,$C$6,0,0,$C$4),1,2)","v":650.23979636174613}]
[null,18,12,"2010-12-18",{"$f":"INDEX(heures_limites_cadran($D263,$C$3,$C$2,$C$5),1,1)/24","v":"09:30:00"},{"$f":"INDEX(heures_limites_cadran($D263,$C$3,$C$2,$C$5),1,2)/24","v":"17:30:00"},{"$f":"INDEX(coordonnées_cadran_plat($D263,$G$10,$C$3,$C$2,$C$5,$C$6,0,0,$C$4),1,1)","v":-46.495099838305329},{"$f":"INDEX(coordonnées_cadran_plat($D263,$G$10,$C$3,$C$2,$C$5,$C$6,0,0,$C$4),1,2)","v":-798.45202234146109},{"$f":"INDEX(coordonnées_cadran_plat($D263,I$10,$C$3,$C$2,$C$5,$C$6,0,0,$C$4),1,1)","v":69.761247543111338},{"$f":"INDEX(coordonnées_cadran_plat($D263,I$10,$C$3,$C$2,$C$5,$C$6,0,0,$C$4),1,2)","v":-534.75321729882432},{"$f":"INDEX(coordonnées_cadran_plat($D263,K$10,$C$3,$C$2,$C$5,$C$6,0,0,$C$4),1,1)","v":134.28136833338272},{"$f":"INDEX(coordonnées_cadran_plat($D263,K$10,$C$3,$C$2,$C$5,$C$6,0,0,$C$4),1,2)","v":-342.80799967702836},{"$f":"INDEX(coordonnées_cadran_plat($D263,M$10,$C$3,$C$2,$C$5,$C$6,0,0,$C$4),1,1)","v":170.16366240940937},{"$f":"INDEX(coordonnées_cadran_plat($D263,M$10,$C$3,$C$2,$C$5,$C$6,0,0,$C$4),1,2)","v":-184.87604434565702},{"$f":"INDEX(coordonnées_cadran_plat($D263,O$10,$C$3,$C$2,$C$5,$C$6,0,0,$C$4),1,1)","v":186.8232365472077},{"$f":"INDEX(coordonnées_cadran_plat($D263,O$10,$C$3,$C$2,$C$5,$C$6,0,0,$C$4),1,2)","v":-41.966031062121999},{"$f":"INDEX(coordonnées_cadran_plat($D263,Q$10,$C$3,$C$2,$C$5,$C$6,0,0,$C$4),1,1)","v":187.64276398729709},{"$f":"INDEX(coordonnées_cadran_plat($D263,Q$10,$C$3,$C$2,$C$5,$C$6,0,0,$C$4),1,2)","v":98.54200291897493},{"$f":"INDEX(coordonnées_cadran_plat($D263,S$10,$C$3,$C$2,$C$5,$C$6,0,0,$C$4),1,1)","v":172.09213289423334},{"$f":"INDEX(coordonnées_cadran_plat($D263,S$10,$C$3,$C$2,$C$5,$C$6,0,0,$C$4),1,2)","v":248.30235477394123},{"$f":"INDEX(coordonnées_cadran_plat($D263,U$10,$C$3,$C$2,$C$5,$C$6,0,0,$C$4),1,1)","v":135.3072993753629},{"$f":"INDEX(coordonnées_cadran_plat($D263,U$10,$C$3,$C$2,$C$5,$C$6,0,0,$C$4),1,2)","v":422.49430842164804},{"$f":"INDEX(coordonnées_cadran_plat($D263,W$10,$C$3,$C$2,$C$5,$C$6,0,0,$C$4),1,1)","v":64.512177948615815},{"$f":"INDEX(coordonnées_cadran_plat($D263,W$10,$C$3,$C$2,$C$5,$C$6,0,0,$C$4),1,2)","v":647.68518311433786}]
[null,19,12,"2010-12-19",{"$f":"INDEX(heures_limites_cadran($D264,$C$3,$C$2,$C$5),1,1)/24","v":"09:30:00"},{"$f":"INDEX(heures_limites_cadran($D264,$C$3,$C$2,$C$5),1,2)/24","v":"17:30:00"},{"$f":"INDEX(coordonnées_cadran_plat($D264,$G$10,$C$3,$C$2,$C$5,$C$6,0,0,$C$4),1,1)","v":-48.105871830147088},{"$f":"INDEX(coordonnées_cadran_plat($D264,$G$10,$C$3,$C$2,$C$5,$C$6,0,0,$C$4),1,2)","v":-800.62817084818073},{"$f":"INDEX(coordonnées_cadran_plat($D264,I$10,$C$3,$C$2,$C$5,$C$6,0,0,$C$4),1,1)","v":68.763496453154531},{"$f":"INDEX(coordonnées_cadran_plat($D264,I$10,$C$3,$C$2,$C$5,$C$6,0,0,$C$4),1,2)","v":-536.29680894145417},{"$f":"INDEX(coordonnées_cadran_plat($D264,K$10,$C$3,$C$2,$C$5,$C$6,0,0,$C$4),1,1)","v":133.60648066414961},{"$f":"INDEX(coordonnées_cadran_plat($D264,K$10,$C$3,$C$2,$C$5,$C$6,0,0,$C$4),1,2)","v":-344.06943031784459},{"$f":"INDEX(coordonnées_cadran_plat($D264,M$10,$C$3,$C$2,$C$5,$C$6,0,0,$C$4),1,1)","v":169.68933117820276},{"$f":"INDEX(coordonnées_cadran_plat($D264,M$10,$C$3,$C$2,$C$5,$C$6,0,0,$C$4),1,2)","v":-186.0183297270458},{"$f":"INDEX(coordonnées_cadran_plat($D264,O$10,$C$3,$C$2,$C$5,$C$6,0,0,$C$4),1,1)","v":186.49450625155851},{"$f":"INDEX(coordonnées_cadran_plat($D264,O$10,$C$3,$C$2,$C$5,$C$6,0,0,$C$4),1,2)","v":-43.091282689838764},{"$f":"INDEX(coordonnées_cadran_plat($D264,Q$10,$C$3,$C$2,$C$5,$C$6,0,0,$C$4),1,1)","v":187.44117588679273},{"$f":"INDEX(coordonnées_cadran_plat($D264,Q$10,$C$3,$C$2,$C$5,$C$6,0,0,$C$4),1,2)","v":97.344465552590236},{"$f":"INDEX(coordonnées_cadran_plat($D264,S$10,$C$3,$C$2,$C$5,$C$6,0,0,$C$4),1,1)","v":172.0298270959851},{"$f":"INDEX(coordonnées_cadran_plat($D264,S$10,$C$3,$C$2,$C$5,$C$6,0,0,$C$4),1,2)","v":246.92303511834382},{"$f":"INDEX(coordonnées_cadran_plat($D264,U$10,$C$3,$C$2,$C$5,$C$6,0,0,$C$4),1,1)","v":135.44043464597141},{"$f":"INDEX(coordonnées_cadran_plat($D264,U$10,$C$3,$C$2,$C$5,$C$6,0,0,$C$4),1,2)","v":420.75584100997816},{"$f":"INDEX(coordonnées_cadran_plat($D264,W$10,$C$3,$C$2,$C$5,$C$6,0,0,$C$4),1,1)","v":64.994396911505717},{"$f":"INDEX(coordonnées_cadran_plat($D264,W$10,$C$3,$C$2,$C$5,$C$6,0,0,$C$4),1,2)","v":645.22697706900567}]
[null,20,12,"2010-12-20",{"$f":"INDEX(heures_limites_cadran($D265,$C$3,$C$2,$C$5),1,1)/24","v":"09:30:00"},{"$f":"INDEX(heures_limites_cadran($D265,$C$3,$C$2,$C$5),1,2)/24","v":"17:30:00"},{"$f":"INDEX(coordonnées_cadran_plat($D265,$G$10,$C$3,$C$2,$C$5,$C$6,0,0,$C$4),1,1)","v":-49.631181979383982},{"$f":"INDEX(coordonnées_cadran_plat($D265,$G$10,$C$3,$C$2,$C$5,$C$6,0,0,$C$4),1,2)","v":-802.96788958715581},{"$f":"INDEX(coordonnées_cadran_plat($D265,I$10,$C$3,$C$2,$C$5,$C$6,0,0,$C$4),1,1)","v":67.85357788267072},{"$f":"INDEX(coordonnées_cadran_plat($D265,I$10,$C$3,$C$2,$C$5,$C$6,0,0,$C$4),1,2)","v":-537.92917286618615},{"$f":"INDEX(coordonnées_cadran_plat($D265,K$10,$C$3,$C$2,$C$5,$C$6,0,0,$C$4),1,1)","v":133.01674935346671},{"$f":"INDEX(coordonnées_cadran_plat($D265,K$10,$C$3,$C$2,$C$5,$C$6,0,0,$C$4),1,2)","v":-345.38206389658984},{"$f":"INDEX(coordonnées_cadran_plat($D265,M$10,$C$3,$C$2,$C$5,$C$6,0,0,$C$4),1,1)","v":169.29793704795077},{"$f":"INDEX(coordonnées_cadran_plat($D265,M$10,$C$3,$C$2,$C$5,$C$6,0,0,$C$4),1,2)","v":-187.1888386128571},{"$f":"INDEX(coordonnées_cadran_plat($D265,O$10,$C$3,$C$2,$C$5,$C$6,0,0,$C$4),1,1)","v":186.24825240610244},{"$f":"INDEX(coordonnées_cadran_plat($D265,O$10,$C$3,$C$2,$C$5,$C$6,0,0,$C$4),1,2)","v":-44.227705066882983},{"$f":"INDEX(coordonnées_cadran_plat($D265,Q$10,$C$3,$C$2,$C$5,$C$6,0,0,$C$4),1,1)","v":187.32377316598036},{"$f":"INDEX(coordonnées_cadran_plat($D265,Q$10,$C$3,$C$2,$C$5,$C$6,0,0,$C$4),1,2)","v":96.151479705497948},{"$f":"INDEX(coordonnées_cadran_plat($D265,S$10,$C$3,$C$2,$C$5,$C$6,0,0,$C$4),1,1)","v":172.05582537642519},{"$f":"INDEX(coordonnées_cadran_plat($D265,S$10,$C$3,$C$2,$C$5,$C$6,0,0,$C$4),1,2)","v":245.56656915939016},{"$f":"INDEX(coordonnées_cadran_plat($D265,U$10,$C$3,$C$2,$C$5,$C$6,0,0,$C$4),1,1)","v":135.66848686008706},{"$f":"INDEX(coordonnées_cadran_plat($D265,U$10,$C$3,$C$2,$C$5,$C$6,0,0,$C$4),1,2)","v":419.06687806798789},{"$f":"INDEX(coordonnées_cadran_plat($D265,W$10,$C$3,$C$2,$C$5,$C$6,0,0,$C$4),1,1)","v":65.579673262924501},{"$f":"INDEX(coordonnées_cadran_plat($D265,W$10,$C$3,$C$2,$C$5,$C$6,0,0,$C$4),1,2)","v":642.86619049266517}]
[null,21,12,"2010-12-21",{"$f":"INDEX(heures_limites_cadran($D266,$C$3,$C$2,$C$5),1,1)/24","v":"09:30:00"},{"$f":"INDEX(heures_limites_cadran($D266,$C$3,$C$2,$C$5),1,2)/24","v":"17:30:00"},{"$f":"INDEX(coordonnées_cadran_plat($D266,$G$10,$C$3,$C$2,$C$5,$C$6,0,0,$C$4),1,1)","v":-51.06966656095576},{"$f":"INDEX(coordonnées_cadran_plat($D266,$G$10,$C$3,$C$2,$C$5,$C$6,0,0,$C$4),1,2)","v":-805.47070476312967},{"$f":"INDEX(coordonnées_cadran_plat($D266,I$10,$C$3,$C$2,$C$5,$C$6,0,0,$C$4),1,1)","v":67.032434461382294},{"$f":"INDEX(coordonnées_cadran_plat($D266,I$10,$C$3,$C$2,$C$5,$C$6,0,0,$C$4),1,2)","v":-539.64946329627026},{"$f":"INDEX(coordonnées_cadran_plat($D266,K$10,$C$3,$C$2,$C$5,$C$6,0,0,$C$4),1,1)","v":132.51279038146788},{"$f":"INDEX(coordonnées_cadran_plat($D266,K$10,$C$3,$C$2,$C$5,$C$6,0,0,$C$4),1,2)","v":-346.74498663400703},{"$f":"INDEX(coordonnées_cadran_plat($D266,M$10,$C$3,$C$2,$C$5,$C$6,0,0,$C$4),1,1)","v":168.9898463330392},{"$f":"INDEX(coordonnées_cadran_plat($D266,M$10,$C$3,$C$2,$C$5,$C$6,0,0,$C$4),1,2)","v":-188.38664414176577},{"$f":"INDEX(coordonnées_cadran_plat($D266,O$10,$C$3,$C$2,$C$5,$C$6,0,0,$C$4),1,1)","v":186.08462972565221},{"$f":"INDEX(coordonnées_cadran_plat($D266,O$10,$C$3,$C$2,$C$5,$C$6,0,0,$C$4),1,2)","v":-45.37435601718002},{"$f":"INDEX(coordonnées_cadran_plat($D266,Q$10,$C$3,$C$2,$C$5,$C$6,0,0,$C$4),1,1)","v":187.29050259792672},{"$f":"INDEX(coordonnées_cadran_plat($D266,Q$10,$C$3,$C$2,$C$5,$C$6,0,0,$C$4),1,2)","v":94.964020349563427},{"$f":"INDEX(coordonnées_cadran_plat($D266,S$10,$C$3,$C$2,$C$5,$C$6,0,0,$C$4),1,1)","v":172.16983414550083},{"$f":"INDEX(coordonnées_cadran_plat($D266,S$10,$C$3,$C$2,$C$5,$C$6,0,0,$C$4),1,2)","v":244.23398261635069},{"$f":"INDEX(coordonnées_cadran_plat($D266,U$10,$C$3,$C$2,$C$5,$C$6,0,0,$C$4),1,1)","v":135.99084022770109},{"$f":"INDEX(coordonnées_cadran_plat($D266,U$10,$C$3,$C$2,$C$5,$C$6,0,0,$C$4),1,2)","v":417.42849209920598},{"$f":"INDEX(coordonnées_cadran_plat($D266,W$10,$C$3,$C$2,$C$5,$C$6,0,0,$C$4),1,1)","v":66.266909926187154},{"$f":"INDEX(coordonnées_cadran_plat($D266,W$10,$C$3,$C$2,$C$5,$C$6,0,0,$C$4),1,2)","v":640.60382445631933}]
[null,22,12,"2010-12-22",{"$f":"INDEX(heures_limites_cadran($D267,$C$3,$C$2,$C$5),1,1)/24","v":"09:30:00"},{"$f":"INDEX(heures_limites_cadran($D267,$C$3,$C$2,$C$5),1,2)/24","v":"17:30:00"},{"$f":"INDEX(coordonnées_cadran_plat($D267,$G$10,$C$3,$C$2,$C$5,$C$6,0,0,$C$4),1,1)","v":-52.419913416387281},{"$f":"INDEX(coordonnées_cadran_plat($D267,$G$10,$C$3,$C$2,$C$5,$C$6,0,0,$C$4),1,2)","v":-808.13616473955074},{"$f":"INDEX(coordonnées_cadran_plat($D267,I$10,$C$3,$C$2,$C$5,$C$6,0,0,$C$4),1,1)","v":66.301023684951389},{"$f":"INDEX(coordonnées_cadran_plat($D267,I$10,$C$3,$C$2,$C$5,$C$6,0,0,$C$4),1,2)","v":-541.45682381719575},{"$f":"INDEX(coordonnées_cadran_plat($D267,K$10,$C$3,$C$2,$C$5,$C$6,0,0,$C$4),1,1)","v":132.09521740016922},{"$f":"INDEX(coordonnées_cadran_plat($D267,K$10,$C$3,$C$2,$C$5,$C$6,0,0,$C$4),1,2)","v":-348.15727157320265},{"$f":"INDEX(coordonnées_cadran_plat($D267,M$10,$C$3,$C$2,$C$5,$C$6,0,0,$C$4),1,1)","v":168.76541442886236},{"$f":"INDEX(coordonnées_cadran_plat($D267,M$10,$C$3,$C$2,$C$5,$C$6,0,0,$C$4),1,2)","v":-189.61081007707651},{"$f":"INDEX(coordonnées_cadran_plat($D267,O$10,$C$3,$C$2,$C$5,$C$6,0,0,$C$4),1,1)","v":186.00377814283871},{"$f":"INDEX(coordonnées_cadran_plat($D267,O$10,$C$3,$C$2,$C$5,$C$6,0,0,$C$4),1,2)","v":-46.530289310282001},{"$f":"INDEX(coordonnées_cadran_plat($D267,Q$10,$C$3,$C$2,$C$5,$C$6,0,0,$C$4),1,1)","v":187.34129564055047},{"$f":"INDEX(coordonnées_cadran_plat($D267,Q$10,$C$3,$C$2,$C$5,$C$6,0,0,$C$4),1,2)","v":93.783060655265345},{"$f":"INDEX(coordonnées_cadran_plat($D267,S$10,$C$3,$C$2,$C$5,$C$6,0,0,$C$4),1,1)","v":172.37154760036435},{"$f":"INDEX(coordonnées_cadran_plat($D267,S$10,$C$3,$C$2,$C$5,$C$6,0,0,$C$4),1,2)","v":242.92629326548754},{"$f":"INDEX(coordonnées_cadran_plat($D267,U$10,$C$3,$C$2,$C$5,$C$6,0,0,$C$4),1,1)","v":136.40687588478096},{"$f":"INDEX(coordonnées_cadran_plat($D267,U$10,$C$3,$C$2,$C$5,$C$6,0,0,$C$4),1,2)","v":415.84174233455838},{"$f":"INDEX(coordonnées_cadran_plat($D267,W$10,$C$3,$C$2,$C$5,$C$6,0,0,$C$4),1,1)","v":67.055028537159131},{"$f":"INDEX(coordonnées_cadran_plat($D267,W$10,$C$3,$C$2,$C$5,$C$6,0,0,$C$4),1,2)","v":638.44086904894243}]
[null,23,12,"2010-12-23",{"$f":"INDEX(heures_limites_cadran($D268,$C$3,$C$2,$C$5),1,1)/24","v":"09:30:00"},{"$f":"INDEX(heures_limites_cadran($D268,$C$3,$C$2,$C$5),1,2)/24","v":"17:30:00"},{"$f":"INDEX(coordonnées_cadran_plat($D268,$G$10,$C$3,$C$2,$C$5,$C$6,0,0,$C$4),1,1)","v":-53.680463051553595},{"$f":"INDEX(coordonnées_cadran_plat($D268,$G$10,$C$3,$C$2,$C$5,$C$6,0,0,$C$4),1,2)","v":-810.96383875281231},{"$f":"INDEX(coordonnées_cadran_plat($D268,I$10,$C$3,$C$2,$C$5,$C$6,0,0,$C$4),1,1)","v":65.660316620489183},{"$f":"INDEX(coordonnées_cadran_plat($D268,I$10,$C$3,$C$2,$C$5,$C$6,0,0,$C$4),1,2)","v":-543.35038722693082},{"$f":"INDEX(coordonnées_cadran_plat($D268,K$10,$C$3,$C$2,$C$5,$C$6,0,0,$C$4),1,1)","v":131.76464072532383},{"$f":"INDEX(coordonnées_cadran_plat($D268,K$10,$C$3,$C$2,$C$5,$C$6,0,0,$C$4),1,2)","v":-349.6179790652717},{"$f":"INDEX(coordonnées_cadran_plat($D268,M$10,$C$3,$C$2,$C$5,$C$6,0,0,$C$4),1,1)","v":168.62498519163051},{"$f":"INDEX(coordonnées_cadran_plat($D268,M$10,$C$3,$C$2,$C$5,$C$6,0,0,$C$4),1,2)","v":-190.8603916053745},{"$f":"INDEX(coordonnées_cadran_plat($D268,O$10,$C$3,$C$2,$C$5,$C$6,0,0,$C$4),1,1)","v":186.0058225933019},{"$f":"INDEX(coordonnées_cadran_plat($D268,O$10,$C$3,$C$2,$C$5,$C$6,0,0,$C$4),1,2)","v":-47.694555601237305},{"$f":"INDEX(coordonnées_cadran_plat($D268,Q$10,$C$3,$C$2,$C$5,$C$6,0,0,$C$4),1,1)","v":187.47606864213904},{"$f":"INDEX(coordonnées_cadran_plat($D268,Q$10,$C$3,$C$2,$C$5,$C$6,0,0,$C$4),1,2)","v":92.609571026371086},{"$f":"INDEX(coordonnées_cadran_plat($D268,S$10,$C$3,$C$2,$C$5,$C$6,0,0,$C$4),1,1)","v":172.66064838148068},{"$f":"INDEX(coordonnées_cadran_plat($D268,S$10,$C$3,$C$2,$C$5,$C$6,0,0,$C$4),1,2)","v":241.6445100786691},{"$f":"INDEX(coordonnées_cadran_plat($D268,U$10,$C$3,$C$2,$C$5,$C$6,0,0,$C$4),1,1)","v":136.91597302391557},{"$f":"INDEX(coordonnées_cadran_plat($D268,U$10,$C$3,$C$2,$C$5,$C$6,0,0,$C$4),1,2)","v":414.30767420573102},{"$f":"INDEX(coordonnées_cadran_plat($D268,W$10,$C$3,$C$2,$C$5,$C$6,0,0,$C$4),1,1)","v":67.942970935211164},{"$f":"INDEX(coordonnées_cadran_plat($D268,W$10,$C$3,$C$2,$C$5,$C$6,0,0,$C$4),1,2)","v":636.37830366662206}]
[null,24,12,"2010-12-24",{"$f":"INDEX(heures_limites_cadran($D269,$C$3,$C$2,$C$5),1,1)/24","v":"09:30:00"},{"$f":"INDEX(heures_limites_cadran($D269,$C$3,$C$2,$C$5),1,2)/24","v":"17:30:00"},{"$f":"INDEX(coordonnées_cadran_plat($D269,$G$10,$C$3,$C$2,$C$5,$C$6,0,0,$C$4),1,1)","v":-54.84980973947814},{"$f":"INDEX(coordonnées_cadran_plat($D269,$G$10,$C$3,$C$2,$C$5,$C$6,0,0,$C$4),1,2)","v":-813.95331572153486},{"$f":"INDEX(coordonnées_cadran_plat($D269,I$10,$C$3,$C$2,$C$5,$C$6,0,0,$C$4),1,1)","v":65.111296612874696},{"$f":"INDEX(coordonnées_cadran_plat($D269,I$10,$C$3,$C$2,$C$5,$C$6,0,0,$C$4),1,2)","v":-545.32927544841914},{"$f":"INDEX(coordonnées_cadran_plat($D269,K$10,$C$3,$C$2,$C$5,$C$6,0,0,$C$4),1,1)","v":131.52166634878714},{"$f":"INDEX(coordonnées_cadran_plat($D269,K$10,$C$3,$C$2,$C$5,$C$6,0,0,$C$4),1,2)","v":-351.12615729966654},{"$f":"INDEX(coordonnées_cadran_plat($D269,M$10,$C$3,$C$2,$C$5,$C$6,0,0,$C$4),1,1)","v":168.56889035277788},{"$f":"INDEX(coordonnées_cadran_plat($D269,M$10,$C$3,$C$2,$C$5,$C$6,0,0,$C$4),1,2)","v":-192.13443616205197},{"$f":"INDEX(coordonnées_cadran_plat($D269,O$10,$C$3,$C$2,$C$5,$C$6,0,0,$C$4),1,1)","v":186.09087284255213},{"$f":"INDEX(coordonnées_cadran_plat($D269,O$10,$C$3,$C$2,$C$5,$C$6,0,0,$C$4),1,2)","v":-48.866203379158591},{"$f":"INDEX(coordonnées_cadran_plat($D269,Q$10,$C$3,$C$2,$C$5,$C$6,0,0,$C$4),1,1)","v":187.69472308906199},{"$f":"INDEX(coordonnées_cadran_plat($D269,Q$10,$C$3,$C$2,$C$5,$C$6,0,0,$C$4),1,2)","v":91.444518144356238},{"$f":"INDEX(coordonnées_cadran_plat($D269,S$10,$C$3,$C$2,$C$5,$C$6,0,0,$C$4),1,1)","v":173.03680826434285},{"$f":"INDEX(coordonnées_cadran_plat($D269,S$10,$C$3,$C$2,$C$5,$C$6,0,0,$C$4),1,2)","v":240.38963239210889},{"$f":"INDEX(coordonnées_cadran_plat($D269,U$10,$C$3,$C$2,$C$5,$C$6,0,0,$C$4),1,1)","v":137.51751004535055},{"$f":"INDEX(coordonnées_cadran_plat($D269,U$10,$C$3,$C$2,$C$5,$C$6,0,0,$C$4),1,2)","v":412.82731887032321},{"$f":"INDEX(coordonnées_cadran_plat($D269,W$10,$C$3,$C$2,$C$5,$C$6,0,0,$C$4),1,1)","v":68.929700652676047},{"$f":"INDEX(coordonnées_cadran_plat($D269,W$10,$C$3,$C$2,$C$5,$C$6,0,0,$C$4),1,2)","v":634.41709737662131}]
[null,25,12,"2010-12-25",{"$f":"INDEX(heures_limites_cadran($D270,$C$3,$C$2,$C$5),1,1)/24","v":"09:30:00"},{"$f":"INDEX(heures_limites_cadran($D270,$C$3,$C$2,$C$5),1,2)/24","v":"17:30:00"},{"$f":"INDEX(coordonnées_cadran_plat($D270,$G$10,$C$3,$C$2,$C$5,$C$6,0,0,$C$4),1,1)","v":-55.926402629746434},{"$f":"INDEX(coordonnées_cadran_plat($D270,$G$10,$C$3,$C$2,$C$5,$C$6,0,0,$C$4),1,2)","v":-817.1042031553477},{"$f":"INDEX(coordonnées_cadran_plat($D270,I$10,$C$3,$C$2,$C$5,$C$6,0,0,$C$4),1,1)","v":64.654957993653596},{"$f":"INDEX(coordonnées_cadran_plat($D270,I$10,$C$3,$C$2,$C$5,$C$6,0,0,$C$4),1,2)","v":-547.3925995054077},{"$f":"INDEX(coordonnées_cadran_plat($D270,K$10,$C$3,$C$2,$C$5,$C$6,0,0,$C$4),1,1)","v":131.36689497332284},{"$f":"INDEX(coordonnées_cadran_plat($D270,K$10,$C$3,$C$2,$C$5,$C$6,0,0,$C$4),1,2)","v":-352.68084287944004},{"$f":"INDEX(coordonnées_cadran_plat($D270,M$10,$C$3,$C$2,$C$5,$C$6,0,0,$C$4),1,1)","v":168.59744896926429},{"$f":"INDEX(coordonnées_cadran_plat($D270,M$10,$C$3,$C$2,$C$5,$C$6,0,0,$C$4),1,2)","v":-193.43198428319903},{"$f":"INDEX(coordonnées_cadran_plat($D270,O$10,$C$3,$C$2,$C$5,$C$6,0,0,$C$4),1,1)","v":186.25902335488684},{"$f":"INDEX(coordonnées_cadran_plat($D270,O$10,$C$3,$C$2,$C$5,$C$6,0,0,$C$4),1,2)","v":-50.044279923498976},{"$f":"INDEX(coordonnées_cadran_plat($D270,Q$10,$C$3,$C$2,$C$5,$C$6,0,0,$C$4),1,1)","v":187.99714589502159},{"$f":"INDEX(coordonnées_cadran_plat($D270,Q$10,$C$3,$C$2,$C$5,$C$6,0,0,$C$4),1,2)","v":90.288864024354737},{"$f":"INDEX(coordonnées_cadran_plat($D270,S$10,$C$3,$C$2,$C$5,$C$6,0,0,$C$4),1,1)","v":173.49968888520925},{"$f":"INDEX(coordonnées_cadran_plat($D270,S$10,$C$3,$C$2,$C$5,$C$6,0,0,$C$4),1,2)","v":239.16264910598696},{"$f":"INDEX(coordonnées_cadran_plat($D270,U$10,$C$3,$C$2,$C$5,$C$6,0,0,$C$4),1,1)","v":138.21086572635264},{"$f":"INDEX(coordonnées_cadran_plat($D270,U$10,$C$3,$C$2,$C$5,$C$6,0,0,$C$4),1,2)","v":411.40169278822833},{"$f":"INDEX(coordonnées_cadran_plat($D270,W$10,$C$3,$C$2,$C$5,$C$6,0,0,$C$4),1,1)","v":70.014204401713002},{"$f":"INDEX(coordonnées_cadran_plat($D270,W$10,$C$3,$C$2,$C$5,$C$6,0,0,$C$4),1,2)","v":632.55820935376425}]
[null,26,12,"2010-12-26",{"$f":"INDEX(heures_limites_cadran($D271,$C$3,$C$2,$C$5),1,1)/24","v":"09:30:00"},{"$f":"INDEX(heures_limites_cadran($D271,$C$3,$C$2,$C$5),1,2)/24","v":"17:30:00"},{"$f":"INDEX(coordonnées_cadran_plat($D271,$G$10,$C$3,$C$2,$C$5,$C$6,0,0,$C$4),1,1)","v":-56.908646863685291},{"$f":"INDEX(coordonnées_cadran_plat($D271,$G$10,$C$3,$C$2,$C$5,$C$6,0,0,$C$4),1,2)","v":-820.41612616334112},{"$f":"INDEX(coordonnées_cadran_plat($D271,I$10,$C$3,$C$2,$C$5,$C$6,0,0,$C$4),1,1)","v":64.292304794213891},{"$f":"INDEX(coordonnées_cadran_plat($D271,I$10,$C$3,$C$2,$C$5,$C$6,0,0,$C$4),1,2)","v":-549.53945956311622},{"$f":"INDEX(coordonnées_cadran_plat($D271,K$10,$C$3,$C$2,$C$5,$C$6,0,0,$C$4),1,1)","v":131.30092107198976},{"$f":"INDEX(coordonnées_cadran_plat($D271,K$10,$C$3,$C$2,$C$5,$C$6,0,0,$C$4),1,2)","v":-354.2810614406423},{"$f":"INDEX(coordonnées_cadran_plat($D271,M$10,$C$3,$C$2,$C$5,$C$6,0,0,$C$4),1,1)","v":168.71096691121122},{"$f":"INDEX(coordonnées_cadran_plat($D271,M$10,$C$3,$C$2,$C$5,$C$6,0,0,$C$4),1,2)","v":-194.75207048195765},{"$f":"INDEX(coordonnées_cadran_plat($D271,O$10,$C$3,$C$2,$C$5,$C$6,0,0,$C$4),1,1)","v":186.51035320472064},{"$f":"INDEX(coordonnées_cadran_plat($D271,O$10,$C$3,$C$2,$C$5,$C$6,0,0,$C$4),1,2)","v":-51.227832265787384},{"$f":"INDEX(coordonnées_cadran_plat($D271,Q$10,$C$3,$C$2,$C$5,$C$6,0,0,$C$4),1,1)","v":188.38320973108796},{"$f":"INDEX(coordonnées_cadran_plat($D271,Q$10,$C$3,$C$2,$C$5,$C$6,0,0,$C$4),1,2)","v":89.143565084124205},{"$f":"INDEX(coordonnées_cadran_plat($D271,S$10,$C$3,$C$2,$C$5,$C$6,0,0,$C$4),1,1)","v":174.04894249915588},{"$f":"INDEX(coordonnées_cadran_plat($D271,S$10,$C$3,$C$2,$C$5,$C$6,0,0,$C$4),1,2)","v":237.96453791598361},{"$f":"INDEX(coordonnées_cadran_plat($D271,U$10,$C$3,$C$2,$C$5,$C$6,0,0,$C$4),1,1)","v":138.99542040678298},{"$f":"INDEX(coordonnées_cadran_plat($D271,U$10,$C$3,$C$2,$C$5,$C$6,0,0,$C$4),1,2)","v":410.03179734896219},{"$f":"INDEX(coordonnées_cadran_plat($D271,W$10,$C$3,$C$2,$C$5,$C$6,0,0,$C$4),1,1)","v":71.195493557417493},{"$f":"INDEX(coordonnées_cadran_plat($D271,W$10,$C$3,$C$2,$C$5,$C$6,0,0,$C$4),1,2)","v":630.80258938721749}]
[null,27,12,"2010-12-27",{"$f":"INDEX(heures_limites_cadran($D272,$C$3,$C$2,$C$5),1,1)/24","v":"09:30:00"},{"$f":"INDEX(heures_limites_cadran($D272,$C$3,$C$2,$C$5),1,2)/24","v":"17:30:00"},{"$f":"INDEX(coordonnées_cadran_plat($D272,$G$10,$C$3,$C$2,$C$5,$C$6,0,0,$C$4),1,1)","v":-57.79490469575434},{"$f":"INDEX(coordonnées_cadran_plat($D272,$G$10,$C$3,$C$2,$C$5,$C$6,0,0,$C$4),1,2)","v":-823.88872656563285},{"$f":"INDEX(coordonnées_cadran_plat($D272,I$10,$C$3,$C$2,$C$5,$C$6,0,0,$C$4),1,1)","v":64.024349465247667},{"$f":"INDEX(coordonnées_cadran_plat($D272,I$10,$C$3,$C$2,$C$5,$C$6,0,0,$C$4),1,2)","v":-551.76894503466974},{"$f":"INDEX(coordonnées_cadran_plat($D272,K$10,$C$3,$C$2,$C$5,$C$6,0,0,$C$4),1,1)","v":131.32433197403353},{"$f":"INDEX(coordonnées_cadran_plat($D272,K$10,$C$3,$C$2,$C$5,$C$6,0,0,$C$4),1,2)","v":-355.92582831582251},{"$f":"INDEX(coordonnées_cadran_plat($D272,M$10,$C$3,$C$2,$C$5,$C$6,0,0,$C$4),1,1)","v":168.90973638808205},{"$f":"INDEX(coordonnées_cadran_plat($D272,M$10,$C$3,$C$2,$C$5,$C$6,0,0,$C$4),1,2)","v":-196.09372414829463},{"$f":"INDEX(coordonnées_cadran_plat($D272,O$10,$C$3,$C$2,$C$5,$C$6,0,0,$C$4),1,1)","v":186.84492603052462},{"$f":"INDEX(coordonnées_cadran_plat($D272,O$10,$C$3,$C$2,$C$5,$C$6,0,0,$C$4),1,2)","v":-52.415908155369593},{"$f":"INDEX(coordonnées_cadran_plat($D272,Q$10,$C$3,$C$2,$C$5,$C$6,0,0,$C$4),1,1)","v":188.8527733956729},{"$f":"INDEX(coordonnées_cadran_plat($D272,Q$10,$C$3,$C$2,$C$5,$C$6,0,0,$C$4),1,2)","v":88.009571227518975},{"$f":"INDEX(coordonnées_cadran_plat($D272,S$10,$C$3,$C$2,$C$5,$C$6,0,0,$C$4),1,1)","v":174.68421276861866},{"$f":"INDEX(coordonnées_cadran_plat($D272,S$10,$C$3,$C$2,$C$5,$C$6,0,0,$C$4),1,2)","v":236.79626457811003},{"$f":"INDEX(coordonnées_cadran_plat($D272,U$10,$C$3,$C$2,$C$5,$C$6,0,0,$C$4),1,1)","v":139.87055718854199},{"$f":"INDEX(coordonnées_cadran_plat($D272,U$10,$C$3,$C$2,$C$5,$C$6,0,0,$C$4),1,2)","v":408.71861855051947},{"$f":"INDEX(coordonnées_cadran_plat($D272,W$10,$C$3,$C$2,$C$5,$C$6,0,0,$C$4),1,1)","v":72.47260563569634},{"$f":"INDEX(coordonnées_cadran_plat($D272,W$10,$C$3,$C$2,$C$5,$C$6,0,0,$C$4),1,2)","v":629.15117845700092}]
[null,28,12,"2010-12-28",{"$f":"INDEX(heures_limites_cadran($D273,$C$3,$C$2,$C$5),1,1)/24","v":"09:30:00"},{"$f":"INDEX(heures_limites_cadran($D273,$C$3,$C$2,$C$5),1,2)/24","v":"17:30:00"},{"$f":"INDEX(coordonnées_cadran_plat($D273,$G$10,$C$3,$C$2,$C$5,$C$6,0,0,$C$4),1,1)","v":-58.583496620662082},{"$f":"INDEX(coordonnées_cadran_plat($D273,$G$10,$C$3,$C$2,$C$5,$C$6,0,0,$C$4),1,2)","v":-827.52166211033477},{"$f":"INDEX(coordonnées_cadran_plat($D273,I$10,$C$3,$C$2,$C$5,$C$6,0,0,$C$4),1,1)","v":63.852111604606264},{"$f":"INDEX(coordonnées_cadran_plat($D273,I$10,$C$3,$C$2,$C$5,$C$6,0,0,$C$4),1,2)","v":-554.08013475416715},{"$f":"INDEX(coordonnées_cadran_plat($D273,K$10,$C$3,$C$2,$C$5,$C$6,0,0,$C$4),1,1)","v":131.43770697944544},{"$f":"INDEX(coordonnées_cadran_plat($D273,K$10,$C$3,$C$2,$C$5,$C$6,0,0,$C$4),1,2)","v":-357.61414924057368},{"$f":"INDEX(coordonnées_cadran_plat($D273,M$10,$C$3,$C$2,$C$5,$C$6,0,0,$C$4),1,1)","v":169.19403551464924},{"$f":"INDEX(coordonnées_cadran_plat($D273,M$10,$C$3,$C$2,$C$5,$C$6,0,0,$C$4),1,2)","v":-197.45597047036983},{"$f":"INDEX(coordonnées_cadran_plat($D273,O$10,$C$3,$C$2,$C$5,$C$6,0,0,$C$4),1,1)","v":187.26279003149338},{"$f":"INDEX(coordonnées_cadran_plat($D273,O$10,$C$3,$C$2,$C$5,$C$6,0,0,$C$4),1,2)","v":-53.607557027166216},{"$f":"INDEX(coordonnées_cadran_plat($D273,Q$10,$C$3,$C$2,$C$5,$C$6,0,0,$C$4),1,1)","v":189.40568222345627},{"$f":"INDEX(coordonnées_cadran_plat($D273,Q$10,$C$3,$C$2,$C$5,$C$6,0,0,$C$4),1,2)","v":86.887824944508921},{"$f":"INDEX(coordonnées_cadran_plat($D273,S$10,$C$3,$C$2,$C$5,$C$6,0,0,$C$4),1,1)","v":175.40513558076339},{"$f":"INDEX(coordonnées_cadran_plat($D273,S$10,$C$3,$C$2,$C$5,$C$6,0,0,$C$4),1,2)","v":235.65878220694188},{"$f":"INDEX(coordonnées_cadran_plat($D273,U$10,$C$3,$C$2,$C$5,$C$6,0,0,$C$4),1,1)","v":140.83566314726542},{"$f":"INDEX(coordonnées_cadran_plat($D273,U$10,$C$3,$C$2,$C$5,$C$6,0,0,$C$4),1,2)","v":407.46312672779305},{"$f":"INDEX(coordonnées_cadran_plat($D273,W$10,$C$3,$C$2,$C$5,$C$6,0,0,$C$4),1,1)","v":73.844605765561141},{"$f":"INDEX(coordonnées_cadran_plat($D273,W$10,$C$3,$C$2,$C$5,$C$6,0,0,$C$4),1,2)","v":627.60490937700013}]
[null,29,12,"2010-12-29",{"$f":"INDEX(heures_limites_cadran($D274,$C$3,$C$2,$C$5),1,1)/24","v":"09:30:00"},{"$f":"INDEX(heures_limites_cadran($D274,$C$3,$C$2,$C$5),1,2)/24","v":"17:30:00"},{"$f":"INDEX(coordonnées_cadran_plat($D274,$G$10,$C$3,$C$2,$C$5,$C$6,0,0,$C$4),1,1)","v":-59.272702505548615},{"$f":"INDEX(coordonnées_cadran_plat($D274,$G$10,$C$3,$C$2,$C$5,$C$6,0,0,$C$4),1,2)","v":-831.31460579842019},{"$f":"INDEX(coordonnées_cadran_plat($D274,I$10,$C$3,$C$2,$C$5,$C$6,0,0,$C$4),1,1)","v":63.77661669560802},{"$f":"INDEX(coordonnées_cadran_plat($D274,I$10,$C$3,$C$2,$C$5,$C$6,0,0,$C$4),1,2)","v":-556.47209721761681},{"$f":"INDEX(coordonnées_cadran_plat($D274,K$10,$C$3,$C$2,$C$5,$C$6,0,0,$C$4),1,1)","v":131.64161650403699},{"$f":"INDEX(coordonnées_cadran_plat($D274,K$10,$C$3,$C$2,$C$5,$C$6,0,0,$C$4),1,2)","v":-359.34502110307869},{"$f":"INDEX(coordonnées_cadran_plat($D274,M$10,$C$3,$C$2,$C$5,$C$6,0,0,$C$4),1,1)","v":169.56412791777959},{"$f":"INDEX(coordonnées_cadran_plat($D274,M$10,$C$3,$C$2,$C$5,$C$6,0,0,$C$4),1,2)","v":-198.83783137634757},{"$f":"INDEX(coordonnées_cadran_plat($D274,O$10,$C$3,$C$2,$C$5,$C$6,0,0,$C$4),1,1)","v":187.76397800691754},{"$f":"INDEX(coordonnées_cadran_plat($D274,O$10,$C$3,$C$2,$C$5,$C$6,0,0,$C$4),1,2)","v":-54.80183097006595},{"$f":"INDEX(coordonnées_cadran_plat($D274,Q$10,$C$3,$C$2,$C$5,$C$6,0,0,$C$4),1,1)","v":190.04176853225886},{"$f":"INDEX(coordonnées_cadran_plat($D274,Q$10,$C$3,$C$2,$C$5,$C$6,0,0,$C$4),1,2)","v":85.779260428622649},{"$f":"INDEX(coordonnées_cadran_plat($D274,S$10,$C$3,$C$2,$C$5,$C$6,0,0,$C$4),1,1)","v":176.21133989171358},{"$f":"INDEX(coordonnées_cadran_plat($D274,S$10,$C$3,$C$2,$C$5,$C$6,0,0,$C$4),1,2)","v":234.55303060879422},{"$f":"INDEX(coordonnées_cadran_plat($D274,U$10,$C$3,$C$2,$C$5,$C$6,0,0,$C$4),1,1)","v":141.89013055380244},{"$f":"INDEX(coordonnées_cadran_plat($D274,U$10,$C$3,$C$2,$C$5,$C$6,0,0,$C$4),1,2)","v":406.26627633182125},{"$f":"INDEX(coordonnées_cadran_plat($D274,W$10,$C$3,$C$2,$C$5,$C$6,0,0,$C$4),1,1)","v":75.310588154780419},{"$f":"INDEX(coordonnées_cadran_plat($D274,W$10,$C$3,$C$2,$C$5,$C$6,0,0,$C$4),1,2)","v":626.16470750360179}]
[null,30,12,"2010-12-30",{"$f":"INDEX(heures_limites_cadran($D275,$C$3,$C$2,$C$5),1,1)/24","v":"09:30:00"},{"$f":"INDEX(heures_limites_cadran($D275,$C$3,$C$2,$C$5),1,2)/24","v":"17:30:00"},{"$f":"INDEX(coordonnées_cadran_plat($D275,$G$10,$C$3,$C$2,$C$5,$C$6,0,0,$C$4),1,1)","v":-59.860762726530297},{"$f":"INDEX(coordonnées_cadran_plat($D275,$G$10,$C$3,$C$2,$C$5,$C$6,0,0,$C$4),1,2)","v":-835.2672453196684},{"$f":"INDEX(coordonnées_cadran_plat($D275,I$10,$C$3,$C$2,$C$5,$C$6,0,0,$C$4),1,1)","v":63.798894858237695},{"$f":"INDEX(coordonnées_cadran_plat($D275,I$10,$C$3,$C$2,$C$5,$C$6,0,0,$C$4),1,2)","v":-558.94389089205515},{"$f":"INDEX(coordonnées_cadran_plat($D275,K$10,$C$3,$C$2,$C$5,$C$6,0,0,$C$4),1,1)","v":131.93662125719263},{"$f":"INDEX(coordonnées_cadran_plat($D275,K$10,$C$3,$C$2,$C$5,$C$6,0,0,$C$4),1,2)","v":-361.11743273515316},{"$f":"INDEX(coordonnées_cadran_plat($D275,M$10,$C$3,$C$2,$C$5,$C$6,0,0,$C$4),1,1)","v":170.0202623850611},{"$f":"INDEX(coordonnées_cadran_plat($D275,M$10,$C$3,$C$2,$C$5,$C$6,0,0,$C$4),1,2)","v":-200.23832649498331},{"$f":"INDEX(coordonnées_cadran_plat($D275,O$10,$C$3,$C$2,$C$5,$C$6,0,0,$C$4),1,1)","v":188.3485074381644},{"$f":"INDEX(coordonnées_cadran_plat($D275,O$10,$C$3,$C$2,$C$5,$C$6,0,0,$C$4),1,2)","v":-55.997785693563443},{"$f":"INDEX(coordonnées_cadran_plat($D275,Q$10,$C$3,$C$2,$C$5,$C$6,0,0,$C$4),1,1)","v":190.76085210671141},{"$f":"INDEX(coordonnées_cadran_plat($D275,Q$10,$C$3,$C$2,$C$5,$C$6,0,0,$C$4),1,2)","v":84.684802713614431},{"$f":"INDEX(coordonnées_cadran_plat($D275,S$10,$C$3,$C$2,$C$5,$C$6,0,0,$C$4),1,1)","v":177.10244859593541},{"$f":"INDEX(coordonnées_cadran_plat($D275,S$10,$C$3,$C$2,$C$5,$C$6,0,0,$C$4),1,2)","v":233.47993564959697},{"$f":"INDEX(coordonnées_cadran_plat($D275,U$10,$C$3,$C$2,$C$5,$C$6,0,0,$C$4),1,1)","v":143.03335810396354},{"$f":"INDEX(coordonnées_cadran_plat($D275,U$10,$C$3,$C$2,$C$5,$C$6,0,0,$C$4),1,2)","v":405.12900575775745},{"$f":"INDEX(coordonnées_cadran_plat($D275,W$10,$C$3,$C$2,$C$5,$C$6,0,0,$C$4),1,1)","v":76.86967754834896},{"$f":"INDEX(coordonnées_cadran_plat($D275,W$10,$C$3,$C$2,$C$5,$C$6,0,0,$C$4),1,2)","v":624.83149150816109}]
[null,31,12,"2010-12-31",{"$f":"INDEX(heures_limites_cadran($D276,$C$3,$C$2,$C$5),1,1)/24","v":"09:30:00"},{"$f":"INDEX(heures_limites_cadran($D276,$C$3,$C$2,$C$5),1,2)/24","v":"17:30:00"},{"$f":"INDEX(coordonnées_cadran_plat($D276,$G$10,$C$3,$C$2,$C$5,$C$6,0,0,$C$4),1,1)","v":-60.345879308529959},{"$f":"INDEX(coordonnées_cadran_plat($D276,$G$10,$C$3,$C$2,$C$5,$C$6,0,0,$C$4),1,2)","v":-839.37928260271394},{"$f":"INDEX(coordonnées_cadran_plat($D276,I$10,$C$3,$C$2,$C$5,$C$6,0,0,$C$4),1,1)","v":63.919979615375858},{"$f":"INDEX(coordonnées_cadran_plat($D276,I$10,$C$3,$C$2,$C$5,$C$6,0,0,$C$4),1,2)","v":-561.49456459423106},{"$f":"INDEX(coordonnées_cadran_plat($D276,K$10,$C$3,$C$2,$C$5,$C$6,0,0,$C$4),1,1)","v":132.32327145416946},{"$f":"INDEX(coordonnées_cadran_plat($D276,K$10,$C$3,$C$2,$C$5,$C$6,0,0,$C$4),1,2)","v":-362.93036574430045},{"$f":"INDEX(coordonnées_cadran_plat($D276,M$10,$C$3,$C$2,$C$5,$C$6,0,0,$C$4),1,1)","v":170.56267255623527},{"$f":"INDEX(coordonnées_cadran_plat($D276,M$10,$C$3,$C$2,$C$5,$C$6,0,0,$C$4),1,2)","v":-201.65647413287545},{"$f":"INDEX(coordonnées_cadran_plat($D276,O$10,$C$3,$C$2,$C$5,$C$6,0,0,$C$4),1,1)","v":189.01638061302063},{"$f":"INDEX(coordonnées_cadran_plat($D276,O$10,$C$3,$C$2,$C$5,$C$6,0,0,$C$4),1,2)","v":-57.194481491634434},{"$f":"INDEX(coordonnées_cadran_plat($D276,Q$10,$C$3,$C$2,$C$5,$C$6,0,0,$C$4),1,1)","v":191.56274071750732},{"$f":"INDEX(coordonnées_cadran_plat($D276,Q$10,$C$3,$C$2,$C$5,$C$6,0,0,$C$4),1,2)","v":83.605366830513631},{"$f":"INDEX(coordonnées_cadran_plat($D276,S$10,$C$3,$C$2,$C$5,$C$6,0,0,$C$4),1,1)","v":178.07807941877999},{"$f":"INDEX(coordonnées_cadran_plat($D276,S$10,$C$3,$C$2,$C$5,$C$6,0,0,$C$4),1,2)","v":232.44040865878898},{"$f":"INDEX(coordonnées_cadran_plat($D276,U$10,$C$3,$C$2,$C$5,$C$6,0,0,$C$4),1,1)","v":144.26475215453078},{"$f":"INDEX(coordonnées_cadran_plat($D276,U$10,$C$3,$C$2,$C$5,$C$6,0,0,$C$4),1,2)","v":404.05223722145956},{"$f":"INDEX(coordonnées_cadran_plat($D276,W$10,$C$3,$C$2,$C$5,$C$6,0,0,$C$4),1,1)","v":78.521030679646302},{"$f":"INDEX(coordonnées_cadran_plat($D276,W$10,$C$3,$C$2,$C$5,$C$6,0,0,$C$4),1,2)","v":623.60617421085874}]
[null,1,1,{"$f":"DATE($C$7,C277,B277)","v":"2010-01-01"},{"$f":"INDEX(heures_limites_cadran($D277,$C$3,$C$2,$C$5),1,1)/24","v":"09:30:00"},{"$f":"INDEX(heures_limites_cadran($D277,$C$3,$C$2,$C$5),1,2)/24","v":"17:30:00"},{"$f":"INDEX(coordonnées_cadran_plat($D277,$G$10,$C$3,$C$2,$C$5,$C$6,0,0,$C$4),1,1)","v":-60.870184032789858},{"$f":"INDEX(coordonnées_cadran_plat($D277,$G$10,$C$3,$C$2,$C$5,$C$6,0,0,$C$4),1,2)","v":-844.86270127453247},{"$f":"INDEX(coordonnées_cadran_plat($D277,I$10,$C$3,$C$2,$C$5,$C$6,0,0,$C$4),1,1)","v":64.175521616727693},{"$f":"INDEX(coordonnées_cadran_plat($D277,I$10,$C$3,$C$2,$C$5,$C$6,0,0,$C$4),1,2)","v":-564.87222789651742},{"$f":"INDEX(coordonnées_cadran_plat($D277,K$10,$C$3,$C$2,$C$5,$C$6,0,0,$C$4),1,1)","v":132.91438966635883},{"$f":"INDEX(coordonnées_cadran_plat($D277,K$10,$C$3,$C$2,$C$5,$C$6,0,0,$C$4),1,2)","v":-365.31392580979474},{"$f":"INDEX(coordonnées_cadran_plat($D277,M$10,$C$3,$C$2,$C$5,$C$6,0,0,$C$4),1,1)","v":171.34912743323085},{"$f":"INDEX(coordonnées_cadran_plat($D277,M$10,$C$3,$C$2,$C$5,$C$6,0,0,$C$4),1,2)","v":-203.50610639418295},{"$f":"INDEX(coordonnées_cadran_plat($D277,O$10,$C$3,$C$2,$C$5,$C$6,0,0,$C$4),1,1)","v":189.9614338631331},{"$f":"INDEX(coordonnées_cadran_plat($D277,O$10,$C$3,$C$2,$C$5,$C$6,0,0,$C$4),1,2)","v":-58.740676549774818},{"$f":"INDEX(coordonnées_cadran_plat($D277,Q$10,$C$3,$C$2,$C$5,$C$6,0,0,$C$4),1,1)","v":192.67977702091699},{"$f":"INDEX(coordonnées_cadran_plat($D277,Q$10,$C$3,$C$2,$C$5,$C$6,0,0,$C$4),1,2)","v":82.226578418608753},{"$f":"INDEX(coordonnées_cadran_plat($D277,S$10,$C$3,$C$2,$C$5,$C$6,0,0,$C$4),1,1)","v":179.42054780319546},{"$f":"INDEX(coordonnées_cadran_plat($D277,S$10,$C$3,$C$2,$C$5,$C$6,0,0,$C$4),1,2)","v":231.13170222064949},{"$f":"INDEX(coordonnées_cadran_plat($D277,U$10,$C$3,$C$2,$C$5,$C$6,0,0,$C$4),1,1)","v":145.94029094083189},{"$f":"INDEX(coordonnées_cadran_plat($D277,U$10,$C$3,$C$2,$C$5,$C$6,0,0,$C$4),1,2)","v":402.72212670769187},{"$f":"INDEX(coordonnées_cadran_plat($D277,W$10,$C$3,$C$2,$C$5,$C$6,0,0,$C$4),1,1)","v":80.741746663709066},{"$f":"INDEX(coordonnées_cadran_plat($D277,W$10,$C$3,$C$2,$C$5,$C$6,0,0,$C$4),1,2)","v":622.13092450008799}]
[null,2,1,{"$f":"DATE($C$7,C278,B278)","v":"2010-01-02"},{"$f":"INDEX(heures_limites_cadran($D278,$C$3,$C$2,$C$5),1,1)/24","v":"09:30:00"},{"$f":"INDEX(heures_limites_cadran($D278,$C$3,$C$2,$C$5),1,2)/24","v":"17:30:00"},{"$f":"INDEX(coordonnées_cadran_plat($D278,$G$10,$C$3,$C$2,$C$5,$C$6,0,0,$C$4),1,1)","v":-61.117587263210105},{"$f":"INDEX(coordonnées_cadran_plat($D278,$G$10,$C$3,$C$2,$C$5,$C$6,0,0,$C$4),1,2)","v":-849.33323214429811},{"$f":"INDEX(coordonnées_cadran_plat($D278,I$10,$C$3,$C$2,$C$5,$C$6,0,0,$C$4),1,1)","v":64.522324866222405},{"$f":"INDEX(coordonnées_cadran_plat($D278,I$10,$C$3,$C$2,$C$5,$C$6,0,0,$C$4),1,2)","v":-567.59726555134966},{"$f":"INDEX(coordonnées_cadran_plat($D278,K$10,$C$3,$C$2,$C$5,$C$6,0,0,$C$4),1,1)","v":133.50891813544598},{"$f":"INDEX(coordonnées_cadran_plat($D278,K$10,$C$3,$C$2,$C$5,$C$6,0,0,$C$4),1,2)","v":-367.21452349869304},{"$f":"INDEX(coordonnées_cadran_plat($D278,M$10,$C$3,$C$2,$C$5,$C$6,0,0,$C$4),1,1)","v":172.08620218177433},{"$f":"INDEX(coordonnées_cadran_plat($D278,M$10,$C$3,$C$2,$C$5,$C$6,0,0,$C$4),1,2)","v":-204.96056333949898},{"$f":"INDEX(coordonnées_cadran_plat($D278,O$10,$C$3,$C$2,$C$5,$C$6,0,0,$C$4),1,1)","v":190.81654947608448},{"$f":"INDEX(coordonnées_cadran_plat($D278,O$10,$C$3,$C$2,$C$5,$C$6,0,0,$C$4),1,2)","v":-59.935789815402337},{"$f":"INDEX(coordonnées_cadran_plat($D278,Q$10,$C$3,$C$2,$C$5,$C$6,0,0,$C$4),1,1)","v":193.66700384422222},{"$f":"INDEX(coordonnées_cadran_plat($D278,Q$10,$C$3,$C$2,$C$5,$C$6,0,0,$C$4),1,2)","v":81.184075529463271},{"$f":"INDEX(coordonnées_cadran_plat($D278,S$10,$C$3,$C$2,$C$5,$C$6,0,0,$C$4),1,1)","v":180.58470712196851},{"$f":"INDEX(coordonnées_cadran_plat($D278,S$10,$C$3,$C$2,$C$5,$C$6,0,0,$C$4),1,2)","v":230.17078268129913},{"$f":"INDEX(coordonnées_cadran_plat($D278,U$10,$C$3,$C$2,$C$5,$C$6,0,0,$C$4),1,1)","v":147.36767235103324},{"$f":"INDEX(coordonnées_cadran_plat($D278,U$10,$C$3,$C$2,$C$5,$C$6,0,0,$C$4),1,2)","v":401.78455597211382},{"$f":"INDEX(coordonnées_cadran_plat($D278,W$10,$C$3,$C$2,$C$5,$C$6,0,0,$C$4),1,1)","v":82.597448374006945},{"$f":"INDEX(coordonnées_cadran_plat($D278,W$10,$C$3,$C$2,$C$5,$C$6,0,0,$C$4),1,2)","v":621.1513782653692}]
[null,3,1,"2010-01-03",{"$f":"INDEX(heures_limites_cadran($D279,$C$3,$C$2,$C$5),1,1)/24","v":"09:30:00"},{"$f":"INDEX(heures_limites_cadran($D279,$C$3,$C$2,$C$5),1,2)/24","v":"17:30:00"},{"$f":"INDEX(coordonnées_cadran_plat($D279,$G$10,$C$3,$C$2,$C$5,$C$6,0,0,$C$4),1,1)","v":-61.255935181935371},{"$f":"INDEX(coordonnées_cadran_plat($D279,$G$10,$C$3,$C$2,$C$5,$C$6,0,0,$C$4),1,2)","v":-853.96229213801894},{"$f":"INDEX(coordonnées_cadran_plat($D279,I$10,$C$3,$C$2,$C$5,$C$6,0,0,$C$4),1,1)","v":64.97131508489845},{"$f":"INDEX(coordonnées_cadran_plat($D279,I$10,$C$3,$C$2,$C$5,$C$6,0,0,$C$4),1,2)","v":-570.39802384603286},{"$f":"INDEX(coordonnées_cadran_plat($D279,K$10,$C$3,$C$2,$C$5,$C$6,0,0,$C$4),1,1)","v":134.19680701086696},{"$f":"INDEX(coordonnées_cadran_plat($D279,K$10,$C$3,$C$2,$C$5,$C$6,0,0,$C$4),1,2)","v":-369.15228380852011},{"$f":"INDEX(coordonnées_cadran_plat($D279,M$10,$C$3,$C$2,$C$5,$C$6,0,0,$C$4),1,1)","v":172.9102091090644},{"$f":"INDEX(coordonnées_cadran_plat($D279,M$10,$C$3,$C$2,$C$5,$C$6,0,0,$C$4),1,2)","v":-206.42947483264692},{"$f":"INDEX(coordonnées_cadran_plat($D279,O$10,$C$3,$C$2,$C$5,$C$6,0,0,$C$4),1,1)","v":191.75491550977117},{"$f":"INDEX(coordonnées_cadran_plat($D279,O$10,$C$3,$C$2,$C$5,$C$6,0,0,$C$4),1,2)","v":-61.12862279613757},{"$f":"INDEX(coordonnées_cadran_plat($D279,Q$10,$C$3,$C$2,$C$5,$C$6,0,0,$C$4),1,1)","v":194.73633416955568},{"$f":"INDEX(coordonnées_cadran_plat($D279,Q$10,$C$3,$C$2,$C$5,$C$6,0,0,$C$4),1,2)","v":80.159500020201762},{"$f":"INDEX(coordonnées_cadran_plat($D279,S$10,$C$3,$C$2,$C$5,$C$6,0,0,$C$4),1,1)","v":181.83211805533091},{"$f":"INDEX(coordonnées_cadran_plat($D279,S$10,$C$3,$C$2,$C$5,$C$6,0,0,$C$4),1,2)","v":229.24629647587},{"$f":"INDEX(coordonnées_cadran_plat($D279,U$10,$C$3,$C$2,$C$5,$C$6,0,0,$C$4),1,1)","v":148.88135165139363},{"$f":"INDEX(coordonnées_cadran_plat($D279,U$10,$C$3,$C$2,$C$5,$C$6,0,0,$C$4),1,2)","v":400.91038187798478},{"$f":"INDEX(coordonnées_cadran_plat($D279,W$10,$C$3,$C$2,$C$5,$C$6,0,0,$C$4),1,1)","v":84.542899390515458},{"$f":"INDEX(coordonnées_cadran_plat($D279,W$10,$C$3,$C$2,$C$5,$C$6,0,0,$C$4),1,2)","v":620.28267442278616}]
[null,4,1,"2010-01-04",{"$f":"INDEX(heures_limites_cadran($D280,$C$3,$C$2,$C$5),1,1)/24","v":"09:30:00"},{"$f":"INDEX(heures_limites_cadran($D280,$C$3,$C$2,$C$5),1,2)/24","v":"17:30:00"},{"$f":"INDEX(coordonnées_cadran_plat($D280,$G$10,$C$3,$C$2,$C$5,$C$6,0,0,$C$4),1,1)","v":-61.283279362207871},{"$f":"INDEX(coordonnées_cadran_plat($D280,$G$10,$C$3,$C$2,$C$5,$C$6,0,0,$C$4),1,2)","v":-858.74964038080122},{"$f":"INDEX(coordonnées_cadran_plat($D280,I$10,$C$3,$C$2,$C$5,$C$6,0,0,$C$4),1,1)","v":65.52352684252908},{"$f":"INDEX(coordonnées_cadran_plat($D280,I$10,$C$3,$C$2,$C$5,$C$6,0,0,$C$4),1,2)","v":-573.27351572476755},{"$f":"INDEX(coordonnées_cadran_plat($D280,K$10,$C$3,$C$2,$C$5,$C$6,0,0,$C$4),1,1)","v":134.97855377659621},{"$f":"INDEX(coordonnées_cadran_plat($D280,K$10,$C$3,$C$2,$C$5,$C$6,0,0,$C$4),1,2)","v":-371.1261673969542},{"$f":"INDEX(coordonnées_cadran_plat($D280,M$10,$C$3,$C$2,$C$5,$C$6,0,0,$C$4),1,1)","v":173.82131478537494},{"$f":"INDEX(coordonnées_cadran_plat($D280,M$10,$C$3,$C$2,$C$5,$C$6,0,0,$C$4),1,2)","v":-207.91186453478898},{"$f":"INDEX(coordonnées_cadran_plat($D280,O$10,$C$3,$C$2,$C$5,$C$6,0,0,$C$4),1,1)","v":192.77647173912308},{"$f":"INDEX(coordonnées_cadran_plat($D280,O$10,$C$3,$C$2,$C$5,$C$6,0,0,$C$4),1,2)","v":-62.31826575340699},{"$f":"INDEX(coordonnées_cadran_plat($D280,Q$10,$C$3,$C$2,$C$5,$C$6,0,0,$C$4),1,1)","v":195.88753096343027},{"$f":"INDEX(coordonnées_cadran_plat($D280,Q$10,$C$3,$C$2,$C$5,$C$6,0,0,$C$4),1,2)","v":79.153715543575217},{"$f":"INDEX(coordonnées_cadran_plat($D280,S$10,$C$3,$C$2,$C$5,$C$6,0,0,$C$4),1,1)","v":183.16238645717397},{"$f":"INDEX(coordonnées_cadran_plat($D280,S$10,$C$3,$C$2,$C$5,$C$6,0,0,$C$4),1,2)","v":228.35908722643956},{"$f":"INDEX(coordonnées_cadran_plat($D280,U$10,$C$3,$C$2,$C$5,$C$6,0,0,$C$4),1,1)","v":150.48078128732399},{"$f":"INDEX(coordonnées_cadran_plat($D280,U$10,$C$3,$C$2,$C$5,$C$6,0,0,$C$4),1,2)","v":400.10045729655621},{"$f":"INDEX(coordonnées_cadran_plat($D280,W$10,$C$3,$C$2,$C$5,$C$6,0,0,$C$4),1,1)","v":86.577408067503356},{"$f":"INDEX(coordonnées_cadran_plat($D280,W$10,$C$3,$C$2,$C$5,$C$6,0,0,$C$4),1,2)","v":619.5257109596821}]
[null,5,1,"2010-01-05",{"$f":"INDEX(heures_limites_cadran($D281,$C$3,$C$2,$C$5),1,1)/24","v":"09:30:00"},{"$f":"INDEX(heures_limites_cadran($D281,$C$3,$C$2,$C$5),1,2)/24","v":"17:30:00"},{"$f":"INDEX(coordonnées_cadran_plat($D281,$G$10,$C$3,$C$2,$C$5,$C$6,0,0,$C$4),1,1)","v":-61.197639001151273},{"$f":"INDEX(coordonnées_cadran_plat($D281,$G$10,$C$3,$C$2,$C$5,$C$6,0,0,$C$4),1,2)","v":-863.69504982634521},{"$f":"INDEX(coordonnées_cadran_plat($D281,I$10,$C$3,$C$2,$C$5,$C$6,0,0,$C$4),1,1)","v":66.179991973749907},{"$f":"INDEX(coordonnées_cadran_plat($D281,I$10,$C$3,$C$2,$C$5,$C$6,0,0,$C$4),1,2)","v":-576.22274760279583},{"$f":"INDEX(coordonnées_cadran_plat($D281,K$10,$C$3,$C$2,$C$5,$C$6,0,0,$C$4),1,1)","v":135.85464191892552},{"$f":"INDEX(coordonnées_cadran_plat($D281,K$10,$C$3,$C$2,$C$5,$C$6,0,0,$C$4),1,2)","v":-373.13513268445962},{"$f":"INDEX(coordonnées_cadran_plat($D281,M$10,$C$3,$C$2,$C$5,$C$6,0,0,$C$4),1,1)","v":174.81966973557203},{"$f":"INDEX(coordonnées_cadran_plat($D281,M$10,$C$3,$C$2,$C$5,$C$6,0,0,$C$4),1,2)","v":-209.40676012438158},{"$f":"INDEX(coordonnées_cadran_plat($D281,O$10,$C$3,$C$2,$C$5,$C$6,0,0,$C$4),1,1)","v":193.88114407186953},{"$f":"INDEX(coordonnées_cadran_plat($D281,O$10,$C$3,$C$2,$C$5,$C$6,0,0,$C$4),1,2)","v":-63.503818474131108},{"$f":"INDEX(coordonnées_cadran_plat($D281,Q$10,$C$3,$C$2,$C$5,$C$6,0,0,$C$4),1,1)","v":197.12034843299824},{"$f":"INDEX(coordonnées_cadran_plat($D281,Q$10,$C$3,$C$2,$C$5,$C$6,0,0,$C$4),1,2)","v":78.167571706799535},{"$f":"INDEX(coordonnées_cadran_plat($D281,S$10,$C$3,$C$2,$C$5,$C$6,0,0,$C$4),1,1)","v":184.57511800522991},{"$f":"INDEX(coordonnées_cadran_plat($D281,S$10,$C$3,$C$2,$C$5,$C$6,0,0,$C$4),1,2)","v":227.50998148458532},{"$f":"INDEX(coordonnées_cadran_plat($D281,U$10,$C$3,$C$2,$C$5,$C$6,0,0,$C$4),1,1)","v":152.16542789172394},{"$f":"INDEX(coordonnées_cadran_plat($D281,U$10,$C$3,$C$2,$C$5,$C$6,0,0,$C$4),1,2)","v":399.35561903680019},{"$f":"INDEX(coordonnées_cadran_plat($D281,W$10,$C$3,$C$2,$C$5,$C$6,0,0,$C$4),1,1)","v":88.700322239958027},{"$f":"INDEX(coordonnées_cadran_plat($D281,W$10,$C$3,$C$2,$C$5,$C$6,0,0,$C$4),1,2)","v":618.88138534842767}]
[null,6,1,"2010-01-06",{"$f":"INDEX(heures_limites_cadran($D282,$C$3,$C$2,$C$5),1,1)/24","v":"09:30:00"},{"$f":"INDEX(heures_limites_cadran($D282,$C$3,$C$2,$C$5),1,2)/24","v":"17:30:00"},{"$f":"INDEX(coordonnées_cadran_plat($D282,$G$10,$C$3,$C$2,$C$5,$C$6,0,0,$C$4),1,1)","v":-60.997002040180142},{"$f":"INDEX(coordonnées_cadran_plat($D282,$G$10,$C$3,$C$2,$C$5,$C$6,0,0,$C$4),1,2)","v":-868.7983075942941},{"$f":"INDEX(coordonnées_cadran_plat($D282,I$10,$C$3,$C$2,$C$5,$C$6,0,0,$C$4),1,1)","v":66.941738497098058},{"$f":"INDEX(coordonnées_cadran_plat($D282,I$10,$C$3,$C$2,$C$5,$C$6,0,0,$C$4),1,2)","v":-579.24472018582344},{"$f":"INDEX(coordonnées_cadran_plat($D282,K$10,$C$3,$C$2,$C$5,$C$6,0,0,$C$4),1,1)","v":136.82554039595018},{"$f":"INDEX(coordonnées_cadran_plat($D282,K$10,$C$3,$C$2,$C$5,$C$6,0,0,$C$4),1,2)","v":-375.17813691440301},{"$f":"INDEX(coordonnées_cadran_plat($D282,M$10,$C$3,$C$2,$C$5,$C$6,0,0,$C$4),1,1)","v":175.90540841167899},{"$f":"INDEX(coordonnées_cadran_plat($D282,M$10,$C$3,$C$2,$C$5,$C$6,0,0,$C$4),1,2)","v":-210.91319434036831},{"$f":"INDEX(coordonnées_cadran_plat($D282,O$10,$C$3,$C$2,$C$5,$C$6,0,0,$C$4),1,1)","v":195.06884492577319},{"$f":"INDEX(coordonnées_cadran_plat($D282,O$10,$C$3,$C$2,$C$5,$C$6,0,0,$C$4),1,2)","v":-64.684391176624246},{"$f":"INDEX(coordonnées_cadran_plat($D282,Q$10,$C$3,$C$2,$C$5,$C$6,0,0,$C$4),1,1)","v":198.43453273574397},{"$f":"INDEX(coordonnées_cadran_plat($D282,Q$10,$C$3,$C$2,$C$5,$C$6,0,0,$C$4),1,2)","v":77.201903382339992},{"$f":"INDEX(coordonnées_cadran_plat($D282,S$10,$C$3,$C$2,$C$5,$C$6,0,0,$C$4),1,1)","v":186.06991919599818},{"$f":"INDEX(coordonnées_cadran_plat($D282,S$10,$C$3,$C$2,$C$5,$C$6,0,0,$C$4),1,2)","v":226.6997883627586},{"$f":"INDEX(coordonnées_cadran_plat($D282,U$10,$C$3,$C$2,$C$5,$C$6,0,0,$C$4),1,1)","v":153.93477352325013},{"$f":"INDEX(coordonnées_cadran_plat($D282,U$10,$C$3,$C$2,$C$5,$C$6,0,0,$C$4),1,2)","v":398.67668800305569},{"$f":"INDEX(coordonnées_cadran_plat($D282,W$10,$C$3,$C$2,$C$5,$C$6,0,0,$C$4),1,1)","v":90.911030629032737},{"$f":"INDEX(coordonnées_cadran_plat($D282,W$10,$C$3,$C$2,$C$5,$C$6,0,0,$C$4),1,2)","v":618.35059572844136}]
[null,7,1,"2010-01-07",{"$f":"INDEX(heures_limites_cadran($D283,$C$3,$C$2,$C$5),1,1)/24","v":"09:30:00"},{"$f":"INDEX(heures_limites_cadran($D283,$C$3,$C$2,$C$5),1,2)/24","v":"17:30:00"},{"$f":"INDEX(coordonnées_cadran_plat($D283,$G$10,$C$3,$C$2,$C$5,$C$6,0,0,$C$4),1,1)","v":-60.679326272930858},{"$f":"INDEX(coordonnées_cadran_plat($D283,$G$10,$C$3,$C$2,$C$5,$C$6,0,0,$C$4),1,2)","v":-874.05921544742},{"$f":"INDEX(coordonnées_cadran_plat($D283,I$10,$C$3,$C$2,$C$5,$C$6,0,0,$C$4),1,1)","v":67.809789568779905},{"$f":"INDEX(coordonnées_cadran_plat($D283,I$10,$C$3,$C$2,$C$5,$C$6,0,0,$C$4),1,2)","v":-582.33842935971802},{"$f":"INDEX(coordonnées_cadran_plat($D283,K$10,$C$3,$C$2,$C$5,$C$6,0,0,$C$4),1,1)","v":137.89170315440393},{"$f":"INDEX(coordonnées_cadran_plat($D283,K$10,$C$3,$C$2,$C$5,$C$6,0,0,$C$4),1,2)","v":-377.25413724342962},{"$f":"INDEX(coordonnées_cadran_plat($D283,M$10,$C$3,$C$2,$C$5,$C$6,0,0,$C$4),1,1)","v":177.07864921156636},{"$f":"INDEX(coordonnées_cadran_plat($D283,M$10,$C$3,$C$2,$C$5,$C$6,0,0,$C$4),1,2)","v":-212.43020602902419},{"$f":"INDEX(coordonnées_cadran_plat($D283,O$10,$C$3,$C$2,$C$5,$C$6,0,0,$C$4),1,1)","v":196.33947364339363},{"$f":"INDEX(coordonnées_cadran_plat($D283,O$10,$C$3,$C$2,$C$5,$C$6,0,0,$C$4),1,2)","v":-65.859105401387083},{"$f":"INDEX(coordonnées_cadran_plat($D283,Q$10,$C$3,$C$2,$C$5,$C$6,0,0,$C$4),1,1)","v":199.82982271392541},{"$f":"INDEX(coordonnées_cadran_plat($D283,Q$10,$C$3,$C$2,$C$5,$C$6,0,0,$C$4),1,2)","v":76.257530046646195},{"$f":"INDEX(coordonnées_cadran_plat($D283,S$10,$C$3,$C$2,$C$5,$C$6,0,0,$C$4),1,1)","v":187.64639834931882},{"$f":"INDEX(coordonnées_cadran_plat($D283,S$10,$C$3,$C$2,$C$5,$C$6,0,0,$C$4),1,2)","v":225.92929920174188},{"$f":"INDEX(coordonnées_cadran_plat($D283,U$10,$C$3,$C$2,$C$5,$C$6,0,0,$C$4),1,1)","v":155.78831689972449},{"$f":"INDEX(coordonnées_cadran_plat($D283,U$10,$C$3,$C$2,$C$5,$C$6,0,0,$C$4),1,2)","v":398.06446939407954},{"$f":"INDEX(coordonnées_cadran_plat($D283,W$10,$C$3,$C$2,$C$5,$C$6,0,0,$C$4),1,1)","v":93.208964242115499},{"$f":"INDEX(coordonnées_cadran_plat($D283,W$10,$C$3,$C$2,$C$5,$C$6,0,0,$C$4),1,2)","v":617.93424213834271}]
[null,8,1,"2010-01-08",{"$f":"INDEX(heures_limites_cadran($D284,$C$3,$C$2,$C$5),1,1)/24","v":"09:30:00"},{"$f":"INDEX(heures_limites_cadran($D284,$C$3,$C$2,$C$5),1,2)/24","v":"17:30:00"},{"$f":"INDEX(coordonnées_cadran_plat($D284,$G$10,$C$3,$C$2,$C$5,$C$6,0,0,$C$4),1,1)","v":-60.242540437192602},{"$f":"INDEX(coordonnées_cadran_plat($D284,$G$10,$C$3,$C$2,$C$5,$C$6,0,0,$C$4),1,2)","v":-879.47759041205904},{"$f":"INDEX(coordonnées_cadran_plat($D284,I$10,$C$3,$C$2,$C$5,$C$6,0,0,$C$4),1,1)","v":68.785162473932544},{"$f":"INDEX(coordonnées_cadran_plat($D284,I$10,$C$3,$C$2,$C$5,$C$6,0,0,$C$4),1,2)","v":-585.50286715044967},{"$f":"INDEX(coordonnées_cadran_plat($D284,K$10,$C$3,$C$2,$C$5,$C$6,0,0,$C$4),1,1)","v":139.05356869504271},{"$f":"INDEX(coordonnées_cadran_plat($D284,K$10,$C$3,$C$2,$C$5,$C$6,0,0,$C$4),1,2)","v":-379.36209186125154},{"$f":"INDEX(coordonnées_cadran_plat($D284,M$10,$C$3,$C$2,$C$5,$C$6,0,0,$C$4),1,1)","v":178.33949454374726},{"$f":"INDEX(coordonnées_cadran_plat($D284,M$10,$C$3,$C$2,$C$5,$C$6,0,0,$C$4),1,2)","v":-213.95684119233877},{"$f":"INDEX(coordonnées_cadran_plat($D284,O$10,$C$3,$C$2,$C$5,$C$6,0,0,$C$4),1,1)","v":197.69291694327106},{"$f":"INDEX(coordonnées_cadran_plat($D284,O$10,$C$3,$C$2,$C$5,$C$6,0,0,$C$4),1,2)","v":-67.02709488528231},{"$f":"INDEX(coordonnées_cadran_plat($D284,Q$10,$C$3,$C$2,$C$5,$C$6,0,0,$C$4),1,1)","v":201.30595065206211},{"$f":"INDEX(coordonnées_cadran_plat($D284,Q$10,$C$3,$C$2,$C$5,$C$6,0,0,$C$4),1,2)","v":75.335255147422203},{"$f":"INDEX(coordonnées_cadran_plat($D284,S$10,$C$3,$C$2,$C$5,$C$6,0,0,$C$4),1,1)","v":189.30416662079315},{"$f":"INDEX(coordonnées_cadran_plat($D284,S$10,$C$3,$C$2,$C$5,$C$6,0,0,$C$4),1,2)","v":225.19928727379141},{"$f":"INDEX(coordonnées_cadran_plat($D284,U$10,$C$3,$C$2,$C$5,$C$6,0,0,$C$4),1,1)","v":157.72557462593281},{"$f":"INDEX(coordonnées_cadran_plat($D284,U$10,$C$3,$C$2,$C$5,$C$6,0,0,$C$4),1,2)","v":397.51975294086066},{"$f":"INDEX(coordonnées_cadran_plat($D284,W$10,$C$3,$C$2,$C$5,$C$6,0,0,$C$4),1,1)","v":95.593597768353476},{"$f":"INDEX(coordonnées_cadran_plat($D284,W$10,$C$3,$C$2,$C$5,$C$6,0,0,$C$4),1,2)","v":617.63322779712121}]
[null,9,1,"2010-01-09",{"$f":"INDEX(heures_limites_cadran($D285,$C$3,$C$2,$C$5),1,1)/24","v":"09:30:00"},{"$f":"INDEX(heures_limites_cadran($D285,$C$3,$C$2,$C$5),1,2)/24","v":"17:30:00"},{"$f":"INDEX(coordonnées_cadran_plat($D285,$G$10,$C$3,$C$2,$C$5,$C$6,0,0,$C$4),1,1)","v":-59.684545287390577},{"$f":"INDEX(coordonnées_cadran_plat($D285,$G$10,$C$3,$C$2,$C$5,$C$6,0,0,$C$4),1,2)","v":-885.05326554619103},{"$f":"INDEX(coordonnées_cadran_plat($D285,I$10,$C$3,$C$2,$C$5,$C$6,0,0,$C$4),1,1)","v":69.868867658360315},{"$f":"INDEX(coordonnées_cadran_plat($D285,I$10,$C$3,$C$2,$C$5,$C$6,0,0,$C$4),1,2)","v":-588.73702275344976},{"$f":"INDEX(coordonnées_cadran_plat($D285,K$10,$C$3,$C$2,$C$5,$C$6,0,0,$C$4),1,1)","v":140.31155968794866},{"$f":"INDEX(coordonnées_cadran_plat($D285,K$10,$C$3,$C$2,$C$5,$C$6,0,0,$C$4),1,2)","v":-381.50096113771434},{"$f":"INDEX(coordonnées_cadran_plat($D285,M$10,$C$3,$C$2,$C$5,$C$6,0,0,$C$4),1,1)","v":179.6880309381103},{"$f":"INDEX(coordonnées_cadran_plat($D285,M$10,$C$3,$C$2,$C$5,$C$6,0,0,$C$4),1,2)","v":-215.49215403636043},{"$f":"INDEX(coordonnées_cadran_plat($D285,O$10,$C$3,$C$2,$C$5,$C$6,0,0,$C$4),1,1)","v":199.12904940636386},{"$f":"INDEX(coordonnées_cadran_plat($D285,O$10,$C$3,$C$2,$C$5,$C$6,0,0,$C$4),1,2)","v":-68.187506418087835},{"$f":"INDEX(coordonnées_cadran_plat($D285,Q$10,$C$3,$C$2,$C$5,$C$6,0,0,$C$4),1,1)","v":202.8626430557288},{"$f":"INDEX(coordonnées_cadran_plat($D285,Q$10,$C$3,$C$2,$C$5,$C$6,0,0,$C$4),1,2)","v":74.435865499942864},{"$f":"INDEX(coordonnées_cadran_plat($D285,S$10,$C$3,$C$2,$C$5,$C$6,0,0,$C$4),1,1)","v":191.04283902020862},{"$f":"INDEX(coordonnées_cadran_plat($D285,S$10,$C$3,$C$2,$C$5,$C$6,0,0,$C$4),1,2)","v":224.51050752127222},{"$f":"INDEX(coordonnées_cadran_plat($D285,U$10,$C$3,$C$2,$C$5,$C$6,0,0,$C$4),1,1)","v":159.74608241452668},{"$f":"INDEX(coordonnées_cadran_plat($D285,U$10,$C$3,$C$2,$C$5,$C$6,0,0,$C$4),1,2)","v":397.04331318248245},{"$f":"INDEX(coordonnées_cadran_plat($D285,W$10,$C$3,$C$2,$C$5,$C$6,0,0,$C$4),1,1)","v":98.064450970840724},{"$f":"INDEX(coordonnées_cadran_plat($D285,W$10,$C$3,$C$2,$C$5,$C$6,0,0,$C$4),1,2)","v":617.44846043260475}]
[null,10,1,"2010-01-10",{"$f":"INDEX(heures_limites_cadran($D286,$C$3,$C$2,$C$5),1,1)/24","v":"09:30:00"},{"$f":"INDEX(heures_limites_cadran($D286,$C$3,$C$2,$C$5),1,2)/24","v":"17:30:00"},{"$f":"INDEX(coordonnées_cadran_plat($D286,$G$10,$C$3,$C$2,$C$5,$C$6,0,0,$C$4),1,1)","v":-59.00321464364238},{"$f":"INDEX(coordonnées_cadran_plat($D286,$G$10,$C$3,$C$2,$C$5,$C$6,0,0,$C$4),1,2)","v":-890.7860908590319},{"$f":"INDEX(coordonnées_cadran_plat($D286,I$10,$C$3,$C$2,$C$5,$C$6,0,0,$C$4),1,1)","v":71.061907803597961},{"$f":"INDEX(coordonnées_cadran_plat($D286,I$10,$C$3,$C$2,$C$5,$C$6,0,0,$C$4),1,2)","v":-592.03988363200961},{"$f":"INDEX(coordonnées_cadran_plat($D286,K$10,$C$3,$C$2,$C$5,$C$6,0,0,$C$4),1,1)","v":141.66608263914961},{"$f":"INDEX(coordonnées_cadran_plat($D286,K$10,$C$3,$C$2,$C$5,$C$6,0,0,$C$4),1,2)","v":-383.66970879441226},{"$f":"INDEX(coordonnées_cadran_plat($D286,M$10,$C$3,$C$2,$C$5,$C$6,0,0,$C$4),1,1)","v":181.12432920235955},{"$f":"INDEX(coordonnées_cadran_plat($D286,M$10,$C$3,$C$2,$C$5,$C$6,0,0,$C$4),1,2)","v":-217.03520801720788},{"$f":"INDEX(coordonnées_cadran_plat($D286,O$10,$C$3,$C$2,$C$5,$C$6,0,0,$C$4),1,1)","v":200.64773399648982},{"$f":"INDEX(coordonnées_cadran_plat($D286,O$10,$C$3,$C$2,$C$5,$C$6,0,0,$C$4),1,2)","v":-69.3395006794279},{"$f":"INDEX(coordonnées_cadran_plat($D286,Q$10,$C$3,$C$2,$C$5,$C$6,0,0,$C$4),1,1)","v":204.49962144987276},{"$f":"INDEX(coordonnées_cadran_plat($D286,Q$10,$C$3,$C$2,$C$5,$C$6,0,0,$C$4),1,2)","v":73.560130713013038},{"$f":"INDEX(coordonnées_cadran_plat($D286,S$10,$C$3,$C$2,$C$5,$C$6,0,0,$C$4),1,1)","v":192.86203543429127},{"$f":"INDEX(coordonnées_cadran_plat($D286,S$10,$C$3,$C$2,$C$5,$C$6,0,0,$C$4),1,2)","v":223.86369632998063},{"$f":"INDEX(coordonnées_cadran_plat($D286,U$10,$C$3,$C$2,$C$5,$C$6,0,0,$C$4),1,1)","v":161.84939629906492},{"$f":"INDEX(coordonnées_cadran_plat($D286,U$10,$C$3,$C$2,$C$5,$C$6,0,0,$C$4),1,2)","v":396.63590977867653},{"$f":"INDEX(coordonnées_cadran_plat($D286,W$10,$C$3,$C$2,$C$5,$C$6,0,0,$C$4),1,1)","v":100.62109007653385},{"$f":"INDEX(coordonnées_cadran_plat($D286,W$10,$C$3,$C$2,$C$5,$C$6,0,0,$C$4),1,2)","v":617.38085365638437}]
[null,11,1,"2010-01-11",{"$f":"INDEX(heures_limites_cadran($D287,$C$3,$C$2,$C$5),1,1)/24","v":"09:30:00"},{"$f":"INDEX(heures_limites_cadran($D287,$C$3,$C$2,$C$5),1,2)/24","v":"17:30:00"},{"$f":"INDEX(coordonnées_cadran_plat($D287,$G$10,$C$3,$C$2,$C$5,$C$6,0,0,$C$4),1,1)","v":-58.196396412885633},{"$f":"INDEX(coordonnées_cadran_plat($D287,$G$10,$C$3,$C$2,$C$5,$C$6,0,0,$C$4),1,2)","v":-896.67593438543338},{"$f":"INDEX(coordonnées_cadran_plat($D287,I$10,$C$3,$C$2,$C$5,$C$6,0,0,$C$4),1,1)","v":72.365276948271784},{"$f":"INDEX(coordonnées_cadran_plat($D287,I$10,$C$3,$C$2,$C$5,$C$6,0,0,$C$4),1,2)","v":-595.41043668359839},{"$f":"INDEX(coordonnées_cadran_plat($D287,K$10,$C$3,$C$2,$C$5,$C$6,0,0,$C$4),1,1)","v":143.11752760934351},{"$f":"INDEX(coordonnées_cadran_plat($D287,K$10,$C$3,$C$2,$C$5,$C$6,0,0,$C$4),1,2)","v":-385.86730310010392},{"$f":"INDEX(coordonnées_cadran_plat($D287,M$10,$C$3,$C$2,$C$5,$C$6,0,0,$C$4),1,1)","v":182.64844462375459},{"$f":"INDEX(coordonnées_cadran_plat($D287,M$10,$C$3,$C$2,$C$5,$C$6,0,0,$C$4),1,2)","v":-218.5850768830295},{"$f":"INDEX(coordonnées_cadran_plat($D287,O$10,$C$3,$C$2,$C$5,$C$6,0,0,$C$4),1,1)","v":202.2488226133971},{"$f":"INDEX(coordonnées_cadran_plat($D287,O$10,$C$3,$C$2,$C$5,$C$6,0,0,$C$4),1,2)","v":-70.482253055481209},{"$f":"INDEX(coordonnées_cadran_plat($D287,Q$10,$C$3,$C$2,$C$5,$C$6,0,0,$C$4),1,1)","v":206.21660319488655},{"$f":"INDEX(coordonnées_cadran_plat($D287,Q$10,$C$3,$C$2,$C$5,$C$6,0,0,$C$4),1,2)","v":72.708802644704633},{"$f":"INDEX(coordonnées_cadran_plat($D287,S$10,$C$3,$C$2,$C$5,$C$6,0,0,$C$4),1,1)","v":194.76138165204023},{"$f":"INDEX(coordonnées_cadran_plat($D287,S$10,$C$3,$C$2,$C$5,$C$6,0,0,$C$4),1,2)","v":223.25957133667205},{"$f":"INDEX(coordonnées_cadran_plat($D287,U$10,$C$3,$C$2,$C$5,$C$6,0,0,$C$4),1,1)","v":164.03509383841691},{"$f":"INDEX(coordonnées_cadran_plat($D287,U$10,$C$3,$C$2,$C$5,$C$6,0,0,$C$4),1,2)","v":396.29828785705359},{"$f":"INDEX(coordonnées_cadran_plat($D287,W$10,$C$3,$C$2,$C$5,$C$6,0,0,$C$4),1,1)","v":103.26312916523827},{"$f":"INDEX(coordonnées_cadran_plat($D287,W$10,$C$3,$C$2,$C$5,$C$6,0,0,$C$4),1,2)","v":617.431328383964}]
[null,12,1,"2010-01-12",{"$f":"INDEX(heures_limites_cadran($D288,$C$3,$C$2,$C$5),1,1)/24","v":"09:30:00"},{"$f":"INDEX(heures_limites_cadran($D288,$C$3,$C$2,$C$5),1,2)/24","v":"17:30:00"},{"$f":"INDEX(coordonnées_cadran_plat($D288,$G$10,$C$3,$C$2,$C$5,$C$6,0,0,$C$4),1,1)","v":-57.261913578378859},{"$f":"INDEX(coordonnées_cadran_plat($D288,$G$10,$C$3,$C$2,$C$5,$C$6,0,0,$C$4),1,2)","v":-902.72268342111852},{"$f":"INDEX(coordonnées_cadran_plat($D288,I$10,$C$3,$C$2,$C$5,$C$6,0,0,$C$4),1,1)","v":73.779959658642468},{"$f":"INDEX(coordonnées_cadran_plat($D288,I$10,$C$3,$C$2,$C$5,$C$6,0,0,$C$4),1,2)","v":-598.84766947319292},{"$f":"INDEX(coordonnées_cadran_plat($D288,K$10,$C$3,$C$2,$C$5,$C$6,0,0,$C$4),1,1)","v":144.6662679859906},{"$f":"INDEX(coordonnées_cadran_plat($D288,K$10,$C$3,$C$2,$C$5,$C$6,0,0,$C$4),1,2)","v":-388.09271808657462},{"$f":"INDEX(coordonnées_cadran_plat($D288,M$10,$C$3,$C$2,$C$5,$C$6,0,0,$C$4),1,1)","v":184.26041721562814},{"$f":"INDEX(coordonnées_cadran_plat($D288,M$10,$C$3,$C$2,$C$5,$C$6,0,0,$C$4),1,2)","v":-220.14084571002473},{"$f":"INDEX(coordonnées_cadran_plat($D288,O$10,$C$3,$C$2,$C$5,$C$6,0,0,$C$4),1,1)","v":203.93215667707148},{"$f":"INDEX(coordonnées_cadran_plat($D288,O$10,$C$3,$C$2,$C$5,$C$6,0,0,$C$4),1,2)","v":-71.614954433958516},{"$f":"INDEX(coordonnées_cadran_plat($D288,Q$10,$C$3,$C$2,$C$5,$C$6,0,0,$C$4),1,1)","v":208.01330231856178},{"$f":"INDEX(coordonnées_cadran_plat($D288,Q$10,$C$3,$C$2,$C$5,$C$6,0,0,$C$4),1,2)","v":71.882614888522028},{"$f":"INDEX(coordonnées_cadran_plat($D288,S$10,$C$3,$C$2,$C$5,$C$6,0,0,$C$4),1,1)","v":196.74051039096153},{"$f":"INDEX(coordonnées_cadran_plat($D288,S$10,$C$3,$C$2,$C$5,$C$6,0,0,$C$4),1,2)","v":222.69883127008629},{"$f":"INDEX(coordonnées_cadran_plat($D288,U$10,$C$3,$C$2,$C$5,$C$6,0,0,$C$4),1,1)","v":166.30277531166215},{"$f":"INDEX(coordonnées_cadran_plat($D288,U$10,$C$3,$C$2,$C$5,$C$6,0,0,$C$4),1,2)","v":396.03117839396373},{"$f":"INDEX(coordonnées_cadran_plat($D288,W$10,$C$3,$C$2,$C$5,$C$6,0,0,$C$4),1,1)","v":105.99023155913541},{"$f":"INDEX(coordonnées_cadran_plat($D288,W$10,$C$3,$C$2,$C$5,$C$6,0,0,$C$4),1,2)","v":617.60081429907962}]
[null,13,1,"2010-01-13",{"$f":"INDEX(heures_limites_cadran($D289,$C$3,$C$2,$C$5),1,1)/24","v":"09:30:00"},{"$f":"INDEX(heures_limites_cadran($D289,$C$3,$C$2,$C$5),1,2)/24","v":"17:30:00"},{"$f":"INDEX(coordonnées_cadran_plat($D289,$G$10,$C$3,$C$2,$C$5,$C$6,0,0,$C$4),1,1)","v":-56.197565151916208},{"$f":"INDEX(coordonnées_cadran_plat($D289,$G$10,$C$3,$C$2,$C$5,$C$6,0,0,$C$4),1,2)","v":-908.92624592056666},{"$f":"INDEX(coordonnées_cadran_plat($D289,I$10,$C$3,$C$2,$C$5,$C$6,0,0,$C$4),1,1)","v":75.306930251247721},{"$f":"INDEX(coordonnées_cadran_plat($D289,I$10,$C$3,$C$2,$C$5,$C$6,0,0,$C$4),1,2)","v":-602.35057153237176},{"$f":"INDEX(coordonnées_cadran_plat($D289,K$10,$C$3,$C$2,$C$5,$C$6,0,0,$C$4),1,1)","v":146.31266030942652},{"$f":"INDEX(coordonnées_cadran_plat($D289,K$10,$C$3,$C$2,$C$5,$C$6,0,0,$C$4),1,2)","v":-390.34493478372474},{"$f":"INDEX(coordonnées_cadran_plat($D289,M$10,$C$3,$C$2,$C$5,$C$6,0,0,$C$4),1,1)","v":185.96027200808669},{"$f":"INDEX(coordonnées_cadran_plat($D289,M$10,$C$3,$C$2,$C$5,$C$6,0,0,$C$4),1,2)","v":-221.70161193049933},{"$f":"INDEX(coordonnées_cadran_plat($D289,O$10,$C$3,$C$2,$C$5,$C$6,0,0,$C$4),1,1)","v":205.69756774176241},{"$f":"INDEX(coordonnées_cadran_plat($D289,O$10,$C$3,$C$2,$C$5,$C$6,0,0,$C$4),1,2)","v":-72.736811976093364},{"$f":"INDEX(coordonnées_cadran_plat($D289,Q$10,$C$3,$C$2,$C$5,$C$6,0,0,$C$4),1,1)","v":209.88943036215611},{"$f":"INDEX(coordonnées_cadran_plat($D289,Q$10,$C$3,$C$2,$C$5,$C$6,0,0,$C$4),1,2)","v":71.082282289798314},{"$f":"INDEX(coordonnées_cadran_plat($D289,S$10,$C$3,$C$2,$C$5,$C$6,0,0,$C$4),1,1)","v":198.79906232259526},{"$f":"INDEX(coordonnées_cadran_plat($D289,S$10,$C$3,$C$2,$C$5,$C$6,0,0,$C$4),1,2)","v":222.18215582466399},{"$f":"INDEX(coordonnées_cadran_plat($D289,U$10,$C$3,$C$2,$C$5,$C$6,0,0,$C$4),1,1)","v":168.65206490276643},{"$f":"INDEX(coordonnées_cadran_plat($D289,U$10,$C$3,$C$2,$C$5,$C$6,0,0,$C$4),1,2)","v":395.83529862715091},{"$f":"INDEX(coordonnées_cadran_plat($D289,W$10,$C$3,$C$2,$C$5,$C$6,0,0,$C$4),1,1)","v":108.80211121441259},{"$f":"INDEX(coordonnées_cadran_plat($D289,W$10,$C$3,$C$2,$C$5,$C$6,0,0,$C$4),1,2)","v":617.89025136132727}]
[null,14,1,"2010-01-14",{"$f":"INDEX(heures_limites_cadran($D290,$C$3,$C$2,$C$5),1,1)/24","v":"09:30:00"},{"$f":"INDEX(heures_limites_cadran($D290,$C$3,$C$2,$C$5),1,2)/24","v":"17:30:00"},{"$f":"INDEX(coordonnées_cadran_plat($D290,$G$10,$C$3,$C$2,$C$5,$C$6,0,0,$C$4),1,1)","v":-55.001127084223562},{"$f":"INDEX(coordonnées_cadran_plat($D290,$G$10,$C$3,$C$2,$C$5,$C$6,0,0,$C$4),1,2)","v":-915.2865520632015},{"$f":"INDEX(coordonnées_cadran_plat($D290,I$10,$C$3,$C$2,$C$5,$C$6,0,0,$C$4),1,1)","v":76.947152070406446},{"$f":"INDEX(coordonnées_cadran_plat($D290,I$10,$C$3,$C$2,$C$5,$C$6,0,0,$C$4),1,2)","v":-605.91813572304125},{"$f":"INDEX(coordonnées_cadran_plat($D290,K$10,$C$3,$C$2,$C$5,$C$6,0,0,$C$4),1,1)","v":148.05704415390937},{"$f":"INDEX(coordonnées_cadran_plat($D290,K$10,$C$3,$C$2,$C$5,$C$6,0,0,$C$4),1,2)","v":-392.62294247065444},{"$f":"INDEX(coordonnées_cadran_plat($D290,M$10,$C$3,$C$2,$C$5,$C$6,0,0,$C$4),1,1)","v":187.74801938211348},{"$f":"INDEX(coordonnées_cadran_plat($D290,M$10,$C$3,$C$2,$C$5,$C$6,0,0,$C$4),1,2)","v":-223.26648635128828},{"$f":"INDEX(coordonnées_cadran_plat($D290,O$10,$C$3,$C$2,$C$5,$C$6,0,0,$C$4),1,1)","v":207.54487813815692},{"$f":"INDEX(coordonnées_cadran_plat($D290,O$10,$C$3,$C$2,$C$5,$C$6,0,0,$C$4),1,2)","v":-73.847049864933197},{"$f":"INDEX(coordonnées_cadran_plat($D290,Q$10,$C$3,$C$2,$C$5,$C$6,0,0,$C$4),1,1)","v":211.84469723870475},{"$f":"INDEX(coordonnées_cadran_plat($D290,Q$10,$C$3,$C$2,$C$5,$C$6,0,0,$C$4),1,2)","v":70.308500492607436},{"$f":"INDEX(coordonnées_cadran_plat($D290,S$10,$C$3,$C$2,$C$5,$C$6,0,0,$C$4),1,1)","v":200.93668709573052},{"$f":"INDEX(coordonnées_cadran_plat($D290,S$10,$C$3,$C$2,$C$5,$C$6,0,0,$C$4),1,2)","v":221.71020556605882},{"$f":"INDEX(coordonnées_cadran_plat($D290,U$10,$C$3,$C$2,$C$5,$C$6,0,0,$C$4),1,1)","v":171.08261187444495},{"$f":"INDEX(coordonnées_cadran_plat($D290,U$10,$C$3,$C$2,$C$5,$C$6,0,0,$C$4),1,2)","v":395.71135249882246},{"$f":"INDEX(coordonnées_cadran_plat($D290,W$10,$C$3,$C$2,$C$5,$C$6,0,0,$C$4),1,1)","v":111.69853411651067},{"$f":"INDEX(coordonnées_cadran_plat($D290,W$10,$C$3,$C$2,$C$5,$C$6,0,0,$C$4),1,2)","v":618.30059135662714}]
[null,15,1,"2010-01-15",{"$f":"INDEX(heures_limites_cadran($D291,$C$3,$C$2,$C$5),1,1)/24","v":"09:30:00"},{"$f":"INDEX(heures_limites_cadran($D291,$C$3,$C$2,$C$5),1,2)/24","v":"17:30:00"},{"$f":"INDEX(coordonnées_cadran_plat($D291,$G$10,$C$3,$C$2,$C$5,$C$6,0,0,$C$4),1,1)","v":-53.670353128132589},{"$f":"INDEX(coordonnées_cadran_plat($D291,$G$10,$C$3,$C$2,$C$5,$C$6,0,0,$C$4),1,2)","v":-921.80355599159191},{"$f":"INDEX(coordonnées_cadran_plat($D291,I$10,$C$3,$C$2,$C$5,$C$6,0,0,$C$4),1,1)","v":78.701576823525542},{"$f":"INDEX(coordonnées_cadran_plat($D291,I$10,$C$3,$C$2,$C$5,$C$6,0,0,$C$4),1,2)","v":-609.54935966391577},{"$f":"INDEX(coordonnées_cadran_plat($D291,K$10,$C$3,$C$2,$C$5,$C$6,0,0,$C$4),1,1)","v":149.89974206396806},{"$f":"INDEX(coordonnées_cadran_plat($D291,K$10,$C$3,$C$2,$C$5,$C$6,0,0,$C$4),1,2)","v":-394.92573994160023},{"$f":"INDEX(coordonnées_cadran_plat($D291,M$10,$C$3,$C$2,$C$5,$C$6,0,0,$C$4),1,1)","v":189.6236554462252},{"$f":"INDEX(coordonnées_cadran_plat($D291,M$10,$C$3,$C$2,$C$5,$C$6,0,0,$C$4),1,2)","v":-224.83459416047847},{"$f":"INDEX(coordonnées_cadran_plat($D291,O$10,$C$3,$C$2,$C$5,$C$6,0,0,$C$4),1,1)","v":209.47390164208966},{"$f":"INDEX(coordonnées_cadran_plat($D291,O$10,$C$3,$C$2,$C$5,$C$6,0,0,$C$4),1,2)","v":-74.944910028930934},{"$f":"INDEX(coordonnées_cadran_plat($D291,Q$10,$C$3,$C$2,$C$5,$C$6,0,0,$C$4),1,1)","v":213.87881210169141},{"$f":"INDEX(coordonnées_cadran_plat($D291,Q$10,$C$3,$C$2,$C$5,$C$6,0,0,$C$4),1,2)","v":69.561945517299506},{"$f":"INDEX(coordonnées_cadran_plat($D291,S$10,$C$3,$C$2,$C$5,$C$6,0,0,$C$4),1,1)","v":203.15304435574012},{"$f":"INDEX(coordonnées_cadran_plat($D291,S$10,$C$3,$C$2,$C$5,$C$6,0,0,$C$4),1,2)","v":221.28362186770875},{"$f":"INDEX(coordonnées_cadran_plat($D291,U$10,$C$3,$C$2,$C$5,$C$6,0,0,$C$4),1,1)","v":173.59409173066265},{"$f":"INDEX(coordonnées_cadran_plat($D291,U$10,$C$3,$C$2,$C$5,$C$6,0,0,$C$4),1,2)","v":395.66003112719869},{"$f":"INDEX(coordonnées_cadran_plat($D291,W$10,$C$3,$C$2,$C$5,$C$6,0,0,$C$4),1,1)","v":114.67931968121061},{"$f":"INDEX(coordonnées_cadran_plat($D291,W$10,$C$3,$C$2,$C$5,$C$6,0,0,$C$4),1,2)","v":618.83279948874565}]
[null,16,1,"2010-01-16",{"$f":"INDEX(heures_limites_cadran($D292,$C$3,$C$2,$C$5),1,1)/24","v":"09:30:00"},{"$f":"INDEX(heures_limites_cadran($D292,$C$3,$C$2,$C$5),1,2)/24","v":"18:00:00"},{"$f":"INDEX(coordonnées_cadran_plat($D292,$G$10,$C$3,$C$2,$C$5,$C$6,0,0,$C$4),1,1)","v":-52.202975648777546},{"$f":"INDEX(coordonnées_cadran_plat($D292,$G$10,$C$3,$C$2,$C$5,$C$6,0,0,$C$4),1,2)","v":-928.4772377256154},{"$f":"INDEX(coordonnées_cadran_plat($D292,I$10,$C$3,$C$2,$C$5,$C$6,0,0,$C$4),1,1)","v":80.571143976719},{"$f":"INDEX(coordonnées_cadran_plat($D292,I$10,$C$3,$C$2,$C$5,$C$6,0,0,$C$4),1,2)","v":-613.24324721884773},{"$f":"INDEX(coordonnées_cadran_plat($D292,K$10,$C$3,$C$2,$C$5,$C$6,0,0,$C$4),1,1)","v":151.84105954668004},{"$f":"INDEX(coordonnées_cadran_plat($D292,K$10,$C$3,$C$2,$C$5,$C$6,0,0,$C$4),1,2)","v":-397.25233678349156},{"$f":"INDEX(coordonnées_cadran_plat($D292,M$10,$C$3,$C$2,$C$5,$C$6,0,0,$C$4),1,1)","v":191.58716245468403},{"$f":"INDEX(coordonnées_cadran_plat($D292,M$10,$C$3,$C$2,$C$5,$C$6,0,0,$C$4),1,2)","v":-226.40507592103381},{"$f":"INDEX(coordonnées_cadran_plat($D292,O$10,$C$3,$C$2,$C$5,$C$6,0,0,$C$4),1,1)","v":211.48444416805975},{"$f":"INDEX(coordonnées_cadran_plat($D292,O$10,$C$3,$C$2,$C$5,$C$6,0,0,$C$4),1,2)","v":-76.029652839552568},{"$f":"INDEX(coordonnées_cadran_plat($D292,Q$10,$C$3,$C$2,$C$5,$C$6,0,0,$C$4),1,1)","v":215.9914842222899},{"$f":"INDEX(coordonnées_cadran_plat($D292,Q$10,$C$3,$C$2,$C$5,$C$6,0,0,$C$4),1,2)","v":68.843273368300871},{"$f":"INDEX(coordonnées_cadran_plat($D292,S$10,$C$3,$C$2,$C$5,$C$6,0,0,$C$4),1,1)","v":205.44780475861947},{"$f":"INDEX(coordonnées_cadran_plat($D292,S$10,$C$3,$C$2,$C$5,$C$6,0,0,$C$4),1,2)","v":220.90302687711855},{"$f":"INDEX(coordonnées_cadran_plat($D292,U$10,$C$3,$C$2,$C$5,$C$6,0,0,$C$4),1,1)","v":176.18620736719345},{"$f":"INDEX(coordonnées_cadran_plat($D292,U$10,$C$3,$C$2,$C$5,$C$6,0,0,$C$4),1,2)","v":395.6820133054722},{"$f":"INDEX(coordonnées_cadran_plat($D292,W$10,$C$3,$C$2,$C$5,$C$6,0,0,$C$4),1,1)","v":117.74434216289134},{"$f":"INDEX(coordonnées_cadran_plat($D292,W$10,$C$3,$C$2,$C$5,$C$6,0,0,$C$4),1,2)","v":619.48785601283885}]
[null,17,1,"2010-01-17",{"$f":"INDEX(heures_limites_cadran($D293,$C$3,$C$2,$C$5),1,1)/24","v":"09:30:00"},{"$f":"INDEX(heures_limites_cadran($D293,$C$3,$C$2,$C$5),1,2)/24","v":"18:00:00"},{"$f":"INDEX(coordonnées_cadran_plat($D293,$G$10,$C$3,$C$2,$C$5,$C$6,0,0,$C$4),1,1)","v":-50.596706375121741},{"$f":"INDEX(coordonnées_cadran_plat($D293,$G$10,$C$3,$C$2,$C$5,$C$6,0,0,$C$4),1,2)","v":-935.30760525721541},{"$f":"INDEX(coordonnées_cadran_plat($D293,I$10,$C$3,$C$2,$C$5,$C$6,0,0,$C$4),1,1)","v":82.556780213666457},{"$f":"INDEX(coordonnées_cadran_plat($D293,I$10,$C$3,$C$2,$C$5,$C$6,0,0,$C$4),1,2)","v":-616.9988100443544},{"$f":"INDEX(coordonnées_cadran_plat($D293,K$10,$C$3,$C$2,$C$5,$C$6,0,0,$C$4),1,1)","v":153.88128512013805},{"$f":"INDEX(coordonnées_cadran_plat($D293,K$10,$C$3,$C$2,$C$5,$C$6,0,0,$C$4),1,2)","v":-399.60175466300853},{"$f":"INDEX(coordonnées_cadran_plat($D293,M$10,$C$3,$C$2,$C$5,$C$6,0,0,$C$4),1,1)","v":193.6385092661678},{"$f":"INDEX(coordonnées_cadran_plat($D293,M$10,$C$3,$C$2,$C$5,$C$6,0,0,$C$4),1,2)","v":-227.97708854941095},{"$f":"INDEX(coordonnées_cadran_plat($D293,O$10,$C$3,$C$2,$C$5,$C$6,0,0,$C$4),1,1)","v":213.57630448584544},{"$f":"INDEX(coordonnées_cadran_plat($D293,O$10,$C$3,$C$2,$C$5,$C$6,0,0,$C$4),1,2)","v":-77.100557782817887},{"$f":"INDEX(coordonnées_cadran_plat($D293,Q$10,$C$3,$C$2,$C$5,$C$6,0,0,$C$4),1,1)","v":218.18242387329286},{"$f":"INDEX(coordonnées_cadran_plat($D293,Q$10,$C$3,$C$2,$C$5,$C$6,0,0,$C$4),1,2)","v":68.153119672217812},{"$f":"INDEX(coordonnées_cadran_plat($D293,S$10,$C$3,$C$2,$C$5,$C$6,0,0,$C$4),1,1)","v":207.82065097815649},{"$f":"INDEX(coordonnées_cadran_plat($D293,S$10,$C$3,$C$2,$C$5,$C$6,0,0,$C$4),1,2)","v":220.5690235111702},{"$f":"INDEX(coordonnées_cadran_plat($D293,U$10,$C$3,$C$2,$C$5,$C$6,0,0,$C$4),1,1)","v":178.85869021000988},{"$f":"INDEX(coordonnées_cadran_plat($D293,U$10,$C$3,$C$2,$C$5,$C$6,0,0,$C$4),1,2)","v":395.77796602588654},{"$f":"INDEX(coordonnées_cadran_plat($D293,W$10,$C$3,$C$2,$C$5,$C$6,0,0,$C$4),1,1)","v":120.89353207246364},{"$f":"INDEX(coordonnées_cadran_plat($D293,W$10,$C$3,$C$2,$C$5,$C$6,0,0,$C$4),1,2)","v":620.26675790910735}]
[null,18,1,"2010-01-18",{"$f":"INDEX(heures_limites_cadran($D294,$C$3,$C$2,$C$5),1,1)/24","v":"09:30:00"},{"$f":"INDEX(heures_limites_cadran($D294,$C$3,$C$2,$C$5),1,2)/24","v":"18:00:00"},{"$f":"INDEX(coordonnées_cadran_plat($D294,$G$10,$C$3,$C$2,$C$5,$C$6,0,0,$C$4),1,1)","v":-48.849237086467419},{"$f":"INDEX(coordonnées_cadran_plat($D294,$G$10,$C$3,$C$2,$C$5,$C$6,0,0,$C$4),1,2)","v":-942.2946968294176},{"$f":"INDEX(coordonnées_cadran_plat($D294,I$10,$C$3,$C$2,$C$5,$C$6,0,0,$C$4),1,1)","v":84.659398960126339},{"$f":"INDEX(coordonnées_cadran_plat($D294,I$10,$C$3,$C$2,$C$5,$C$6,0,0,$C$4),1,2)","v":-620.81506919509218},{"$f":"INDEX(coordonnées_cadran_plat($D294,K$10,$C$3,$C$2,$C$5,$C$6,0,0,$C$4),1,1)","v":156.02069041821053},{"$f":"INDEX(coordonnées_cadran_plat($D294,K$10,$C$3,$C$2,$C$5,$C$6,0,0,$C$4),1,2)","v":-401.9730286210459},{"$f":"INDEX(coordonnées_cadran_plat($D294,M$10,$C$3,$C$2,$C$5,$C$6,0,0,$C$4),1,1)","v":195.77765184171025},{"$f":"INDEX(coordonnées_cadran_plat($D294,M$10,$C$3,$C$2,$C$5,$C$6,0,0,$C$4),1,2)","v":-229.54980627723239},{"$f":"INDEX(coordonnées_cadran_plat($D294,O$10,$C$3,$C$2,$C$5,$C$6,0,0,$C$4),1,1)","v":215.74927495838537},{"$f":"INDEX(coordonnées_cadran_plat($D294,O$10,$C$3,$C$2,$C$5,$C$6,0,0,$C$4),1,2)","v":-78.156924103325025},{"$f":"INDEX(coordonnées_cadran_plat($D294,Q$10,$C$3,$C$2,$C$5,$C$6,0,0,$C$4),1,1)","v":220.45134321788288},{"$f":"INDEX(coordonnées_cadran_plat($D294,Q$10,$C$3,$C$2,$C$5,$C$6,0,0,$C$4),1,2)","v":67.492099345995541},{"$f":"INDEX(coordonnées_cadran_plat($D294,S$10,$C$3,$C$2,$C$5,$C$6,0,0,$C$4),1,1)","v":210.27127870492453},{"$f":"INDEX(coordonnées_cadran_plat($D294,S$10,$C$3,$C$2,$C$5,$C$6,0,0,$C$4),1,2)","v":220.28219547912497},{"$f":"INDEX(coordonnées_cadran_plat($D294,U$10,$C$3,$C$2,$C$5,$C$6,0,0,$C$4),1,1)","v":181.61130134096231},{"$f":"INDEX(coordonnées_cadran_plat($D294,U$10,$C$3,$C$2,$C$5,$C$6,0,0,$C$4),1,2)","v":395.94854502791702},{"$f":"INDEX(coordonnées_cadran_plat($D294,W$10,$C$3,$C$2,$C$5,$C$6,0,0,$C$4),1,1)","v":124.12687760683464},{"$f":"INDEX(coordonnées_cadran_plat($D294,W$10,$C$3,$C$2,$C$5,$C$6,0,0,$C$4),1,2)","v":621.17052059701132}]
[null,19,1,"2010-01-19",{"$f":"INDEX(heures_limites_cadran($D295,$C$3,$C$2,$C$5),1,1)/24","v":"09:30:00"},{"$f":"INDEX(heures_limites_cadran($D295,$C$3,$C$2,$C$5),1,2)/24","v":"18:00:00"},{"$f":"INDEX(coordonnées_cadran_plat($D295,$G$10,$C$3,$C$2,$C$5,$C$6,0,0,$C$4),1,1)","v":-46.95824022771064},{"$f":"INDEX(coordonnées_cadran_plat($D295,$G$10,$C$3,$C$2,$C$5,$C$6,0,0,$C$4),1,2)","v":-949.43858340422958},{"$f":"INDEX(coordonnées_cadran_plat($D295,I$10,$C$3,$C$2,$C$5,$C$6,0,0,$C$4),1,1)","v":86.879899976591886},{"$f":"INDEX(coordonnées_cadran_plat($D295,I$10,$C$3,$C$2,$C$5,$C$6,0,0,$C$4),1,2)","v":-624.69105678508924},{"$f":"INDEX(coordonnées_cadran_plat($D295,K$10,$C$3,$C$2,$C$5,$C$6,0,0,$C$4),1,1)","v":158.25953035163784},{"$f":"INDEX(coordonnées_cadran_plat($D295,K$10,$C$3,$C$2,$C$5,$C$6,0,0,$C$4),1,2)","v":-404.36520837192728},{"$f":"INDEX(coordonnées_cadran_plat($D295,M$10,$C$3,$C$2,$C$5,$C$6,0,0,$C$4),1,1)","v":198.00453378056625},{"$f":"INDEX(coordonnées_cadran_plat($D295,M$10,$C$3,$C$2,$C$5,$C$6,0,0,$C$4),1,2)","v":-231.12242159505095},{"$f":"INDEX(coordonnées_cadran_plat($D295,O$10,$C$3,$C$2,$C$5,$C$6,0,0,$C$4),1,1)","v":218.00314229908886},{"$f":"INDEX(coordonnées_cadran_plat($D295,O$10,$C$3,$C$2,$C$5,$C$6,0,0,$C$4),1,2)","v":-79.198071420954264},{"$f":"INDEX(coordonnées_cadran_plat($D295,Q$10,$C$3,$C$2,$C$5,$C$6,0,0,$C$4),1,1)","v":222.79795720143647},{"$f":"INDEX(coordonnées_cadran_plat($D295,Q$10,$C$3,$C$2,$C$5,$C$6,0,0,$C$4),1,2)","v":66.86080629443525},{"$f":"INDEX(coordonnées_cadran_plat($D295,S$10,$C$3,$C$2,$C$5,$C$6,0,0,$C$4),1,1)","v":212.79939763570616},{"$f":"INDEX(coordonnées_cadran_plat($D295,S$10,$C$3,$C$2,$C$5,$C$6,0,0,$C$4),1,2)","v":220.04310733216664},{"$f":"INDEX(coordonnées_cadran_plat($D295,U$10,$C$3,$C$2,$C$5,$C$6,0,0,$C$4),1,1)","v":184.4438326107022},{"$f":"INDEX(coordonnées_cadran_plat($D295,U$10,$C$3,$C$2,$C$5,$C$6,0,0,$C$4),1,2)","v":396.19439536825638},{"$f":"INDEX(coordonnées_cadran_plat($D295,W$10,$C$3,$C$2,$C$5,$C$6,0,0,$C$4),1,1)","v":127.44442609225455},{"$f":"INDEX(coordonnées_cadran_plat($D295,W$10,$C$3,$C$2,$C$5,$C$6,0,0,$C$4),1,2)","v":622.20017968921343}]
[null,20,1,"2010-01-20",{"$f":"INDEX(heures_limites_cadran($D296,$C$3,$C$2,$C$5),1,1)/24","v":"09:30:00"},{"$f":"INDEX(heures_limites_cadran($D296,$C$3,$C$2,$C$5),1,2)/24","v":"18:00:00"},{"$f":"INDEX(coordonnées_cadran_plat($D296,$G$10,$C$3,$C$2,$C$5,$C$6,0,0,$C$4),1,1)","v":-44.92136944649279},{"$f":"INDEX(coordonnées_cadran_plat($D296,$G$10,$C$3,$C$2,$C$5,$C$6,0,0,$C$4),1,2)","v":-956.73937132317155},{"$f":"INDEX(coordonnées_cadran_plat($D296,I$10,$C$3,$C$2,$C$5,$C$6,0,0,$C$4),1,1)","v":89.219169021556056},{"$f":"INDEX(coordonnées_cadran_plat($D296,I$10,$C$3,$C$2,$C$5,$C$6,0,0,$C$4),1,2)","v":-628.62581770239228},{"$f":"INDEX(coordonnées_cadran_plat($D296,K$10,$C$3,$C$2,$C$5,$C$6,0,0,$C$4),1,1)","v":160.59804332538482},{"$f":"INDEX(coordonnées_cadran_plat($D296,K$10,$C$3,$C$2,$C$5,$C$6,0,0,$C$4),1,2)","v":-406.7773596048915},{"$f":"INDEX(coordonnées_cadran_plat($D296,M$10,$C$3,$C$2,$C$5,$C$6,0,0,$C$4),1,1)","v":200.31908689260482},{"$f":"INDEX(coordonnées_cadran_plat($D296,M$10,$C$3,$C$2,$C$5,$C$6,0,0,$C$4),1,2)","v":-232.6941461761588},{"$f":"INDEX(coordonnées_cadran_plat($D296,O$10,$C$3,$C$2,$C$5,$C$6,0,0,$C$4),1,1)","v":220.33768834670283},{"$f":"INDEX(coordonnées_cadran_plat($D296,O$10,$C$3,$C$2,$C$5,$C$6,0,0,$C$4),1,2)","v":-80.223340318882876},{"$f":"INDEX(coordonnées_cadran_plat($D296,Q$10,$C$3,$C$2,$C$5,$C$6,0,0,$C$4),1,1)","v":225.22198444448765},{"$f":"INDEX(coordonnées_cadran_plat($D296,Q$10,$C$3,$C$2,$C$5,$C$6,0,0,$C$4),1,2)","v":66.259813137345219},{"$f":"INDEX(coordonnées_cadran_plat($D296,S$10,$C$3,$C$2,$C$5,$C$6,0,0,$C$4),1,1)","v":215.40473245202523},{"$f":"INDEX(coordonnées_cadran_plat($D296,S$10,$C$3,$C$2,$C$5,$C$6,0,0,$C$4),1,2)","v":219.85230453823942},{"$f":"INDEX(coordonnées_cadran_plat($D296,U$10,$C$3,$C$2,$C$5,$C$6,0,0,$C$4),1,1)","v":187.35610773837882},{"$f":"INDEX(coordonnées_cadran_plat($D296,U$10,$C$3,$C$2,$C$5,$C$6,0,0,$C$4),1,2)","v":396.51615201164657},{"$f":"INDEX(coordonnées_cadran_plat($D296,W$10,$C$3,$C$2,$C$5,$C$6,0,0,$C$4),1,1)","v":130.84628544373746},{"$f":"INDEX(coordonnées_cadran_plat($D296,W$10,$C$3,$C$2,$C$5,$C$6,0,0,$C$4),1,2)","v":623.35679278567034}]
[null,21,1,"2010-01-21",{"$f":"INDEX(heures_limites_cadran($D297,$C$3,$C$2,$C$5),1,1)/24","v":"09:30:00"},{"$f":"INDEX(heures_limites_cadran($D297,$C$3,$C$2,$C$5),1,2)/24","v":"18:00:00"},{"$f":"INDEX(coordonnées_cadran_plat($D297,$G$10,$C$3,$C$2,$C$5,$C$6,0,0,$C$4),1,1)","v":-42.736260045445341},{"$f":"INDEX(coordonnées_cadran_plat($D297,$G$10,$C$3,$C$2,$C$5,$C$6,0,0,$C$4),1,2)","v":-964.19720516497625},{"$f":"INDEX(coordonnées_cadran_plat($D297,I$10,$C$3,$C$2,$C$5,$C$6,0,0,$C$4),1,1)","v":91.678077587602189},{"$f":"INDEX(coordonnées_cadran_plat($D297,I$10,$C$3,$C$2,$C$5,$C$6,0,0,$C$4),1,2)","v":-632.61841137502449},{"$f":"INDEX(coordonnées_cadran_plat($D297,K$10,$C$3,$C$2,$C$5,$C$6,0,0,$C$4),1,1)","v":163.03645151184162},{"$f":"INDEX(coordonnées_cadran_plat($D297,K$10,$C$3,$C$2,$C$5,$C$6,0,0,$C$4),1,2)","v":-409.20856528570386},{"$f":"INDEX(coordonnées_cadran_plat($D297,M$10,$C$3,$C$2,$C$5,$C$6,0,0,$C$4),1,1)","v":202.72123180569881},{"$f":"INDEX(coordonnées_cadran_plat($D297,M$10,$C$3,$C$2,$C$5,$C$6,0,0,$C$4),1,2)","v":-234.26421177921122},{"$f":"INDEX(coordonnées_cadran_plat($D297,O$10,$C$3,$C$2,$C$5,$C$6,0,0,$C$4),1,1)","v":222.75269085578734},{"$f":"INDEX(coordonnées_cadran_plat($D297,O$10,$C$3,$C$2,$C$5,$C$6,0,0,$C$4),1,2)","v":-81.232092903273823},{"$f":"INDEX(coordonnées_cadran_plat($D297,Q$10,$C$3,$C$2,$C$5,$C$6,0,0,$C$4),1,1)","v":227.72314813513228},{"$f":"INDEX(coordonnées_cadran_plat($D297,Q$10,$C$3,$C$2,$C$5,$C$6,0,0,$C$4),1,2)","v":65.689670964898326},{"$f":"INDEX(coordonnées_cadran_plat($D297,S$10,$C$3,$C$2,$C$5,$C$6,0,0,$C$4),1,1)","v":218.08702378651404},{"$f":"INDEX(coordonnées_cadran_plat($D297,S$10,$C$3,$C$2,$C$5,$C$6,0,0,$C$4),1,2)","v":219.71031358112182},{"$f":"INDEX(coordonnées_cadran_plat($D297,U$10,$C$3,$C$2,$C$5,$C$6,0,0,$C$4),1,1)","v":190.34798339818238},{"$f":"INDEX(coordonnées_cadran_plat($D297,U$10,$C$3,$C$2,$C$5,$C$6,0,0,$C$4),1,2)","v":396.91444044019346},{"$f":"INDEX(coordonnées_cadran_plat($D297,W$10,$C$3,$C$2,$C$5,$C$6,0,0,$C$4),1,1)","v":134.33262564310112},{"$f":"INDEX(coordonnées_cadran_plat($D297,W$10,$C$3,$C$2,$C$5,$C$6,0,0,$C$4),1,2)","v":624.64144130710929}]
[null,22,1,"2010-01-22",{"$f":"INDEX(heures_limites_cadran($D298,$C$3,$C$2,$C$5),1,1)/24","v":"09:30:00"},{"$f":"INDEX(heures_limites_cadran($D298,$C$3,$C$2,$C$5),1,2)/24","v":"18:00:00"},{"$f":"INDEX(coordonnées_cadran_plat($D298,$G$10,$C$3,$C$2,$C$5,$C$6,0,0,$C$4),1,1)","v":-40.400529342300402},{"$f":"INDEX(coordonnées_cadran_plat($D298,$G$10,$C$3,$C$2,$C$5,$C$6,0,0,$C$4),1,2)","v":-971.8122708045961},{"$f":"INDEX(coordonnées_cadran_plat($D298,I$10,$C$3,$C$2,$C$5,$C$6,0,0,$C$4),1,1)","v":94.25748271248392},{"$f":"INDEX(coordonnées_cadran_plat($D298,I$10,$C$3,$C$2,$C$5,$C$6,0,0,$C$4),1,2)","v":-636.66791358567866},{"$f":"INDEX(coordonnées_cadran_plat($D298,K$10,$C$3,$C$2,$C$5,$C$6,0,0,$C$4),1,1)","v":165.57496117951288},{"$f":"INDEX(coordonnées_cadran_plat($D298,K$10,$C$3,$C$2,$C$5,$C$6,0,0,$C$4),1,2)","v":-411.65792695596042},{"$f":"INDEX(coordonnées_cadran_plat($D298,M$10,$C$3,$C$2,$C$5,$C$6,0,0,$C$4),1,1)","v":205.21087860650175},{"$f":"INDEX(coordonnées_cadran_plat($D298,M$10,$C$3,$C$2,$C$5,$C$6,0,0,$C$4),1,2)","v":-235.831871128112},{"$f":"INDEX(coordonnées_cadran_plat($D298,O$10,$C$3,$C$2,$C$5,$C$6,0,0,$C$4),1,1)","v":225.24792430086279},{"$f":"INDEX(coordonnées_cadran_plat($D298,O$10,$C$3,$C$2,$C$5,$C$6,0,0,$C$4),1,2)","v":-82.223713333752585},{"$f":"INDEX(coordonnées_cadran_plat($D298,Q$10,$C$3,$C$2,$C$5,$C$6,0,0,$C$4),1,1)","v":230.30117691897561},{"$f":"INDEX(coordonnées_cadran_plat($D298,Q$10,$C$3,$C$2,$C$5,$C$6,0,0,$C$4),1,2)","v":65.150909121556509},{"$f":"INDEX(coordonnées_cadran_plat($D298,S$10,$C$3,$C$2,$C$5,$C$6,0,0,$C$4),1,1)","v":220.84602917594782},{"$f":"INDEX(coordonnées_cadran_plat($D298,S$10,$C$3,$C$2,$C$5,$C$6,0,0,$C$4),1,2)","v":219.61764208195675},{"$f":"INDEX(coordonnées_cadran_plat($D298,U$10,$C$3,$C$2,$C$5,$C$6,0,0,$C$4),1,1)","v":193.4193502924565},{"$f":"INDEX(coordonnées_cadran_plat($D298,U$10,$C$3,$C$2,$C$5,$C$6,0,0,$C$4),1,2)","v":397.38987728010028},{"$f":"INDEX(coordonnées_cadran_plat($D298,W$10,$C$3,$C$2,$C$5,$C$6,0,0,$C$4),1,1)","v":137.90368023806971},{"$f":"INDEX(coordonnées_cadran_plat($D298,W$10,$C$3,$C$2,$C$5,$C$6,0,0,$C$4),1,2)","v":626.05523236839372}]
[null,23,1,"2010-01-23",{"$f":"INDEX(heures_limites_cadran($D299,$C$3,$C$2,$C$5),1,1)/24","v":"09:30:00"},{"$f":"INDEX(heures_limites_cadran($D299,$C$3,$C$2,$C$5),1,2)/24","v":"18:00:00"},{"$f":"INDEX(coordonnées_cadran_plat($D299,$G$10,$C$3,$C$2,$C$5,$C$6,0,0,$C$4),1,1)","v":-37.911776930391831},{"$f":"INDEX(coordonnées_cadran_plat($D299,$G$10,$C$3,$C$2,$C$5,$C$6,0,0,$C$4),1,2)","v":-979.58479867740789},{"$f":"INDEX(coordonnées_cadran_plat($D299,I$10,$C$3,$C$2,$C$5,$C$6,0,0,$C$4),1,1)","v":96.958226867125958},{"$f":"INDEX(coordonnées_cadran_plat($D299,I$10,$C$3,$C$2,$C$5,$C$6,0,0,$C$4),1,2)","v":-640.77341833297248},{"$f":"INDEX(coordonnées_cadran_plat($D299,K$10,$C$3,$C$2,$C$5,$C$6,0,0,$C$4),1,1)","v":168.21376307658659},{"$f":"INDEX(coordonnées_cadran_plat($D299,K$10,$C$3,$C$2,$C$5,$C$6,0,0,$C$4),1,2)","v":-414.12456602729156},{"$f":"INDEX(coordonnées_cadran_plat($D299,M$10,$C$3,$C$2,$C$5,$C$6,0,0,$C$4),1,1)","v":207.78792751289959},{"$f":"INDEX(coordonnées_cadran_plat($D299,M$10,$C$3,$C$2,$C$5,$C$6,0,0,$C$4),1,2)","v":-237.39639876815357},{"$f":"INDEX(coordonnées_cadran_plat($D299,O$10,$C$3,$C$2,$C$5,$C$6,0,0,$C$4),1,1)","v":227.82316069225212},{"$f":"INDEX(coordonnées_cadran_plat($D299,O$10,$C$3,$C$2,$C$5,$C$6,0,0,$C$4),1,2)","v":-83.197608324602129},{"$f":"INDEX(coordonnées_cadran_plat($D299,Q$10,$C$3,$C$2,$C$5,$C$6,0,0,$C$4),1,1)","v":232.95580578493744},{"$f":"INDEX(coordonnées_cadran_plat($D299,Q$10,$C$3,$C$2,$C$5,$C$6,0,0,$C$4),1,2)","v":64.644035017163532},{"$f":"INDEX(coordonnées_cadran_plat($D299,S$10,$C$3,$C$2,$C$5,$C$6,0,0,$C$4),1,1)","v":223.68152399963989},{"$f":"INDEX(coordonnées_cadran_plat($D299,S$10,$C$3,$C$2,$C$5,$C$6,0,0,$C$4),1,2)","v":219.57477894250061},{"$f":"INDEX(coordonnées_cadran_plat($D299,U$10,$C$3,$C$2,$C$5,$C$6,0,0,$C$4),1,1)","v":196.57013421139132},{"$f":"INDEX(coordonnées_cadran_plat($D299,U$10,$C$3,$C$2,$C$5,$C$6,0,0,$C$4),1,2)","v":397.94307094375432},{"$f":"INDEX(coordonnées_cadran_plat($D299,W$10,$C$3,$C$2,$C$5,$C$6,0,0,$C$4),1,1)","v":141.55974786493255},{"$f":"INDEX(coordonnées_cadran_plat($D299,W$10,$C$3,$C$2,$C$5,$C$6,0,0,$C$4),1,2)","v":627.59930069196298}]
[null,24,1,"2010-01-24",{"$f":"INDEX(heures_limites_cadran($D300,$C$3,$C$2,$C$5),1,1)/24","v":"09:30:00"},{"$f":"INDEX(heures_limites_cadran($D300,$C$3,$C$2,$C$5),1,2)/24","v":"18:00:00"},{"$f":"INDEX(coordonnées_cadran_plat($D300,$G$10,$C$3,$C$2,$C$5,$C$6,0,0,$C$4),1,1)","v":-35.267584831980571},{"$f":"INDEX(coordonnées_cadran_plat($D300,$G$10,$C$3,$C$2,$C$5,$C$6,0,0,$C$4),1,2)","v":-987.5150672532983},{"$f":"INDEX(coordonnées_cadran_plat($D300,I$10,$C$3,$C$2,$C$5,$C$6,0,0,$C$4),1,1)","v":99.781137922449219},{"$f":"INDEX(coordonnées_cadran_plat($D300,I$10,$C$3,$C$2,$C$5,$C$6,0,0,$C$4),1,2)","v":-644.93403973643069},{"$f":"INDEX(coordonnées_cadran_plat($D300,K$10,$C$3,$C$2,$C$5,$C$6,0,0,$C$4),1,1)","v":170.95303286856276},{"$f":"INDEX(coordonnées_cadran_plat($D300,K$10,$C$3,$C$2,$C$5,$C$6,0,0,$C$4),1,2)","v":-416.60762506897322},{"$f":"INDEX(coordonnées_cadran_plat($D300,M$10,$C$3,$C$2,$C$5,$C$6,0,0,$C$4),1,1)","v":210.45226957633628},{"$f":"INDEX(coordonnées_cadran_plat($D300,M$10,$C$3,$C$2,$C$5,$C$6,0,0,$C$4),1,2)","v":-238.95709189701742},{"$f":"INDEX(coordonnées_cadran_plat($D300,O$10,$C$3,$C$2,$C$5,$C$6,0,0,$C$4),1,1)","v":230.4781704015729},{"$f":"INDEX(coordonnées_cadran_plat($D300,O$10,$C$3,$C$2,$C$5,$C$6,0,0,$C$4),1,2)","v":-84.153207616752212},{"$f":"INDEX(coordonnées_cadran_plat($D300,Q$10,$C$3,$C$2,$C$5,$C$6,0,0,$C$4),1,1)","v":235.68677694512337},{"$f":"INDEX(coordonnées_cadran_plat($D300,Q$10,$C$3,$C$2,$C$5,$C$6,0,0,$C$4),1,2)","v":64.169533964874844},{"$f":"INDEX(coordonnées_cadran_plat($D300,S$10,$C$3,$C$2,$C$5,$C$6,0,0,$C$4),1,1)","v":226.59330240219089},{"$f":"INDEX(coordonnées_cadran_plat($D300,S$10,$C$3,$C$2,$C$5,$C$6,0,0,$C$4),1,2)","v":219.58219450808835},{"$f":"INDEX(coordonnées_cadran_plat($D300,U$10,$C$3,$C$2,$C$5,$C$6,0,0,$C$4),1,1)","v":199.80029707925172},{"$f":"INDEX(coordonnées_cadran_plat($D300,U$10,$C$3,$C$2,$C$5,$C$6,0,0,$C$4),1,2)","v":398.57462228556773},{"$f":"INDEX(coordonnées_cadran_plat($D300,W$10,$C$3,$C$2,$C$5,$C$6,0,0,$C$4),1,1)","v":145.30119379766813},{"$f":"INDEX(coordonnées_cadran_plat($D300,W$10,$C$3,$C$2,$C$5,$C$6,0,0,$C$4),1,2)","v":629.27481056097747}]
[null,25,1,"2010-01-25",{"$f":"INDEX(heures_limites_cadran($D301,$C$3,$C$2,$C$5),1,1)/24","v":"09:30:00"},{"$f":"INDEX(heures_limites_cadran($D301,$C$3,$C$2,$C$5),1,2)/24","v":"18:00:00"},{"$f":"INDEX(coordonnées_cadran_plat($D301,$G$10,$C$3,$C$2,$C$5,$C$6,0,0,$C$4),1,1)","v":-32.465517536438824},{"$f":"INDEX(coordonnées_cadran_plat($D301,$G$10,$C$3,$C$2,$C$5,$C$6,0,0,$C$4),1,2)","v":-995.60340672472512},{"$f":"INDEX(coordonnées_cadran_plat($D301,I$10,$C$3,$C$2,$C$5,$C$6,0,0,$C$4),1,1)","v":102.72702919685801},{"$f":"INDEX(coordonnées_cadran_plat($D301,I$10,$C$3,$C$2,$C$5,$C$6,0,0,$C$4),1,2)","v":-649.14891398211387},{"$f":"INDEX(coordonnées_cadran_plat($D301,K$10,$C$3,$C$2,$C$5,$C$6,0,0,$C$4),1,1)","v":173.79293162914271},{"$f":"INDEX(coordonnées_cadran_plat($D301,K$10,$C$3,$C$2,$C$5,$C$6,0,0,$C$4),1,2)","v":-419.10626908569299},{"$f":"INDEX(coordonnées_cadran_plat($D301,M$10,$C$3,$C$2,$C$5,$C$6,0,0,$C$4),1,1)","v":213.20378741217147},{"$f":"INDEX(coordonnées_cadran_plat($D301,M$10,$C$3,$C$2,$C$5,$C$6,0,0,$C$4),1,2)","v":-240.51327116913723},{"$f":"INDEX(coordonnées_cadran_plat($D301,O$10,$C$3,$C$2,$C$5,$C$6,0,0,$C$4),1,1)","v":233.21272299491736},{"$f":"INDEX(coordonnées_cadran_plat($D301,O$10,$C$3,$C$2,$C$5,$C$6,0,0,$C$4),1,2)","v":-85.089964420053505},{"$f":"INDEX(coordonnées_cadran_plat($D301,Q$10,$C$3,$C$2,$C$5,$C$6,0,0,$C$4),1,1)","v":238.49384070703076},{"$f":"INDEX(coordonnées_cadran_plat($D301,Q$10,$C$3,$C$2,$C$5,$C$6,0,0,$C$4),1,2)","v":63.727869045138625},{"$f":"INDEX(coordonnées_cadran_plat($D301,S$10,$C$3,$C$2,$C$5,$C$6,0,0,$C$4),1,1)","v":229.58117819942453},{"$f":"INDEX(coordonnées_cadran_plat($D301,S$10,$C$3,$C$2,$C$5,$C$6,0,0,$C$4),1,2)","v":219.64034074923231},{"$f":"INDEX(coordonnées_cadran_plat($D301,U$10,$C$3,$C$2,$C$5,$C$6,0,0,$C$4),1,1)","v":203.10983798711226},{"$f":"INDEX(coordonnées_cadran_plat($D301,U$10,$C$3,$C$2,$C$5,$C$6,0,0,$C$4),1,2)","v":399.28512527016534},{"$f":"INDEX(coordonnées_cadran_plat($D301,W$10,$C$3,$C$2,$C$5,$C$6,0,0,$C$4),1,1)","v":149.12845152599243},{"$f":"INDEX(coordonnées_cadran_plat($D301,W$10,$C$3,$C$2,$C$5,$C$6,0,0,$C$4),1,2)","v":631.08295781347579}]
[null,26,1,"2010-01-26",{"$f":"INDEX(heures_limites_cadran($D302,$C$3,$C$2,$C$5),1,1)/24","v":"09:30:00"},{"$f":"INDEX(heures_limites_cadran($D302,$C$3,$C$2,$C$5),1,2)/24","v":"18:00:00"},{"$f":"INDEX(coordonnées_cadran_plat($D302,$G$10,$C$3,$C$2,$C$5,$C$6,0,0,$C$4),1,1)","v":-29.503121915199113},{"$f":"INDEX(coordonnées_cadran_plat($D302,$G$10,$C$3,$C$2,$C$5,$C$6,0,0,$C$4),1,2)","v":-1003.8502029127962},{"$f":"INDEX(coordonnées_cadran_plat($D302,I$10,$C$3,$C$2,$C$5,$C$6,0,0,$C$4),1,1)","v":105.79669958558539},{"$f":"INDEX(coordonnées_cadran_plat($D302,I$10,$C$3,$C$2,$C$5,$C$6,0,0,$C$4),1,2)","v":-653.41720130724798},{"$f":"INDEX(coordonnées_cadran_plat($D302,K$10,$C$3,$C$2,$C$5,$C$6,0,0,$C$4),1,1)","v":176.73360638318837},{"$f":"INDEX(coordonnées_cadran_plat($D302,K$10,$C$3,$C$2,$C$5,$C$6,0,0,$C$4),1,2)","v":-421.61968678395829},{"$f":"INDEX(coordonnées_cadran_plat($D302,M$10,$C$3,$C$2,$C$5,$C$6,0,0,$C$4),1,1)","v":216.04235595603041},{"$f":"INDEX(coordonnées_cadran_plat($D302,M$10,$C$3,$C$2,$C$5,$C$6,0,0,$C$4),1,2)","v":-242.06428147331664},{"$f":"INDEX(coordonnées_cadran_plat($D302,O$10,$C$3,$C$2,$C$5,$C$6,0,0,$C$4),1,1)","v":236.02658807160617},{"$f":"INDEX(coordonnées_cadran_plat($D302,O$10,$C$3,$C$2,$C$5,$C$6,0,0,$C$4),1,2)","v":-86.007355826266462},{"$f":"INDEX(coordonnées_cadran_plat($D302,Q$10,$C$3,$C$2,$C$5,$C$6,0,0,$C$4),1,1)","v":241.37675633640424},{"$f":"INDEX(coordonnées_cadran_plat($D302,Q$10,$C$3,$C$2,$C$5,$C$6,0,0,$C$4),1,2)","v":63.319480994566611},{"$f":"INDEX(coordonnées_cadran_plat($D302,S$10,$C$3,$C$2,$C$5,$C$6,0,0,$C$4),1,1)","v":232.64498576637487},{"$f":"INDEX(coordonnées_cadran_plat($D302,S$10,$C$3,$C$2,$C$5,$C$6,0,0,$C$4),1,2)","v":219.74965146034475},{"$f":"INDEX(coordonnées_cadran_plat($D302,U$10,$C$3,$C$2,$C$5,$C$6,0,0,$C$4),1,1)","v":206.49879421213322},{"$f":"INDEX(coordonnées_cadran_plat($D302,U$10,$C$3,$C$2,$C$5,$C$6,0,0,$C$4),1,2)","v":400.07516765088207},{"$f":"INDEX(coordonnées_cadran_plat($D302,W$10,$C$3,$C$2,$C$5,$C$6,0,0,$C$4),1,1)","v":153.04202436544696},{"$f":"INDEX(coordonnées_cadran_plat($D302,W$10,$C$3,$C$2,$C$5,$C$6,0,0,$C$4),1,2)","v":633.02497187694348}]
[null,27,1,"2010-01-27",{"$f":"INDEX(heures_limites_cadran($D303,$C$3,$C$2,$C$5),1,1)/24","v":"09:30:00"},{"$f":"INDEX(heures_limites_cadran($D303,$C$3,$C$2,$C$5),1,2)/24","v":"18:00:00"},{"$f":"INDEX(coordonnées_cadran_plat($D303,$G$10,$C$3,$C$2,$C$5,$C$6,0,0,$C$4),1,1)","v":-26.377927005131315},{"$f":"INDEX(coordonnées_cadran_plat($D303,$G$10,$C$3,$C$2,$C$5,$C$6,0,0,$C$4),1,2)","v":-1012.2559013961657},{"$f":"INDEX(coordonnées_cadran_plat($D303,I$10,$C$3,$C$2,$C$5,$C$6,0,0,$C$4),1,1)","v":108.99093377364817},{"$f":"INDEX(coordonnées_cadran_plat($D303,I$10,$C$3,$C$2,$C$5,$C$6,0,0,$C$4),1,2)","v":-657.73808801969096},{"$f":"INDEX(coordonnées_cadran_plat($D303,K$10,$C$3,$C$2,$C$5,$C$6,0,0,$C$4),1,1)","v":179.77519070069087},{"$f":"INDEX(coordonnées_cadran_plat($D303,K$10,$C$3,$C$2,$C$5,$C$6,0,0,$C$4),1,2)","v":-424.14709182443494},{"$f":"INDEX(coordonnées_cadran_plat($D303,M$10,$C$3,$C$2,$C$5,$C$6,0,0,$C$4),1,1)","v":218.96784324425167},{"$f":"INDEX(coordonnées_cadran_plat($D303,M$10,$C$3,$C$2,$C$5,$C$6,0,0,$C$4),1,2)","v":-243.6094926816431},{"$f":"INDEX(coordonnées_cadran_plat($D303,O$10,$C$3,$C$2,$C$5,$C$6,0,0,$C$4),1,1)","v":238.91953610653187},{"$f":"INDEX(coordonnées_cadran_plat($D303,O$10,$C$3,$C$2,$C$5,$C$6,0,0,$C$4),1,2)","v":-86.904883192494211},{"$f":"INDEX(coordonnées_cadran_plat($D303,Q$10,$C$3,$C$2,$C$5,$C$6,0,0,$C$4),1,1)","v":244.33529290902641},{"$f":"INDEX(coordonnées_cadran_plat($D303,Q$10,$C$3,$C$2,$C$5,$C$6,0,0,$C$4),1,2)","v":62.944788119282208},{"$f":"INDEX(coordonnées_cadran_plat($D303,S$10,$C$3,$C$2,$C$5,$C$6,0,0,$C$4),1,1)","v":235.78458090636997},{"$f":"INDEX(coordonnées_cadran_plat($D303,S$10,$C$3,$C$2,$C$5,$C$6,0,0,$C$4),1,2)","v":219.91054247403417},{"$f":"INDEX(coordonnées_cadran_plat($D303,U$10,$C$3,$C$2,$C$5,$C$6,0,0,$C$4),1,1)","v":209.96724222345904},{"$f":"INDEX(coordonnées_cadran_plat($D303,U$10,$C$3,$C$2,$C$5,$C$6,0,0,$C$4),1,2)","v":400.94533165711539},{"$f":"INDEX(coordonnées_cadran_plat($D303,W$10,$C$3,$C$2,$C$5,$C$6,0,0,$C$4),1,1)","v":157.04248710223661},{"$f":"INDEX(coordonnées_cadran_plat($D303,W$10,$C$3,$C$2,$C$5,$C$6,0,0,$C$4),1,2)","v":635.10211784469482}]
[null,28,1,"2010-01-28",{"$f":"INDEX(heures_limites_cadran($D304,$C$3,$C$2,$C$5),1,1)/24","v":"09:30:00"},{"$f":"INDEX(heures_limites_cadran($D304,$C$3,$C$2,$C$5),1,2)/24","v":"18:00:00"},{"$f":"INDEX(coordonnées_cadran_plat($D304,$G$10,$C$3,$C$2,$C$5,$C$6,0,0,$C$4),1,1)","v":-23.087443651898276},{"$f":"INDEX(coordonnées_cadran_plat($D304,$G$10,$C$3,$C$2,$C$5,$C$6,0,0,$C$4),1,2)","v":-1020.8210118672935},{"$f":"INDEX(coordonnées_cadran_plat($D304,I$10,$C$3,$C$2,$C$5,$C$6,0,0,$C$4),1,1)","v":112.31050253334932},{"$f":"INDEX(coordonnées_cadran_plat($D304,I$10,$C$3,$C$2,$C$5,$C$6,0,0,$C$4),1,2)","v":-662.11078855034259},{"$f":"INDEX(coordonnées_cadran_plat($D304,K$10,$C$3,$C$2,$C$5,$C$6,0,0,$C$4),1,1)","v":182.91780534026205},{"$f":"INDEX(coordonnées_cadran_plat($D304,K$10,$C$3,$C$2,$C$5,$C$6,0,0,$C$4),1,2)","v":-426.68772405833528},{"$f":"INDEX(coordonnées_cadran_plat($D304,M$10,$C$3,$C$2,$C$5,$C$6,0,0,$C$4),1,1)","v":221.98011121615983},{"$f":"INDEX(coordonnées_cadran_plat($D304,M$10,$C$3,$C$2,$C$5,$C$6,0,0,$C$4),1,2)","v":-245.14830036942519},{"$f":"INDEX(coordonnées_cadran_plat($D304,O$10,$C$3,$C$2,$C$5,$C$6,0,0,$C$4),1,1)","v":241.89133929397042},{"$f":"INDEX(coordonnées_cadran_plat($D304,O$10,$C$3,$C$2,$C$5,$C$6,0,0,$C$4),1,2)","v":-87.78207249562135},{"$f":"INDEX(coordonnées_cadran_plat($D304,Q$10,$C$3,$C$2,$C$5,$C$6,0,0,$C$4),1,1)","v":247.36923014979854},{"$f":"INDEX(coordonnées_cadran_plat($D304,Q$10,$C$3,$C$2,$C$5,$C$6,0,0,$C$4),1,2)","v":62.604186231281325},{"$f":"INDEX(coordonnées_cadran_plat($D304,S$10,$C$3,$C$2,$C$5,$C$6,0,0,$C$4),1,1)","v":238.99984170013715},{"$f":"INDEX(coordonnées_cadran_plat($D304,S$10,$C$3,$C$2,$C$5,$C$6,0,0,$C$4),1,2)","v":220.12341188952342},{"$f":"INDEX(coordonnées_cadran_plat($D304,U$10,$C$3,$C$2,$C$5,$C$6,0,0,$C$4),1,1)","v":213.51529867472547},{"$f":"INDEX(coordonnées_cadran_plat($D304,U$10,$C$3,$C$2,$C$5,$C$6,0,0,$C$4),1,2)","v":401.8961946888362},{"$f":"INDEX(coordonnées_cadran_plat($D304,W$10,$C$3,$C$2,$C$5,$C$6,0,0,$C$4),1,1)","v":161.13048767581972},{"$f":"INDEX(coordonnées_cadran_plat($D304,W$10,$C$3,$C$2,$C$5,$C$6,0,0,$C$4),1,2)","v":637.31569859440754}]
[null,29,1,"2010-01-29",{"$f":"INDEX(heures_limites_cadran($D305,$C$3,$C$2,$C$5),1,1)/24","v":"09:30:00"},{"$f":"INDEX(heures_limites_cadran($D305,$C$3,$C$2,$C$5),1,2)/24","v":"18:00:00"},{"$f":"INDEX(coordonnées_cadran_plat($D305,$G$10,$C$3,$C$2,$C$5,$C$6,0,0,$C$4),1,1)","v":-19.629164004261387},{"$f":"INDEX(coordonnées_cadran_plat($D305,$G$10,$C$3,$C$2,$C$5,$C$6,0,0,$C$4),1,2)","v":-1029.5461127196959},{"$f":"INDEX(coordonnées_cadran_plat($D305,I$10,$C$3,$C$2,$C$5,$C$6,0,0,$C$4),1,1)","v":115.75616310736214},{"$f":"INDEX(coordonnées_cadran_plat($D305,I$10,$C$3,$C$2,$C$5,$C$6,0,0,$C$4),1,2)","v":-666.53454753514904},{"$f":"INDEX(coordonnées_cadran_plat($D305,K$10,$C$3,$C$2,$C$5,$C$6,0,0,$C$4),1,1)","v":186.16155894070866},{"$f":"INDEX(coordonnées_cadran_plat($D305,K$10,$C$3,$C$2,$C$5,$C$6,0,0,$C$4),1,2)","v":-429.24085074580836},{"$f":"INDEX(coordonnées_cadran_plat($D305,M$10,$C$3,$C$2,$C$5,$C$6,0,0,$C$4),1,1)","v":225.0790165361781},{"$f":"INDEX(coordonnées_cadran_plat($D305,M$10,$C$3,$C$2,$C$5,$C$6,0,0,$C$4),1,2)","v":-246.68012650511548},{"$f":"INDEX(coordonnées_cadran_plat($D305,O$10,$C$3,$C$2,$C$5,$C$6,0,0,$C$4),1,1)","v":244.94177239085636},{"$f":"INDEX(coordonnées_cadran_plat($D305,O$10,$C$3,$C$2,$C$5,$C$6,0,0,$C$4),1,2)","v":-88.63847465768356},{"$f":"INDEX(coordonnées_cadran_plat($D305,Q$10,$C$3,$C$2,$C$5,$C$6,0,0,$C$4),1,1)","v":250.47835925747776},{"$f":"INDEX(coordonnées_cadran_plat($D305,Q$10,$C$3,$C$2,$C$5,$C$6,0,0,$C$4),1,2)","v":62.298048607189116},{"$f":"INDEX(coordonnées_cadran_plat($D305,S$10,$C$3,$C$2,$C$5,$C$6,0,0,$C$4),1,1)","v":242.29066933396996},{"$f":"INDEX(coordonnées_cadran_plat($D305,S$10,$C$3,$C$2,$C$5,$C$6,0,0,$C$4),1,2)","v":220.38864031346799},{"$f":"INDEX(coordonnées_cadran_plat($D305,U$10,$C$3,$C$2,$C$5,$C$6,0,0,$C$4),1,1)","v":217.14312138319346},{"$f":"INDEX(coordonnées_cadran_plat($D305,U$10,$C$3,$C$2,$C$5,$C$6,0,0,$C$4),1,2)","v":402.92833001673813},{"$f":"INDEX(coordonnées_cadran_plat($D305,W$10,$C$3,$C$2,$C$5,$C$6,0,0,$C$4),1,1)","v":165.30674890249324},{"$f":"INDEX(coordonnées_cadran_plat($D305,W$10,$C$3,$C$2,$C$5,$C$6,0,0,$C$4),1,2)","v":639.66705694913821}]
[null,30,1,"2010-01-30",{"$f":"INDEX(heures_limites_cadran($D306,$C$3,$C$2,$C$5),1,1)/24","v":"09:30:00"},{"$f":"INDEX(heures_limites_cadran($D306,$C$3,$C$2,$C$5),1,2)/24","v":"18:00:00"},{"$f":"INDEX(coordonnées_cadran_plat($D306,$G$10,$C$3,$C$2,$C$5,$C$6,0,0,$C$4),1,1)","v":-16.000560850816644},{"$f":"INDEX(coordonnées_cadran_plat($D306,$G$10,$C$3,$C$2,$C$5,$C$6,0,0,$C$4),1,2)","v":-1038.431855872461},{"$f":"INDEX(coordonnées_cadran_plat($D306,I$10,$C$3,$C$2,$C$5,$C$6,0,0,$C$4),1,1)","v":119.3286596783575},{"$f":"INDEX(coordonnées_cadran_plat($D306,I$10,$C$3,$C$2,$C$5,$C$6,0,0,$C$4),1,2)","v":-671.00864192364702},{"$f":"INDEX(coordonnées_cadran_plat($D306,K$10,$C$3,$C$2,$C$5,$C$6,0,0,$C$4),1,1)","v":189.50654875907742},{"$f":"INDEX(coordonnées_cadran_plat($D306,K$10,$C$3,$C$2,$C$5,$C$6,0,0,$C$4),1,2)","v":-431.80576775388107},{"$f":"INDEX(coordonnées_cadran_plat($D306,M$10,$C$3,$C$2,$C$5,$C$6,0,0,$C$4),1,1)","v":228.26441143343206},{"$f":"INDEX(coordonnées_cadran_plat($D306,M$10,$C$3,$C$2,$C$5,$C$6,0,0,$C$4),1,2)","v":-248.20442010988259},{"$f":"INDEX(coordonnées_cadran_plat($D306,O$10,$C$3,$C$2,$C$5,$C$6,0,0,$C$4),1,1)","v":248.07061355736468},{"$f":"INDEX(coordonnées_cadran_plat($D306,O$10,$C$3,$C$2,$C$5,$C$6,0,0,$C$4),1,2)","v":-89.47366584279078},{"$f":"INDEX(coordonnées_cadran_plat($D306,Q$10,$C$3,$C$2,$C$5,$C$6,0,0,$C$4),1,1)","v":253.66248371341331},{"$f":"INDEX(coordonnées_cadran_plat($D306,Q$10,$C$3,$C$2,$C$5,$C$6,0,0,$C$4),1,2)","v":62.026725968048083},{"$f":"INDEX(coordonnées_cadran_plat($D306,S$10,$C$3,$C$2,$C$5,$C$6,0,0,$C$4),1,1)","v":245.65698890587652},{"$f":"INDEX(coordonnées_cadran_plat($D306,S$10,$C$3,$C$2,$C$5,$C$6,0,0,$C$4),1,2)","v":220.70659111206879},{"$f":"INDEX(coordonnées_cadran_plat($D306,U$10,$C$3,$C$2,$C$5,$C$6,0,0,$C$4),1,1)","v":220.85091029574315},{"$f":"INDEX(coordonnées_cadran_plat($D306,U$10,$C$3,$C$2,$C$5,$C$6,0,0,$C$4),1,2)","v":404.04230748588549},{"$f":"INDEX(coordonnées_cadran_plat($D306,W$10,$C$3,$C$2,$C$5,$C$6,0,0,$C$4),1,1)","v":169.57207024271523},{"$f":"INDEX(coordonnées_cadran_plat($D306,W$10,$C$3,$C$2,$C$5,$C$6,0,0,$C$4),1,2)","v":642.15757788266683}]
[null,31,1,"2010-01-31",{"$f":"INDEX(heures_limites_cadran($D307,$C$3,$C$2,$C$5),1,1)/24","v":"09:30:00"},{"$f":"INDEX(heures_limites_cadran($D307,$C$3,$C$2,$C$5),1,2)/24","v":"18:00:00"},{"$f":"INDEX(coordonnées_cadran_plat($D307,$G$10,$C$3,$C$2,$C$5,$C$6,0,0,$C$4),1,1)","v":-12.1990867895472},{"$f":"INDEX(coordonnées_cadran_plat($D307,$G$10,$C$3,$C$2,$C$5,$C$6,0,0,$C$4),1,2)","v":-1047.4789718352306},{"$f":"INDEX(coordonnées_cadran_plat($D307,I$10,$C$3,$C$2,$C$5,$C$6,0,0,$C$4),1,1)","v":123.02872392551316},{"$f":"INDEX(coordonnées_cadran_plat($D307,I$10,$C$3,$C$2,$C$5,$C$6,0,0,$C$4),1,2)","v":-675.53238311173618},{"$f":"INDEX(coordonnées_cadran_plat($D307,K$10,$C$3,$C$2,$C$5,$C$6,0,0,$C$4),1,1)","v":192.9528614532895},{"$f":"INDEX(coordonnées_cadran_plat($D307,K$10,$C$3,$C$2,$C$5,$C$6,0,0,$C$4),1,2)","v":-434.38180073265869},{"$f":"INDEX(coordonnées_cadran_plat($D307,M$10,$C$3,$C$2,$C$5,$C$6,0,0,$C$4),1,1)","v":231.53614455661892},{"$f":"INDEX(coordonnées_cadran_plat($D307,M$10,$C$3,$C$2,$C$5,$C$6,0,0,$C$4),1,2)","v":-249.72065788557452},{"$f":"INDEX(coordonnées_cadran_plat($D307,O$10,$C$3,$C$2,$C$5,$C$6,0,0,$C$4),1,1)","v":251.27764519283423},{"$f":"INDEX(coordonnées_cadran_plat($D307,O$10,$C$3,$C$2,$C$5,$C$6,0,0,$C$4),1,2)","v":-90.28724772570753},{"$f":"INDEX(coordonnées_cadran_plat($D307,Q$10,$C$3,$C$2,$C$5,$C$6,0,0,$C$4),1,1)","v":256.92142007272446},{"$f":"INDEX(coordonnées_cadran_plat($D307,Q$10,$C$3,$C$2,$C$5,$C$6,0,0,$C$4),1,2)","v":61.79054647935331},{"$f":"INDEX(coordonnées_cadran_plat($D307,S$10,$C$3,$C$2,$C$5,$C$6,0,0,$C$4),1,1)","v":249.09875020888666},{"$f":"INDEX(coordonnées_cadran_plat($D307,S$10,$C$3,$C$2,$C$5,$C$6,0,0,$C$4),1,2)","v":221.07761067224595},{"$f":"INDEX(coordonnées_cadran_plat($D307,U$10,$C$3,$C$2,$C$5,$C$6,0,0,$C$4),1,1)","v":224.6389084415259},{"$f":"INDEX(coordonnées_cadran_plat($D307,U$10,$C$3,$C$2,$C$5,$C$6,0,0,$C$4),1,2)","v":405.23869422177944},{"$f":"INDEX(coordonnées_cadran_plat($D307,W$10,$C$3,$C$2,$C$5,$C$6,0,0,$C$4),1,1)","v":173.92732961577588},{"$f":"INDEX(coordonnées_cadran_plat($D307,W$10,$C$3,$C$2,$C$5,$C$6,0,0,$C$4),1,2)","v":644.78869076888338}]
[null,1,2,"2010-02-01",{"$f":"INDEX(heures_limites_cadran($D308,$C$3,$C$2,$C$5),1,1)/24","v":"09:30:00"},{"$f":"INDEX(heures_limites_cadran($D308,$C$3,$C$2,$C$5),1,2)/24","v":"18:00:00"},{"$f":"INDEX(coordonnées_cadran_plat($D308,$G$10,$C$3,$C$2,$C$5,$C$6,0,0,$C$4),1,1)","v":-8.2221732212562753},{"$f":"INDEX(coordonnées_cadran_plat($D308,$G$10,$C$3,$C$2,$C$5,$C$6,0,0,$C$4),1,2)","v":-1056.6882750201787},{"$f":"INDEX(coordonnées_cadran_plat($D308,I$10,$C$3,$C$2,$C$5,$C$6,0,0,$C$4),1,1)","v":126.85707566870121},{"$f":"INDEX(coordonnées_cadran_plat($D308,I$10,$C$3,$C$2,$C$5,$C$6,0,0,$C$4),1,2)","v":-680.10511909434013},{"$f":"INDEX(coordonnées_cadran_plat($D308,K$10,$C$3,$C$2,$C$5,$C$6,0,0,$C$4),1,1)","v":196.50057390756103},{"$f":"INDEX(coordonnées_cadran_plat($D308,K$10,$C$3,$C$2,$C$5,$C$6,0,0,$C$4),1,2)","v":-436.96830626736204},{"$f":"INDEX(coordonnées_cadran_plat($D308,M$10,$C$3,$C$2,$C$5,$C$6,0,0,$C$4),1,1)","v":234.89406184180589},{"$f":"INDEX(coordonnées_cadran_plat($D308,M$10,$C$3,$C$2,$C$5,$C$6,0,0,$C$4),1,2)","v":-251.22834481155022},{"$f":"INDEX(coordonnées_cadran_plat($D308,O$10,$C$3,$C$2,$C$5,$C$6,0,0,$C$4),1,1)","v":254.56265476484185},{"$f":"INDEX(coordonnées_cadran_plat($D308,O$10,$C$3,$C$2,$C$5,$C$6,0,0,$C$4),1,2)","v":-91.078847732825039},{"$f":"INDEX(coordonnées_cadran_plat($D308,Q$10,$C$3,$C$2,$C$5,$C$6,0,0,$C$4),1,1)","v":260.25499873629292},{"$f":"INDEX(coordonnées_cadran_plat($D308,Q$10,$C$3,$C$2,$C$5,$C$6,0,0,$C$4),1,2)","v":61.589815769869482},{"$f":"INDEX(coordonnées_cadran_plat($D308,S$10,$C$3,$C$2,$C$5,$C$6,0,0,$C$4),1,1)","v":252.61592849041804},{"$f":"INDEX(coordonnées_cadran_plat($D308,S$10,$C$3,$C$2,$C$5,$C$6,0,0,$C$4),1,2)","v":221.50202867089791},{"$f":"INDEX(coordonnées_cadran_plat($D308,U$10,$C$3,$C$2,$C$5,$C$6,0,0,$C$4),1,1)","v":228.50740287141676},{"$f":"INDEX(coordonnées_cadran_plat($D308,U$10,$C$3,$C$2,$C$5,$C$6,0,0,$C$4),1,2)","v":406.51805533677043},{"$f":"INDEX(coordonnées_cadran_plat($D308,W$10,$C$3,$C$2,$C$5,$C$6,0,0,$C$4),1,1)","v":178.37348526472059},{"$f":"INDEX(coordonnées_cadran_plat($D308,W$10,$C$3,$C$2,$C$5,$C$6,0,0,$C$4),1,2)","v":647.56187167721635}]
[null,2,2,"2010-02-02",{"$f":"INDEX(heures_limites_cadran($D309,$C$3,$C$2,$C$5),1,1)/24","v":"09:30:00"},{"$f":"INDEX(heures_limites_cadran($D309,$C$3,$C$2,$C$5),1,2)/24","v":"18:00:00"},{"$f":"INDEX(coordonnées_cadran_plat($D309,$G$10,$C$3,$C$2,$C$5,$C$6,0,0,$C$4),1,1)","v":-4.0672291569019929},{"$f":"INDEX(coordonnées_cadran_plat($D309,$G$10,$C$3,$C$2,$C$5,$C$6,0,0,$C$4),1,2)","v":-1066.0606693046404},{"$f":"INDEX(coordonnées_cadran_plat($D309,I$10,$C$3,$C$2,$C$5,$C$6,0,0,$C$4),1,1)","v":130.81442360011056},{"$f":"INDEX(coordonnées_cadran_plat($D309,I$10,$C$3,$C$2,$C$5,$C$6,0,0,$C$4),1,2)","v":-684.72623663682327},{"$f":"INDEX(coordonnées_cadran_plat($D309,K$10,$C$3,$C$2,$C$5,$C$6,0,0,$C$4),1,1)","v":200.14975409847119},{"$f":"INDEX(coordonnées_cadran_plat($D309,K$10,$C$3,$C$2,$C$5,$C$6,0,0,$C$4),1,2)","v":-439.5646730047572},{"$f":"INDEX(coordonnées_cadran_plat($D309,M$10,$C$3,$C$2,$C$5,$C$6,0,0,$C$4),1,1)","v":238.33800739079757},{"$f":"INDEX(coordonnées_cadran_plat($D309,M$10,$C$3,$C$2,$C$5,$C$6,0,0,$C$4),1,2)","v":-252.7270147089807},{"$f":"INDEX(coordonnées_cadran_plat($D309,O$10,$C$3,$C$2,$C$5,$C$6,0,0,$C$4),1,1)","v":257.92543562947679},{"$f":"INDEX(coordonnées_cadran_plat($D309,O$10,$C$3,$C$2,$C$5,$C$6,0,0,$C$4),1,2)","v":-91.848119256024191},{"$f":"INDEX(coordonnées_cadran_plat($D309,Q$10,$C$3,$C$2,$C$5,$C$6,0,0,$C$4),1,1)","v":263.66306470205666},{"$f":"INDEX(coordonnées_cadran_plat($D309,Q$10,$C$3,$C$2,$C$5,$C$6,0,0,$C$4),1,2)","v":61.424816968309123},{"$f":"INDEX(coordonnées_cadran_plat($D309,S$10,$C$3,$C$2,$C$5,$C$6,0,0,$C$4),1,1)","v":256.20852518673303},{"$f":"INDEX(coordonnées_cadran_plat($D309,S$10,$C$3,$C$2,$C$5,$C$6,0,0,$C$4),1,2)","v":221.98015835040718},{"$f":"INDEX(coordonnées_cadran_plat($D309,U$10,$C$3,$C$2,$C$5,$C$6,0,0,$C$4),1,1)","v":232.45672558421785},{"$f":"INDEX(coordonnées_cadran_plat($D309,U$10,$C$3,$C$2,$C$5,$C$6,0,0,$C$4),1,2)","v":407.88095463530743},{"$f":"INDEX(coordonnées_cadran_plat($D309,W$10,$C$3,$C$2,$C$5,$C$6,0,0,$C$4),1,1)","v":182.91157767507266},{"$f":"INDEX(coordonnées_cadran_plat($D309,W$10,$C$3,$C$2,$C$5,$C$6,0,0,$C$4),1,2)","v":650.47864571441539}]
[null,3,2,"2010-02-03",{"$f":"INDEX(heures_limites_cadran($D310,$C$3,$C$2,$C$5),1,1)/24","v":"09:00:00"},{"$f":"INDEX(heures_limites_cadran($D310,$C$3,$C$2,$C$5),1,2)/24","v":"18:00:00"},{"$f":"INDEX(coordonnées_cadran_plat($D310,$G$10,$C$3,$C$2,$C$5,$C$6,0,0,$C$4),1,1)","v":0.26836017037107368},{"$f":"INDEX(coordonnées_cadran_plat($D310,$G$10,$C$3,$C$2,$C$5,$C$6,0,0,$C$4),1,2)","v":-1075.5971538518479},{"$f":"INDEX(coordonnées_cadran_plat($D310,I$10,$C$3,$C$2,$C$5,$C$6,0,0,$C$4),1,1)","v":134.90146610373571},{"$f":"INDEX(coordonnées_cadran_plat($D310,I$10,$C$3,$C$2,$C$5,$C$6,0,0,$C$4),1,2)","v":-689.39516346056394},{"$f":"INDEX(coordonnées_cadran_plat($D310,K$10,$C$3,$C$2,$C$5,$C$6,0,0,$C$4),1,1)","v":203.90046199956731},{"$f":"INDEX(coordonnées_cadran_plat($D310,K$10,$C$3,$C$2,$C$5,$C$6,0,0,$C$4),1,2)","v":-442.170322752071},{"$f":"INDEX(coordonnées_cadran_plat($D310,M$10,$C$3,$C$2,$C$5,$C$6,0,0,$C$4),1,1)","v":241.86782435763172},{"$f":"INDEX(coordonnées_cadran_plat($D310,M$10,$C$3,$C$2,$C$5,$C$6,0,0,$C$4),1,2)","v":-254.21623077302041},{"$f":"INDEX(coordonnées_cadran_plat($D310,O$10,$C$3,$C$2,$C$5,$C$6,0,0,$C$4),1,1)","v":261.36578784063926},{"$f":"INDEX(coordonnées_cadran_plat($D310,O$10,$C$3,$C$2,$C$5,$C$6,0,0,$C$4),1,2)","v":-92.594741839934514},{"$f":"INDEX(coordonnées_cadran_plat($D310,Q$10,$C$3,$C$2,$C$5,$C$6,0,0,$C$4),1,1)","v":267.14547829396054},{"$f":"INDEX(coordonnées_cadran_plat($D310,Q$10,$C$3,$C$2,$C$5,$C$6,0,0,$C$4),1,2)","v":61.295810756545457},{"$f":"INDEX(coordonnées_cadran_plat($D310,S$10,$C$3,$C$2,$C$5,$C$6,0,0,$C$4),1,1)","v":259.87656863165193},{"$f":"INDEX(coordonnées_cadran_plat($D310,S$10,$C$3,$C$2,$C$5,$C$6,0,0,$C$4),1,2)","v":222.5122967986247},{"$f":"INDEX(coordonnées_cadran_plat($D310,U$10,$C$3,$C$2,$C$5,$C$6,0,0,$C$4),1,1)","v":236.48725443959421},{"$f":"INDEX(coordonnées_cadran_plat($D310,U$10,$C$3,$C$2,$C$5,$C$6,0,0,$C$4),1,2)","v":409.32795531608792},{"$f":"INDEX(coordonnées_cadran_plat($D310,W$10,$C$3,$C$2,$C$5,$C$6,0,0,$C$4),1,1)","v":187.54273155035136},{"$f":"INDEX(coordonnées_cadran_plat($D310,W$10,$C$3,$C$2,$C$5,$C$6,0,0,$C$4),1,2)","v":653.54058941478297}]
[null,4,2,"2010-02-04",{"$f":"INDEX(heures_limites_cadran($D311,$C$3,$C$2,$C$5),1,1)/24","v":"09:00:00"},{"$f":"INDEX(heures_limites_cadran($D311,$C$3,$C$2,$C$5),1,2)/24","v":"18:30:00"},{"$f":"INDEX(coordonnées_cadran_plat($D311,$G$10,$C$3,$C$2,$C$5,$C$6,0,0,$C$4),1,1)","v":4.7872348990231348},{"$f":"INDEX(coordonnées_cadran_plat($D311,$G$10,$C$3,$C$2,$C$5,$C$6,0,0,$C$4),1,2)","v":-1085.2988291938107},{"$f":"INDEX(coordonnées_cadran_plat($D311,I$10,$C$3,$C$2,$C$5,$C$6,0,0,$C$4),1,1)","v":139.11889216224816},{"$f":"INDEX(coordonnées_cadran_plat($D311,I$10,$C$3,$C$2,$C$5,$C$6,0,0,$C$4),1,2)","v":-694.11137044046609},{"$f":"INDEX(coordonnées_cadran_plat($D311,K$10,$C$3,$C$2,$C$5,$C$6,0,0,$C$4),1,1)","v":207.75275052214786},{"$f":"INDEX(coordonnées_cadran_plat($D311,K$10,$C$3,$C$2,$C$5,$C$6,0,0,$C$4),1,2)","v":-444.78471154706074},{"$f":"INDEX(coordonnées_cadran_plat($D311,M$10,$C$3,$C$2,$C$5,$C$6,0,0,$C$4),1,1)","v":245.48335584076267},{"$f":"INDEX(coordonnées_cadran_plat($D311,M$10,$C$3,$C$2,$C$5,$C$6,0,0,$C$4),1,2)","v":-255.69558607226352},{"$f":"INDEX(coordonnées_cadran_plat($D311,O$10,$C$3,$C$2,$C$5,$C$6,0,0,$C$4),1,1)","v":264.88351894637276},{"$f":"INDEX(coordonnées_cadran_plat($D311,O$10,$C$3,$C$2,$C$5,$C$6,0,0,$C$4),1,2)","v":-93.318421343247707},{"$f":"INDEX(coordonnées_cadran_plat($D311,Q$10,$C$3,$C$2,$C$5,$C$6,0,0,$C$4),1,1)","v":270.70211586713725},{"$f":"INDEX(coordonnées_cadran_plat($D311,Q$10,$C$3,$C$2,$C$5,$C$6,0,0,$C$4),1,2)","v":61.203035438111442},{"$f":"INDEX(coordonnées_cadran_plat($D311,S$10,$C$3,$C$2,$C$5,$C$6,0,0,$C$4),1,1)","v":263.62011473838061},{"$f":"INDEX(coordonnées_cadran_plat($D311,S$10,$C$3,$C$2,$C$5,$C$6,0,0,$C$4),1,2)","v":223.09872523186894},{"$f":"INDEX(coordonnées_cadran_plat($D311,U$10,$C$3,$C$2,$C$5,$C$6,0,0,$C$4),1,1)","v":240.59941405753216},{"$f":"INDEX(coordonnées_cadran_plat($D311,U$10,$C$3,$C$2,$C$5,$C$6,0,0,$C$4),1,2)","v":410.85962066978414},{"$f":"INDEX(coordonnées_cadran_plat($D311,W$10,$C$3,$C$2,$C$5,$C$6,0,0,$C$4),1,1)","v":192.26815784831567},{"$f":"INDEX(coordonnées_cadran_plat($D311,W$10,$C$3,$C$2,$C$5,$C$6,0,0,$C$4),1,2)","v":656.74933317889258}]
[null,5,2,"2010-02-05",{"$f":"INDEX(heures_limites_cadran($D312,$C$3,$C$2,$C$5),1,1)/24","v":"09:00:00"},{"$f":"INDEX(heures_limites_cadran($D312,$C$3,$C$2,$C$5),1,2)/24","v":"18:30:00"},{"$f":"INDEX(coordonnées_cadran_plat($D312,$G$10,$C$3,$C$2,$C$5,$C$6,0,0,$C$4),1,1)","v":9.4920623483950539},{"$f":"INDEX(coordonnées_cadran_plat($D312,$G$10,$C$3,$C$2,$C$5,$C$6,0,0,$C$4),1,2)","v":-1095.1669035836005},{"$f":"INDEX(coordonnées_cadran_plat($D312,I$10,$C$3,$C$2,$C$5,$C$6,0,0,$C$4),1,1)","v":143.46738235094668},{"$f":"INDEX(coordonnées_cadran_plat($D312,I$10,$C$3,$C$2,$C$5,$C$6,0,0,$C$4),1,2)","v":-698.87437381171367},{"$f":"INDEX(coordonnées_cadran_plat($D312,K$10,$C$3,$C$2,$C$5,$C$6,0,0,$C$4),1,1)","v":211.70666648987932},{"$f":"INDEX(coordonnées_cadran_plat($D312,K$10,$C$3,$C$2,$C$5,$C$6,0,0,$C$4),1,2)","v":-447.40733069740361},{"$f":"INDEX(coordonnées_cadran_plat($D312,M$10,$C$3,$C$2,$C$5,$C$6,0,0,$C$4),1,1)","v":249.18444577845511},{"$f":"INDEX(coordonnées_cadran_plat($D312,M$10,$C$3,$C$2,$C$5,$C$6,0,0,$C$4),1,2)","v":-257.16470401551692},{"$f":"INDEX(coordonnées_cadran_plat($D312,O$10,$C$3,$C$2,$C$5,$C$6,0,0,$C$4),1,1)","v":268.47844477013712},{"$f":"INDEX(coordonnées_cadran_plat($D312,O$10,$C$3,$C$2,$C$5,$C$6,0,0,$C$4),1,2)","v":-94.018890075019684},{"$f":"INDEX(coordonnées_cadran_plat($D312,Q$10,$C$3,$C$2,$C$5,$C$6,0,0,$C$4),1,1)","v":274.33287048765317},{"$f":"INDEX(coordonnées_cadran_plat($D312,Q$10,$C$3,$C$2,$C$5,$C$6,0,0,$C$4),1,2)","v":61.146707020852588},{"$f":"INDEX(coordonnées_cadran_plat($D312,S$10,$C$3,$C$2,$C$5,$C$6,0,0,$C$4),1,1)","v":267.43924765347435},{"$f":"INDEX(coordonnées_cadran_plat($D312,S$10,$C$3,$C$2,$C$5,$C$6,0,0,$C$4),1,2)","v":223.73970927953144},{"$f":"INDEX(coordonnées_cadran_plat($D312,U$10,$C$3,$C$2,$C$5,$C$6,0,0,$C$4),1,1)","v":244.79367670424918},{"$f":"INDEX(coordonnées_cadran_plat($D312,U$10,$C$3,$C$2,$C$5,$C$6,0,0,$C$4),1,2)","v":412.47651477012391},{"$f":"INDEX(coordonnées_cadran_plat($D312,W$10,$C$3,$C$2,$C$5,$C$6,0,0,$C$4),1,1)","v":197.08915588089832},{"$f":"INDEX(coordonnées_cadran_plat($D312,W$10,$C$3,$C$2,$C$5,$C$6,0,0,$C$4),1,2)","v":660.10656376297459}]
[null,6,2,"2010-02-06",{"$f":"INDEX(heures_limites_cadran($D313,$C$3,$C$2,$C$5),1,1)/24","v":"09:00:00"},{"$f":"INDEX(heures_limites_cadran($D313,$C$3,$C$2,$C$5),1,2)/24","v":"18:30:00"},{"$f":"INDEX(coordonnées_cadran_plat($D313,$G$10,$C$3,$C$2,$C$5,$C$6,0,0,$C$4),1,1)","v":14.385539054223653},{"$f":"INDEX(coordonnées_cadran_plat($D313,$G$10,$C$3,$C$2,$C$5,$C$6,0,0,$C$4),1,2)","v":-1105.2026996228703},{"$f":"INDEX(coordonnées_cadran_plat($D313,I$10,$C$3,$C$2,$C$5,$C$6,0,0,$C$4),1,1)","v":147.9476099180942},{"$f":"INDEX(coordonnées_cadran_plat($D313,I$10,$C$3,$C$2,$C$5,$C$6,0,0,$C$4),1,2)","v":-703.68373738279115},{"$f":"INDEX(coordonnées_cadran_plat($D313,K$10,$C$3,$C$2,$C$5,$C$6,0,0,$C$4),1,1)","v":215.76225164465222},{"$f":"INDEX(coordonnées_cadran_plat($D313,K$10,$C$3,$C$2,$C$5,$C$6,0,0,$C$4),1,2)","v":-450.0377077884429},{"$f":"INDEX(coordonnées_cadran_plat($D313,M$10,$C$3,$C$2,$C$5,$C$6,0,0,$C$4),1,1)","v":252.97093984485335},{"$f":"INDEX(coordonnées_cadran_plat($D313,M$10,$C$3,$C$2,$C$5,$C$6,0,0,$C$4),1,2)","v":-258.62323878576871},{"$f":"INDEX(coordonnées_cadran_plat($D313,O$10,$C$3,$C$2,$C$5,$C$6,0,0,$C$4),1,1)","v":272.15039017499907},{"$f":"INDEX(coordonnées_cadran_plat($D313,O$10,$C$3,$C$2,$C$5,$C$6,0,0,$C$4),1,2)","v":-94.695906906512178},{"$f":"INDEX(coordonnées_cadran_plat($D313,Q$10,$C$3,$C$2,$C$5,$C$6,0,0,$C$4),1,1)","v":278.03765258538596},{"$f":"INDEX(coordonnées_cadran_plat($D313,Q$10,$C$3,$C$2,$C$5,$C$6,0,0,$C$4),1,2)","v":61.127019312228555},{"$f":"INDEX(coordonnées_cadran_plat($D313,S$10,$C$3,$C$2,$C$5,$C$6,0,0,$C$4),1,1)","v":271.33408038199775},{"$f":"INDEX(coordonnées_cadran_plat($D313,S$10,$C$3,$C$2,$C$5,$C$6,0,0,$C$4),1,2)","v":224.43549926809789},{"$f":"INDEX(coordonnées_cadran_plat($D313,U$10,$C$3,$C$2,$C$5,$C$6,0,0,$C$4),1,1)","v":249.07056316425019},{"$f":"INDEX(coordonnées_cadran_plat($D313,U$10,$C$3,$C$2,$C$5,$C$6,0,0,$C$4),1,2)","v":414.17920315707113},{"$f":"INDEX(coordonnées_cadran_plat($D313,W$10,$C$3,$C$2,$C$5,$C$6,0,0,$C$4),1,1)","v":202.00711548151935},{"$f":"INDEX(coordonnées_cadran_plat($D313,W$10,$C$3,$C$2,$C$5,$C$6,0,0,$C$4),1,2)","v":663.614026820101}]
[null,7,2,"2010-02-07",{"$f":"INDEX(heures_limites_cadran($D314,$C$3,$C$2,$C$5),1,1)/24","v":"09:00:00"},{"$f":"INDEX(heures_limites_cadran($D314,$C$3,$C$2,$C$5),1,2)/24","v":"18:30:00"},{"$f":"INDEX(coordonnées_cadran_plat($D314,$G$10,$C$3,$C$2,$C$5,$C$6,0,0,$C$4),1,1)","v":19.470393040512658},{"$f":"INDEX(coordonnées_cadran_plat($D314,$G$10,$C$3,$C$2,$C$5,$C$6,0,0,$C$4),1,2)","v":-1115.4076611727908},{"$f":"INDEX(coordonnées_cadran_plat($D314,I$10,$C$3,$C$2,$C$5,$C$6,0,0,$C$4),1,1)","v":152.56024195102776},{"$f":"INDEX(coordonnées_cadran_plat($D314,I$10,$C$3,$C$2,$C$5,$C$6,0,0,$C$4),1,2)","v":-708.53907475103813},{"$f":"INDEX(coordonnées_cadran_plat($D314,K$10,$C$3,$C$2,$C$5,$C$6,0,0,$C$4),1,1)","v":219.91954368108904},{"$f":"INDEX(coordonnées_cadran_plat($D314,K$10,$C$3,$C$2,$C$5,$C$6,0,0,$C$4),1,2)","v":-452.67540765742234},{"$f":"INDEX(coordonnées_cadran_plat($D314,M$10,$C$3,$C$2,$C$5,$C$6,0,0,$C$4),1,1)","v":256.84268634414821},{"$f":"INDEX(coordonnées_cadran_plat($D314,M$10,$C$3,$C$2,$C$5,$C$6,0,0,$C$4),1,2)","v":-260.07087574131197},{"$f":"INDEX(coordonnées_cadran_plat($D314,O$10,$C$3,$C$2,$C$5,$C$6,0,0,$C$4),1,1)","v":275.89918980862058},{"$f":"INDEX(coordonnées_cadran_plat($D314,O$10,$C$3,$C$2,$C$5,$C$6,0,0,$C$4),1,2)","v":-95.349257359370839},{"$f":"INDEX(coordonnées_cadran_plat($D314,Q$10,$C$3,$C$2,$C$5,$C$6,0,0,$C$4),1,1)","v":281.81639057842},{"$f":"INDEX(coordonnées_cadran_plat($D314,Q$10,$C$3,$C$2,$C$5,$C$6,0,0,$C$4),1,2)","v":61.144144026363776},{"$f":"INDEX(coordonnées_cadran_plat($D314,S$10,$C$3,$C$2,$C$5,$C$6,0,0,$C$4),1,1)","v":275.3047553826496},{"$f":"INDEX(coordonnées_cadran_plat($D314,S$10,$C$3,$C$2,$C$5,$C$6,0,0,$C$4),1,2)","v":225.1863305035701},{"$f":"INDEX(coordonnées_cadran_plat($D314,U$10,$C$3,$C$2,$C$5,$C$6,0,0,$C$4),1,1)","v":253.43064359828244},{"$f":"INDEX(coordonnées_cadran_plat($D314,U$10,$C$3,$C$2,$C$5,$C$6,0,0,$C$4),1,2)","v":415.96825350973995},{"$f":"INDEX(coordonnées_cadran_plat($D314,W$10,$C$3,$C$2,$C$5,$C$6,0,0,$C$4),1,1)","v":207.0235192433274},{"$f":"INDEX(coordonnées_cadran_plat($D314,W$10,$C$3,$C$2,$C$5,$C$6,0,0,$C$4),1,2)","v":667.27352949441126}]
[null,8,2,"2010-02-08",{"$f":"INDEX(heures_limites_cadran($D315,$C$3,$C$2,$C$5),1,1)/24","v":"09:00:00"},{"$f":"INDEX(heures_limites_cadran($D315,$C$3,$C$2,$C$5),1,2)/24","v":"18:30:00"},{"$f":"INDEX(coordonnées_cadran_plat($D315,$G$10,$C$3,$C$2,$C$5,$C$6,0,0,$C$4),1,1)","v":24.74938633906147},{"$f":"INDEX(coordonnées_cadran_plat($D315,$G$10,$C$3,$C$2,$C$5,$C$6,0,0,$C$4),1,2)","v":-1125.7833605543794},{"$f":"INDEX(coordonnées_cadran_plat($D315,I$10,$C$3,$C$2,$C$5,$C$6,0,0,$C$4),1,1)","v":157.30594062659847},{"$f":"INDEX(coordonnées_cadran_plat($D315,I$10,$C$3,$C$2,$C$5,$C$6,0,0,$C$4),1,2)","v":-713.44005151995236},{"$f":"INDEX(coordonnées_cadran_plat($D315,K$10,$C$3,$C$2,$C$5,$C$6,0,0,$C$4),1,1)","v":224.17857730689946},{"$f":"INDEX(coordonnées_cadran_plat($D315,K$10,$C$3,$C$2,$C$5,$C$6,0,0,$C$4),1,2)","v":-455.32003333374786},{"$f":"INDEX(coordonnées_cadran_plat($D315,M$10,$C$3,$C$2,$C$5,$C$6,0,0,$C$4),1,1)","v":260.79953710034238},{"$f":"INDEX(coordonnées_cadran_plat($D315,M$10,$C$3,$C$2,$C$5,$C$6,0,0,$C$4),1,2)","v":-261.50733178438355},{"$f":"INDEX(coordonnées_cadran_plat($D315,O$10,$C$3,$C$2,$C$5,$C$6,0,0,$C$4),1,1)","v":279.72468882707972},{"$f":"INDEX(coordonnées_cadran_plat($D315,O$10,$C$3,$C$2,$C$5,$C$6,0,0,$C$4),1,2)","v":-95.978753671327453},{"$f":"INDEX(coordonnées_cadran_plat($D315,Q$10,$C$3,$C$2,$C$5,$C$6,0,0,$C$4),1,1)","v":285.669031467465},{"$f":"INDEX(coordonnées_cadran_plat($D315,Q$10,$C$3,$C$2,$C$5,$C$6,0,0,$C$4),1,2)","v":61.198230900918936},{"$f":"INDEX(coordonnées_cadran_plat($D315,S$10,$C$3,$C$2,$C$5,$C$6,0,0,$C$4),1,1)","v":279.35144513192085},{"$f":"INDEX(coordonnées_cadran_plat($D315,S$10,$C$3,$C$2,$C$5,$C$6,0,0,$C$4),1,2)","v":225.99242355001428},{"$f":"INDEX(coordonnées_cadran_plat($D315,U$10,$C$3,$C$2,$C$5,$C$6,0,0,$C$4),1,1)","v":257.87453838663646},{"$f":"INDEX(coordonnées_cadran_plat($D315,U$10,$C$3,$C$2,$C$5,$C$6,0,0,$C$4),1,2)","v":417.84423630771425},{"$f":"INDEX(coordonnées_cadran_plat($D315,W$10,$C$3,$C$2,$C$5,$C$6,0,0,$C$4),1,1)","v":212.13994483187753},{"$f":"INDEX(coordonnées_cadran_plat($D315,W$10,$C$3,$C$2,$C$5,$C$6,0,0,$C$4),1,2)","v":671.08694306969574}]
[null,9,2,"2010-02-09",{"$f":"INDEX(heures_limites_cadran($D316,$C$3,$C$2,$C$5),1,1)/24","v":"09:00:00"},{"$f":"INDEX(heures_limites_cadran($D316,$C$3,$C$2,$C$5),1,2)/24","v":"18:30:00"},{"$f":"INDEX(coordonnées_cadran_plat($D316,$G$10,$C$3,$C$2,$C$5,$C$6,0,0,$C$4),1,1)","v":30.225317767303959},{"$f":"INDEX(coordonnées_cadran_plat($D316,$G$10,$C$3,$C$2,$C$5,$C$6,0,0,$C$4),1,2)","v":-1136.3315060475691},{"$f":"INDEX(coordonnées_cadran_plat($D316,I$10,$C$3,$C$2,$C$5,$C$6,0,0,$C$4),1,1)","v":162.18536454513097},{"$f":"INDEX(coordonnées_cadran_plat($D316,I$10,$C$3,$C$2,$C$5,$C$6,0,0,$C$4),1,2)","v":-718.38638751376959},{"$f":"INDEX(coordonnées_cadran_plat($D316,K$10,$C$3,$C$2,$C$5,$C$6,0,0,$C$4),1,1)","v":228.53938532636388},{"$f":"INDEX(coordonnées_cadran_plat($D316,K$10,$C$3,$C$2,$C$5,$C$6,0,0,$C$4),1,2)","v":-457.97122694341346},{"$f":"INDEX(coordonnées_cadran_plat($D316,M$10,$C$3,$C$2,$C$5,$C$6,0,0,$C$4),1,1)","v":264.84134833994409},{"$f":"INDEX(coordonnées_cadran_plat($D316,M$10,$C$3,$C$2,$C$5,$C$6,0,0,$C$4),1,2)","v":-262.93235569708543},{"$f":"INDEX(coordonnées_cadran_plat($D316,O$10,$C$3,$C$2,$C$5,$C$6,0,0,$C$4),1,1)","v":283.62674359539392},{"$f":"INDEX(coordonnées_cadran_plat($D316,O$10,$C$3,$C$2,$C$5,$C$6,0,0,$C$4),1,2)","v":-96.584234839678899},{"$f":"INDEX(coordonnées_cadran_plat($D316,Q$10,$C$3,$C$2,$C$5,$C$6,0,0,$C$4),1,1)","v":289.59554139871176},{"$f":"INDEX(coordonnées_cadran_plat($D316,Q$10,$C$3,$C$2,$C$5,$C$6,0,0,$C$4),1,2)","v":61.289407823285728},{"$f":"INDEX(coordonnées_cadran_plat($D316,S$10,$C$3,$C$2,$C$5,$C$6,0,0,$C$4),1,1)","v":283.47435265593111},{"$f":"INDEX(coordonnées_cadran_plat($D316,S$10,$C$3,$C$2,$C$5,$C$6,0,0,$C$4),1,2)","v":226.85398450324027},{"$f":"INDEX(coordonnées_cadran_plat($D316,U$10,$C$3,$C$2,$C$5,$C$6,0,0,$C$4),1,1)","v":262.40291895744087},{"$f":"INDEX(coordonnées_cadran_plat($D316,U$10,$C$3,$C$2,$C$5,$C$6,0,0,$C$4),1,2)","v":419.8077254786765},{"$f":"INDEX(coordonnées_cadran_plat($D316,W$10,$C$3,$C$2,$C$5,$C$6,0,0,$C$4),1,1)","v":217.35806737581561},{"$f":"INDEX(coordonnées_cadran_plat($D316,W$10,$C$3,$C$2,$C$5,$C$6,0,0,$C$4),1,2)","v":675.05620567417975}]
[null,10,2,"2010-02-10",{"$f":"INDEX(heures_limites_cadran($D317,$C$3,$C$2,$C$5),1,1)/24","v":"09:00:00"},{"$f":"INDEX(heures_limites_cadran($D317,$C$3,$C$2,$C$5),1,2)/24","v":"18:30:00"},{"$f":"INDEX(coordonnées_cadran_plat($D317,$G$10,$C$3,$C$2,$C$5,$C$6,0,0,$C$4),1,1)","v":35.901025975989896},{"$f":"INDEX(coordonnées_cadran_plat($D317,$G$10,$C$3,$C$2,$C$5,$C$6,0,0,$C$4),1,2)","v":-1147.0539496972019},{"$f":"INDEX(coordonnées_cadran_plat($D317,I$10,$C$3,$C$2,$C$5,$C$6,0,0,$C$4),1,1)","v":167.19917014610624},{"$f":"INDEX(coordonnées_cadran_plat($D317,I$10,$C$3,$C$2,$C$5,$C$6,0,0,$C$4),1,2)","v":-723.37785898796233},{"$f":"INDEX(coordonnées_cadran_plat($D317,K$10,$C$3,$C$2,$C$5,$C$6,0,0,$C$4),1,1)","v":233.001999743825},{"$f":"INDEX(coordonnées_cadran_plat($D317,K$10,$C$3,$C$2,$C$5,$C$6,0,0,$C$4),1,2)","v":-460.62867057715943},{"$f":"INDEX(coordonnées_cadran_plat($D317,M$10,$C$3,$C$2,$C$5,$C$6,0,0,$C$4),1,1)","v":268.96798156497198},{"$f":"INDEX(coordonnées_cadran_plat($D317,M$10,$C$3,$C$2,$C$5,$C$6,0,0,$C$4),1,2)","v":-264.34572844527719},{"$f":"INDEX(coordonnées_cadran_plat($D317,O$10,$C$3,$C$2,$C$5,$C$6,0,0,$C$4),1,1)","v":287.60522236275949},{"$f":"INDEX(coordonnées_cadran_plat($D317,O$10,$C$3,$C$2,$C$5,$C$6,0,0,$C$4),1,2)","v":-97.165566644430825},{"$f":"INDEX(coordonnées_cadran_plat($D317,Q$10,$C$3,$C$2,$C$5,$C$6,0,0,$C$4),1,1)","v":293.59590619357778},{"$f":"INDEX(coordonnées_cadran_plat($D317,Q$10,$C$3,$C$2,$C$5,$C$6,0,0,$C$4),1,2)","v":61.417780963836883},{"$f":"INDEX(coordonnées_cadran_plat($D317,S$10,$C$3,$C$2,$C$5,$C$6,0,0,$C$4),1,1)","v":287.67371202889592},{"$f":"INDEX(coordonnées_cadran_plat($D317,S$10,$C$3,$C$2,$C$5,$C$6,0,0,$C$4),1,2)","v":227.77120525729742},{"$f":"INDEX(coordonnées_cadran_plat($D317,U$10,$C$3,$C$2,$C$5,$C$6,0,0,$C$4),1,1)","v":267.01650859924712},{"$f":"INDEX(coordonnées_cadran_plat($D317,U$10,$C$3,$C$2,$C$5,$C$6,0,0,$C$4),1,2)","v":421.8592990300906},{"$f":"INDEX(coordonnées_cadran_plat($D317,W$10,$C$3,$C$2,$C$5,$C$6,0,0,$C$4),1,1)","v":222.67966193915635},{"$f":"INDEX(coordonnées_cadran_plat($D317,W$10,$C$3,$C$2,$C$5,$C$6,0,0,$C$4),1,2)","v":679.18332504250338}]
[null,11,2,"2010-02-11",{"$f":"INDEX(heures_limites_cadran($D318,$C$3,$C$2,$C$5),1,1)/24","v":"09:00:00"},{"$f":"INDEX(heures_limites_cadran($D318,$C$3,$C$2,$C$5),1,2)/24","v":"18:30:00"},{"$f":"INDEX(coordonnées_cadran_plat($D318,$G$10,$C$3,$C$2,$C$5,$C$6,0,0,$C$4),1,1)","v":41.77939277821411},{"$f":"INDEX(coordonnées_cadran_plat($D318,$G$10,$C$3,$C$2,$C$5,$C$6,0,0,$C$4),1,2)","v":-1157.952695435398},{"$f":"INDEX(coordonnées_cadran_plat($D318,I$10,$C$3,$C$2,$C$5,$C$6,0,0,$C$4),1,1)","v":172.34801320415011},{"$f":"INDEX(coordonnées_cadran_plat($D318,I$10,$C$3,$C$2,$C$5,$C$6,0,0,$C$4),1,2)","v":-728.41430083251453},{"$f":"INDEX(coordonnées_cadran_plat($D318,K$10,$C$3,$C$2,$C$5,$C$6,0,0,$C$4),1,1)","v":237.56645288436275},{"$f":"INDEX(coordonnées_cadran_plat($D318,K$10,$C$3,$C$2,$C$5,$C$6,0,0,$C$4),1,2)","v":-463.29208712121942},{"$f":"INDEX(coordonnées_cadran_plat($D318,M$10,$C$3,$C$2,$C$5,$C$6,0,0,$C$4),1,1)","v":273.17930441368333},{"$f":"INDEX(coordonnées_cadran_plat($D318,M$10,$C$3,$C$2,$C$5,$C$6,0,0,$C$4),1,2)","v":-265.74726345043547},{"$f":"INDEX(coordonnées_cadran_plat($D318,O$10,$C$3,$C$2,$C$5,$C$6,0,0,$C$4),1,1)","v":291.66000591041222},{"$f":"INDEX(coordonnées_cadran_plat($D318,O$10,$C$3,$C$2,$C$5,$C$6,0,0,$C$4),1,2)","v":-97.722641650920664},{"$f":"INDEX(coordonnées_cadran_plat($D318,Q$10,$C$3,$C$2,$C$5,$C$6,0,0,$C$4),1,1)","v":297.6701318437166},{"$f":"INDEX(coordonnées_cadran_plat($D318,Q$10,$C$3,$C$2,$C$5,$C$6,0,0,$C$4),1,2)","v":61.5834349158905},{"$f":"INDEX(coordonnées_cadran_plat($D318,S$10,$C$3,$C$2,$C$5,$C$6,0,0,$C$4),1,1)","v":291.94978883681409},{"$f":"INDEX(coordonnées_cadran_plat($D318,S$10,$C$3,$C$2,$C$5,$C$6,0,0,$C$4),1,2)","v":228.74426376252117},{"$f":"INDEX(coordonnées_cadran_plat($D318,U$10,$C$3,$C$2,$C$5,$C$6,0,0,$C$4),1,1)","v":271.7160832569831},{"$f":"INDEX(coordonnées_cadran_plat($D318,U$10,$C$3,$C$2,$C$5,$C$6,0,0,$C$4),1,2)","v":423.99953966386761},{"$f":"INDEX(coordonnées_cadran_plat($D318,W$10,$C$3,$C$2,$C$5,$C$6,0,0,$C$4),1,1)","v":228.10660607883617},{"$f":"INDEX(coordonnées_cadran_plat($D318,W$10,$C$3,$C$2,$C$5,$C$6,0,0,$C$4),1,2)","v":683.4703813366466}]
[null,12,2,"2010-02-12",{"$f":"INDEX(heures_limites_cadran($D319,$C$3,$C$2,$C$5),1,1)/24","v":"09:00:00"},{"$f":"INDEX(heures_limites_cadran($D319,$C$3,$C$2,$C$5),1,2)/24","v":"18:30:00"},{"$f":"INDEX(coordonnées_cadran_plat($D319,$G$10,$C$3,$C$2,$C$5,$C$6,0,0,$C$4),1,1)","v":47.863346771645588},{"$f":"INDEX(coordonnées_cadran_plat($D319,$G$10,$C$3,$C$2,$C$5,$C$6,0,0,$C$4),1,2)","v":-1169.02990753109},{"$f":"INDEX(coordonnées_cadran_plat($D319,I$10,$C$3,$C$2,$C$5,$C$6,0,0,$C$4),1,1)","v":177.63255040328471},{"$f":"INDEX(coordonnées_cadran_plat($D319,I$10,$C$3,$C$2,$C$5,$C$6,0,0,$C$4),1,2)","v":-733.49560876619455},{"$f":"INDEX(coordonnées_cadran_plat($D319,K$10,$C$3,$C$2,$C$5,$C$6,0,0,$C$4),1,1)","v":242.23277852835193},{"$f":"INDEX(coordonnées_cadran_plat($D319,K$10,$C$3,$C$2,$C$5,$C$6,0,0,$C$4),1,2)","v":-465.96124105004202},{"$f":"INDEX(coordonnées_cadran_plat($D319,M$10,$C$3,$C$2,$C$5,$C$6,0,0,$C$4),1,1)","v":277.47519150628642},{"$f":"INDEX(coordonnées_cadran_plat($D319,M$10,$C$3,$C$2,$C$5,$C$6,0,0,$C$4),1,2)","v":-267.13680682999126},{"$f":"INDEX(coordonnées_cadran_plat($D319,O$10,$C$3,$C$2,$C$5,$C$6,0,0,$C$4),1,1)","v":295.79098817005683},{"$f":"INDEX(coordonnées_cadran_plat($D319,O$10,$C$3,$C$2,$C$5,$C$6,0,0,$C$4),1,2)","v":-98.255379193872685},{"$f":"INDEX(coordonnées_cadran_plat($D319,Q$10,$C$3,$C$2,$C$5,$C$6,0,0,$C$4),1,1)","v":301.81824496970933},{"$f":"INDEX(coordonnées_cadran_plat($D319,Q$10,$C$3,$C$2,$C$5,$C$6,0,0,$C$4),1,2)","v":61.786432840089738},{"$f":"INDEX(coordonnées_cadran_plat($D319,S$10,$C$3,$C$2,$C$5,$C$6,0,0,$C$4),1,1)","v":296.30288060501215},{"$f":"INDEX(coordonnées_cadran_plat($D319,S$10,$C$3,$C$2,$C$5,$C$6,0,0,$C$4),1,2)","v":229.77332427347233},{"$f":"INDEX(coordonnées_cadran_plat($D319,U$10,$C$3,$C$2,$C$5,$C$6,0,0,$C$4),1,1)","v":276.50247231069602},{"$f":"INDEX(coordonnées_cadran_plat($D319,U$10,$C$3,$C$2,$C$5,$C$6,0,0,$C$4),1,2)","v":426.22903537073006},{"$f":"INDEX(coordonnées_cadran_plat($D319,W$10,$C$3,$C$2,$C$5,$C$6,0,0,$C$4),1,1)","v":233.64088249101937},{"$f":"INDEX(coordonnées_cadran_plat($D319,W$10,$C$3,$C$2,$C$5,$C$6,0,0,$C$4),1,2)","v":687.91953002704724}]
[null,13,2,"2010-02-13",{"$f":"INDEX(heures_limites_cadran($D320,$C$3,$C$2,$C$5),1,1)/24","v":"09:00:00"},{"$f":"INDEX(heures_limites_cadran($D320,$C$3,$C$2,$C$5),1,2)/24","v":"18:30:00"},{"$f":"INDEX(coordonnées_cadran_plat($D320,$G$10,$C$3,$C$2,$C$5,$C$6,0,0,$C$4),1,1)","v":54.155867266426277},{"$f":"INDEX(coordonnées_cadran_plat($D320,$G$10,$C$3,$C$2,$C$5,$C$6,0,0,$C$4),1,2)","v":-1180.2879193769711},{"$f":"INDEX(coordonnées_cadran_plat($D320,I$10,$C$3,$C$2,$C$5,$C$6,0,0,$C$4),1,1)","v":183.0534409875693},{"$f":"INDEX(coordonnées_cadran_plat($D320,I$10,$C$3,$C$2,$C$5,$C$6,0,0,$C$4),1,2)","v":-738.62174151929105},{"$f":"INDEX(coordonnées_cadran_plat($D320,K$10,$C$3,$C$2,$C$5,$C$6,0,0,$C$4),1,1)","v":247.00101305686914},{"$f":"INDEX(coordonnées_cadran_plat($D320,K$10,$C$3,$C$2,$C$5,$C$6,0,0,$C$4),1,2)","v":-468.63593918005517},{"$f":"INDEX(coordonnées_cadran_plat($D320,M$10,$C$3,$C$2,$C$5,$C$6,0,0,$C$4),1,1)","v":281.8555252729991},{"$f":"INDEX(coordonnées_cadran_plat($D320,M$10,$C$3,$C$2,$C$5,$C$6,0,0,$C$4),1,2)","v":-268.51423760653694},{"$f":"INDEX(coordonnées_cadran_plat($D320,O$10,$C$3,$C$2,$C$5,$C$6,0,0,$C$4),1,1)","v":299.9980768107817},{"$f":"INDEX(coordonnées_cadran_plat($D320,O$10,$C$3,$C$2,$C$5,$C$6,0,0,$C$4),1,2)","v":-98.763725343260177},{"$f":"INDEX(coordonnées_cadran_plat($D320,Q$10,$C$3,$C$2,$C$5,$C$6,0,0,$C$4),1,1)","v":306.04029324176543},{"$f":"INDEX(coordonnées_cadran_plat($D320,Q$10,$C$3,$C$2,$C$5,$C$6,0,0,$C$4),1,2)","v":62.026816612743119},{"$f":"INDEX(coordonnées_cadran_plat($D320,S$10,$C$3,$C$2,$C$5,$C$6,0,0,$C$4),1,1)","v":300.73331718815615},{"$f":"INDEX(coordonnées_cadran_plat($D320,S$10,$C$3,$C$2,$C$5,$C$6,0,0,$C$4),1,2)","v":230.85853758478561},{"$f":"INDEX(coordonnées_cadran_plat($D320,U$10,$C$3,$C$2,$C$5,$C$6,0,0,$C$4),1,1)","v":281.37655933565588},{"$f":"INDEX(coordonnées_cadran_plat($D320,U$10,$C$3,$C$2,$C$5,$C$6,0,0,$C$4),1,2)","v":428.54838000331114},{"$f":"INDEX(coordonnées_cadran_plat($D320,W$10,$C$3,$C$2,$C$5,$C$6,0,0,$C$4),1,1)","v":239.28458174983203},{"$f":"INDEX(coordonnées_cadran_plat($D320,W$10,$C$3,$C$2,$C$5,$C$6,0,0,$C$4),1,2)","v":692.53300483557678}]
[null,14,2,{"$f":"DATE($C$7,C321,B321)","v":"2010-02-14"},{"$f":"INDEX(heures_limites_cadran($D321,$C$3,$C$2,$C$5),1,1)/24","v":"09:00:00"},{"$f":"INDEX(heures_limites_cadran($D321,$C$3,$C$2,$C$5),1,2)/24","v":"18:30:00"},{"$f":"INDEX(coordonnées_cadran_plat($D321,$G$10,$C$3,$C$2,$C$5,$C$6,0,0,$C$4),1,1)","v":60.659988531044796},{"$f":"INDEX(coordonnées_cadran_plat($D321,$G$10,$C$3,$C$2,$C$5,$C$6,0,0,$C$4),1,2)","v":-1191.7292426266856},{"$f":"INDEX(coordonnées_cadran_plat($D321,I$10,$C$3,$C$2,$C$5,$C$6,0,0,$C$4),1,1)","v":188.61134848569301},{"$f":"INDEX(coordonnées_cadran_plat($D321,I$10,$C$3,$C$2,$C$5,$C$6,0,0,$C$4),1,2)","v":-743.79272300273294},{"$f":"INDEX(coordonnées_cadran_plat($D321,K$10,$C$3,$C$2,$C$5,$C$6,0,0,$C$4),1,1)","v":251.87119660451935},{"$f":"INDEX(coordonnées_cadran_plat($D321,K$10,$C$3,$C$2,$C$5,$C$6,0,0,$C$4),1,2)","v":-471.31603138387158},{"$f":"INDEX(coordonnées_cadran_plat($D321,M$10,$C$3,$C$2,$C$5,$C$6,0,0,$C$4),1,1)","v":286.32019676173883},{"$f":"INDEX(coordonnées_cadran_plat($D321,M$10,$C$3,$C$2,$C$5,$C$6,0,0,$C$4),1,2)","v":-269.87946788634576},{"$f":"INDEX(coordonnées_cadran_plat($D321,O$10,$C$3,$C$2,$C$5,$C$6,0,0,$C$4),1,1)","v":304.281193792419},{"$f":"INDEX(coordonnées_cadran_plat($D321,O$10,$C$3,$C$2,$C$5,$C$6,0,0,$C$4),1,2)","v":-99.247652853345613},{"$f":"INDEX(coordonnées_cadran_plat($D321,Q$10,$C$3,$C$2,$C$5,$C$6,0,0,$C$4),1,1)","v":310.33634576071245},{"$f":"INDEX(coordonnées_cadran_plat($D321,Q$10,$C$3,$C$2,$C$5,$C$6,0,0,$C$4),1,2)","v":62.304606976134167},{"$f":"INDEX(coordonnées_cadran_plat($D321,S$10,$C$3,$C$2,$C$5,$C$6,0,0,$C$4),1,1)","v":305.24146112115636},{"$f":"INDEX(coordonnées_cadran_plat($D321,S$10,$C$3,$C$2,$C$5,$C$6,0,0,$C$4),1,2)","v":232.00004125340192},{"$f":"INDEX(coordonnées_cadran_plat($D321,U$10,$C$3,$C$2,$C$5,$C$6,0,0,$C$4),1,1)","v":286.33928284280711},{"$f":"INDEX(coordonnées_cadran_plat($D321,U$10,$C$3,$C$2,$C$5,$C$6,0,0,$C$4),1,2)","v":430.95817382493237},{"$f":"INDEX(coordonnées_cadran_plat($D321,W$10,$C$3,$C$2,$C$5,$C$6,0,0,$C$4),1,1)","v":245.03990514208192},{"$f":"INDEX(coordonnées_cadran_plat($D321,W$10,$C$3,$C$2,$C$5,$C$6,0,0,$C$4),1,2)","v":697.31312074127754}]
[null,15,2,"2010-02-15",{"$f":"INDEX(heures_limites_cadran($D322,$C$3,$C$2,$C$5),1,1)/24","v":"09:00:00"},{"$f":"INDEX(heures_limites_cadran($D322,$C$3,$C$2,$C$5),1,2)/24","v":"18:30:00"},{"$f":"INDEX(coordonnées_cadran_plat($D322,$G$10,$C$3,$C$2,$C$5,$C$6,0,0,$C$4),1,1)","v":67.378804369433411},{"$f":"INDEX(coordonnées_cadran_plat($D322,$G$10,$C$3,$C$2,$C$5,$C$6,0,0,$C$4),1,2)","v":-1203.3565766954505},{"$f":"INDEX(coordonnées_cadran_plat($D322,I$10,$C$3,$C$2,$C$5,$C$6,0,0,$C$4),1,1)","v":194.30694250726424},{"$f":"INDEX(coordonnées_cadran_plat($D322,I$10,$C$3,$C$2,$C$5,$C$6,0,0,$C$4),1,2)","v":-749.00864446180356},{"$f":"INDEX(coordonnées_cadran_plat($D322,K$10,$C$3,$C$2,$C$5,$C$6,0,0,$C$4),1,1)","v":256.84337421646353},{"$f":"INDEX(coordonnées_cadran_plat($D322,K$10,$C$3,$C$2,$C$5,$C$6,0,0,$C$4),1,2)","v":-474.00141126484493},{"$f":"INDEX(coordonnées_cadran_plat($D322,M$10,$C$3,$C$2,$C$5,$C$6,0,0,$C$4),1,1)","v":290.8691064226889},{"$f":"INDEX(coordonnées_cadran_plat($D322,M$10,$C$3,$C$2,$C$5,$C$6,0,0,$C$4),1,2)","v":-271.23244300782426},{"$f":"INDEX(coordonnées_cadran_plat($D322,O$10,$C$3,$C$2,$C$5,$C$6,0,0,$C$4),1,1)","v":308.64027588318265},{"$f":"INDEX(coordonnées_cadran_plat($D322,O$10,$C$3,$C$2,$C$5,$C$6,0,0,$C$4),1,2)","v":-99.707161095624386},{"$f":"INDEX(coordonnées_cadran_plat($D322,Q$10,$C$3,$C$2,$C$5,$C$6,0,0,$C$4),1,1)","v":314.706493397592},{"$f":"INDEX(coordonnées_cadran_plat($D322,Q$10,$C$3,$C$2,$C$5,$C$6,0,0,$C$4),1,2)","v":62.619803689885025},{"$f":"INDEX(coordonnées_cadran_plat($D322,S$10,$C$3,$C$2,$C$5,$C$6,0,0,$C$4),1,1)","v":309.82770792919979},{"$f":"INDEX(coordonnées_cadran_plat($D322,S$10,$C$3,$C$2,$C$5,$C$6,0,0,$C$4),1,2)","v":233.19795980562893},{"$f":"INDEX(coordonnées_cadran_plat($D322,U$10,$C$3,$C$2,$C$5,$C$6,0,0,$C$4),1,1)","v":291.39163699803896},{"$f":"INDEX(coordonnées_cadran_plat($D322,U$10,$C$3,$C$2,$C$5,$C$6,0,0,$C$4),1,2)","v":433.45902403225551},{"$f":"INDEX(coordonnées_cadran_plat($D322,W$10,$C$3,$C$2,$C$5,$C$6,0,0,$C$4),1,1)","v":250.90916760154059},{"$f":"INDEX(coordonnées_cadran_plat($D322,W$10,$C$3,$C$2,$C$5,$C$6,0,0,$C$4),1,2)","v":702.26227705052554}]
[null,16,2,"2010-02-16",{"$f":"INDEX(heures_limites_cadran($D323,$C$3,$C$2,$C$5),1,1)/24","v":"09:00:00"},{"$f":"INDEX(heures_limites_cadran($D323,$C$3,$C$2,$C$5),1,2)/24","v":"18:30:00"},{"$f":"INDEX(coordonnées_cadran_plat($D323,$G$10,$C$3,$C$2,$C$5,$C$6,0,0,$C$4),1,1)","v":74.3154730427798},{"$f":"INDEX(coordonnées_cadran_plat($D323,$G$10,$C$3,$C$2,$C$5,$C$6,0,0,$C$4),1,2)","v":-1215.1728186375803},{"$f":"INDEX(coordonnées_cadran_plat($D323,I$10,$C$3,$C$2,$C$5,$C$6,0,0,$C$4),1,1)","v":200.14090060803889},{"$f":"INDEX(coordonnées_cadran_plat($D323,I$10,$C$3,$C$2,$C$5,$C$6,0,0,$C$4),1,2)","v":-754.2696666125064},{"$f":"INDEX(coordonnées_cadran_plat($D323,K$10,$C$3,$C$2,$C$5,$C$6,0,0,$C$4),1,1)","v":261.91759700608191},{"$f":"INDEX(coordonnées_cadran_plat($D323,K$10,$C$3,$C$2,$C$5,$C$6,0,0,$C$4),1,2)","v":-476.69201679085023},{"$f":"INDEX(coordonnées_cadran_plat($D323,M$10,$C$3,$C$2,$C$5,$C$6,0,0,$C$4),1,1)","v":295.50216486705557},{"$f":"INDEX(coordonnées_cadran_plat($D323,M$10,$C$3,$C$2,$C$5,$C$6,0,0,$C$4),1,2)","v":-272.57314166038151},{"$f":"INDEX(coordonnées_cadran_plat($D323,O$10,$C$3,$C$2,$C$5,$C$6,0,0,$C$4),1,1)","v":313.075275139513},{"$f":"INDEX(coordonnées_cadran_plat($D323,O$10,$C$3,$C$2,$C$5,$C$6,0,0,$C$4),1,2)","v":-100.14227597690808},{"$f":"INDEX(coordonnées_cadran_plat($D323,Q$10,$C$3,$C$2,$C$5,$C$6,0,0,$C$4),1,1)","v":319.15084909002326},{"$f":"INDEX(coordonnées_cadran_plat($D323,Q$10,$C$3,$C$2,$C$5,$C$6,0,0,$C$4),1,2)","v":62.972385681848024},{"$f":"INDEX(coordonnées_cadran_plat($D323,S$10,$C$3,$C$2,$C$5,$C$6,0,0,$C$4),1,1)","v":314.49248639531004},{"$f":"INDEX(coordonnées_cadran_plat($D323,S$10,$C$3,$C$2,$C$5,$C$6,0,0,$C$4),1,2)","v":234.45240492698079},{"$f":"INDEX(coordonnées_cadran_plat($D323,U$10,$C$3,$C$2,$C$5,$C$6,0,0,$C$4),1,1)","v":296.53467231860589},{"$f":"INDEX(coordonnées_cadran_plat($D323,U$10,$C$3,$C$2,$C$5,$C$6,0,0,$C$4),1,2)","v":436.05154524923637},{"$f":"INDEX(coordonnées_cadran_plat($D323,W$10,$C$3,$C$2,$C$5,$C$6,0,0,$C$4),1,1)","v":256.89480074604597},{"$f":"INDEX(coordonnées_cadran_plat($D323,W$10,$C$3,$C$2,$C$5,$C$6,0,0,$C$4),1,2)","v":707.38296053283773}]
[null,17,2,"2010-02-17",{"$f":"INDEX(heures_limites_cadran($D324,$C$3,$C$2,$C$5),1,1)/24","v":"09:00:00"},{"$f":"INDEX(heures_limites_cadran($D324,$C$3,$C$2,$C$5),1,2)/24","v":"18:30:00"},{"$f":"INDEX(coordonnées_cadran_plat($D324,$G$10,$C$3,$C$2,$C$5,$C$6,0,0,$C$4),1,1)","v":81.473222549862541},{"$f":"INDEX(coordonnées_cadran_plat($D324,$G$10,$C$3,$C$2,$C$5,$C$6,0,0,$C$4),1,2)","v":-1227.1810734179389},{"$f":"INDEX(coordonnées_cadran_plat($D324,I$10,$C$3,$C$2,$C$5,$C$6,0,0,$C$4),1,1)","v":206.11391022135854},{"$f":"INDEX(coordonnées_cadran_plat($D324,I$10,$C$3,$C$2,$C$5,$C$6,0,0,$C$4),1,2)","v":-759.57602175883756},{"$f":"INDEX(coordonnées_cadran_plat($D324,K$10,$C$3,$C$2,$C$5,$C$6,0,0,$C$4),1,1)","v":267.09392330989249},{"$f":"INDEX(coordonnées_cadran_plat($D324,K$10,$C$3,$C$2,$C$5,$C$6,0,0,$C$4),1,2)","v":-479.38783088773795},{"$f":"INDEX(coordonnées_cadran_plat($D324,M$10,$C$3,$C$2,$C$5,$C$6,0,0,$C$4),1,1)","v":300.21929359714323},{"$f":"INDEX(coordonnées_cadran_plat($D324,M$10,$C$3,$C$2,$C$5,$C$6,0,0,$C$4),1,2)","v":-273.90157597413599},{"$f":"INDEX(coordonnées_cadran_plat($D324,O$10,$C$3,$C$2,$C$5,$C$6,0,0,$C$4),1,1)","v":317.58615934596617},{"$f":"INDEX(coordonnées_cadran_plat($D324,O$10,$C$3,$C$2,$C$5,$C$6,0,0,$C$4),1,2)","v":-100.55304984350661},{"$f":"INDEX(coordonnées_cadran_plat($D324,Q$10,$C$3,$C$2,$C$5,$C$6,0,0,$C$4),1,1)","v":323.66954809347891},{"$f":"INDEX(coordonnées_cadran_plat($D324,Q$10,$C$3,$C$2,$C$5,$C$6,0,0,$C$4),1,2)","v":63.362311197384976},{"$f":"INDEX(coordonnées_cadran_plat($D324,S$10,$C$3,$C$2,$C$5,$C$6,0,0,$C$4),1,1)","v":319.23625878333752},{"$f":"INDEX(coordonnées_cadran_plat($D324,S$10,$C$3,$C$2,$C$5,$C$6,0,0,$C$4),1,2)","v":235.76347563346914},{"$f":"INDEX(coordonnées_cadran_plat($D324,U$10,$C$3,$C$2,$C$5,$C$6,0,0,$C$4),1,1)","v":301.76949634489557},{"$f":"INDEX(coordonnées_cadran_plat($D324,U$10,$C$3,$C$2,$C$5,$C$6,0,0,$C$4),1,2)","v":438.73635998997429},{"$f":"INDEX(coordonnées_cadran_plat($D324,W$10,$C$3,$C$2,$C$5,$C$6,0,0,$C$4),1,1)","v":262.99935602114726},{"$f":"INDEX(coordonnées_cadran_plat($D324,W$10,$C$3,$C$2,$C$5,$C$6,0,0,$C$4),1,2)","v":712.67774862306965}]
[null,18,2,"2010-02-18",{"$f":"INDEX(heures_limites_cadran($D325,$C$3,$C$2,$C$5),1,1)/24","v":"09:00:00"},{"$f":"INDEX(heures_limites_cadran($D325,$C$3,$C$2,$C$5),1,2)/24","v":"18:30:00"},{"$f":"INDEX(coordonnées_cadran_plat($D325,$G$10,$C$3,$C$2,$C$5,$C$6,0,0,$C$4),1,1)","v":88.855356280720287},{"$f":"INDEX(coordonnées_cadran_plat($D325,$G$10,$C$3,$C$2,$C$5,$C$6,0,0,$C$4),1,2)","v":-1239.3846645929889},{"$f":"INDEX(coordonnées_cadran_plat($D325,I$10,$C$3,$C$2,$C$5,$C$6,0,0,$C$4),1,1)","v":212.22667065277591},{"$f":"INDEX(coordonnées_cadran_plat($D325,I$10,$C$3,$C$2,$C$5,$C$6,0,0,$C$4),1,2)","v":-764.92801588945656},{"$f":"INDEX(coordonnées_cadran_plat($D325,K$10,$C$3,$C$2,$C$5,$C$6,0,0,$C$4),1,1)","v":272.37241983603224},{"$f":"INDEX(coordonnées_cadran_plat($D325,K$10,$C$3,$C$2,$C$5,$C$6,0,0,$C$4),1,2)","v":-482.08888199118257},{"$f":"INDEX(coordonnées_cadran_plat($D325,M$10,$C$3,$C$2,$C$5,$C$6,0,0,$C$4),1,1)","v":305.02042570503784},{"$f":"INDEX(coordonnées_cadran_plat($D325,M$10,$C$3,$C$2,$C$5,$C$6,0,0,$C$4),1,2)","v":-275.21779158150366},{"$f":"INDEX(coordonnées_cadran_plat($D325,O$10,$C$3,$C$2,$C$5,$C$6,0,0,$C$4),1,1)","v":322.17291241293032},{"$f":"INDEX(coordonnées_cadran_plat($D325,O$10,$C$3,$C$2,$C$5,$C$6,0,0,$C$4),1,2)","v":-100.93956137247632},{"$f":"INDEX(coordonnées_cadran_plat($D325,Q$10,$C$3,$C$2,$C$5,$C$6,0,0,$C$4),1,1)","v":328.2627481855701},{"$f":"INDEX(coordonnées_cadran_plat($D325,Q$10,$C$3,$C$2,$C$5,$C$6,0,0,$C$4),1,2)","v":63.78951794562709},{"$f":"INDEX(coordonnées_cadran_plat($D325,S$10,$C$3,$C$2,$C$5,$C$6,0,0,$C$4),1,1)","v":324.05952101451703},{"$f":"INDEX(coordonnées_cadran_plat($D325,S$10,$C$3,$C$2,$C$5,$C$6,0,0,$C$4),1,2)","v":237.13125842205994},{"$f":"INDEX(coordonnées_cadran_plat($D325,U$10,$C$3,$C$2,$C$5,$C$6,0,0,$C$4),1,1)","v":307.09727428537178},{"$f":"INDEX(coordonnées_cadran_plat($D325,U$10,$C$3,$C$2,$C$5,$C$6,0,0,$C$4),1,2)","v":441.51409908752089},{"$f":"INDEX(coordonnées_cadran_plat($D325,W$10,$C$3,$C$2,$C$5,$C$6,0,0,$C$4),1,1)","v":269.22550795340879},{"$f":"INDEX(coordonnées_cadran_plat($D325,W$10,$C$3,$C$2,$C$5,$C$6,0,0,$C$4),1,2)","v":718.14931269119188}]
[null,19,2,"2010-02-19",{"$f":"INDEX(heures_limites_cadran($D326,$C$3,$C$2,$C$5),1,1)/24","v":"09:00:00"},{"$f":"INDEX(heures_limites_cadran($D326,$C$3,$C$2,$C$5),1,2)/24","v":"18:30:00"},{"$f":"INDEX(coordonnées_cadran_plat($D326,$G$10,$C$3,$C$2,$C$5,$C$6,0,0,$C$4),1,1)","v":96.46525905859022},{"$f":"INDEX(coordonnées_cadran_plat($D326,$G$10,$C$3,$C$2,$C$5,$C$6,0,0,$C$4),1,2)","v":-1251.7871454209178},{"$f":"INDEX(coordonnées_cadran_plat($D326,I$10,$C$3,$C$2,$C$5,$C$6,0,0,$C$4),1,1)","v":218.47989513477094},{"$f":"INDEX(coordonnées_cadran_plat($D326,I$10,$C$3,$C$2,$C$5,$C$6,0,0,$C$4),1,2)","v":-770.32603075217878},{"$f":"INDEX(coordonnées_cadran_plat($D326,K$10,$C$3,$C$2,$C$5,$C$6,0,0,$C$4),1,1)","v":277.75316280271483},{"$f":"INDEX(coordonnées_cadran_plat($D326,K$10,$C$3,$C$2,$C$5,$C$6,0,0,$C$4),1,2)","v":-484.79524455776459},{"$f":"INDEX(coordonnées_cadran_plat($D326,M$10,$C$3,$C$2,$C$5,$C$6,0,0,$C$4),1,1)","v":309.90550653701536},{"$f":"INDEX(coordonnées_cadran_plat($D326,M$10,$C$3,$C$2,$C$5,$C$6,0,0,$C$4),1,2)","v":-276.52186765083877},{"$f":"INDEX(coordonnées_cadran_plat($D326,O$10,$C$3,$C$2,$C$5,$C$6,0,0,$C$4),1,1)","v":326.83553473002172},{"$f":"INDEX(coordonnées_cadran_plat($D326,O$10,$C$3,$C$2,$C$5,$C$6,0,0,$C$4),1,2)","v":-101.30191545087445},{"$f":"INDEX(coordonnées_cadran_plat($D326,Q$10,$C$3,$C$2,$C$5,$C$6,0,0,$C$4),1,1)","v":332.93062982133068},{"$f":"INDEX(coordonnées_cadran_plat($D326,Q$10,$C$3,$C$2,$C$5,$C$6,0,0,$C$4),1,2)","v":64.253923241594919},{"$f":"INDEX(coordonnées_cadran_plat($D326,S$10,$C$3,$C$2,$C$5,$C$6,0,0,$C$4),1,1)","v":328.96280279521835},{"$f":"INDEX(coordonnées_cadran_plat($D326,S$10,$C$3,$C$2,$C$5,$C$6,0,0,$C$4),1,2)","v":238.55582739917122},{"$f":"INDEX(coordonnées_cadran_plat($D326,U$10,$C$3,$C$2,$C$5,$C$6,0,0,$C$4),1,1)","v":312.51922963224064},{"$f":"INDEX(coordonnées_cadran_plat($D326,U$10,$C$3,$C$2,$C$5,$C$6,0,0,$C$4),1,2)","v":444.38540208654041},{"$f":"INDEX(coordonnées_cadran_plat($D326,W$10,$C$3,$C$2,$C$5,$C$6,0,0,$C$4),1,1)","v":275.57605751664568},{"$f":"INDEX(coordonnées_cadran_plat($D326,W$10,$C$3,$C$2,$C$5,$C$6,0,0,$C$4),1,2)","v":723.80042138049123}]
[null,20,2,"2010-02-20",{"$f":"INDEX(heures_limites_cadran($D327,$C$3,$C$2,$C$5),1,1)/24","v":"09:00:00"},{"$f":"INDEX(heures_limites_cadran($D327,$C$3,$C$2,$C$5),1,2)/24","v":"18:30:00"},{"$f":"INDEX(coordonnées_cadran_plat($D327,$G$10,$C$3,$C$2,$C$5,$C$6,0,0,$C$4),1,1)","v":104.30640358628186},{"$f":"INDEX(coordonnées_cadran_plat($D327,$G$10,$C$3,$C$2,$C$5,$C$6,0,0,$C$4),1,2)","v":-1264.3923104203516},{"$f":"INDEX(coordonnées_cadran_plat($D327,I$10,$C$3,$C$2,$C$5,$C$6,0,0,$C$4),1,1)","v":224.87431293807853},{"$f":"INDEX(coordonnées_cadran_plat($D327,I$10,$C$3,$C$2,$C$5,$C$6,0,0,$C$4),1,2)","v":-775.7705259053273},{"$f":"INDEX(coordonnées_cadran_plat($D327,K$10,$C$3,$C$2,$C$5,$C$6,0,0,$C$4),1,1)","v":283.23623906293653},{"$f":"INDEX(coordonnées_cadran_plat($D327,K$10,$C$3,$C$2,$C$5,$C$6,0,0,$C$4),1,2)","v":-487.50703953427063},{"$f":"INDEX(coordonnées_cadran_plat($D327,M$10,$C$3,$C$2,$C$5,$C$6,0,0,$C$4),1,1)","v":314.874494320819},{"$f":"INDEX(coordonnées_cadran_plat($D327,M$10,$C$3,$C$2,$C$5,$C$6,0,0,$C$4),1,2)","v":-277.81391689288176},{"$f":"INDEX(coordonnées_cadran_plat($D327,O$10,$C$3,$C$2,$C$5,$C$6,0,0,$C$4),1,1)","v":331.57404347282835},{"$f":"INDEX(coordonnées_cadran_plat($D327,O$10,$C$3,$C$2,$C$5,$C$6,0,0,$C$4),1,2)","v":-101.6402430442019},{"$f":"INDEX(coordonnées_cadran_plat($D327,Q$10,$C$3,$C$2,$C$5,$C$6,0,0,$C$4),1,1)","v":337.67339623740276},{"$f":"INDEX(coordonnées_cadran_plat($D327,Q$10,$C$3,$C$2,$C$5,$C$6,0,0,$C$4),1,2)","v":64.755424142671814},{"$f":"INDEX(coordonnées_cadran_plat($D327,S$10,$C$3,$C$2,$C$5,$C$6,0,0,$C$4),1,1)","v":333.94666769367944},{"$f":"INDEX(coordonnées_cadran_plat($D327,S$10,$C$3,$C$2,$C$5,$C$6,0,0,$C$4),1,2)","v":240.03724438500205},{"$f":"INDEX(coordonnées_cadran_plat($D327,U$10,$C$3,$C$2,$C$5,$C$6,0,0,$C$4),1,1)","v":318.03664474539272},{"$f":"INDEX(coordonnées_cadran_plat($D327,U$10,$C$3,$C$2,$C$5,$C$6,0,0,$C$4),1,2)","v":447.35091759608838},{"$f":"INDEX(coordonnées_cadran_plat($D327,W$10,$C$3,$C$2,$C$5,$C$6,0,0,$C$4),1,1)","v":282.05393561407999},{"$f":"INDEX(coordonnées_cadran_plat($D327,W$10,$C$3,$C$2,$C$5,$C$6,0,0,$C$4),1,2)","v":729.63394401449511}]
[null,21,2,"2010-02-21",{"$f":"INDEX(heures_limites_cadran($D328,$C$3,$C$2,$C$5),1,1)/24","v":"09:00:00"},{"$f":"INDEX(heures_limites_cadran($D328,$C$3,$C$2,$C$5),1,2)/24","v":"18:30:00"},{"$f":"INDEX(coordonnées_cadran_plat($D328,$G$10,$C$3,$C$2,$C$5,$C$6,0,0,$C$4),1,1)","v":112.38235731329171},{"$f":"INDEX(coordonnées_cadran_plat($D328,$G$10,$C$3,$C$2,$C$5,$C$6,0,0,$C$4),1,2)","v":-1277.2042074003116},{"$f":"INDEX(coordonnées_cadran_plat($D328,I$10,$C$3,$C$2,$C$5,$C$6,0,0,$C$4),1,1)","v":231.41067153633276},{"$f":"INDEX(coordonnées_cadran_plat($D328,I$10,$C$3,$C$2,$C$5,$C$6,0,0,$C$4),1,2)","v":-781.26204074436339},{"$f":"INDEX(coordonnées_cadran_plat($D328,K$10,$C$3,$C$2,$C$5,$C$6,0,0,$C$4),1,1)","v":288.82174721157867},{"$f":"INDEX(coordonnées_cadran_plat($D328,K$10,$C$3,$C$2,$C$5,$C$6,0,0,$C$4),1,2)","v":-490.22443478558898},{"$f":"INDEX(coordonnées_cadran_plat($D328,M$10,$C$3,$C$2,$C$5,$C$6,0,0,$C$4),1,1)","v":319.92736075291907},{"$f":"INDEX(coordonnées_cadran_plat($D328,M$10,$C$3,$C$2,$C$5,$C$6,0,0,$C$4),1,2)","v":-279.09408554101299},{"$f":"INDEX(coordonnées_cadran_plat($D328,O$10,$C$3,$C$2,$C$5,$C$6,0,0,$C$4),1,1)","v":336.38847286075151},{"$f":"INDEX(coordonnées_cadran_plat($D328,O$10,$C$3,$C$2,$C$5,$C$6,0,0,$C$4),1,2)","v":-101.95470105487044},{"$f":"INDEX(coordonnées_cadran_plat($D328,Q$10,$C$3,$C$2,$C$5,$C$6,0,0,$C$4),1,1)","v":342.49127350298488},{"$f":"INDEX(coordonnées_cadran_plat($D328,Q$10,$C$3,$C$2,$C$5,$C$6,0,0,$C$4),1,2)","v":65.293897578568007},{"$f":"INDEX(coordonnées_cadran_plat($D328,S$10,$C$3,$C$2,$C$5,$C$6,0,0,$C$4),1,1)","v":339.01171316305437},{"$f":"INDEX(coordonnées_cadran_plat($D328,S$10,$C$3,$C$2,$C$5,$C$6,0,0,$C$4),1,2)","v":241.57555899195796},{"$f":"INDEX(coordonnées_cadran_plat($D328,U$10,$C$3,$C$2,$C$5,$C$6,0,0,$C$4),1,1)","v":323.65086140132871},{"$f":"INDEX(coordonnées_cadran_plat($D328,U$10,$C$3,$C$2,$C$5,$C$6,0,0,$C$4),1,2)","v":450.41130360020304},{"$f":"INDEX(coordonnées_cadran_plat($D328,W$10,$C$3,$C$2,$C$5,$C$6,0,0,$C$4),1,1)","v":288.66220667949534},{"$f":"INDEX(coordonnées_cadran_plat($D328,W$10,$C$3,$C$2,$C$5,$C$6,0,0,$C$4),1,2)","v":735.65285407324768}]
[null,22,2,"2010-02-22",{"$f":"INDEX(heures_limites_cadran($D329,$C$3,$C$2,$C$5),1,1)/24","v":"08:30:00"},{"$f":"INDEX(heures_limites_cadran($D329,$C$3,$C$2,$C$5),1,2)/24","v":"18:30:00"},{"$f":"INDEX(coordonnées_cadran_plat($D329,$G$10,$C$3,$C$2,$C$5,$C$6,0,0,$C$4),1,1)","v":120.69678974150993},{"$f":"INDEX(coordonnées_cadran_plat($D329,$G$10,$C$3,$C$2,$C$5,$C$6,0,0,$C$4),1,2)","v":-1290.2271499846261},{"$f":"INDEX(coordonnées_cadran_plat($D329,I$10,$C$3,$C$2,$C$5,$C$6,0,0,$C$4),1,1)","v":238.08973882018807},{"$f":"INDEX(coordonnées_cadran_plat($D329,I$10,$C$3,$C$2,$C$5,$C$6,0,0,$C$4),1,2)","v":-786.80119650236202},{"$f":"INDEX(coordonnées_cadran_plat($D329,K$10,$C$3,$C$2,$C$5,$C$6,0,0,$C$4),1,1)","v":294.50979867111499},{"$f":"INDEX(coordonnées_cadran_plat($D329,K$10,$C$3,$C$2,$C$5,$C$6,0,0,$C$4),1,2)","v":-492.94764548072169},{"$f":"INDEX(coordonnées_cadran_plat($D329,M$10,$C$3,$C$2,$C$5,$C$6,0,0,$C$4),1,1)","v":325.06409154280504},{"$f":"INDEX(coordonnées_cadran_plat($D329,M$10,$C$3,$C$2,$C$5,$C$6,0,0,$C$4),1,2)","v":-280.36255330538387},{"$f":"INDEX(coordonnées_cadran_plat($D329,O$10,$C$3,$C$2,$C$5,$C$6,0,0,$C$4),1,1)","v":341.27887436353058},{"$f":"INDEX(coordonnées_cadran_plat($D329,O$10,$C$3,$C$2,$C$5,$C$6,0,0,$C$4),1,2)","v":-102.24547217148928},{"$f":"INDEX(coordonnées_cadran_plat($D329,Q$10,$C$3,$C$2,$C$5,$C$6,0,0,$C$4),1,1)","v":347.3845105152111},{"$f":"INDEX(coordonnées_cadran_plat($D329,Q$10,$C$3,$C$2,$C$5,$C$6,0,0,$C$4),1,2)","v":65.869200473307345},{"$f":"INDEX(coordonnées_cadran_plat($D329,S$10,$C$3,$C$2,$C$5,$C$6,0,0,$C$4),1,1)","v":344.15857050817954},{"$f":"INDEX(coordonnées_cadran_plat($D329,S$10,$C$3,$C$2,$C$5,$C$6,0,0,$C$4),1,2)","v":243.17080867562336},{"$f":"INDEX(coordonnées_cadran_plat($D329,U$10,$C$3,$C$2,$C$5,$C$6,0,0,$C$4),1,1)","v":329.36328130396271},{"$f":"INDEX(coordonnées_cadran_plat($D329,U$10,$C$3,$C$2,$C$5,$C$6,0,0,$C$4),1,2)","v":453.56722772277664},{"$f":"INDEX(coordonnées_cadran_plat($D329,W$10,$C$3,$C$2,$C$5,$C$6,0,0,$C$4),1,1)","v":295.40407239989474},{"$f":"INDEX(coordonnées_cadran_plat($D329,W$10,$C$3,$C$2,$C$5,$C$6,0,0,$C$4),1,2)","v":741.86023273899139}]
[null,23,2,"2010-02-23",{"$f":"INDEX(heures_limites_cadran($D330,$C$3,$C$2,$C$5),1,1)/24","v":"08:30:00"},{"$f":"INDEX(heures_limites_cadran($D330,$C$3,$C$2,$C$5),1,2)/24","v":"19:00:00"},{"$f":"INDEX(coordonnées_cadran_plat($D330,$G$10,$C$3,$C$2,$C$5,$C$6,0,0,$C$4),1,1)","v":129.2534801876775},{"$f":"INDEX(coordonnées_cadran_plat($D330,$G$10,$C$3,$C$2,$C$5,$C$6,0,0,$C$4),1,2)","v":-1303.4657306577944},{"$f":"INDEX(coordonnées_cadran_plat($D330,I$10,$C$3,$C$2,$C$5,$C$6,0,0,$C$4),1,1)","v":244.91230535709892},{"$f":"INDEX(coordonnées_cadran_plat($D330,I$10,$C$3,$C$2,$C$5,$C$6,0,0,$C$4),1,2)","v":-792.38869822504989},{"$f":"INDEX(coordonnées_cadran_plat($D330,K$10,$C$3,$C$2,$C$5,$C$6,0,0,$C$4),1,1)","v":300.30051875184216},{"$f":"INDEX(coordonnées_cadran_plat($D330,K$10,$C$3,$C$2,$C$5,$C$6,0,0,$C$4),1,2)","v":-495.67693443750051},{"$f":"INDEX(coordonnées_cadran_plat($D330,M$10,$C$3,$C$2,$C$5,$C$6,0,0,$C$4),1,1)","v":330.28468691126454},{"$f":"INDEX(coordonnées_cadran_plat($D330,M$10,$C$3,$C$2,$C$5,$C$6,0,0,$C$4),1,2)","v":-281.61953330192625},{"$f":"INDEX(coordonnées_cadran_plat($D330,O$10,$C$3,$C$2,$C$5,$C$6,0,0,$C$4),1,1)","v":346.24531685407698},{"$f":"INDEX(coordonnées_cadran_plat($D330,O$10,$C$3,$C$2,$C$5,$C$6,0,0,$C$4),1,2)","v":-102.51276471034859},{"$f":"INDEX(coordonnées_cadran_plat($D330,Q$10,$C$3,$C$2,$C$5,$C$6,0,0,$C$4),1,1)","v":352.35337893660198},{"$f":"INDEX(coordonnées_cadran_plat($D330,Q$10,$C$3,$C$2,$C$5,$C$6,0,0,$C$4),1,2)","v":66.48116985803037},{"$f":"INDEX(coordonnées_cadran_plat($D330,S$10,$C$3,$C$2,$C$5,$C$6,0,0,$C$4),1,1)","v":349.38790479302571},{"$f":"INDEX(coordonnées_cadran_plat($D330,S$10,$C$3,$C$2,$C$5,$C$6,0,0,$C$4),1,2)","v":244.82301875599504},{"$f":"INDEX(coordonnées_cadran_plat($D330,U$10,$C$3,$C$2,$C$5,$C$6,0,0,$C$4),1,1)","v":335.17536655363034},{"$f":"INDEX(coordonnées_cadran_plat($D330,U$10,$C$3,$C$2,$C$5,$C$6,0,0,$C$4),1,2)","v":456.81936744296183},{"$f":"INDEX(coordonnées_cadran_plat($D330,W$10,$C$3,$C$2,$C$5,$C$6,0,0,$C$4),1,1)","v":302.28287556233323},{"$f":"INDEX(coordonnées_cadran_plat($D330,W$10,$C$3,$C$2,$C$5,$C$6,0,0,$C$4),1,2)","v":748.25927251050223}]
[null,24,2,"2010-02-24",{"$f":"INDEX(heures_limites_cadran($D331,$C$3,$C$2,$C$5),1,1)/24","v":"08:30:00"},{"$f":"INDEX(heures_limites_cadran($D331,$C$3,$C$2,$C$5),1,2)/24","v":"19:00:00"},{"$f":"INDEX(coordonnées_cadran_plat($D331,$G$10,$C$3,$C$2,$C$5,$C$6,0,0,$C$4),1,1)","v":138.05632602233931},{"$f":"INDEX(coordonnées_cadran_plat($D331,$G$10,$C$3,$C$2,$C$5,$C$6,0,0,$C$4),1,2)","v":-1316.924834359141},{"$f":"INDEX(coordonnées_cadran_plat($D331,I$10,$C$3,$C$2,$C$5,$C$6,0,0,$C$4),1,1)","v":251.8791866928658},{"$f":"INDEX(coordonnées_cadran_plat($D331,I$10,$C$3,$C$2,$C$5,$C$6,0,0,$C$4),1,2)","v":-798.02533671673075},{"$f":"INDEX(coordonnées_cadran_plat($D331,K$10,$C$3,$C$2,$C$5,$C$6,0,0,$C$4),1,1)","v":306.19404768274109},{"$f":"INDEX(coordonnées_cadran_plat($D331,K$10,$C$3,$C$2,$C$5,$C$6,0,0,$C$4),1,2)","v":-498.41261242495256},{"$f":"INDEX(coordonnées_cadran_plat($D331,M$10,$C$3,$C$2,$C$5,$C$6,0,0,$C$4),1,1)","v":335.58916203975713},{"$f":"INDEX(coordonnées_cadran_plat($D331,M$10,$C$3,$C$2,$C$5,$C$6,0,0,$C$4),1,2)","v":-282.86527195676791},{"$f":"INDEX(coordonnées_cadran_plat($D331,O$10,$C$3,$C$2,$C$5,$C$6,0,0,$C$4),1,1)","v":351.28788670508021},{"$f":"INDEX(coordonnées_cadran_plat($D331,O$10,$C$3,$C$2,$C$5,$C$6,0,0,$C$4),1,2)","v":-102.75681244925262},{"$f":"INDEX(coordonnées_cadran_plat($D331,Q$10,$C$3,$C$2,$C$5,$C$6,0,0,$C$4),1,1)","v":357.3981730721132},{"$f":"INDEX(coordonnées_cadran_plat($D331,Q$10,$C$3,$C$2,$C$5,$C$6,0,0,$C$4),1,2)","v":67.129622973860378},{"$f":"INDEX(coordonnées_cadran_plat($D331,S$10,$C$3,$C$2,$C$5,$C$6,0,0,$C$4),1,1)","v":354.70041468579046},{"$f":"INDEX(coordonnées_cadran_plat($D331,S$10,$C$3,$C$2,$C$5,$C$6,0,0,$C$4),1,2)","v":246.53220240761877},{"$f":"INDEX(coordonnées_cadran_plat($D331,U$10,$C$3,$C$2,$C$5,$C$6,0,0,$C$4),1,1)","v":341.08864007008526},{"$f":"INDEX(coordonnées_cadran_plat($D331,U$10,$C$3,$C$2,$C$5,$C$6,0,0,$C$4),1,2)","v":460.16841025840222},{"$f":"INDEX(coordonnées_cadran_plat($D331,W$10,$C$3,$C$2,$C$5,$C$6,0,0,$C$4),1,1)","v":309.3021040268834},{"$f":"INDEX(coordonnées_cadran_plat($D331,W$10,$C$3,$C$2,$C$5,$C$6,0,0,$C$4),1,2)","v":754.85328088661822}]
[null,25,2,"2010-02-25",{"$f":"INDEX(heures_limites_cadran($D332,$C$3,$C$2,$C$5),1,1)/24","v":"08:30:00"},{"$f":"INDEX(heures_limites_cadran($D332,$C$3,$C$2,$C$5),1,2)/24","v":"19:00:00"},{"$f":"INDEX(coordonnées_cadran_plat($D332,$G$10,$C$3,$C$2,$C$5,$C$6,0,0,$C$4),1,1)","v":147.10935140573565},{"$f":"INDEX(coordonnées_cadran_plat($D332,$G$10,$C$3,$C$2,$C$5,$C$6,0,0,$C$4),1,2)","v":-1330.609652657593},{"$f":"INDEX(coordonnées_cadran_plat($D332,I$10,$C$3,$C$2,$C$5,$C$6,0,0,$C$4),1,1)","v":258.99122569055044},{"$f":"INDEX(coordonnées_cadran_plat($D332,I$10,$C$3,$C$2,$C$5,$C$6,0,0,$C$4),1,2)","v":-803.71199045927767},{"$f":"INDEX(coordonnées_cadran_plat($D332,K$10,$C$3,$C$2,$C$5,$C$6,0,0,$C$4),1,1)","v":312.19054160874799},{"$f":"INDEX(coordonnées_cadran_plat($D332,K$10,$C$3,$C$2,$C$5,$C$6,0,0,$C$4),1,2)","v":-501.15503842441194},{"$f":"INDEX(coordonnées_cadran_plat($D332,M$10,$C$3,$C$2,$C$5,$C$6,0,0,$C$4),1,1)","v":340.97754746759131},{"$f":"INDEX(coordonnées_cadran_plat($D332,M$10,$C$3,$C$2,$C$5,$C$6,0,0,$C$4),1,2)","v":-284.10004888665208},{"$f":"INDEX(coordonnées_cadran_plat($D332,O$10,$C$3,$C$2,$C$5,$C$6,0,0,$C$4),1,1)","v":356.40668782687283},{"$f":"INDEX(coordonnées_cadran_plat($D332,O$10,$C$3,$C$2,$C$5,$C$6,0,0,$C$4),1,2)","v":-102.97787445542251},{"$f":"INDEX(coordonnées_cadran_plat($D332,Q$10,$C$3,$C$2,$C$5,$C$6,0,0,$C$4),1,1)","v":362.51920968310014},{"$f":"INDEX(coordonnées_cadran_plat($D332,Q$10,$C$3,$C$2,$C$5,$C$6,0,0,$C$4),1,2)","v":67.81435736305589},{"$f":"INDEX(coordonnées_cadran_plat($D332,S$10,$C$3,$C$2,$C$5,$C$6,0,0,$C$4),1,1)","v":360.09683223819826},{"$f":"INDEX(coordonnées_cadran_plat($D332,S$10,$C$3,$C$2,$C$5,$C$6,0,0,$C$4),1,2)","v":248.29836061634762},{"$f":"INDEX(coordonnées_cadran_plat($D332,U$10,$C$3,$C$2,$C$5,$C$6,0,0,$C$4),1,1)","v":347.10468596519047},{"$f":"INDEX(coordonnées_cadran_plat($D332,U$10,$C$3,$C$2,$C$5,$C$6,0,0,$C$4),1,2)","v":463.61505379139919},{"$f":"INDEX(coordonnées_cadran_plat($D332,W$10,$C$3,$C$2,$C$5,$C$6,0,0,$C$4),1,1)","v":316.46539482796447},{"$f":"INDEX(coordonnées_cadran_plat($D332,W$10,$C$3,$C$2,$C$5,$C$6,0,0,$C$4),1,2)","v":761.64568411632547}]
[null,26,2,"2010-02-26",{"$f":"INDEX(heures_limites_cadran($D333,$C$3,$C$2,$C$5),1,1)/24","v":"08:30:00"},{"$f":"INDEX(heures_limites_cadran($D333,$C$3,$C$2,$C$5),1,2)/24","v":"19:00:00"},{"$f":"INDEX(coordonnées_cadran_plat($D333,$G$10,$C$3,$C$2,$C$5,$C$6,0,0,$C$4),1,1)","v":156.41671654271832},{"$f":"INDEX(coordonnées_cadran_plat($D333,$G$10,$C$3,$C$2,$C$5,$C$6,0,0,$C$4),1,2)","v":-1344.5256985393255},{"$f":"INDEX(coordonnées_cadran_plat($D333,I$10,$C$3,$C$2,$C$5,$C$6,0,0,$C$4),1,1)","v":266.24929490264071},{"$f":"INDEX(coordonnées_cadran_plat($D333,I$10,$C$3,$C$2,$C$5,$C$6,0,0,$C$4),1,2)","v":-809.44962750137825},{"$f":"INDEX(coordonnées_cadran_plat($D333,K$10,$C$3,$C$2,$C$5,$C$6,0,0,$C$4),1,1)","v":318.29017355020846},{"$f":"INDEX(coordonnées_cadran_plat($D333,K$10,$C$3,$C$2,$C$5,$C$6,0,0,$C$4),1,2)","v":-503.90461984843392},{"$f":"INDEX(coordonnées_cadran_plat($D333,M$10,$C$3,$C$2,$C$5,$C$6,0,0,$C$4),1,1)","v":346.44988943387273},{"$f":"INDEX(coordonnées_cadran_plat($D333,M$10,$C$3,$C$2,$C$5,$C$6,0,0,$C$4),1,2)","v":-285.32417675582985},{"$f":"INDEX(coordonnées_cadran_plat($D333,O$10,$C$3,$C$2,$C$5,$C$6,0,0,$C$4),1,1)","v":361.60184164381036},{"$f":"INDEX(coordonnées_cadran_plat($D333,O$10,$C$3,$C$2,$C$5,$C$6,0,0,$C$4),1,2)","v":-103.17623490737085},{"$f":"INDEX(coordonnées_cadran_plat($D333,Q$10,$C$3,$C$2,$C$5,$C$6,0,0,$C$4),1,1)","v":367.71682773549333},{"$f":"INDEX(coordonnées_cadran_plat($D333,Q$10,$C$3,$C$2,$C$5,$C$6,0,0,$C$4),1,2)","v":68.53515094798297},{"$f":"INDEX(coordonnées_cadran_plat($D333,S$10,$C$3,$C$2,$C$5,$C$6,0,0,$C$4),1,1)","v":365.57792259545158},{"$f":"INDEX(coordonnées_cadran_plat($D333,S$10,$C$3,$C$2,$C$5,$C$6,0,0,$C$4),1,2)","v":250.12148210109436},{"$f":"INDEX(coordonnées_cadran_plat($D333,U$10,$C$3,$C$2,$C$5,$C$6,0,0,$C$4),1,1)","v":353.22514986029273},{"$f":"INDEX(coordonnées_cadran_plat($D333,U$10,$C$3,$C$2,$C$5,$C$6,0,0,$C$4),1,2)","v":467.16000583489478},{"$f":"INDEX(coordonnées_cadran_plat($D333,W$10,$C$3,$C$2,$C$5,$C$6,0,0,$C$4),1,1)","v":323.77653840516837},{"$f":"INDEX(coordonnées_cadran_plat($D333,W$10,$C$3,$C$2,$C$5,$C$6,0,0,$C$4),1,2)","v":768.64003101556341}]
[null,27,2,"2010-02-27",{"$f":"INDEX(heures_limites_cadran($D334,$C$3,$C$2,$C$5),1,1)/24","v":"08:30:00"},{"$f":"INDEX(heures_limites_cadran($D334,$C$3,$C$2,$C$5),1,2)/24","v":"19:00:00"},{"$f":"INDEX(coordonnées_cadran_plat($D334,$G$10,$C$3,$C$2,$C$5,$C$6,0,0,$C$4),1,1)","v":165.98272747989174},{"$f":"INDEX(coordonnées_cadran_plat($D334,$G$10,$C$3,$C$2,$C$5,$C$6,0,0,$C$4),1,2)","v":-1358.6788218456982},{"$f":"INDEX(coordonnées_cadran_plat($D334,I$10,$C$3,$C$2,$C$5,$C$6,0,0,$C$4),1,1)","v":273.65429897172953},{"$f":"INDEX(coordonnées_cadran_plat($D334,I$10,$C$3,$C$2,$C$5,$C$6,0,0,$C$4),1,2)","v":-815.23930731830831},{"$f":"INDEX(coordonnées_cadran_plat($D334,K$10,$C$3,$C$2,$C$5,$C$6,0,0,$C$4),1,1)","v":324.49313432032591},{"$f":"INDEX(coordonnées_cadran_plat($D334,K$10,$C$3,$C$2,$C$5,$C$6,0,0,$C$4),1,2)","v":-506.6618127181415},{"$f":"INDEX(coordonnées_cadran_plat($D334,M$10,$C$3,$C$2,$C$5,$C$6,0,0,$C$4),1,1)","v":352.00625016097257},{"$f":"INDEX(coordonnées_cadran_plat($D334,M$10,$C$3,$C$2,$C$5,$C$6,0,0,$C$4),1,2)","v":-286.53800111000874},{"$f":"INDEX(coordonnées_cadran_plat($D334,O$10,$C$3,$C$2,$C$5,$C$6,0,0,$C$4),1,1)","v":366.87348700658299},{"$f":"INDEX(coordonnées_cadran_plat($D334,O$10,$C$3,$C$2,$C$5,$C$6,0,0,$C$4),1,2)","v":-103.3522029122523},{"$f":"INDEX(coordonnées_cadran_plat($D334,Q$10,$C$3,$C$2,$C$5,$C$6,0,0,$C$4),1,1)","v":372.99138807920428},{"$f":"INDEX(coordonnées_cadran_plat($D334,Q$10,$C$3,$C$2,$C$5,$C$6,0,0,$C$4),1,2)","v":69.291762096513537},{"$f":"INDEX(coordonnées_cadran_plat($D334,S$10,$C$3,$C$2,$C$5,$C$6,0,0,$C$4),1,1)","v":371.14448363300659},{"$f":"INDEX(coordonnées_cadran_plat($D334,S$10,$C$3,$C$2,$C$5,$C$6,0,0,$C$4),1,2)","v":252.0015431983754},{"$f":"INDEX(coordonnées_cadran_plat($D334,U$10,$C$3,$C$2,$C$5,$C$6,0,0,$C$4),1,1)","v":359.45173914290569},{"$f":"INDEX(coordonnées_cadran_plat($D334,U$10,$C$3,$C$2,$C$5,$C$6,0,0,$C$4),1,2)","v":470.80398433345766},{"$f":"INDEX(coordonnées_cadran_plat($D334,W$10,$C$3,$C$2,$C$5,$C$6,0,0,$C$4),1,1)","v":331.2394829649358},{"$f":"INDEX(coordonnées_cadran_plat($D334,W$10,$C$3,$C$2,$C$5,$C$6,0,0,$C$4),1,2)","v":775.83999684746311}]
[null,28,2,"2010-02-28",{"$f":"INDEX(heures_limites_cadran($D335,$C$3,$C$2,$C$5),1,1)/24","v":"08:30:00"},{"$f":"INDEX(heures_limites_cadran($D335,$C$3,$C$2,$C$5),1,2)/24","v":"19:00:00"},{"$f":"INDEX(coordonnées_cadran_plat($D335,$G$10,$C$3,$C$2,$C$5,$C$6,0,0,$C$4),1,1)","v":175.81184647010224},{"$f":"INDEX(coordonnées_cadran_plat($D335,$G$10,$C$3,$C$2,$C$5,$C$6,0,0,$C$4),1,2)","v":-1373.0752253991982},{"$f":"INDEX(coordonnées_cadran_plat($D335,I$10,$C$3,$C$2,$C$5,$C$6,0,0,$C$4),1,1)","v":281.20717705508997},{"$f":"INDEX(coordonnées_cadran_plat($D335,I$10,$C$3,$C$2,$C$5,$C$6,0,0,$C$4),1,2)","v":-821.08218264146217},{"$f":"INDEX(coordonnées_cadran_plat($D335,K$10,$C$3,$C$2,$C$5,$C$6,0,0,$C$4),1,1)","v":330.79963339599499},{"$f":"INDEX(coordonnées_cadran_plat($D335,K$10,$C$3,$C$2,$C$5,$C$6,0,0,$C$4),1,2)","v":-509.42712179821638},{"$f":"INDEX(coordonnées_cadran_plat($D335,M$10,$C$3,$C$2,$C$5,$C$6,0,0,$C$4),1,1)","v":357.64670807616363},{"$f":"INDEX(coordonnées_cadran_plat($D335,M$10,$C$3,$C$2,$C$5,$C$6,0,0,$C$4),1,2)","v":-287.74190018788471},{"$f":"INDEX(coordonnées_cadran_plat($D335,O$10,$C$3,$C$2,$C$5,$C$6,0,0,$C$4),1,1)","v":372.22178003744415},{"$f":"INDEX(coordonnées_cadran_plat($D335,O$10,$C$3,$C$2,$C$5,$C$6,0,0,$C$4),1,2)","v":-103.50611231883182},{"$f":"INDEX(coordonnées_cadran_plat($D335,Q$10,$C$3,$C$2,$C$5,$C$6,0,0,$C$4),1,1)","v":378.34327305579376},{"$f":"INDEX(coordonnées_cadran_plat($D335,Q$10,$C$3,$C$2,$C$5,$C$6,0,0,$C$4),1,2)","v":70.083929672925947},{"$f":"INDEX(coordonnées_cadran_plat($D335,S$10,$C$3,$C$2,$C$5,$C$6,0,0,$C$4),1,1)","v":376.79734551597807},{"$f":"INDEX(coordonnées_cadran_plat($D335,S$10,$C$3,$C$2,$C$5,$C$6,0,0,$C$4),1,2)","v":253.93850770789024},{"$f":"INDEX(coordonnées_cadran_plat($D335,U$10,$C$3,$C$2,$C$5,$C$6,0,0,$C$4),1,1)","v":365.78622315687454},{"$f":"INDEX(coordonnées_cadran_plat($D335,U$10,$C$3,$C$2,$C$5,$C$6,0,0,$C$4),1,2)","v":474.54771729491449},{"$f":"INDEX(coordonnées_cadran_plat($D335,W$10,$C$3,$C$2,$C$5,$C$6,0,0,$C$4),1,1)","v":338.85833897361221},{"$f":"INDEX(coordonnées_cadran_plat($D335,W$10,$C$3,$C$2,$C$5,$C$6,0,0,$C$4),1,2)","v":783.24938726415621}]
[null,1,3,"2010-03-01",{"$f":"INDEX(heures_limites_cadran($D336,$C$3,$C$2,$C$5),1,1)/24","v":"08:30:00"},{"$f":"INDEX(heures_limites_cadran($D336,$C$3,$C$2,$C$5),1,2)/24","v":"19:00:00"},{"$f":"INDEX(coordonnées_cadran_plat($D336,$G$10,$C$3,$C$2,$C$5,$C$6,0,0,$C$4),1,1)","v":185.90870293047161},{"$f":"INDEX(coordonnées_cadran_plat($D336,$G$10,$C$3,$C$2,$C$5,$C$6,0,0,$C$4),1,2)","v":-1387.7214818619566},{"$f":"INDEX(coordonnées_cadran_plat($D336,I$10,$C$3,$C$2,$C$5,$C$6,0,0,$C$4),1,1)","v":288.90890526823449},{"$f":"INDEX(coordonnées_cadran_plat($D336,I$10,$C$3,$C$2,$C$5,$C$6,0,0,$C$4),1,2)","v":-826.97950125712327},{"$f":"INDEX(coordonnées_cadran_plat($D336,K$10,$C$3,$C$2,$C$5,$C$6,0,0,$C$4),1,1)","v":337.20989973766103},{"$f":"INDEX(coordonnées_cadran_plat($D336,K$10,$C$3,$C$2,$C$5,$C$6,0,0,$C$4),1,2)","v":-512.2011006901929},{"$f":"INDEX(coordonnées_cadran_plat($D336,M$10,$C$3,$C$2,$C$5,$C$6,0,0,$C$4),1,1)","v":363.37135796804762},{"$f":"INDEX(coordonnées_cadran_plat($D336,M$10,$C$3,$C$2,$C$5,$C$6,0,0,$C$4),1,2)","v":-288.93628471044462},{"$f":"INDEX(coordonnées_cadran_plat($D336,O$10,$C$3,$C$2,$C$5,$C$6,0,0,$C$4),1,1)","v":377.64689390558033},{"$f":"INDEX(coordonnées_cadran_plat($D336,O$10,$C$3,$C$2,$C$5,$C$6,0,0,$C$4),1,2)","v":-103.63832152715533},{"$f":"INDEX(coordonnées_cadran_plat($D336,Q$10,$C$3,$C$2,$C$5,$C$6,0,0,$C$4),1,1)","v":383.77288603112538},{"$f":"INDEX(coordonnées_cadran_plat($D336,Q$10,$C$3,$C$2,$C$5,$C$6,0,0,$C$4),1,2)","v":70.911373073233875},{"$f":"INDEX(coordonnées_cadran_plat($D336,S$10,$C$3,$C$2,$C$5,$C$6,0,0,$C$4),1,1)","v":382.53737017685228},{"$f":"INDEX(coordonnées_cadran_plat($D336,S$10,$C$3,$C$2,$C$5,$C$6,0,0,$C$4),1,2)","v":255.9323266972896},{"$f":"INDEX(coordonnées_cadran_plat($D336,U$10,$C$3,$C$2,$C$5,$C$6,0,0,$C$4),1,1)","v":372.2304333195072},{"$f":"INDEX(coordonnées_cadran_plat($D336,U$10,$C$3,$C$2,$C$5,$C$6,0,0,$C$4),1,2)","v":478.39194262779841},{"$f":"INDEX(coordonnées_cadran_plat($D336,W$10,$C$3,$C$2,$C$5,$C$6,0,0,$C$4),1,1)","v":346.637383781898},{"$f":"INDEX(coordonnées_cadran_plat($D336,W$10,$C$3,$C$2,$C$5,$C$6,0,0,$C$4),1,2)","v":790.8721423062965}]
[null,2,3,"2010-03-02",{"$f":"INDEX(heures_limites_cadran($D337,$C$3,$C$2,$C$5),1,1)/24","v":"08:30:00"},{"$f":"INDEX(heures_limites_cadran($D337,$C$3,$C$2,$C$5),1,2)/24","v":"19:00:00"},{"$f":"INDEX(coordonnées_cadran_plat($D337,$G$10,$C$3,$C$2,$C$5,$C$6,0,0,$C$4),1,1)","v":196.27810502290987},{"$f":"INDEX(coordonnées_cadran_plat($D337,$G$10,$C$3,$C$2,$C$5,$C$6,0,0,$C$4),1,2)","v":-1402.6245513713161},{"$f":"INDEX(coordonnées_cadran_plat($D337,I$10,$C$3,$C$2,$C$5,$C$6,0,0,$C$4),1,1)","v":296.76049914227366},{"$f":"INDEX(coordonnées_cadran_plat($D337,I$10,$C$3,$C$2,$C$5,$C$6,0,0,$C$4),1,2)","v":-832.93260777383682},{"$f":"INDEX(coordonnées_cadran_plat($D337,K$10,$C$3,$C$2,$C$5,$C$6,0,0,$C$4),1,1)","v":343.72418255344002},{"$f":"INDEX(coordonnées_cadran_plat($D337,K$10,$C$3,$C$2,$C$5,$C$6,0,0,$C$4),1,2)","v":-514.98435188335463},{"$f":"INDEX(coordonnées_cadran_plat($D337,M$10,$C$3,$C$2,$C$5,$C$6,0,0,$C$4),1,1)","v":369.18031107430784},{"$f":"INDEX(coordonnées_cadran_plat($D337,M$10,$C$3,$C$2,$C$5,$C$6,0,0,$C$4),1,2)","v":-290.12159764878135},{"$f":"INDEX(coordonnées_cadran_plat($D337,O$10,$C$3,$C$2,$C$5,$C$6,0,0,$C$4),1,1)","v":383.14901852943439},{"$f":"INDEX(coordonnées_cadran_plat($D337,O$10,$C$3,$C$2,$C$5,$C$6,0,0,$C$4),1,2)","v":-103.74921329509371},{"$f":"INDEX(coordonnées_cadran_plat($D337,Q$10,$C$3,$C$2,$C$5,$C$6,0,0,$C$4),1,1)","v":389.28065084965289},{"$f":"INDEX(coordonnées_cadran_plat($D337,Q$10,$C$3,$C$2,$C$5,$C$6,0,0,$C$4),1,2)","v":71.773792244184591},{"$f":"INDEX(coordonnées_cadran_plat($D337,S$10,$C$3,$C$2,$C$5,$C$6,0,0,$C$4),1,1)","v":388.36545070685656},{"$f":"INDEX(coordonnées_cadran_plat($D337,S$10,$C$3,$C$2,$C$5,$C$6,0,0,$C$4),1,2)","v":257.98293826338323},{"$f":"INDEX(coordonnées_cadran_plat($D337,U$10,$C$3,$C$2,$C$5,$C$6,0,0,$C$4),1,1)","v":378.78626315879842},{"$f":"INDEX(coordonnées_cadran_plat($D337,U$10,$C$3,$C$2,$C$5,$C$6,0,0,$C$4),1,2)","v":482.33740789963196},{"$f":"INDEX(coordonnées_cadran_plat($D337,W$10,$C$3,$C$2,$C$5,$C$6,0,0,$C$4),1,1)","v":354.5810663800973},{"$f":"INDEX(coordonnées_cadran_plat($D337,W$10,$C$3,$C$2,$C$5,$C$6,0,0,$C$4),1,2)","v":798.71234045659901}]
[null,3,3,"2010-03-03",{"$f":"INDEX(heures_limites_cadran($D338,$C$3,$C$2,$C$5),1,1)/24","v":"08:30:00"},{"$f":"INDEX(heures_limites_cadran($D338,$C$3,$C$2,$C$5),1,2)/24","v":"19:00:00"},{"$f":"INDEX(coordonnées_cadran_plat($D338,$G$10,$C$3,$C$2,$C$5,$C$6,0,0,$C$4),1,1)","v":206.92505188722066},{"$f":"INDEX(coordonnées_cadran_plat($D338,$G$10,$C$3,$C$2,$C$5,$C$6,0,0,$C$4),1,2)","v":-1417.7918000043958},{"$f":"INDEX(coordonnées_cadran_plat($D338,I$10,$C$3,$C$2,$C$5,$C$6,0,0,$C$4),1,1)","v":304.76301608981123},{"$f":"INDEX(coordonnées_cadran_plat($D338,I$10,$C$3,$C$2,$C$5,$C$6,0,0,$C$4),1,2)","v":-838.94294535751931},{"$f":"INDEX(coordonnées_cadran_plat($D338,K$10,$C$3,$C$2,$C$5,$C$6,0,0,$C$4),1,1)","v":350.34275200279239},{"$f":"INDEX(coordonnées_cadran_plat($D338,K$10,$C$3,$C$2,$C$5,$C$6,0,0,$C$4),1,2)","v":-517.77752676297905},{"$f":"INDEX(coordonnées_cadran_plat($D338,M$10,$C$3,$C$2,$C$5,$C$6,0,0,$C$4),1,1)","v":375.07369509715494},{"$f":"INDEX(coordonnées_cadran_plat($D338,M$10,$C$3,$C$2,$C$5,$C$6,0,0,$C$4),1,2)","v":-291.29831397020547},{"$f":"INDEX(coordonnées_cadran_plat($D338,O$10,$C$3,$C$2,$C$5,$C$6,0,0,$C$4),1,1)","v":388.72836020295904},{"$f":"INDEX(coordonnées_cadran_plat($D338,O$10,$C$3,$C$2,$C$5,$C$6,0,0,$C$4),1,2)","v":-103.83919454268484},{"$f":"INDEX(coordonnées_cadran_plat($D338,Q$10,$C$3,$C$2,$C$5,$C$6,0,0,$C$4),1,1)","v":394.8670112067835},{"$f":"INDEX(coordonnées_cadran_plat($D338,Q$10,$C$3,$C$2,$C$5,$C$6,0,0,$C$4),1,2)","v":72.670867684854642},{"$f":"INDEX(coordonnées_cadran_plat($D338,S$10,$C$3,$C$2,$C$5,$C$6,0,0,$C$4),1,1)","v":394.28251065583453},{"$f":"INDEX(coordonnées_cadran_plat($D338,S$10,$C$3,$C$2,$C$5,$C$6,0,0,$C$4),1,2)","v":260.09026724881056},{"$f":"INDEX(coordonnées_cadran_plat($D338,U$10,$C$3,$C$2,$C$5,$C$6,0,0,$C$4),1,1)","v":385.45566826299796},{"$f":"INDEX(coordonnées_cadran_plat($D338,U$10,$C$3,$C$2,$C$5,$C$6,0,0,$C$4),1,2)","v":486.3848700103992},{"$f":"INDEX(coordonnées_cadran_plat($D338,W$10,$C$3,$C$2,$C$5,$C$6,0,0,$C$4),1,1)","v":362.69401228292537},{"$f":"INDEX(coordonnées_cadran_plat($D338,W$10,$C$3,$C$2,$C$5,$C$6,0,0,$C$4),1,2)","v":806.774202742228}]
[null,4,3,"2010-03-04",{"$f":"INDEX(heures_limites_cadran($D339,$C$3,$C$2,$C$5),1,1)/24","v":"08:30:00"},{"$f":"INDEX(heures_limites_cadran($D339,$C$3,$C$2,$C$5),1,2)/24","v":"19:00:00"},{"$f":"INDEX(coordonnées_cadran_plat($D339,$G$10,$C$3,$C$2,$C$5,$C$6,0,0,$C$4),1,1)","v":217.85474655975099},{"$f":"INDEX(coordonnées_cadran_plat($D339,$G$10,$C$3,$C$2,$C$5,$C$6,0,0,$C$4),1,2)","v":-1433.2310191240472},{"$f":"INDEX(coordonnées_cadran_plat($D339,I$10,$C$3,$C$2,$C$5,$C$6,0,0,$C$4),1,1)","v":312.91755787377974},{"$f":"INDEX(coordonnées_cadran_plat($D339,I$10,$C$3,$C$2,$C$5,$C$6,0,0,$C$4),1,2)","v":-845.0120574348233},{"$f":"INDEX(coordonnées_cadran_plat($D339,K$10,$C$3,$C$2,$C$5,$C$6,0,0,$C$4),1,1)","v":357.06589983470315},{"$f":"INDEX(coordonnées_cadran_plat($D339,K$10,$C$3,$C$2,$C$5,$C$6,0,0,$C$4),1,2)","v":-520.58132557601152},{"$f":"INDEX(coordonnées_cadran_plat($D339,M$10,$C$3,$C$2,$C$5,$C$6,0,0,$C$4),1,1)","v":381.05165414276797},{"$f":"INDEX(coordonnées_cadran_plat($D339,M$10,$C$3,$C$2,$C$5,$C$6,0,0,$C$4),1,2)","v":-292.466940363172},{"$f":"INDEX(coordonnées_cadran_plat($D339,O$10,$C$3,$C$2,$C$5,$C$6,0,0,$C$4),1,1)","v":394.3851411423949},{"$f":"INDEX(coordonnées_cadran_plat($D339,O$10,$C$3,$C$2,$C$5,$C$6,0,0,$C$4),1,2)","v":-103.90869615443182},{"$f":"INDEX(coordonnées_cadran_plat($D339,Q$10,$C$3,$C$2,$C$5,$C$6,0,0,$C$4),1,1)","v":400.53242993560252},{"$f":"INDEX(coordonnées_cadran_plat($D339,Q$10,$C$3,$C$2,$C$5,$C$6,0,0,$C$4),1,2)","v":73.602260429871606},{"$f":"INDEX(coordonnées_cadran_plat($D339,S$10,$C$3,$C$2,$C$5,$C$6,0,0,$C$4),1,1)","v":400.28950323550828},{"$f":"INDEX(coordonnées_cadran_plat($D339,S$10,$C$3,$C$2,$C$5,$C$6,0,0,$C$4),1,2)","v":262.25422491112136},{"$f":"INDEX(coordonnées_cadran_plat($D339,U$10,$C$3,$C$2,$C$5,$C$6,0,0,$C$4),1,1)","v":392.24066613441437},{"$f":"INDEX(coordonnées_cadran_plat($D339,U$10,$C$3,$C$2,$C$5,$C$6,0,0,$C$4),1,2)","v":490.53509477567297},{"$f":"INDEX(coordonnées_cadran_plat($D339,W$10,$C$3,$C$2,$C$5,$C$6,0,0,$C$4),1,1)","v":370.98102854158003},{"$f":"INDEX(coordonnées_cadran_plat($D339,W$10,$C$3,$C$2,$C$5,$C$6,0,0,$C$4),1,2)","v":815.06209687999376}]
[null,5,3,"2010-03-05",{"$f":"INDEX(heures_limites_cadran($D340,$C$3,$C$2,$C$5),1,1)/24","v":"08:30:00"},{"$f":"INDEX(heures_limites_cadran($D340,$C$3,$C$2,$C$5),1,2)/24","v":"19:00:00"},{"$f":"INDEX(coordonnées_cadran_plat($D340,$G$10,$C$3,$C$2,$C$5,$C$6,0,0,$C$4),1,1)","v":229.07260961273212},{"$f":"INDEX(coordonnées_cadran_plat($D340,$G$10,$C$3,$C$2,$C$5,$C$6,0,0,$C$4),1,2)","v":-1448.9504456671061},{"$f":"INDEX(coordonnées_cadran_plat($D340,I$10,$C$3,$C$2,$C$5,$C$6,0,0,$C$4),1,1)","v":321.22527307346752},{"$f":"INDEX(coordonnées_cadran_plat($D340,I$10,$C$3,$C$2,$C$5,$C$6,0,0,$C$4),1,2)","v":-851.14158936200317},{"$f":"INDEX(coordonnées_cadran_plat($D340,K$10,$C$3,$C$2,$C$5,$C$6,0,0,$C$4),1,1)","v":363.89393995549352},{"$f":"INDEX(coordonnées_cadran_plat($D340,K$10,$C$3,$C$2,$C$5,$C$6,0,0,$C$4),1,2)","v":-523.39649735329226},{"$f":"INDEX(coordonnées_cadran_plat($D340,M$10,$C$3,$C$2,$C$5,$C$6,0,0,$C$4),1,1)","v":387.11434858100972},{"$f":"INDEX(coordonnées_cadran_plat($D340,M$10,$C$3,$C$2,$C$5,$C$6,0,0,$C$4),1,2)","v":-293.62801494125659},{"$f":"INDEX(coordonnées_cadran_plat($D340,O$10,$C$3,$C$2,$C$5,$C$6,0,0,$C$4),1,1)","v":400.11959895015792},{"$f":"INDEX(coordonnées_cadran_plat($D340,O$10,$C$3,$C$2,$C$5,$C$6,0,0,$C$4),1,2)","v":-103.95817277991323},{"$f":"INDEX(coordonnées_cadran_plat($D340,Q$10,$C$3,$C$2,$C$5,$C$6,0,0,$C$4),1,1)","v":406.27738820392062},{"$f":"INDEX(coordonnées_cadran_plat($D340,Q$10,$C$3,$C$2,$C$5,$C$6,0,0,$C$4),1,2)","v":74.567612014076872},{"$f":"INDEX(coordonnées_cadran_plat($D340,S$10,$C$3,$C$2,$C$5,$C$6,0,0,$C$4),1,1)","v":406.38741042039186},{"$f":"INDEX(coordonnées_cadran_plat($D340,S$10,$C$3,$C$2,$C$5,$C$6,0,0,$C$4),1,2)","v":264.47470854259274},{"$f":"INDEX(coordonnées_cadran_plat($D340,U$10,$C$3,$C$2,$C$5,$C$6,0,0,$C$4),1,1)","v":399.14333593844265},{"$f":"INDEX(coordonnées_cadran_plat($D340,U$10,$C$3,$C$2,$C$5,$C$6,0,0,$C$4),1,2)","v":494.78885641317561},{"$f":"INDEX(coordonnées_cadran_plat($D340,W$10,$C$3,$C$2,$C$5,$C$6,0,0,$C$4),1,1)","v":379.44710888011252},{"$f":"INDEX(coordonnées_cadran_plat($D340,W$10,$C$3,$C$2,$C$5,$C$6,0,0,$C$4),1,2)","v":823.58054145796723}]
[null,6,3,"2010-03-06",{"$f":"INDEX(heures_limites_cadran($D341,$C$3,$C$2,$C$5),1,1)/24","v":"08:30:00"},{"$f":"INDEX(heures_limites_cadran($D341,$C$3,$C$2,$C$5),1,2)/24","v":"19:00:00"},{"$f":"INDEX(coordonnées_cadran_plat($D341,$G$10,$C$3,$C$2,$C$5,$C$6,0,0,$C$4),1,1)","v":240.5842935523296},{"$f":"INDEX(coordonnées_cadran_plat($D341,$G$10,$C$3,$C$2,$C$5,$C$6,0,0,$C$4),1,2)","v":-1464.9587834357235},{"$f":"INDEX(coordonnées_cadran_plat($D341,I$10,$C$3,$C$2,$C$5,$C$6,0,0,$C$4),1,1)","v":329.68735954154982},{"$f":"INDEX(coordonnées_cadran_plat($D341,I$10,$C$3,$C$2,$C$5,$C$6,0,0,$C$4),1,2)","v":-857.33329006093197},{"$f":"INDEX(coordonnées_cadran_plat($D341,K$10,$C$3,$C$2,$C$5,$C$6,0,0,$C$4),1,1)","v":370.82720892071296},{"$f":"INDEX(coordonnées_cadran_plat($D341,K$10,$C$3,$C$2,$C$5,$C$6,0,0,$C$4),1,2)","v":-526.22383978808364},{"$f":"INDEX(coordonnées_cadran_plat($D341,M$10,$C$3,$C$2,$C$5,$C$6,0,0,$C$4),1,1)","v":393.26195482127338},{"$f":"INDEX(coordonnées_cadran_plat($D341,M$10,$C$3,$C$2,$C$5,$C$6,0,0,$C$4),1,2)","v":-294.78210692576783},{"$f":"INDEX(coordonnées_cadran_plat($D341,O$10,$C$3,$C$2,$C$5,$C$6,0,0,$C$4),1,1)","v":405.93198599241202},{"$f":"INDEX(coordonnées_cadran_plat($D341,O$10,$C$3,$C$2,$C$5,$C$6,0,0,$C$4),1,2)","v":-103.98810263342649},{"$f":"INDEX(coordonnées_cadran_plat($D341,Q$10,$C$3,$C$2,$C$5,$C$6,0,0,$C$4),1,1)","v":412.1023846177419},{"$f":"INDEX(coordonnées_cadran_plat($D341,Q$10,$C$3,$C$2,$C$5,$C$6,0,0,$C$4),1,2)","v":75.566544416787153},{"$f":"INDEX(coordonnées_cadran_plat($D341,S$10,$C$3,$C$2,$C$5,$C$6,0,0,$C$4),1,1)","v":412.57724194033472},{"$f":"INDEX(coordonnées_cadran_plat($D341,S$10,$C$3,$C$2,$C$5,$C$6,0,0,$C$4),1,2)","v":266.7516010387746},{"$f":"INDEX(coordonnées_cadran_plat($D341,U$10,$C$3,$C$2,$C$5,$C$6,0,0,$C$4),1,1)","v":406.16581813809478},{"$f":"INDEX(coordonnées_cadran_plat($D341,U$10,$C$3,$C$2,$C$5,$C$6,0,0,$C$4),1,2)","v":499.14693692664594},{"$f":"INDEX(coordonnées_cadran_plat($D341,W$10,$C$3,$C$2,$C$5,$C$6,0,0,$C$4),1,1)","v":388.09743895199125},{"$f":"INDEX(coordonnées_cadran_plat($D341,W$10,$C$3,$C$2,$C$5,$C$6,0,0,$C$4),1,2)","v":832.33421014416194}]
[null,7,3,"2010-03-07",{"$f":"INDEX(heures_limites_cadran($D342,$C$3,$C$2,$C$5),1,1)/24","v":"08:30:00"},{"$f":"INDEX(heures_limites_cadran($D342,$C$3,$C$2,$C$5),1,2)/24","v":"19:00:00"},{"$f":"INDEX(coordonnées_cadran_plat($D342,$G$10,$C$3,$C$2,$C$5,$C$6,0,0,$C$4),1,1)","v":252.39569801604608},{"$f":"INDEX(coordonnées_cadran_plat($D342,$G$10,$C$3,$C$2,$C$5,$C$6,0,0,$C$4),1,2)","v":-1481.2652254638269},{"$f":"INDEX(coordonnées_cadran_plat($D342,I$10,$C$3,$C$2,$C$5,$C$6,0,0,$C$4),1,1)","v":338.30506684594911},{"$f":"INDEX(coordonnées_cadran_plat($D342,I$10,$C$3,$C$2,$C$5,$C$6,0,0,$C$4),1,2)","v":-863.58901361917628},{"$f":"INDEX(coordonnées_cadran_plat($D342,K$10,$C$3,$C$2,$C$5,$C$6,0,0,$C$4),1,1)","v":377.86606634599542},{"$f":"INDEX(coordonnées_cadran_plat($D342,K$10,$C$3,$C$2,$C$5,$C$6,0,0,$C$4),1,2)","v":-529.06419907005068},{"$f":"INDEX(coordonnées_cadran_plat($D342,M$10,$C$3,$C$2,$C$5,$C$6,0,0,$C$4),1,1)","v":399.49466500060214},{"$f":"INDEX(coordonnées_cadran_plat($D342,M$10,$C$3,$C$2,$C$5,$C$6,0,0,$C$4),1,2)","v":-295.92981630729611},{"$f":"INDEX(coordonnées_cadran_plat($D342,O$10,$C$3,$C$2,$C$5,$C$6,0,0,$C$4),1,1)","v":411.82256868641144},{"$f":"INDEX(coordonnées_cadran_plat($D342,O$10,$C$3,$C$2,$C$5,$C$6,0,0,$C$4),1,2)","v":-103.99898729230777},{"$f":"INDEX(coordonnées_cadran_plat($D342,Q$10,$C$3,$C$2,$C$5,$C$6,0,0,$C$4),1,1)","v":418.00793422657711},{"$f":"INDEX(coordonnées_cadran_plat($D342,Q$10,$C$3,$C$2,$C$5,$C$6,0,0,$C$4),1,2)","v":76.598659986155923},{"$f":"INDEX(coordonnées_cadran_plat($D342,S$10,$C$3,$C$2,$C$5,$C$6,0,0,$C$4),1,1)","v":418.86003415847074},{"$f":"INDEX(coordonnées_cadran_plat($D342,S$10,$C$3,$C$2,$C$5,$C$6,0,0,$C$4),1,2)","v":269.08477041308788},{"$f":"INDEX(coordonnées_cadran_plat($D342,U$10,$C$3,$C$2,$C$5,$C$6,0,0,$C$4),1,1)","v":413.3103140037054},{"$f":"INDEX(coordonnées_cadran_plat($D342,U$10,$C$3,$C$2,$C$5,$C$6,0,0,$C$4),1,2)","v":503.61012537982413},{"$f":"INDEX(coordonnées_cadran_plat($D342,W$10,$C$3,$C$2,$C$5,$C$6,0,0,$C$4),1,1)","v":396.93740171140246},{"$f":"INDEX(coordonnées_cadran_plat($D342,W$10,$C$3,$C$2,$C$5,$C$6,0,0,$C$4),1,2)","v":841.32793591387281}]
[null,8,3,"2010-03-08",{"$f":"INDEX(heures_limites_cadran($D343,$C$3,$C$2,$C$5),1,1)/24","v":"08:30:00"},{"$f":"INDEX(heures_limites_cadran($D343,$C$3,$C$2,$C$5),1,2)/24","v":"19:00:00"},{"$f":"INDEX(coordonnées_cadran_plat($D343,$G$10,$C$3,$C$2,$C$5,$C$6,0,0,$C$4),1,1)","v":264.51298581363926},{"$f":"INDEX(coordonnées_cadran_plat($D343,$G$10,$C$3,$C$2,$C$5,$C$6,0,0,$C$4),1,2)","v":-1497.8794775306362},{"$f":"INDEX(coordonnées_cadran_plat($D343,I$10,$C$3,$C$2,$C$5,$C$6,0,0,$C$4),1,1)","v":347.07969868967217},{"$f":"INDEX(coordonnées_cadran_plat($D343,I$10,$C$3,$C$2,$C$5,$C$6,0,0,$C$4),1,2)","v":-869.9107208546601},{"$f":"INDEX(coordonnées_cadran_plat($D343,K$10,$C$3,$C$2,$C$5,$C$6,0,0,$C$4),1,1)","v":385.01089523099137},{"$f":"INDEX(coordonnées_cadran_plat($D343,K$10,$C$3,$C$2,$C$5,$C$6,0,0,$C$4),1,2)","v":-531.91846967399442},{"$f":"INDEX(coordonnées_cadran_plat($D343,M$10,$C$3,$C$2,$C$5,$C$6,0,0,$C$4),1,1)","v":405.81268657968332},{"$f":"INDEX(coordonnées_cadran_plat($D343,M$10,$C$3,$C$2,$C$5,$C$6,0,0,$C$4),1,2)","v":-297.0717734858149},{"$f":"INDEX(coordonnées_cadran_plat($D343,O$10,$C$3,$C$2,$C$5,$C$6,0,0,$C$4),1,1)","v":417.79162669394532},{"$f":"INDEX(coordonnées_cadran_plat($D343,O$10,$C$3,$C$2,$C$5,$C$6,0,0,$C$4),1,2)","v":-103.99135149442884},{"$f":"INDEX(coordonnées_cadran_plat($D343,Q$10,$C$3,$C$2,$C$5,$C$6,0,0,$C$4),1,1)","v":423.99456742627342},{"$f":"INDEX(coordonnées_cadran_plat($D343,Q$10,$C$3,$C$2,$C$5,$C$6,0,0,$C$4),1,2)","v":77.663541341952779},{"$f":"INDEX(coordonnées_cadran_plat($D343,S$10,$C$3,$C$2,$C$5,$C$6,0,0,$C$4),1,1)","v":425.23684882773256},{"$f":"INDEX(coordonnées_cadran_plat($D343,S$10,$C$3,$C$2,$C$5,$C$6,0,0,$C$4),1,2)","v":271.47406925568902},{"$f":"INDEX(coordonnées_cadran_plat($D343,U$10,$C$3,$C$2,$C$5,$C$6,0,0,$C$4),1,1)","v":420.57908498656423},{"$f":"INDEX(coordonnées_cadran_plat($D343,U$10,$C$3,$C$2,$C$5,$C$6,0,0,$C$4),1,2)","v":508.1792170533011},{"$f":"INDEX(coordonnées_cadran_plat($D343,W$10,$C$3,$C$2,$C$5,$C$6,0,0,$C$4),1,1)","v":405.97258289278142},{"$f":"INDEX(coordonnées_cadran_plat($D343,W$10,$C$3,$C$2,$C$5,$C$6,0,0,$C$4),1,2)","v":850.56671528382253}]
[null,9,3,"2010-03-09",{"$f":"INDEX(heures_limites_cadran($D344,$C$3,$C$2,$C$5),1,1)/24","v":"08:30:00"},{"$f":"INDEX(heures_limites_cadran($D344,$C$3,$C$2,$C$5),1,2)/24","v":"19:00:00"},{"$f":"INDEX(coordonnées_cadran_plat($D344,$G$10,$C$3,$C$2,$C$5,$C$6,0,0,$C$4),1,1)","v":276.942599859192},{"$f":"INDEX(coordonnées_cadran_plat($D344,$G$10,$C$3,$C$2,$C$5,$C$6,0,0,$C$4),1,2)","v":-1514.8117829023736},{"$f":"INDEX(coordonnées_cadran_plat($D344,I$10,$C$3,$C$2,$C$5,$C$6,0,0,$C$4),1,1)","v":356.01261530177601},{"$f":"INDEX(coordonnées_cadran_plat($D344,I$10,$C$3,$C$2,$C$5,$C$6,0,0,$C$4),1,2)","v":-876.30048084228986},{"$f":"INDEX(coordonnées_cadran_plat($D344,K$10,$C$3,$C$2,$C$5,$C$6,0,0,$C$4),1,1)","v":392.26210219069236},{"$f":"INDEX(coordonnées_cadran_plat($D344,K$10,$C$3,$C$2,$C$5,$C$6,0,0,$C$4),1,2)","v":-534.7875941023326},{"$f":"INDEX(coordonnées_cadran_plat($D344,M$10,$C$3,$C$2,$C$5,$C$6,0,0,$C$4),1,1)","v":412.21624184243228},{"$f":"INDEX(coordonnées_cadran_plat($D344,M$10,$C$3,$C$2,$C$5,$C$6,0,0,$C$4),1,2)","v":-298.20863888916892},{"$f":"INDEX(coordonnées_cadran_plat($D344,O$10,$C$3,$C$2,$C$5,$C$6,0,0,$C$4),1,1)","v":423.83945201675658},{"$f":"INDEX(coordonnées_cadran_plat($D344,O$10,$C$3,$C$2,$C$5,$C$6,0,0,$C$4),1,2)","v":-103.96574293491737},{"$f":"INDEX(coordonnées_cadran_plat($D344,Q$10,$C$3,$C$2,$C$5,$C$6,0,0,$C$4),1,1)","v":430.06282875450836},{"$f":"INDEX(coordonnées_cadran_plat($D344,Q$10,$C$3,$C$2,$C$5,$C$6,0,0,$C$4),1,2)","v":78.760751256922731},{"$f":"INDEX(coordonnées_cadran_plat($D344,S$10,$C$3,$C$2,$C$5,$C$6,0,0,$C$4),1,1)","v":431.70877171894278},{"$f":"INDEX(coordonnées_cadran_plat($D344,S$10,$C$3,$C$2,$C$5,$C$6,0,0,$C$4),1,2)","v":273.91933413422009},{"$f":"INDEX(coordonnées_cadran_plat($D344,U$10,$C$3,$C$2,$C$5,$C$6,0,0,$C$4),1,1)","v":427.97445194413558},{"$f":"INDEX(coordonnées_cadran_plat($D344,U$10,$C$3,$C$2,$C$5,$C$6,0,0,$C$4),1,2)","v":512.85501247730622},{"$f":"INDEX(coordonnées_cadran_plat($D344,W$10,$C$3,$C$2,$C$5,$C$6,0,0,$C$4),1,1)","v":415.20877659030918},{"$f":"INDEX(coordonnées_cadran_plat($D344,W$10,$C$3,$C$2,$C$5,$C$6,0,0,$C$4),1,2)","v":860.05571254094673}]
[null,10,3,"2010-03-10",{"$f":"INDEX(heures_limites_cadran($D345,$C$3,$C$2,$C$5),1,1)/24","v":"08:00:00"},{"$f":"INDEX(heures_limites_cadran($D345,$C$3,$C$2,$C$5),1,2)/24","v":"19:00:00"},{"$f":"INDEX(coordonnées_cadran_plat($D345,$G$10,$C$3,$C$2,$C$5,$C$6,0,0,$C$4),1,1)","v":289.69128104542654},{"$f":"INDEX(coordonnées_cadran_plat($D345,$G$10,$C$3,$C$2,$C$5,$C$6,0,0,$C$4),1,2)","v":-1532.0729483899065},{"$f":"INDEX(coordonnées_cadran_plat($D345,I$10,$C$3,$C$2,$C$5,$C$6,0,0,$C$4),1,1)","v":365.10523579194177},{"$f":"INDEX(coordonnées_cadran_plat($D345,I$10,$C$3,$C$2,$C$5,$C$6,0,0,$C$4),1,2)","v":-882.7604724021063},{"$f":"INDEX(coordonnées_cadran_plat($D345,K$10,$C$3,$C$2,$C$5,$C$6,0,0,$C$4),1,1)","v":399.62011758800378},{"$f":"INDEX(coordonnées_cadran_plat($D345,K$10,$C$3,$C$2,$C$5,$C$6,0,0,$C$4),1,2)","v":-537.67256258010207},{"$f":"INDEX(coordonnées_cadran_plat($D345,M$10,$C$3,$C$2,$C$5,$C$6,0,0,$C$4),1,1)","v":418.70556729462572},{"$f":"INDEX(coordonnées_cadran_plat($D345,M$10,$C$3,$C$2,$C$5,$C$6,0,0,$C$4),1,2)","v":-299.34110256930785},{"$f":"INDEX(coordonnées_cadran_plat($D345,O$10,$C$3,$C$2,$C$5,$C$6,0,0,$C$4),1,1)","v":429.96634798983808},{"$f":"INDEX(coordonnées_cadran_plat($D345,O$10,$C$3,$C$2,$C$5,$C$6,0,0,$C$4),1,2)","v":-103.92273206180535},{"$f":"INDEX(coordonnées_cadran_plat($D345,Q$10,$C$3,$C$2,$C$5,$C$6,0,0,$C$4),1,1)","v":436.21327557402793},{"$f":"INDEX(coordonnées_cadran_plat($D345,Q$10,$C$3,$C$2,$C$5,$C$6,0,0,$C$4),1,2)","v":79.889832515713408},{"$f":"INDEX(coordonnées_cadran_plat($D345,S$10,$C$3,$C$2,$C$5,$C$6,0,0,$C$4),1,1)","v":438.27691111294661},{"$f":"INDEX(coordonnées_cadran_plat($D345,S$10,$C$3,$C$2,$C$5,$C$6,0,0,$C$4),1,2)","v":276.42038493415515},{"$f":"INDEX(coordonnées_cadran_plat($D345,U$10,$C$3,$C$2,$C$5,$C$6,0,0,$C$4),1,1)","v":435.49879420412174},{"$f":"INDEX(coordonnées_cadran_plat($D345,U$10,$C$3,$C$2,$C$5,$C$6,0,0,$C$4),1,2)","v":517.63831633136283},{"$f":"INDEX(coordonnées_cadran_plat($D345,W$10,$C$3,$C$2,$C$5,$C$6,0,0,$C$4),1,1)","v":424.65199092761901},{"$f":"INDEX(coordonnées_cadran_plat($D345,W$10,$C$3,$C$2,$C$5,$C$6,0,0,$C$4),1,2)","v":869.80026395054085}]
[null,11,3,"2010-03-11",{"$f":"INDEX(heures_limites_cadran($D346,$C$3,$C$2,$C$5),1,1)/24","v":"08:00:00"},{"$f":"INDEX(heures_limites_cadran($D346,$C$3,$C$2,$C$5),1,2)/24","v":"19:00:00"},{"$f":"INDEX(coordonnées_cadran_plat($D346,$G$10,$C$3,$C$2,$C$5,$C$6,0,0,$C$4),1,1)","v":302.76608711605917},{"$f":"INDEX(coordonnées_cadran_plat($D346,$G$10,$C$3,$C$2,$C$5,$C$6,0,0,$C$4),1,2)","v":-1549.6743718154407},{"$f":"INDEX(coordonnées_cadran_plat($D346,I$10,$C$3,$C$2,$C$5,$C$6,0,0,$C$4),1,1)","v":374.35904046103587},{"$f":"INDEX(coordonnées_cadran_plat($D346,I$10,$C$3,$C$2,$C$5,$C$6,0,0,$C$4),1,2)","v":-889.29298554635488},{"$f":"INDEX(coordonnées_cadran_plat($D346,K$10,$C$3,$C$2,$C$5,$C$6,0,0,$C$4),1,1)","v":407.08539556127261},{"$f":"INDEX(coordonnées_cadran_plat($D346,K$10,$C$3,$C$2,$C$5,$C$6,0,0,$C$4),1,2)","v":-540.57441270121421},{"$f":"INDEX(coordonnées_cadran_plat($D346,M$10,$C$3,$C$2,$C$5,$C$6,0,0,$C$4),1,1)","v":425.28091295678473},{"$f":"INDEX(coordonnées_cadran_plat($D346,M$10,$C$3,$C$2,$C$5,$C$6,0,0,$C$4),1,2)","v":-300.46988377591907},{"$f":"INDEX(coordonnées_cadran_plat($D346,O$10,$C$3,$C$2,$C$5,$C$6,0,0,$C$4),1,1)","v":436.17262816820624},{"$f":"INDEX(coordonnées_cadran_plat($D346,O$10,$C$3,$C$2,$C$5,$C$6,0,0,$C$4),1,2)","v":-103.86291187076606},{"$f":"INDEX(coordonnées_cadran_plat($D346,Q$10,$C$3,$C$2,$C$5,$C$6,0,0,$C$4),1,1)","v":442.44647663844358},{"$f":"INDEX(coordonnées_cadran_plat($D346,Q$10,$C$3,$C$2,$C$5,$C$6,0,0,$C$4),1,2)","v":81.050307751154619},{"$f":"INDEX(coordonnées_cadran_plat($D346,S$10,$C$3,$C$2,$C$5,$C$6,0,0,$C$4),1,1)","v":444.94239614891859},{"$f":"INDEX(coordonnées_cadran_plat($D346,S$10,$C$3,$C$2,$C$5,$C$6,0,0,$C$4),1,2)","v":278.97702413642475},{"$f":"INDEX(coordonnées_cadran_plat($D346,U$10,$C$3,$C$2,$C$5,$C$6,0,0,$C$4),1,1)","v":443.15454845326389},{"$f":"INDEX(coordonnées_cadran_plat($D346,U$10,$C$3,$C$2,$C$5,$C$6,0,0,$C$4),1,2)","v":522.52993620297127},{"$f":"INDEX(coordonnées_cadran_plat($D346,W$10,$C$3,$C$2,$C$5,$C$6,0,0,$C$4),1,1)","v":434.30845380598902},{"$f":"INDEX(coordonnées_cadran_plat($D346,W$10,$C$3,$C$2,$C$5,$C$6,0,0,$C$4),1,2)","v":879.80588192791527}]
[null,12,3,"2010-03-12",{"$f":"INDEX(heures_limites_cadran($D347,$C$3,$C$2,$C$5),1,1)/24","v":"08:00:00"},{"$f":"INDEX(heures_limites_cadran($D347,$C$3,$C$2,$C$5),1,2)/24","v":"19:00:00"},{"$f":"INDEX(coordonnées_cadran_plat($D347,$G$10,$C$3,$C$2,$C$5,$C$6,0,0,$C$4),1,1)","v":316.17441259611024},{"$f":"INDEX(coordonnées_cadran_plat($D347,$G$10,$C$3,$C$2,$C$5,$C$6,0,0,$C$4),1,2)","v":-1567.6280709902685},{"$f":"INDEX(coordonnées_cadran_plat($D347,I$10,$C$3,$C$2,$C$5,$C$6,0,0,$C$4),1,1)","v":383.77557305921124},{"$f":"INDEX(coordonnées_cadran_plat($D347,I$10,$C$3,$C$2,$C$5,$C$6,0,0,$C$4),1,2)","v":-895.90042288349753},{"$f":"INDEX(coordonnées_cadran_plat($D347,K$10,$C$3,$C$2,$C$5,$C$6,0,0,$C$4),1,1)","v":414.65841394016553},{"$f":"INDEX(coordonnées_cadran_plat($D347,K$10,$C$3,$C$2,$C$5,$C$6,0,0,$C$4),1,2)","v":-543.49422902420417},{"$f":"INDEX(coordonnées_cadran_plat($D347,M$10,$C$3,$C$2,$C$5,$C$6,0,0,$C$4),1,1)","v":431.94254154655493},{"$f":"INDEX(coordonnées_cadran_plat($D347,M$10,$C$3,$C$2,$C$5,$C$6,0,0,$C$4),1,2)","v":-301.59573050667694},{"$f":"INDEX(coordonnées_cadran_plat($D347,O$10,$C$3,$C$2,$C$5,$C$6,0,0,$C$4),1,1)","v":442.45861510273448},{"$f":"INDEX(coordonnées_cadran_plat($D347,O$10,$C$3,$C$2,$C$5,$C$6,0,0,$C$4),1,2)","v":-103.78689769835816},{"$f":"INDEX(coordonnées_cadran_plat($D347,Q$10,$C$3,$C$2,$C$5,$C$6,0,0,$C$4),1,1)","v":448.76301053522093},{"$f":"INDEX(coordonnées_cadran_plat($D347,Q$10,$C$3,$C$2,$C$5,$C$6,0,0,$C$4),1,2)","v":82.241679257429553},{"$f":"INDEX(coordonnées_cadran_plat($D347,S$10,$C$3,$C$2,$C$5,$C$6,0,0,$C$4),1,1)","v":451.70637502056871},{"$f":"INDEX(coordonnées_cadran_plat($D347,S$10,$C$3,$C$2,$C$5,$C$6,0,0,$C$4),1,2)","v":281.58903603023032},{"$f":"INDEX(coordonnées_cadran_plat($D347,U$10,$C$3,$C$2,$C$5,$C$6,0,0,$C$4),1,1)","v":450.94420743569384},{"$f":"INDEX(coordonnées_cadran_plat($D347,U$10,$C$3,$C$2,$C$5,$C$6,0,0,$C$4),1,2)","v":527.53068119644661},{"$f":"INDEX(coordonnées_cadran_plat($D347,W$10,$C$3,$C$2,$C$5,$C$6,0,0,$C$4),1,1)","v":444.18461871716102},{"$f":"INDEX(coordonnées_cadran_plat($D347,W$10,$C$3,$C$2,$C$5,$C$6,0,0,$C$4),1,2)","v":890.0782591539222}]
[null,13,3,"2010-03-13",{"$f":"INDEX(heures_limites_cadran($D348,$C$3,$C$2,$C$5),1,1)/24","v":"08:00:00"},{"$f":"INDEX(heures_limites_cadran($D348,$C$3,$C$2,$C$5),1,2)/24","v":"19:00:00"},{"$f":"INDEX(coordonnées_cadran_plat($D348,$G$10,$C$3,$C$2,$C$5,$C$6,0,0,$C$4),1,1)","v":329.92400984506457},{"$f":"INDEX(coordonnées_cadran_plat($D348,$G$10,$C$3,$C$2,$C$5,$C$6,0,0,$C$4),1,2)","v":-1585.9467143127752},{"$f":"INDEX(coordonnées_cadran_plat($D348,I$10,$C$3,$C$2,$C$5,$C$6,0,0,$C$4),1,1)","v":393.35644298303191},{"$f":"INDEX(coordonnées_cadran_plat($D348,I$10,$C$3,$C$2,$C$5,$C$6,0,0,$C$4),1,2)","v":-902.58530097635219},{"$f":"INDEX(coordonnées_cadran_plat($D348,K$10,$C$3,$C$2,$C$5,$C$6,0,0,$C$4),1,1)","v":422.33967404309817},{"$f":"INDEX(coordonnées_cadran_plat($D348,K$10,$C$3,$C$2,$C$5,$C$6,0,0,$C$4),1,2)","v":-546.43314261597675},{"$f":"INDEX(coordonnées_cadran_plat($D348,M$10,$C$3,$C$2,$C$5,$C$6,0,0,$C$4),1,1)","v":438.69072754545124},{"$f":"INDEX(coordonnées_cadran_plat($D348,M$10,$C$3,$C$2,$C$5,$C$6,0,0,$C$4),1,2)","v":-302.71941903314564},{"$f":"INDEX(coordonnées_cadran_plat($D348,O$10,$C$3,$C$2,$C$5,$C$6,0,0,$C$4),1,1)","v":448.82463900031286},{"$f":"INDEX(coordonnées_cadran_plat($D348,O$10,$C$3,$C$2,$C$5,$C$6,0,0,$C$4),1,2)","v":-103.69532701370632},{"$f":"INDEX(coordonnées_cadran_plat($D348,Q$10,$C$3,$C$2,$C$5,$C$6,0,0,$C$4),1,1)","v":455.1634640002116},{"$f":"INDEX(coordonnées_cadran_plat($D348,Q$10,$C$3,$C$2,$C$5,$C$6,0,0,$C$4),1,2)","v":83.463428779999347},{"$f":"INDEX(coordonnées_cadran_plat($D348,S$10,$C$3,$C$2,$C$5,$C$6,0,0,$C$4),1,1)","v":458.57001301160597},{"$f":"INDEX(coordonnées_cadran_plat($D348,S$10,$C$3,$C$2,$C$5,$C$6,0,0,$C$4),1,2)","v":284.25618585838737},{"$f":"INDEX(coordonnées_cadran_plat($D348,U$10,$C$3,$C$2,$C$5,$C$6,0,0,$C$4),1,1)","v":458.8703184452425},{"$f":"INDEX(coordonnées_cadran_plat($D348,U$10,$C$3,$C$2,$C$5,$C$6,0,0,$C$4),1,2)","v":532.64136038173183},{"$f":"INDEX(coordonnées_cadran_plat($D348,W$10,$C$3,$C$2,$C$5,$C$6,0,0,$C$4),1,1)","v":454.28717060465038},{"$f":"INDEX(coordonnées_cadran_plat($D348,W$10,$C$3,$C$2,$C$5,$C$6,0,0,$C$4),1,2)","v":900.62327261395967}]
[null,14,3,"2010-03-14",{"$f":"INDEX(heures_limites_cadran($D349,$C$3,$C$2,$C$5),1,1)/24","v":"08:00:00"},{"$f":"INDEX(heures_limites_cadran($D349,$C$3,$C$2,$C$5),1,2)/24","v":"19:00:00"},{"$f":"INDEX(coordonnées_cadran_plat($D349,$G$10,$C$3,$C$2,$C$5,$C$6,0,0,$C$4),1,1)","v":344.0230113034533},{"$f":"INDEX(coordonnées_cadran_plat($D349,$G$10,$C$3,$C$2,$C$5,$C$6,0,0,$C$4),1,2)","v":-1604.6436531074364},{"$f":"INDEX(coordonnées_cadran_plat($D349,I$10,$C$3,$C$2,$C$5,$C$6,0,0,$C$4),1,1)","v":403.10332740222458},{"$f":"INDEX(coordonnées_cadran_plat($D349,I$10,$C$3,$C$2,$C$5,$C$6,0,0,$C$4),1,2)","v":-909.35025165229433},{"$f":"INDEX(coordonnées_cadran_plat($D349,K$10,$C$3,$C$2,$C$5,$C$6,0,0,$C$4),1,1)","v":430.12970034892032},{"$f":"INDEX(coordonnées_cadran_plat($D349,K$10,$C$3,$C$2,$C$5,$C$6,0,0,$C$4),1,2)","v":-549.3923305411497},{"$f":"INDEX(coordonnées_cadran_plat($D349,M$10,$C$3,$C$2,$C$5,$C$6,0,0,$C$4),1,1)","v":445.52575614459016},{"$f":"INDEX(coordonnées_cadran_plat($D349,M$10,$C$3,$C$2,$C$5,$C$6,0,0,$C$4),1,2)","v":-303.84175340148664},{"$f":"INDEX(coordonnées_cadran_plat($D349,O$10,$C$3,$C$2,$C$5,$C$6,0,0,$C$4),1,1)","v":455.27103626348969},{"$f":"INDEX(coordonnées_cadran_plat($D349,O$10,$C$3,$C$2,$C$5,$C$6,0,0,$C$4),1,2)","v":-103.58885920796239},{"$f":"INDEX(coordonnées_cadran_plat($D349,Q$10,$C$3,$C$2,$C$5,$C$6,0,0,$C$4),1,1)","v":461.64843009792855},{"$f":"INDEX(coordonnées_cadran_plat($D349,Q$10,$C$3,$C$2,$C$5,$C$6,0,0,$C$4),1,2)","v":84.715017281558318},{"$f":"INDEX(coordonnées_cadran_plat($D349,S$10,$C$3,$C$2,$C$5,$C$6,0,0,$C$4),1,1)","v":465.53449036116382},{"$f":"INDEX(coordonnées_cadran_plat($D349,S$10,$C$3,$C$2,$C$5,$C$6,0,0,$C$4),1,2)","v":286.97821889337968},{"$f":"INDEX(coordonnées_cadran_plat($D349,U$10,$C$3,$C$2,$C$5,$C$6,0,0,$C$4),1,1)","v":466.93548159400376},{"$f":"INDEX(coordonnées_cadran_plat($D349,U$10,$C$3,$C$2,$C$5,$C$6,0,0,$C$4),1,2)","v":537.86278107394014},{"$f":"INDEX(coordonnées_cadran_plat($D349,W$10,$C$3,$C$2,$C$5,$C$6,0,0,$C$4),1,1)","v":464.62303175475137},{"$f":"INDEX(coordonnées_cadran_plat($D349,W$10,$C$3,$C$2,$C$5,$C$6,0,0,$C$4),1,2)","v":911.44698753470107}]
[null,15,3,"2010-03-15",{"$f":"INDEX(heures_limites_cadran($D350,$C$3,$C$2,$C$5),1,1)/24","v":"08:00:00"},{"$f":"INDEX(heures_limites_cadran($D350,$C$3,$C$2,$C$5),1,2)/24","v":"19:30:00"},{"$f":"INDEX(coordonnées_cadran_plat($D350,$G$10,$C$3,$C$2,$C$5,$C$6,0,0,$C$4),1,1)","v":358.47995300888391},{"$f":"INDEX(coordonnées_cadran_plat($D350,$G$10,$C$3,$C$2,$C$5,$C$6,0,0,$C$4),1,2)","v":-1623.7329558300135},{"$f":"INDEX(coordonnées_cadran_plat($D350,I$10,$C$3,$C$2,$C$5,$C$6,0,0,$C$4),1,1)","v":413.01797330614858},{"$f":"INDEX(coordonnées_cadran_plat($D350,I$10,$C$3,$C$2,$C$5,$C$6,0,0,$C$4),1,2)","v":-916.19802325979481},{"$f":"INDEX(coordonnées_cadran_plat($D350,K$10,$C$3,$C$2,$C$5,$C$6,0,0,$C$4),1,1)","v":438.02904003557285},{"$f":"INDEX(coordonnées_cadran_plat($D350,K$10,$C$3,$C$2,$C$5,$C$6,0,0,$C$4),1,2)","v":-552.3730152948267},{"$f":"INDEX(coordonnées_cadran_plat($D350,M$10,$C$3,$C$2,$C$5,$C$6,0,0,$C$4),1,1)","v":452.44792206420601},{"$f":"INDEX(coordonnées_cadran_plat($D350,M$10,$C$3,$C$2,$C$5,$C$6,0,0,$C$4),1,2)","v":-304.96356490673685},{"$f":"INDEX(coordonnées_cadran_plat($D350,O$10,$C$3,$C$2,$C$5,$C$6,0,0,$C$4),1,1)","v":461.7981479046822},{"$f":"INDEX(coordonnées_cadran_plat($D350,O$10,$C$3,$C$2,$C$5,$C$6,0,0,$C$4),1,2)","v":-103.4681753809981},{"$f":"INDEX(coordonnées_cadran_plat($D350,Q$10,$C$3,$C$2,$C$5,$C$6,0,0,$C$4),1,1)","v":468.21850626145181},{"$f":"INDEX(coordonnées_cadran_plat($D350,Q$10,$C$3,$C$2,$C$5,$C$6,0,0,$C$4),1,2)","v":85.995884684824262},{"$f":"INDEX(coordonnées_cadran_plat($D350,S$10,$C$3,$C$2,$C$5,$C$6,0,0,$C$4),1,1)","v":472.6009999499833},{"$f":"INDEX(coordonnées_cadran_plat($D350,S$10,$C$3,$C$2,$C$5,$C$6,0,0,$C$4),1,2)","v":289.75485944126882},{"$f":"INDEX(coordonnées_cadran_plat($D350,U$10,$C$3,$C$2,$C$5,$C$6,0,0,$C$4),1,1)","v":475.14234783928026},{"$f":"INDEX(coordonnées_cadran_plat($D350,U$10,$C$3,$C$2,$C$5,$C$6,0,0,$C$4),1,2)","v":543.19574693306663},{"$f":"INDEX(coordonnées_cadran_plat($D350,W$10,$C$3,$C$2,$C$5,$C$6,0,0,$C$4),1,1)","v":475.19936769568744},{"$f":"INDEX(coordonnées_cadran_plat($D350,W$10,$C$3,$C$2,$C$5,$C$6,0,0,$C$4),1,2)","v":922.55566119321486}]
[null,16,3,"2010-03-16",{"$f":"INDEX(heures_limites_cadran($D351,$C$3,$C$2,$C$5),1,1)/24","v":"08:00:00"},{"$f":"INDEX(heures_limites_cadran($D351,$C$3,$C$2,$C$5),1,2)/24","v":"19:30:00"},{"$f":"INDEX(coordonnées_cadran_plat($D351,$G$10,$C$3,$C$2,$C$5,$C$6,0,0,$C$4),1,1)","v":373.30379946408146},{"$f":"INDEX(coordonnées_cadran_plat($D351,$G$10,$C$3,$C$2,$C$5,$C$6,0,0,$C$4),1,2)","v":-1643.2294442807517},{"$f":"INDEX(coordonnées_cadran_plat($D351,I$10,$C$3,$C$2,$C$5,$C$6,0,0,$C$4),1,1)","v":423.10219945967549},{"$f":"INDEX(coordonnées_cadran_plat($D351,I$10,$C$3,$C$2,$C$5,$C$6,0,0,$C$4),1,2)","v":-923.13148186956528},{"$f":"INDEX(coordonnées_cadran_plat($D351,K$10,$C$3,$C$2,$C$5,$C$6,0,0,$C$4),1,1)","v":446.03826237765708},{"$f":"INDEX(coordonnées_cadran_plat($D351,K$10,$C$3,$C$2,$C$5,$C$6,0,0,$C$4),1,2)","v":-555.37646417623739},{"$f":"INDEX(coordonnées_cadran_plat($D351,M$10,$C$3,$C$2,$C$5,$C$6,0,0,$C$4),1,1)","v":459.45752824107234},{"$f":"INDEX(coordonnées_cadran_plat($D351,M$10,$C$3,$C$2,$C$5,$C$6,0,0,$C$4),1,2)","v":-306.08571153934173},{"$f":"INDEX(coordonnées_cadran_plat($D351,O$10,$C$3,$C$2,$C$5,$C$6,0,0,$C$4),1,1)","v":468.4063178296754},{"$f":"INDEX(coordonnées_cadran_plat($D351,O$10,$C$3,$C$2,$C$5,$C$6,0,0,$C$4),1,2)","v":-103.33397812462418},{"$f":"INDEX(coordonnées_cadran_plat($D351,Q$10,$C$3,$C$2,$C$5,$C$6,0,0,$C$4),1,1)","v":474.87429218587806},{"$f":"INDEX(coordonnées_cadran_plat($D351,Q$10,$C$3,$C$2,$C$5,$C$6,0,0,$C$4),1,2)","v":87.305449590914108},{"$f":"INDEX(coordonnées_cadran_plat($D351,S$10,$C$3,$C$2,$C$5,$C$6,0,0,$C$4),1,1)","v":479.7707447970339},{"$f":"INDEX(coordonnées_cadran_plat($D351,S$10,$C$3,$C$2,$C$5,$C$6,0,0,$C$4),1,2)","v":292.58580977178474},{"$f":"INDEX(coordonnées_cadran_plat($D351,U$10,$C$3,$C$2,$C$5,$C$6,0,0,$C$4),1,1)","v":483.49361674911381},{"$f":"INDEX(coordonnées_cadran_plat($D351,U$10,$C$3,$C$2,$C$5,$C$6,0,0,$C$4),1,2)","v":548.64105587249151},{"$f":"INDEX(coordonnées_cadran_plat($D351,W$10,$C$3,$C$2,$C$5,$C$6,0,0,$C$4),1,1)","v":486.02359307976525},{"$f":"INDEX(coordonnées_cadran_plat($D351,W$10,$C$3,$C$2,$C$5,$C$6,0,0,$C$4),1,2)","v":933.95574656660017}]
[null,17,3,"2010-03-17",{"$f":"INDEX(heures_limites_cadran($D352,$C$3,$C$2,$C$5),1,1)/24","v":"08:00:00"},{"$f":"INDEX(heures_limites_cadran($D352,$C$3,$C$2,$C$5),1,2)/24","v":"19:30:00"},{"$f":"INDEX(coordonnées_cadran_plat($D352,$G$10,$C$3,$C$2,$C$5,$C$6,0,0,$C$4),1,1)","v":388.50396994652385},{"$f":"INDEX(coordonnées_cadran_plat($D352,$G$10,$C$3,$C$2,$C$5,$C$6,0,0,$C$4),1,2)","v":-1663.1487319737482},{"$f":"INDEX(coordonnées_cadran_plat($D352,I$10,$C$3,$C$2,$C$5,$C$6,0,0,$C$4),1,1)","v":433.35789825692865},{"$f":"INDEX(coordonnées_cadran_plat($D352,I$10,$C$3,$C$2,$C$5,$C$6,0,0,$C$4),1,2)","v":-930.15361241428127},{"$f":"INDEX(coordonnées_cadran_plat($D352,K$10,$C$3,$C$2,$C$5,$C$6,0,0,$C$4),1,1)","v":454.15795799493719},{"$f":"INDEX(coordonnées_cadran_plat($D352,K$10,$C$3,$C$2,$C$5,$C$6,0,0,$C$4),1,2)","v":-558.40398860004245},{"$f":"INDEX(coordonnées_cadran_plat($D352,M$10,$C$3,$C$2,$C$5,$C$6,0,0,$C$4),1,1)","v":466.55488437800813},{"$f":"INDEX(coordonnées_cadran_plat($D352,M$10,$C$3,$C$2,$C$5,$C$6,0,0,$C$4),1,2)","v":-307.20907740234088},{"$f":"INDEX(coordonnées_cadran_plat($D352,O$10,$C$3,$C$2,$C$5,$C$6,0,0,$C$4),1,1)","v":475.09589098512004},{"$f":"INDEX(coordonnées_cadran_plat($D352,O$10,$C$3,$C$2,$C$5,$C$6,0,0,$C$4),1,2)","v":-103.18699130150443},{"$f":"INDEX(coordonnées_cadran_plat($D352,Q$10,$C$3,$C$2,$C$5,$C$6,0,0,$C$4),1,1)","v":481.61638756862601},{"$f":"INDEX(coordonnées_cadran_plat($D352,Q$10,$C$3,$C$2,$C$5,$C$6,0,0,$C$4),1,2)","v":88.643108974568861},{"$f":"INDEX(coordonnées_cadran_plat($D352,S$10,$C$3,$C$2,$C$5,$C$6,0,0,$C$4),1,1)","v":487.04493535653279},{"$f":"INDEX(coordonnées_cadran_plat($D352,S$10,$C$3,$C$2,$C$5,$C$6,0,0,$C$4),1,2)","v":295.4707489717448},{"$f":"INDEX(coordonnées_cadran_plat($D352,U$10,$C$3,$C$2,$C$5,$C$6,0,0,$C$4),1,1)","v":491.99203398579709},{"$f":"INDEX(coordonnées_cadran_plat($D352,U$10,$C$3,$C$2,$C$5,$C$6,0,0,$C$4),1,2)","v":554.19949776514227},{"$f":"INDEX(coordonnées_cadran_plat($D352,W$10,$C$3,$C$2,$C$5,$C$6,0,0,$C$4),1,1)","v":497.1033775201505},{"$f":"INDEX(coordonnées_cadran_plat($D352,W$10,$C$3,$C$2,$C$5,$C$6,0,0,$C$4),1,2)","v":945.6538957879194}]
[null,18,3,"2010-03-18",{"$f":"INDEX(heures_limites_cadran($D353,$C$3,$C$2,$C$5),1,1)/24","v":"08:00:00"},{"$f":"INDEX(heures_limites_cadran($D353,$C$3,$C$2,$C$5),1,2)/24","v":"19:00:00"},{"$f":"INDEX(coordonnées_cadran_plat($D353,$G$10,$C$3,$C$2,$C$5,$C$6,0,0,$C$4),1,1)","v":404.09036635687198},{"$f":"INDEX(coordonnées_cadran_plat($D353,$G$10,$C$3,$C$2,$C$5,$C$6,0,0,$C$4),1,2)","v":-1683.5072648263613},{"$f":"INDEX(coordonnées_cadran_plat($D353,I$10,$C$3,$C$2,$C$5,$C$6,0,0,$C$4),1,1)","v":443.78703746119112},{"$f":"INDEX(coordonnées_cadran_plat($D353,I$10,$C$3,$C$2,$C$5,$C$6,0,0,$C$4),1,2)","v":-937.26751976042044},{"$f":"INDEX(coordonnées_cadran_plat($D353,K$10,$C$3,$C$2,$C$5,$C$6,0,0,$C$4),1,1)","v":462.38873794306642},{"$f":"INDEX(coordonnées_cadran_plat($D353,K$10,$C$3,$C$2,$C$5,$C$6,0,0,$C$4),1,2)","v":-561.4569433421434},{"$f":"INDEX(coordonnées_cadran_plat($D353,M$10,$C$3,$C$2,$C$5,$C$6,0,0,$C$4),1,1)","v":473.74030534945609},{"$f":"INDEX(coordonnées_cadran_plat($D353,M$10,$C$3,$C$2,$C$5,$C$6,0,0,$C$4),1,2)","v":-308.334572097484},{"$f":"INDEX(coordonnées_cadran_plat($D353,O$10,$C$3,$C$2,$C$5,$C$6,0,0,$C$4),1,1)","v":481.8672113645577},{"$f":"INDEX(coordonnées_cadran_plat($D353,O$10,$C$3,$C$2,$C$5,$C$6,0,0,$C$4),1,2)","v":-103.02795981850927},{"$f":"INDEX(coordonnées_cadran_plat($D353,Q$10,$C$3,$C$2,$C$5,$C$6,0,0,$C$4),1,1)","v":488.44538969015684},{"$f":"INDEX(coordonnées_cadran_plat($D353,Q$10,$C$3,$C$2,$C$5,$C$6,0,0,$C$4),1,2)","v":90.008237855652823},{"$f":"INDEX(coordonnées_cadran_plat($D353,S$10,$C$3,$C$2,$C$5,$C$6,0,0,$C$4),1,1)","v":494.42478660442208},{"$f":"INDEX(coordonnées_cadran_plat($D353,S$10,$C$3,$C$2,$C$5,$C$6,0,0,$C$4),1,2)","v":298.40933172016355},{"$f":"INDEX(coordonnées_cadran_plat($D353,U$10,$C$3,$C$2,$C$5,$C$6,0,0,$C$4),1,1)","v":500.64038848528492},{"$f":"INDEX(coordonnées_cadran_plat($D353,U$10,$C$3,$C$2,$C$5,$C$6,0,0,$C$4),1,2)","v":559.87185193549556},{"$f":"INDEX(coordonnées_cadran_plat($D353,W$10,$C$3,$C$2,$C$5,$C$6,0,0,$C$4),1,1)","v":508.44665134990043},{"$f":"INDEX(coordonnées_cadran_plat($D353,W$10,$C$3,$C$2,$C$5,$C$6,0,0,$C$4),1,2)","v":957.65696337120494}]
[null,19,3,"2010-03-19",{"$f":"INDEX(heures_limites_cadran($D354,$C$3,$C$2,$C$5),1,1)/24","v":"08:00:00"},{"$f":"INDEX(heures_limites_cadran($D354,$C$3,$C$2,$C$5),1,2)/24","v":"19:00:00"},{"$f":"INDEX(coordonnées_cadran_plat($D354,$G$10,$C$3,$C$2,$C$5,$C$6,0,0,$C$4),1,1)","v":420.07340271087929},{"$f":"INDEX(coordonnées_cadran_plat($D354,$G$10,$C$3,$C$2,$C$5,$C$6,0,0,$C$4),1,2)","v":-1704.3223643407284},{"$f":"INDEX(coordonnées_cadran_plat($D354,I$10,$C$3,$C$2,$C$5,$C$6,0,0,$C$4),1,1)","v":454.39166181785293},{"$f":"INDEX(coordonnées_cadran_plat($D354,I$10,$C$3,$C$2,$C$5,$C$6,0,0,$C$4),1,2)","v":-944.47642970849279},{"$f":"INDEX(coordonnées_cadran_plat($D354,K$10,$C$3,$C$2,$C$5,$C$6,0,0,$C$4),1,1)","v":470.73123263763352},{"$f":"INDEX(coordonnées_cadran_plat($D354,K$10,$C$3,$C$2,$C$5,$C$6,0,0,$C$4),1,2)","v":-564.53672571659251},{"$f":"INDEX(coordonnées_cadran_plat($D354,M$10,$C$3,$C$2,$C$5,$C$6,0,0,$C$4),1,1)","v":481.01410945678793},{"$f":"INDEX(coordonnées_cadran_plat($D354,M$10,$C$3,$C$2,$C$5,$C$6,0,0,$C$4),1,2)","v":-309.46313007863586},{"$f":"INDEX(coordonnées_cadran_plat($D354,O$10,$C$3,$C$2,$C$5,$C$6,0,0,$C$4),1,1)","v":488.72061986729636},{"$f":"INDEX(coordonnées_cadran_plat($D354,O$10,$C$3,$C$2,$C$5,$C$6,0,0,$C$4),1,2)","v":-102.85764939412678},{"$f":"INDEX(coordonnées_cadran_plat($D354,Q$10,$C$3,$C$2,$C$5,$C$6,0,0,$C$4),1,1)","v":495.36189082817725},{"$f":"INDEX(coordonnées_cadran_plat($D354,Q$10,$C$3,$C$2,$C$5,$C$6,0,0,$C$4),1,2)","v":91.400188947395932},{"$f":"INDEX(coordonnées_cadran_plat($D354,S$10,$C$3,$C$2,$C$5,$C$6,0,0,$C$4),1,1)","v":501.91151490319106},{"$f":"INDEX(coordonnées_cadran_plat($D354,S$10,$C$3,$C$2,$C$5,$C$6,0,0,$C$4),1,2)","v":301.40118698245635},{"$f":"INDEX(coordonnées_cadran_plat($D354,U$10,$C$3,$C$2,$C$5,$C$6,0,0,$C$4),1,1)","v":509.44150930895051},{"$f":"INDEX(coordonnées_cadran_plat($D354,U$10,$C$3,$C$2,$C$5,$C$6,0,0,$C$4),1,2)","v":565.65888442415394},{"$f":"INDEX(coordonnées_cadran_plat($D354,W$10,$C$3,$C$2,$C$5,$C$6,0,0,$C$4),1,1)","v":520.06161126606196},{"$f":"INDEX(coordonnées_cadran_plat($D354,W$10,$C$3,$C$2,$C$5,$C$6,0,0,$C$4),1,2)","v":969.97200916124939}]
[null,20,3,"2010-03-20",{"$f":"INDEX(heures_limites_cadran($D355,$C$3,$C$2,$C$5),1,1)/24","v":"08:00:00"},{"$f":"INDEX(heures_limites_cadran($D355,$C$3,$C$2,$C$5),1,2)/24","v":"19:00:00"},{"$f":"INDEX(coordonnées_cadran_plat($D355,$G$10,$C$3,$C$2,$C$5,$C$6,0,0,$C$4),1,1)","v":436.46403638980348},{"$f":"INDEX(coordonnées_cadran_plat($D355,$G$10,$C$3,$C$2,$C$5,$C$6,0,0,$C$4),1,2)","v":-1725.6122734737187},{"$f":"INDEX(coordonnées_cadran_plat($D355,I$10,$C$3,$C$2,$C$5,$C$6,0,0,$C$4),1,1)","v":465.17389452665805},{"$f":"INDEX(coordonnées_cadran_plat($D355,I$10,$C$3,$C$2,$C$5,$C$6,0,0,$C$4),1,2)","v":-951.78368991124523},{"$f":"INDEX(coordonnées_cadran_plat($D355,K$10,$C$3,$C$2,$C$5,$C$6,0,0,$C$4),1,1)","v":479.18609060214328},{"$f":"INDEX(coordonnées_cadran_plat($D355,K$10,$C$3,$C$2,$C$5,$C$6,0,0,$C$4),1,2)","v":-567.64477467927793},{"$f":"INDEX(coordonnées_cadran_plat($D355,M$10,$C$3,$C$2,$C$5,$C$6,0,0,$C$4),1,1)","v":488.37661652689633},{"$f":"INDEX(coordonnées_cadran_plat($D355,M$10,$C$3,$C$2,$C$5,$C$6,0,0,$C$4),1,2)","v":-310.59570997009803},{"$f":"INDEX(coordonnées_cadran_plat($D355,O$10,$C$3,$C$2,$C$5,$C$6,0,0,$C$4),1,1)","v":495.6564520043629},{"$f":"INDEX(coordonnées_cadran_plat($D355,O$10,$C$3,$C$2,$C$5,$C$6,0,0,$C$4),1,2)","v":-102.67684631754362},{"$f":"INDEX(coordonnées_cadran_plat($D355,Q$10,$C$3,$C$2,$C$5,$C$6,0,0,$C$4),1,1)","v":502.36647549832537},{"$f":"INDEX(coordonnées_cadran_plat($D355,Q$10,$C$3,$C$2,$C$5,$C$6,0,0,$C$4),1,2)","v":92.818292282112665},{"$f":"INDEX(coordonnées_cadran_plat($D355,S$10,$C$3,$C$2,$C$5,$C$6,0,0,$C$4),1,1)","v":509.50633463354387},{"$f":"INDEX(coordonnées_cadran_plat($D355,S$10,$C$3,$C$2,$C$5,$C$6,0,0,$C$4),1,2)","v":304.44591662207154},{"$f":"INDEX(coordonnées_cadran_plat($D355,U$10,$C$3,$C$2,$C$5,$C$6,0,0,$C$4),1,1)","v":518.39826214318509},{"$f":"INDEX(coordonnées_cadran_plat($D355,U$10,$C$3,$C$2,$C$5,$C$6,0,0,$C$4),1,2)","v":571.56134501283179},{"$f":"INDEX(coordonnées_cadran_plat($D355,W$10,$C$3,$C$2,$C$5,$C$6,0,0,$C$4),1,1)","v":531.95672581751819},{"$f":"INDEX(coordonnées_cadran_plat($D355,W$10,$C$3,$C$2,$C$5,$C$6,0,0,$C$4),1,2)","v":982.60630096161572}]
[null,21,3,"2010-03-21",{"$f":"INDEX(heures_limites_cadran($D356,$C$3,$C$2,$C$5),1,1)/24","v":"08:00:00"},{"$f":"INDEX(heures_limites_cadran($D356,$C$3,$C$2,$C$5),1,2)/24","v":"19:00:00"},{"$f":"INDEX(coordonnées_cadran_plat($D356,$G$10,$C$3,$C$2,$C$5,$C$6,0,0,$C$4),1,1)","v":453.27380127268469},{"$f":"INDEX(coordonnées_cadran_plat($D356,$G$10,$C$3,$C$2,$C$5,$C$6,0,0,$C$4),1,2)","v":-1747.3962053948308},{"$f":"INDEX(coordonnées_cadran_plat($D356,I$10,$C$3,$C$2,$C$5,$C$6,0,0,$C$4),1,1)","v":476.13593855849803},{"$f":"INDEX(coordonnées_cadran_plat($D356,I$10,$C$3,$C$2,$C$5,$C$6,0,0,$C$4),1,2)","v":-959.19277070435339},{"$f":"INDEX(coordonnées_cadran_plat($D356,K$10,$C$3,$C$2,$C$5,$C$6,0,0,$C$4),1,1)","v":487.75397703005837},{"$f":"INDEX(coordonnées_cadran_plat($D356,K$10,$C$3,$C$2,$C$5,$C$6,0,0,$C$4),1,2)","v":-570.78256985395126},{"$f":"INDEX(coordonnées_cadran_plat($D356,M$10,$C$3,$C$2,$C$5,$C$6,0,0,$C$4),1,1)","v":495.82814584724434},{"$f":"INDEX(coordonnées_cadran_plat($D356,M$10,$C$3,$C$2,$C$5,$C$6,0,0,$C$4),1,2)","v":-311.73329384761138},{"$f":"INDEX(coordonnées_cadran_plat($D356,O$10,$C$3,$C$2,$C$5,$C$6,0,0,$C$4),1,1)","v":502.6750354456002},{"$f":"INDEX(coordonnées_cadran_plat($D356,O$10,$C$3,$C$2,$C$5,$C$6,0,0,$C$4),1,2)","v":-102.48635719903444},{"$f":"INDEX(coordonnées_cadran_plat($D356,Q$10,$C$3,$C$2,$C$5,$C$6,0,0,$C$4),1,1)","v":509.45971751431006},{"$f":"INDEX(coordonnées_cadran_plat($D356,Q$10,$C$3,$C$2,$C$5,$C$6,0,0,$C$4),1,2)","v":94.261854814573582},{"$f":"INDEX(coordonnées_cadran_plat($D356,S$10,$C$3,$C$2,$C$5,$C$6,0,0,$C$4),1,1)","v":517.210454580945},{"$f":"INDEX(coordonnées_cadran_plat($D356,S$10,$C$3,$C$2,$C$5,$C$6,0,0,$C$4),1,2)","v":307.54309392717914},{"$f":"INDEX(coordonnées_cadran_plat($D356,U$10,$C$3,$C$2,$C$5,$C$6,0,0,$C$4),1,1)","v":527.51354542039076},{"$f":"INDEX(coordonnées_cadran_plat($D356,U$10,$C$3,$C$2,$C$5,$C$6,0,0,$C$4),1,2)","v":577.57996399560363},{"$f":"INDEX(coordonnées_cadran_plat($D356,W$10,$C$3,$C$2,$C$5,$C$6,0,0,$C$4),1,1)","v":544.14074068898333},{"$f":"INDEX(coordonnées_cadran_plat($D356,W$10,$C$3,$C$2,$C$5,$C$6,0,0,$C$4),1,2)","v":995.56731678741437}]
[null,22,3,"2010-03-22",{"$f":"INDEX(heures_limites_cadran($D357,$C$3,$C$2,$C$5),1,1)/24","v":"08:00:00"},{"$f":"INDEX(heures_limites_cadran($D357,$C$3,$C$2,$C$5),1,2)/24","v":"19:00:00"},{"$f":"INDEX(coordonnées_cadran_plat($D357,$G$10,$C$3,$C$2,$C$5,$C$6,0,0,$C$4),1,1)","v":470.51484288531219},{"$f":"INDEX(coordonnées_cadran_plat($D357,$G$10,$C$3,$C$2,$C$5,$C$6,0,0,$C$4),1,2)","v":-1769.6943953576442},{"$f":"INDEX(coordonnées_cadran_plat($D357,I$10,$C$3,$C$2,$C$5,$C$6,0,0,$C$4),1,1)","v":487.28007780058095},{"$f":"INDEX(coordonnées_cadran_plat($D357,I$10,$C$3,$C$2,$C$5,$C$6,0,0,$C$4),1,2)","v":-966.7072658382599},{"$f":"INDEX(coordonnées_cadran_plat($D357,K$10,$C$3,$C$2,$C$5,$C$6,0,0,$C$4),1,1)","v":496.43557215069967},{"$f":"INDEX(coordonnées_cadran_plat($D357,K$10,$C$3,$C$2,$C$5,$C$6,0,0,$C$4),1,2)","v":-573.95163047615245},{"$f":"INDEX(coordonnées_cadran_plat($D357,M$10,$C$3,$C$2,$C$5,$C$6,0,0,$C$4),1,1)","v":503.36901393061004},{"$f":"INDEX(coordonnées_cadran_plat($D357,M$10,$C$3,$C$2,$C$5,$C$6,0,0,$C$4),1,2)","v":-312.87688647949528},{"$f":"INDEX(coordonnées_cadran_plat($D357,O$10,$C$3,$C$2,$C$5,$C$6,0,0,$C$4),1,1)","v":509.77668740195355},{"$f":"INDEX(coordonnées_cadran_plat($D357,O$10,$C$3,$C$2,$C$5,$C$6,0,0,$C$4),1,2)","v":-102.28700870944431},{"$f":"INDEX(coordonnées_cadran_plat($D357,Q$10,$C$3,$C$2,$C$5,$C$6,0,0,$C$4),1,1)","v":516.64217686011989},{"$f":"INDEX(coordonnées_cadran_plat($D357,Q$10,$C$3,$C$2,$C$5,$C$6,0,0,$C$4),1,2)","v":95.730160004070541},{"$f":"INDEX(coordonnées_cadran_plat($D357,S$10,$C$3,$C$2,$C$5,$C$6,0,0,$C$4),1,1)","v":525.02507406491929},{"$f":"INDEX(coordonnées_cadran_plat($D357,S$10,$C$3,$C$2,$C$5,$C$6,0,0,$C$4),1,2)","v":310.69226205091474},{"$f":"INDEX(coordonnées_cadran_plat($D357,U$10,$C$3,$C$2,$C$5,$C$6,0,0,$C$4),1,1)","v":536.79028603399786},{"$f":"INDEX(coordonnées_cadran_plat($D357,U$10,$C$3,$C$2,$C$5,$C$6,0,0,$C$4),1,2)","v":583.71544868252067},{"$f":"INDEX(coordonnées_cadran_plat($D357,W$10,$C$3,$C$2,$C$5,$C$6,0,0,$C$4),1,1)","v":556.62268372854749},{"$f":"INDEX(coordonnées_cadran_plat($D357,W$10,$C$3,$C$2,$C$5,$C$6,0,0,$C$4),1,2)","v":1008.862746684084}]
[null,23,3,"2010-03-23",{"$f":"INDEX(heures_limites_cadran($D358,$C$3,$C$2,$C$5),1,1)/24","v":"08:00:00"},{"$f":"INDEX(heures_limites_cadran($D358,$C$3,$C$2,$C$5),1,2)/24","v":"19:00:00"},{"$f":"INDEX(coordonnées_cadran_plat($D358,$G$10,$C$3,$C$2,$C$5,$C$6,0,0,$C$4),1,1)","v":488.19995571204333},{"$f":"INDEX(coordonnées_cadran_plat($D358,$G$10,$C$3,$C$2,$C$5,$C$6,0,0,$C$4),1,2)","v":-1792.5281559268585},{"$f":"INDEX(coordonnées_cadran_plat($D358,I$10,$C$3,$C$2,$C$5,$C$6,0,0,$C$4),1,1)","v":498.60867801304533},{"$f":"INDEX(coordonnées_cadran_plat($D358,I$10,$C$3,$C$2,$C$5,$C$6,0,0,$C$4),1,2)","v":-974.3308931023505},{"$f":"INDEX(coordonnées_cadran_plat($D358,K$10,$C$3,$C$2,$C$5,$C$6,0,0,$C$4),1,1)","v":505.23156938811383},{"$f":"INDEX(coordonnées_cadran_plat($D358,K$10,$C$3,$C$2,$C$5,$C$6,0,0,$C$4),1,2)","v":-577.15351424932715},{"$f":"INDEX(coordonnées_cadran_plat($D358,M$10,$C$3,$C$2,$C$5,$C$6,0,0,$C$4),1,1)","v":510.99953210241796},{"$f":"INDEX(coordonnées_cadran_plat($D358,M$10,$C$3,$C$2,$C$5,$C$6,0,0,$C$4),1,2)","v":-314.02751452560182},{"$f":"INDEX(coordonnées_cadran_plat($D358,O$10,$C$3,$C$2,$C$5,$C$6,0,0,$C$4),1,1)","v":516.96171183672504},{"$f":"INDEX(coordonnées_cadran_plat($D358,O$10,$C$3,$C$2,$C$5,$C$6,0,0,$C$4),1,2)","v":-102.07964730727332},{"$f":"INDEX(coordonnées_cadran_plat($D358,Q$10,$C$3,$C$2,$C$5,$C$6,0,0,$C$4),1,1)","v":523.91439636707389},{"$f":"INDEX(coordonnées_cadran_plat($D358,Q$10,$C$3,$C$2,$C$5,$C$6,0,0,$C$4),1,2)","v":97.22246737590612},{"$f":"INDEX(coordonnées_cadran_plat($D358,S$10,$C$3,$C$2,$C$5,$C$6,0,0,$C$4),1,1)","v":532.95137879843014},{"$f":"INDEX(coordonnées_cadran_plat($D358,S$10,$C$3,$C$2,$C$5,$C$6,0,0,$C$4),1,2)","v":313.89293236324073},{"$f":"INDEX(coordonnées_cadran_plat($D358,U$10,$C$3,$C$2,$C$5,$C$6,0,0,$C$4),1,1)","v":546.23143461826214},{"$f":"INDEX(coordonnées_cadran_plat($D358,U$10,$C$3,$C$2,$C$5,$C$6,0,0,$C$4),1,2)","v":589.96847962105016},{"$f":"INDEX(coordonnées_cadran_plat($D358,W$10,$C$3,$C$2,$C$5,$C$6,0,0,$C$4),1,1)","v":569.41186965883003},{"$f":"INDEX(coordonnées_cadran_plat($D358,W$10,$C$3,$C$2,$C$5,$C$6,0,0,$C$4),1,2)","v":1022.5004940464851}]
[null,24,3,"2010-03-24",{"$f":"INDEX(heures_limites_cadran($D359,$C$3,$C$2,$C$5),1,1)/24","v":"08:00:00"},{"$f":"INDEX(heures_limites_cadran($D359,$C$3,$C$2,$C$5),1,2)/24","v":"19:00:00"},{"$f":"INDEX(coordonnées_cadran_plat($D359,$G$10,$C$3,$C$2,$C$5,$C$6,0,0,$C$4),1,1)","v":506.34262282937021},{"$f":"INDEX(coordonnées_cadran_plat($D359,$G$10,$C$3,$C$2,$C$5,$C$6,0,0,$C$4),1,2)","v":-1815.9199358205813},{"$f":"INDEX(coordonnées_cadran_plat($D359,I$10,$C$3,$C$2,$C$5,$C$6,0,0,$C$4),1,1)","v":510.12418757819955},{"$f":"INDEX(coordonnées_cadran_plat($D359,I$10,$C$3,$C$2,$C$5,$C$6,0,0,$C$4),1,2)","v":-982.06749482810619},{"$f":"INDEX(coordonnées_cadran_plat($D359,K$10,$C$3,$C$2,$C$5,$C$6,0,0,$C$4),1,1)","v":514.14267330175244},{"$f":"INDEX(coordonnées_cadran_plat($D359,K$10,$C$3,$C$2,$C$5,$C$6,0,0,$C$4),1,2)","v":-580.38981610767166},{"$f":"INDEX(coordonnées_cadran_plat($D359,M$10,$C$3,$C$2,$C$5,$C$6,0,0,$C$4),1,1)","v":518.72000390316623},{"$f":"INDEX(coordonnées_cadran_plat($D359,M$10,$C$3,$C$2,$C$5,$C$6,0,0,$C$4),1,2)","v":-315.18622569017919},{"$f":"INDEX(coordonnées_cadran_plat($D359,O$10,$C$3,$C$2,$C$5,$C$6,0,0,$C$4),1,1)","v":524.23039649967927},{"$f":"INDEX(coordonnées_cadran_plat($D359,O$10,$C$3,$C$2,$C$5,$C$6,0,0,$C$4),1,2)","v":-101.86513895142133},{"$f":"INDEX(coordonnées_cadran_plat($D359,Q$10,$C$3,$C$2,$C$5,$C$6,0,0,$C$4),1,1)","v":531.27689818825013},{"$f":"INDEX(coordonnées_cadran_plat($D359,Q$10,$C$3,$C$2,$C$5,$C$6,0,0,$C$4),1,2)","v":98.738012063340889},{"$f":"INDEX(coordonnées_cadran_plat($D359,S$10,$C$3,$C$2,$C$5,$C$6,0,0,$C$4),1,1)","v":540.99053646465723},{"$f":"INDEX(coordonnées_cadran_plat($D359,S$10,$C$3,$C$2,$C$5,$C$6,0,0,$C$4),1,2)","v":317.144582713087},{"$f":"INDEX(coordonnées_cadran_plat($D359,U$10,$C$3,$C$2,$C$5,$C$6,0,0,$C$4),1,1)","v":555.8399603623219},{"$f":"INDEX(coordonnées_cadran_plat($D359,U$10,$C$3,$C$2,$C$5,$C$6,0,0,$C$4),1,2)","v":596.33970652054438},{"$f":"INDEX(coordonnées_cadran_plat($D359,W$10,$C$3,$C$2,$C$5,$C$6,0,0,$C$4),1,1)","v":582.51790440533352},{"$f":"INDEX(coordonnées_cadran_plat($D359,W$10,$C$3,$C$2,$C$5,$C$6,0,0,$C$4),1,2)","v":1036.4886763668128}]
[null,25,3,"2010-03-25",{"$f":"INDEX(heures_limites_cadran($D360,$C$3,$C$2,$C$5),1,1)/24","v":"08:00:00"},{"$f":"INDEX(heures_limites_cadran($D360,$C$3,$C$2,$C$5),1,2)/24","v":"19:00:00"},{"$f":"INDEX(coordonnées_cadran_plat($D360,$G$10,$C$3,$C$2,$C$5,$C$6,0,0,$C$4),1,1)","v":524.957058033507},{"$f":"INDEX(coordonnées_cadran_plat($D360,$G$10,$C$3,$C$2,$C$5,$C$6,0,0,$C$4),1,2)","v":-1839.8933826527914},{"$f":"INDEX(coordonnées_cadran_plat($D360,I$10,$C$3,$C$2,$C$5,$C$6,0,0,$C$4),1,1)","v":521.82913802274163},{"$f":"INDEX(coordonnées_cadran_plat($D360,I$10,$C$3,$C$2,$C$5,$C$6,0,0,$C$4),1,2)","v":-989.92103825931497},{"$f":"INDEX(coordonnées_cadran_plat($D360,K$10,$C$3,$C$2,$C$5,$C$6,0,0,$C$4),1,1)","v":523.1695972972899},{"$f":"INDEX(coordonnées_cadran_plat($D360,K$10,$C$3,$C$2,$C$5,$C$6,0,0,$C$4),1,2)","v":-583.66216687958035},{"$f":"INDEX(coordonnées_cadran_plat($D360,M$10,$C$3,$C$2,$C$5,$C$6,0,0,$C$4),1,1)","v":526.53072229878592},{"$f":"INDEX(coordonnées_cadran_plat($D360,M$10,$C$3,$C$2,$C$5,$C$6,0,0,$C$4),1,2)","v":-316.35408782671607},{"$f":"INDEX(coordonnées_cadran_plat($D360,O$10,$C$3,$C$2,$C$5,$C$6,0,0,$C$4),1,1)","v":531.58300977773308},{"$f":"INDEX(coordonnées_cadran_plat($D360,O$10,$C$3,$C$2,$C$5,$C$6,0,0,$C$4),1,2)","v":-101.64436879750032},{"$f":"INDEX(coordonnées_cadran_plat($D360,Q$10,$C$3,$C$2,$C$5,$C$6,0,0,$C$4),1,1)","v":538.73018006278573},{"$f":"INDEX(coordonnées_cadran_plat($D360,Q$10,$C$3,$C$2,$C$5,$C$6,0,0,$C$4),1,2)","v":100.27600433155303},{"$f":"INDEX(coordonnées_cadran_plat($D360,S$10,$C$3,$C$2,$C$5,$C$6,0,0,$C$4),1,1)","v":549.14369199817543},{"$f":"INDEX(coordonnées_cadran_plat($D360,S$10,$C$3,$C$2,$C$5,$C$6,0,0,$C$4),1,2)","v":320.44665559911522},{"$f":"INDEX(coordonnées_cadran_plat($D360,U$10,$C$3,$C$2,$C$5,$C$6,0,0,$C$4),1,1)","v":565.6188453266484},{"$f":"INDEX(coordonnées_cadran_plat($D360,U$10,$C$3,$C$2,$C$5,$C$6,0,0,$C$4),1,2)","v":602.82974386410524},{"$f":"INDEX(coordonnées_cadran_plat($D360,W$10,$C$3,$C$2,$C$5,$C$6,0,0,$C$4),1,1)","v":595.9506889671959},{"$f":"INDEX(coordonnées_cadran_plat($D360,W$10,$C$3,$C$2,$C$5,$C$6,0,0,$C$4),1,2)","v":1050.8356253307588}]
[null,26,3,"2010-03-26",{"$f":"INDEX(heures_limites_cadran($D361,$C$3,$C$2,$C$5),1,1)/24","v":"08:00:00"},{"$f":"INDEX(heures_limites_cadran($D361,$C$3,$C$2,$C$5),1,2)/24","v":"19:00:00"},{"$f":"INDEX(coordonnées_cadran_plat($D361,$G$10,$C$3,$C$2,$C$5,$C$6,0,0,$C$4),1,1)","v":544.05825065025397},{"$f":"INDEX(coordonnées_cadran_plat($D361,$G$10,$C$3,$C$2,$C$5,$C$6,0,0,$C$4),1,2)","v":-1864.4734098840504},{"$f":"INDEX(coordonnées_cadran_plat($D361,I$10,$C$3,$C$2,$C$5,$C$6,0,0,$C$4),1,1)","v":533.72614429125395},{"$f":"INDEX(coordonnées_cadran_plat($D361,I$10,$C$3,$C$2,$C$5,$C$6,0,0,$C$4),1,2)","v":-997.8956157740987},{"$f":"INDEX(coordonnées_cadran_plat($D361,K$10,$C$3,$C$2,$C$5,$C$6,0,0,$C$4),1,1)","v":532.31306109505385},{"$f":"INDEX(coordonnées_cadran_plat($D361,K$10,$C$3,$C$2,$C$5,$C$6,0,0,$C$4),1,2)","v":-586.97223184486143},{"$f":"INDEX(coordonnées_cadran_plat($D361,M$10,$C$3,$C$2,$C$5,$C$6,0,0,$C$4),1,1)","v":534.43196669110262},{"$f":"INDEX(coordonnées_cadran_plat($D361,M$10,$C$3,$C$2,$C$5,$C$6,0,0,$C$4),1,2)","v":-317.53218799024029},{"$f":"INDEX(coordonnées_cadran_plat($D361,O$10,$C$3,$C$2,$C$5,$C$6,0,0,$C$4),1,1)","v":539.0197973559699},{"$f":"INDEX(coordonnées_cadran_plat($D361,O$10,$C$3,$C$2,$C$5,$C$6,0,0,$C$4),1,2)","v":-101.41824087549229},{"$f":"INDEX(coordonnées_cadran_plat($D361,Q$10,$C$3,$C$2,$C$5,$C$6,0,0,$C$4),1,1)","v":546.27471136278814},{"$f":"INDEX(coordonnées_cadran_plat($D361,Q$10,$C$3,$C$2,$C$5,$C$6,0,0,$C$4),1,2)","v":101.83562908461045},{"$f":"INDEX(coordonnées_cadran_plat($D361,S$10,$C$3,$C$2,$C$5,$C$6,0,0,$C$4),1,1)","v":557.41196255715261},{"$f":"INDEX(coordonnées_cadran_plat($D361,S$10,$C$3,$C$2,$C$5,$C$6,0,0,$C$4),1,2)","v":323.79855624849512},{"$f":"INDEX(coordonnées_cadran_plat($D361,U$10,$C$3,$C$2,$C$5,$C$6,0,0,$C$4),1,1)","v":575.57107822827243},{"$f":"INDEX(coordonnées_cadran_plat($D361,U$10,$C$3,$C$2,$C$5,$C$6,0,0,$C$4),1,2)","v":609.43916619225161},{"$f":"INDEX(coordonnées_cadran_plat($D361,W$10,$C$3,$C$2,$C$5,$C$6,0,0,$C$4),1,1)","v":609.72042274701403},{"$f":"INDEX(coordonnées_cadran_plat($D361,W$10,$C$3,$C$2,$C$5,$C$6,0,0,$C$4),1,2)","v":1065.549886174435}]
[null,27,3,"2010-03-27",{"$f":"INDEX(heures_limites_cadran($D362,$C$3,$C$2,$C$5),1,1)/24","v":"08:00:00"},{"$f":"INDEX(heures_limites_cadran($D362,$C$3,$C$2,$C$5),1,2)/24","v":"19:00:00"},{"$f":"INDEX(coordonnées_cadran_plat($D362,$G$10,$C$3,$C$2,$C$5,$C$6,0,0,$C$4),1,1)","v":563.66201323042378},{"$f":"INDEX(coordonnées_cadran_plat($D362,$G$10,$C$3,$C$2,$C$5,$C$6,0,0,$C$4),1,2)","v":-1889.686268313038},{"$f":"INDEX(coordonnées_cadran_plat($D362,I$10,$C$3,$C$2,$C$5,$C$6,0,0,$C$4),1,1)","v":545.81790474776381},{"$f":"INDEX(coordonnées_cadran_plat($D362,I$10,$C$3,$C$2,$C$5,$C$6,0,0,$C$4),1,2)","v":-1005.9954449420945},{"$f":"INDEX(coordonnées_cadran_plat($D362,K$10,$C$3,$C$2,$C$5,$C$6,0,0,$C$4),1,1)","v":541.57378794350257},{"$f":"INDEX(coordonnées_cadran_plat($D362,K$10,$C$3,$C$2,$C$5,$C$6,0,0,$C$4),1,2)","v":-590.3217091782542},{"$f":"INDEX(coordonnées_cadran_plat($D362,M$10,$C$3,$C$2,$C$5,$C$6,0,0,$C$4),1,1)","v":542.42399972073497},{"$f":"INDEX(coordonnées_cadran_plat($D362,M$10,$C$3,$C$2,$C$5,$C$6,0,0,$C$4),1,2)","v":-318.72163143431203},{"$f":"INDEX(coordonnées_cadran_plat($D362,O$10,$C$3,$C$2,$C$5,$C$6,0,0,$C$4),1,1)","v":546.54097868269673},{"$f":"INDEX(coordonnées_cadran_plat($D362,O$10,$C$3,$C$2,$C$5,$C$6,0,0,$C$4),1,2)","v":-101.18767774640902},{"$f":"INDEX(coordonnées_cadran_plat($D362,Q$10,$C$3,$C$2,$C$5,$C$6,0,0,$C$4),1,1)","v":553.91092891540711},{"$f":"INDEX(coordonnées_cadran_plat($D362,Q$10,$C$3,$C$2,$C$5,$C$6,0,0,$C$4),1,2)","v":103.41604535739205},{"$f":"INDEX(coordonnées_cadran_plat($D362,S$10,$C$3,$C$2,$C$5,$C$6,0,0,$C$4),1,1)","v":565.79643217355533},{"$f":"INDEX(coordonnées_cadran_plat($D362,S$10,$C$3,$C$2,$C$5,$C$6,0,0,$C$4),1,2)","v":327.19965060226588},{"$f":"INDEX(coordonnées_cadran_plat($D362,U$10,$C$3,$C$2,$C$5,$C$6,0,0,$C$4),1,1)","v":585.69964765995542},{"$f":"INDEX(coordonnées_cadran_plat($D362,U$10,$C$3,$C$2,$C$5,$C$6,0,0,$C$4),1,2)","v":616.16850304243462},{"$f":"INDEX(coordonnées_cadran_plat($D362,W$10,$C$3,$C$2,$C$5,$C$6,0,0,$C$4),1,1)","v":623.83760624739057},{"$f":"INDEX(coordonnées_cadran_plat($D362,W$10,$C$3,$C$2,$C$5,$C$6,0,0,$C$4),1,2)","v":1080.6402162043423}]
[null,28,3,"2010-03-28",{"$f":"INDEX(heures_limites_cadran($D363,$C$3,$C$2,$C$5),1,1)/24","v":"08:00:00"},{"$f":"INDEX(heures_limites_cadran($D363,$C$3,$C$2,$C$5),1,2)/24","v":"19:00:00"},{"$f":"INDEX(coordonnées_cadran_plat($D363,$G$10,$C$3,$C$2,$C$5,$C$6,0,0,$C$4),1,1)","v":583.78503235360893},{"$f":"INDEX(coordonnées_cadran_plat($D363,$G$10,$C$3,$C$2,$C$5,$C$6,0,0,$C$4),1,2)","v":-1915.5596224736344},{"$f":"INDEX(coordonnées_cadran_plat($D363,I$10,$C$3,$C$2,$C$5,$C$6,0,0,$C$4),1,1)","v":558.10720088048936},{"$f":"INDEX(coordonnées_cadran_plat($D363,I$10,$C$3,$C$2,$C$5,$C$6,0,0,$C$4),1,2)","v":-1014.2248683993157},{"$f":"INDEX(coordonnées_cadran_plat($D363,K$10,$C$3,$C$2,$C$5,$C$6,0,0,$C$4),1,1)","v":550.95250156433133},{"$f":"INDEX(coordonnées_cadran_plat($D363,K$10,$C$3,$C$2,$C$5,$C$6,0,0,$C$4),1,2)","v":-593.71232827224765},{"$f":"INDEX(coordonnées_cadran_plat($D363,M$10,$C$3,$C$2,$C$5,$C$6,0,0,$C$4),1,1)","v":550.50706385448052},{"$f":"INDEX(coordonnées_cadran_plat($D363,M$10,$C$3,$C$2,$C$5,$C$6,0,0,$C$4),1,2)","v":-319.92354054799188},{"$f":"INDEX(coordonnées_cadran_plat($D363,O$10,$C$3,$C$2,$C$5,$C$6,0,0,$C$4),1,1)","v":554.14674323247539},{"$f":"INDEX(coordonnées_cadran_plat($D363,O$10,$C$3,$C$2,$C$5,$C$6,0,0,$C$4),1,2)","v":-100.95362013516687},{"$f":"INDEX(coordonnées_cadran_plat($D363,Q$10,$C$3,$C$2,$C$5,$C$6,0,0,$C$4),1,1)","v":561.63923259277988},{"$f":"INDEX(coordonnées_cadran_plat($D363,Q$10,$C$3,$C$2,$C$5,$C$6,0,0,$C$4),1,2)","v":105.01638579442236},{"$f":"INDEX(coordonnées_cadran_plat($D363,S$10,$C$3,$C$2,$C$5,$C$6,0,0,$C$4),1,1)","v":574.29814606792638},{"$f":"INDEX(coordonnées_cadran_plat($D363,S$10,$C$3,$C$2,$C$5,$C$6,0,0,$C$4),1,2)","v":330.64926320707241},{"$f":"INDEX(coordonnées_cadran_plat($D363,U$10,$C$3,$C$2,$C$5,$C$6,0,0,$C$4),1,1)","v":596.00753470712493},{"$f":"INDEX(coordonnées_cadran_plat($D363,U$10,$C$3,$C$2,$C$5,$C$6,0,0,$C$4),1,2)","v":623.01823352798226},{"$f":"INDEX(coordonnées_cadran_plat($D363,W$10,$C$3,$C$2,$C$5,$C$6,0,0,$C$4),1,1)","v":638.31304303095033},{"$f":"INDEX(coordonnées_cadran_plat($D363,W$10,$C$3,$C$2,$C$5,$C$6,0,0,$C$4),1,2)","v":1096.1155823739718}]
[null,29,3,"2010-03-29",{"$f":"INDEX(heures_limites_cadran($D364,$C$3,$C$2,$C$5),1,1)/24","v":"08:00:00"},{"$f":"INDEX(heures_limites_cadran($D364,$C$3,$C$2,$C$5),1,2)/24","v":"19:00:00"},{"$f":"INDEX(coordonnées_cadran_plat($D364,$G$10,$C$3,$C$2,$C$5,$C$6,0,0,$C$4),1,1)","v":604.44492278118253},{"$f":"INDEX(coordonnées_cadran_plat($D364,$G$10,$C$3,$C$2,$C$5,$C$6,0,0,$C$4),1,2)","v":-1942.12263232906},{"$f":"INDEX(coordonnées_cadran_plat($D364,I$10,$C$3,$C$2,$C$5,$C$6,0,0,$C$4),1,1)","v":570.59689668255817},{"$f":"INDEX(coordonnées_cadran_plat($D364,I$10,$C$3,$C$2,$C$5,$C$6,0,0,$C$4),1,2)","v":-1022.5883535194458},{"$f":"INDEX(coordonnées_cadran_plat($D364,K$10,$C$3,$C$2,$C$5,$C$6,0,0,$C$4),1,1)","v":560.44992281538714},{"$f":"INDEX(coordonnées_cadran_plat($D364,K$10,$C$3,$C$2,$C$5,$C$6,0,0,$C$4),1,2)","v":-597.14584793018685},{"$f":"INDEX(coordonnées_cadran_plat($D364,M$10,$C$3,$C$2,$C$5,$C$6,0,0,$C$4),1,1)","v":558.68137774943546},{"$f":"INDEX(coordonnées_cadran_plat($D364,M$10,$C$3,$C$2,$C$5,$C$6,0,0,$C$4),1,2)","v":-321.13905372955537},{"$f":"INDEX(coordonnées_cadran_plat($D364,O$10,$C$3,$C$2,$C$5,$C$6,0,0,$C$4),1,1)","v":561.83724656084632},{"$f":"INDEX(coordonnées_cadran_plat($D364,O$10,$C$3,$C$2,$C$5,$C$6,0,0,$C$4),1,2)","v":-100.71702653705655},{"$f":"INDEX(coordonnées_cadran_plat($D364,Q$10,$C$3,$C$2,$C$5,$C$6,0,0,$C$4),1,1)","v":569.45998066285608},{"$f":"INDEX(coordonnées_cadran_plat($D364,Q$10,$C$3,$C$2,$C$5,$C$6,0,0,$C$4),1,2)","v":106.63575611760594},{"$f":"INDEX(coordonnées_cadran_plat($D364,S$10,$C$3,$C$2,$C$5,$C$6,0,0,$C$4),1,1)","v":582.91810461532896},{"$f":"INDEX(coordonnées_cadran_plat($D364,S$10,$C$3,$C$2,$C$5,$C$6,0,0,$C$4),1,2)","v":334.14667501346617},{"$f":"INDEX(coordonnées_cadran_plat($D364,U$10,$C$3,$C$2,$C$5,$C$6,0,0,$C$4),1,1)","v":606.49770492479388},{"$f":"INDEX(coordonnées_cadran_plat($D364,U$10,$C$3,$C$2,$C$5,$C$6,0,0,$C$4),1,2)","v":629.98878054030661},{"$f":"INDEX(coordonnées_cadran_plat($D364,W$10,$C$3,$C$2,$C$5,$C$6,0,0,$C$4),1,1)","v":653.15784082961181},{"$f":"INDEX(coordonnées_cadran_plat($D364,W$10,$C$3,$C$2,$C$5,$C$6,0,0,$C$4),1,2)","v":1111.9851578002433}]
[null,30,3,"2010-03-30",{"$f":"INDEX(heures_limites_cadran($D365,$C$3,$C$2,$C$5),1,1)/24","v":"08:00:00"},{"$f":"INDEX(heures_limites_cadran($D365,$C$3,$C$2,$C$5),1,2)/24","v":"19:00:00"},{"$f":"INDEX(coordonnées_cadran_plat($D365,$G$10,$C$3,$C$2,$C$5,$C$6,0,0,$C$4),1,1)","v":625.66028522251349},{"$f":"INDEX(coordonnées_cadran_plat($D365,$G$10,$C$3,$C$2,$C$5,$C$6,0,0,$C$4),1,2)","v":-1969.4060406956778},{"$f":"INDEX(coordonnées_cadran_plat($D365,I$10,$C$3,$C$2,$C$5,$C$6,0,0,$C$4),1,1)","v":583.28993767987038},{"$f":"INDEX(coordonnées_cadran_plat($D365,I$10,$C$3,$C$2,$C$5,$C$6,0,0,$C$4),1,2)","v":-1031.0904918609531},{"$f":"INDEX(coordonnées_cadran_plat($D365,K$10,$C$3,$C$2,$C$5,$C$6,0,0,$C$4),1,1)","v":570.06676605684868},{"$f":"INDEX(coordonnées_cadran_plat($D365,K$10,$C$3,$C$2,$C$5,$C$6,0,0,$C$4),1,2)","v":-600.62405442096735},{"$f":"INDEX(coordonnées_cadran_plat($D365,M$10,$C$3,$C$2,$C$5,$C$6,0,0,$C$4),1,1)","v":566.94713238558029},{"$f":"INDEX(coordonnées_cadran_plat($D365,M$10,$C$3,$C$2,$C$5,$C$6,0,0,$C$4),1,2)","v":-322.36932419178999},{"$f":"INDEX(coordonnées_cadran_plat($D365,O$10,$C$3,$C$2,$C$5,$C$6,0,0,$C$4),1,1)","v":569.61260614494972},{"$f":"INDEX(coordonnées_cadran_plat($D365,O$10,$C$3,$C$2,$C$5,$C$6,0,0,$C$4),1,2)","v":-100.47887279475547},{"$f":"INDEX(coordonnées_cadran_plat($D365,Q$10,$C$3,$C$2,$C$5,$C$6,0,0,$C$4),1,1)","v":577.37348489432077},{"$f":"INDEX(coordonnées_cadran_plat($D365,Q$10,$C$3,$C$2,$C$5,$C$6,0,0,$C$4),1,2)","v":108.27323458503389},{"$f":"INDEX(coordonnées_cadran_plat($D365,S$10,$C$3,$C$2,$C$5,$C$6,0,0,$C$4),1,1)","v":591.65725694973298},{"$f":"INDEX(coordonnées_cadran_plat($D365,S$10,$C$3,$C$2,$C$5,$C$6,0,0,$C$4),1,2)","v":337.69112107997586},{"$f":"INDEX(coordonnées_cadran_plat($D365,U$10,$C$3,$C$2,$C$5,$C$6,0,0,$C$4),1,1)","v":617.17309963574439},{"$f":"INDEX(coordonnées_cadran_plat($D365,U$10,$C$3,$C$2,$C$5,$C$6,0,0,$C$4),1,2)","v":637.08050455765886},{"$f":"INDEX(coordonnées_cadran_plat($D365,W$10,$C$3,$C$2,$C$5,$C$6,0,0,$C$4),1,1)","v":668.38341167670285},{"$f":"INDEX(coordonnées_cadran_plat($D365,W$10,$C$3,$C$2,$C$5,$C$6,0,0,$C$4),1,2)","v":1128.2583170899652}]
[null,31,3,"2010-03-31",{"$f":"INDEX(heures_limites_cadran($D366,$C$3,$C$2,$C$5),1,1)/24","v":"08:00:00"},{"$f":"INDEX(heures_limites_cadran($D366,$C$3,$C$2,$C$5),1,2)/24","v":"19:00:00"},{"$f":"INDEX(coordonnées_cadran_plat($D366,$G$10,$C$3,$C$2,$C$5,$C$6,0,0,$C$4),1,1)","v":647.45076800013669},{"$f":"INDEX(coordonnées_cadran_plat($D366,$G$10,$C$3,$C$2,$C$5,$C$6,0,0,$C$4),1,2)","v":-1997.4422668589139},{"$f":"INDEX(coordonnées_cadran_plat($D366,I$10,$C$3,$C$2,$C$5,$C$6,0,0,$C$4),1,1)","v":596.18934957432396},{"$f":"INDEX(coordonnées_cadran_plat($D366,I$10,$C$3,$C$2,$C$5,$C$6,0,0,$C$4),1,2)","v":-1039.7359983634663},{"$f":"INDEX(coordonnées_cadran_plat($D366,K$10,$C$3,$C$2,$C$5,$C$6,0,0,$C$4),1,1)","v":579.80373520611124},{"$f":"INDEX(coordonnées_cadran_plat($D366,K$10,$C$3,$C$2,$C$5,$C$6,0,0,$C$4),1,2)","v":-604.14875938660975},{"$f":"INDEX(coordonnées_cadran_plat($D366,M$10,$C$3,$C$2,$C$5,$C$6,0,0,$C$4),1,1)","v":575.30448695908888},{"$f":"INDEX(coordonnées_cadran_plat($D366,M$10,$C$3,$C$2,$C$5,$C$6,0,0,$C$4),1,2)","v":-323.61551869508384},{"$f":"INDEX(coordonnées_cadran_plat($D366,O$10,$C$3,$C$2,$C$5,$C$6,0,0,$C$4),1,1)","v":577.47289700424142},{"$f":"INDEX(coordonnées_cadran_plat($D366,O$10,$C$3,$C$2,$C$5,$C$6,0,0,$C$4),1,2)","v":-100.24015164273486},{"$f":"INDEX(coordonnées_cadran_plat($D366,Q$10,$C$3,$C$2,$C$5,$C$6,0,0,$C$4),1,1)","v":585.38000540896053},{"$f":"INDEX(coordonnées_cadran_plat($D366,Q$10,$C$3,$C$2,$C$5,$C$6,0,0,$C$4),1,2)","v":109.92787144417285},{"$f":"INDEX(coordonnées_cadran_plat($D366,S$10,$C$3,$C$2,$C$5,$C$6,0,0,$C$4),1,1)","v":600.5164941935476},{"$f":"INDEX(coordonnées_cadran_plat($D366,S$10,$C$3,$C$2,$C$5,$C$6,0,0,$C$4),1,2)","v":341.28178818473731},{"$f":"INDEX(coordonnées_cadran_plat($D366,U$10,$C$3,$C$2,$C$5,$C$6,0,0,$C$4),1,1)","v":628.03662651003685},{"$f":"INDEX(coordonnées_cadran_plat($D366,U$10,$C$3,$C$2,$C$5,$C$6,0,0,$C$4),1,2)","v":644.29369704460851},{"$f":"INDEX(coordonnées_cadran_plat($D366,W$10,$C$3,$C$2,$C$5,$C$6,0,0,$C$4),1,1)","v":684.0014709220917},{"$f":"INDEX(coordonnées_cadran_plat($D366,W$10,$C$3,$C$2,$C$5,$C$6,0,0,$C$4),1,2)","v":1144.9446303366519}]
[null,1,4,"2010-04-01",{"$f":"INDEX(heures_limites_cadran($D367,$C$3,$C$2,$C$5),1,1)/24","v":"08:00:00"},{"$f":"INDEX(heures_limites_cadran($D367,$C$3,$C$2,$C$5),1,2)/24","v":"19:00:00"},{"$f":"INDEX(coordonnées_cadran_plat($D367,$G$10,$C$3,$C$2,$C$5,$C$6,0,0,$C$4),1,1)","v":669.83713292655898},{"$f":"INDEX(coordonnées_cadran_plat($D367,$G$10,$C$3,$C$2,$C$5,$C$6,0,0,$C$4),1,2)","v":-2026.2655068900583},{"$f":"INDEX(coordonnées_cadran_plat($D367,I$10,$C$3,$C$2,$C$5,$C$6,0,0,$C$4),1,1)","v":609.29823646897114},{"$f":"INDEX(coordonnées_cadran_plat($D367,I$10,$C$3,$C$2,$C$5,$C$6,0,0,$C$4),1,2)","v":-1048.5297102679913},{"$f":"INDEX(coordonnées_cadran_plat($D367,K$10,$C$3,$C$2,$C$5,$C$6,0,0,$C$4),1,1)","v":589.6615194654413},{"$f":"INDEX(coordonnées_cadran_plat($D367,K$10,$C$3,$C$2,$C$5,$C$6,0,0,$C$4),1,2)","v":-607.7217975911741},{"$f":"INDEX(coordonnées_cadran_plat($D367,M$10,$C$3,$C$2,$C$5,$C$6,0,0,$C$4),1,1)","v":583.75356452818323},{"$f":"INDEX(coordonnées_cadran_plat($D367,M$10,$C$3,$C$2,$C$5,$C$6,0,0,$C$4),1,2)","v":-324.87881620257866},{"$f":"INDEX(coordonnées_cadran_plat($D367,O$10,$C$3,$C$2,$C$5,$C$6,0,0,$C$4),1,1)","v":585.41814709583139},{"$f":"INDEX(coordonnées_cadran_plat($D367,O$10,$C$3,$C$2,$C$5,$C$6,0,0,$C$4),1,2)","v":-100.0018722158115},{"$f":"INDEX(coordonnées_cadran_plat($D367,Q$10,$C$3,$C$2,$C$5,$C$6,0,0,$C$4),1,1)","v":593.47974527549366},{"$f":"INDEX(coordonnées_cadran_plat($D367,Q$10,$C$3,$C$2,$C$5,$C$6,0,0,$C$4),1,2)","v":111.59868838163996},{"$f":"INDEX(coordonnées_cadran_plat($D367,S$10,$C$3,$C$2,$C$5,$C$6,0,0,$C$4),1,1)","v":609.49664230021722},{"$f":"INDEX(coordonnées_cadran_plat($D367,S$10,$C$3,$C$2,$C$5,$C$6,0,0,$C$4),1,2)","v":344.91781234511484},{"$f":"INDEX(coordonnées_cadran_plat($D367,U$10,$C$3,$C$2,$C$5,$C$6,0,0,$C$4),1,1)","v":639.09114938477796},{"$f":"INDEX(coordonnées_cadran_plat($D367,U$10,$C$3,$C$2,$C$5,$C$6,0,0,$C$4),1,2)","v":651.62857342558129},{"$f":"INDEX(coordonnées_cadran_plat($D367,W$10,$C$3,$C$2,$C$5,$C$6,0,0,$C$4),1,1)","v":700.02403497620094},{"$f":"INDEX(coordonnées_cadran_plat($D367,W$10,$C$3,$C$2,$C$5,$C$6,0,0,$C$4),1,2)","v":1162.0538556333402}]
[null,2,4,"2010-04-02",{"$f":"INDEX(heures_limites_cadran($D368,$C$3,$C$2,$C$5),1,1)/24","v":"08:00:00"},{"$f":"INDEX(heures_limites_cadran($D368,$C$3,$C$2,$C$5),1,2)/24","v":"19:00:00"},{"$f":"INDEX(coordonnées_cadran_plat($D368,$G$10,$C$3,$C$2,$C$5,$C$6,0,0,$C$4),1,1)","v":692.8413257334438},{"$f":"INDEX(coordonnées_cadran_plat($D368,$G$10,$C$3,$C$2,$C$5,$C$6,0,0,$C$4),1,2)","v":-2055.9118412188313},{"$f":"INDEX(coordonnées_cadran_plat($D368,I$10,$C$3,$C$2,$C$5,$C$6,0,0,$C$4),1,1)","v":622.6197786383301},{"$f":"INDEX(coordonnées_cadran_plat($D368,I$10,$C$3,$C$2,$C$5,$C$6,0,0,$C$4),1,2)","v":-1057.476585730087},{"$f":"INDEX(coordonnées_cadran_plat($D368,K$10,$C$3,$C$2,$C$5,$C$6,0,0,$C$4),1,1)","v":599.64078870692879},{"$f":"INDEX(coordonnées_cadran_plat($D368,K$10,$C$3,$C$2,$C$5,$C$6,0,0,$C$4),1,2)","v":-611.34502450190189},{"$f":"INDEX(coordonnées_cadran_plat($D368,M$10,$C$3,$C$2,$C$5,$C$6,0,0,$C$4),1,1)","v":592.29444740388283},{"$f":"INDEX(coordonnées_cadran_plat($D368,M$10,$C$3,$C$2,$C$5,$C$6,0,0,$C$4),1,2)","v":-326.16040645338313},{"$f":"INDEX(coordonnées_cadran_plat($D368,O$10,$C$3,$C$2,$C$5,$C$6,0,0,$C$4),1,1)","v":593.44833247922645},{"$f":"INDEX(coordonnées_cadran_plat($D368,O$10,$C$3,$C$2,$C$5,$C$6,0,0,$C$4),1,2)","v":-99.76505951779518},{"$f":"INDEX(coordonnées_cadran_plat($D368,Q$10,$C$3,$C$2,$C$5,$C$6,0,0,$C$4),1,1)","v":601.67284483928495},{"$f":"INDEX(coordonnées_cadran_plat($D368,Q$10,$C$3,$C$2,$C$5,$C$6,0,0,$C$4),1,2)","v":113.2846779734346},{"$f":"INDEX(coordonnées_cadran_plat($D368,S$10,$C$3,$C$2,$C$5,$C$6,0,0,$C$4),1,1)","v":618.59845449771308},{"$f":"INDEX(coordonnées_cadran_plat($D368,S$10,$C$3,$C$2,$C$5,$C$6,0,0,$C$4),1,2)","v":348.59827624732799},{"$f":"INDEX(coordonnées_cadran_plat($D368,U$10,$C$3,$C$2,$C$5,$C$6,0,0,$C$4),1,1)","v":650.33947728249734},{"$f":"INDEX(coordonnées_cadran_plat($D368,U$10,$C$3,$C$2,$C$5,$C$6,0,0,$C$4),1,2)","v":659.08526561692213},{"$f":"INDEX(coordonnées_cadran_plat($D368,W$10,$C$3,$C$2,$C$5,$C$6,0,0,$C$4),1,1)","v":716.46341761313067},{"$f":"INDEX(coordonnées_cadran_plat($D368,W$10,$C$3,$C$2,$C$5,$C$6,0,0,$C$4),1,2)","v":1179.5959299337819}]
[null,3,4,"2010-04-03",{"$f":"INDEX(heures_limites_cadran($D369,$C$3,$C$2,$C$5),1,1)/24","v":"08:00:00"},{"$f":"INDEX(heures_limites_cadran($D369,$C$3,$C$2,$C$5),1,2)/24","v":"19:00:00"},{"$f":"INDEX(coordonnées_cadran_plat($D369,$G$10,$C$3,$C$2,$C$5,$C$6,0,0,$C$4),1,1)","v":716.48655142420898},{"$f":"INDEX(coordonnées_cadran_plat($D369,$G$10,$C$3,$C$2,$C$5,$C$6,0,0,$C$4),1,2)","v":-2086.4193500618953},{"$f":"INDEX(coordonnées_cadran_plat($D369,I$10,$C$3,$C$2,$C$5,$C$6,0,0,$C$4),1,1)","v":636.15722980482656},{"$f":"INDEX(coordonnées_cadran_plat($D369,I$10,$C$3,$C$2,$C$5,$C$6,0,0,$C$4),1,2)","v":-1066.5817020950371},{"$f":"INDEX(coordonnées_cadran_plat($D369,K$10,$C$3,$C$2,$C$5,$C$6,0,0,$C$4),1,1)","v":609.74218849823967},{"$f":"INDEX(coordonnées_cadran_plat($D369,K$10,$C$3,$C$2,$C$5,$C$6,0,0,$C$4),1,2)","v":-615.02031369087229},{"$f":"INDEX(coordonnées_cadran_plat($D369,M$10,$C$3,$C$2,$C$5,$C$6,0,0,$C$4),1,1)","v":600.92717227766161},{"$f":"INDEX(coordonnées_cadran_plat($D369,M$10,$C$3,$C$2,$C$5,$C$6,0,0,$C$4),1,2)","v":-327.46148844765855},{"$f":"INDEX(coordonnées_cadran_plat($D369,O$10,$C$3,$C$2,$C$5,$C$6,0,0,$C$4),1,1)","v":601.56337224581125},{"$f":"INDEX(coordonnées_cadran_plat($D369,O$10,$C$3,$C$2,$C$5,$C$6,0,0,$C$4),1,2)","v":-99.530753847347754},{"$f":"INDEX(coordonnées_cadran_plat($D369,Q$10,$C$3,$C$2,$C$5,$C$6,0,0,$C$4),1,1)","v":609.95937578273379},{"$f":"INDEX(coordonnées_cadran_plat($D369,Q$10,$C$3,$C$2,$C$5,$C$6,0,0,$C$4),1,2)","v":114.98480313860576},{"$f":"INDEX(coordonnées_cadran_plat($D369,S$10,$C$3,$C$2,$C$5,$C$6,0,0,$C$4),1,1)","v":627.82260332175724},{"$f":"INDEX(coordonnées_cadran_plat($D369,S$10,$C$3,$C$2,$C$5,$C$6,0,0,$C$4),1,2)","v":352.32220658841317},{"$f":"INDEX(coordonnées_cadran_plat($D369,U$10,$C$3,$C$2,$C$5,$C$6,0,0,$C$4),1,1)","v":661.78435258557977},{"$f":"INDEX(coordonnées_cadran_plat($D369,U$10,$C$3,$C$2,$C$5,$C$6,0,0,$C$4),1,2)","v":666.66381410257418},{"$f":"INDEX(coordonnées_cadran_plat($D369,W$10,$C$3,$C$2,$C$5,$C$6,0,0,$C$4),1,1)","v":733.33222464608525},{"$f":"INDEX(coordonnées_cadran_plat($D369,W$10,$C$3,$C$2,$C$5,$C$6,0,0,$C$4),1,2)","v":1197.5809580781204}]
[null,4,4,"2010-04-04",{"$f":"INDEX(heures_limites_cadran($D370,$C$3,$C$2,$C$5),1,1)/24","v":"08:00:00"},{"$f":"INDEX(heures_limites_cadran($D370,$C$3,$C$2,$C$5),1,2)/24","v":"19:00:00"},{"$f":"INDEX(coordonnées_cadran_plat($D370,$G$10,$C$3,$C$2,$C$5,$C$6,0,0,$C$4),1,1)","v":740.7973549550436},{"$f":"INDEX(coordonnées_cadran_plat($D370,$G$10,$C$3,$C$2,$C$5,$C$6,0,0,$C$4),1,2)","v":-2117.8282373633469},{"$f":"INDEX(coordonnées_cadran_plat($D370,I$10,$C$3,$C$2,$C$5,$C$6,0,0,$C$4),1,1)","v":649.91391387895624},{"$f":"INDEX(coordonnées_cadran_plat($D370,I$10,$C$3,$C$2,$C$5,$C$6,0,0,$C$4),1,2)","v":-1075.8502537972975},{"$f":"INDEX(coordonnées_cadran_plat($D370,K$10,$C$3,$C$2,$C$5,$C$6,0,0,$C$4),1,1)","v":619.96633475220915},{"$f":"INDEX(coordonnées_cadran_plat($D370,K$10,$C$3,$C$2,$C$5,$C$6,0,0,$C$4),1,2)","v":-618.74955404469256},{"$f":"INDEX(coordonnées_cadran_plat($D370,M$10,$C$3,$C$2,$C$5,$C$6,0,0,$C$4),1,1)","v":609.6517250787582},{"$f":"INDEX(coordonnées_cadran_plat($D370,M$10,$C$3,$C$2,$C$5,$C$6,0,0,$C$4),1,2)","v":-328.78326883869869},{"$f":"INDEX(coordonnées_cadran_plat($D370,O$10,$C$3,$C$2,$C$5,$C$6,0,0,$C$4),1,1)","v":609.76312320882846},{"$f":"INDEX(coordonnées_cadran_plat($D370,O$10,$C$3,$C$2,$C$5,$C$6,0,0,$C$4),1,2)","v":-99.300010176381377},{"$f":"INDEX(coordonnées_cadran_plat($D370,Q$10,$C$3,$C$2,$C$5,$C$6,0,0,$C$4),1,1)","v":618.33933491219386},{"$f":"INDEX(coordonnées_cadran_plat($D370,Q$10,$C$3,$C$2,$C$5,$C$6,0,0,$C$4),1,2)","v":116.69799660107344},{"$f":"INDEX(coordonnées_cadran_plat($D370,S$10,$C$3,$C$2,$C$5,$C$6,0,0,$C$4),1,1)","v":637.16967222830135},{"$f":"INDEX(coordonnées_cadran_plat($D370,S$10,$C$3,$C$2,$C$5,$C$6,0,0,$C$4),1,2)","v":356.08857133357463},{"$f":"INDEX(coordonnées_cadran_plat($D370,U$10,$C$3,$C$2,$C$5,$C$6,0,0,$C$4),1,1)","v":673.42843832423432},{"$f":"INDEX(coordonnées_cadran_plat($D370,U$10,$C$3,$C$2,$C$5,$C$6,0,0,$C$4),1,2)","v":674.36415953859898},{"$f":"INDEX(coordonnées_cadran_plat($D370,W$10,$C$3,$C$2,$C$5,$C$6,0,0,$C$4),1,1)","v":750.64334677090335},{"$f":"INDEX(coordonnées_cadran_plat($D370,W$10,$C$3,$C$2,$C$5,$C$6,0,0,$C$4),1,2)","v":1216.0191997860823}]
[null,5,4,"2010-04-05",{"$f":"INDEX(heures_limites_cadran($D371,$C$3,$C$2,$C$5),1,1)/24","v":"08:00:00"},{"$f":"INDEX(heures_limites_cadran($D371,$C$3,$C$2,$C$5),1,2)/24","v":"18:30:00"},{"$f":"INDEX(coordonnées_cadran_plat($D371,$G$10,$C$3,$C$2,$C$5,$C$6,0,0,$C$4),1,1)","v":765.79970768778389},{"$f":"INDEX(coordonnées_cadran_plat($D371,$G$10,$C$3,$C$2,$C$5,$C$6,0,0,$C$4),1,2)","v":-2150.1809639694925},{"$f":"INDEX(coordonnées_cadran_plat($D371,I$10,$C$3,$C$2,$C$5,$C$6,0,0,$C$4),1,1)","v":663.89322111797935},{"$f":"INDEX(coordonnées_cadran_plat($D371,I$10,$C$3,$C$2,$C$5,$C$6,0,0,$C$4),1,2)","v":-1085.2875498474764},{"$f":"INDEX(coordonnées_cadran_plat($D371,K$10,$C$3,$C$2,$C$5,$C$6,0,0,$C$4),1,1)","v":630.3138079832454},{"$f":"INDEX(coordonnées_cadran_plat($D371,K$10,$C$3,$C$2,$C$5,$C$6,0,0,$C$4),1,2)","v":-622.53464677074817},{"$f":"INDEX(coordonnées_cadran_plat($D371,M$10,$C$3,$C$2,$C$5,$C$6,0,0,$C$4),1,1)","v":618.46803555379552},{"$f":"INDEX(coordonnées_cadran_plat($D371,M$10,$C$3,$C$2,$C$5,$C$6,0,0,$C$4),1,2)","v":-330.12696022624789},{"$f":"INDEX(coordonnées_cadran_plat($D371,O$10,$C$3,$C$2,$C$5,$C$6,0,0,$C$4),1,1)","v":618.04737435001823},{"$f":"INDEX(coordonnées_cadran_plat($D371,O$10,$C$3,$C$2,$C$5,$C$6,0,0,$C$4),1,2)","v":-99.073897477109867},{"$f":"INDEX(coordonnées_cadran_plat($D371,Q$10,$C$3,$C$2,$C$5,$C$6,0,0,$C$4),1,1)","v":626.81263766795951},{"$f":"INDEX(coordonnées_cadran_plat($D371,Q$10,$C$3,$C$2,$C$5,$C$6,0,0,$C$4),1,2)","v":118.42316036282658},{"$f":"INDEX(coordonnées_cadran_plat($D371,S$10,$C$3,$C$2,$C$5,$C$6,0,0,$C$4),1,1)","v":646.64014677592729},{"$f":"INDEX(coordonnées_cadran_plat($D371,S$10,$C$3,$C$2,$C$5,$C$6,0,0,$C$4),1,2)","v":359.89627689274784},{"$f":"INDEX(coordonnées_cadran_plat($D371,U$10,$C$3,$C$2,$C$5,$C$6,0,0,$C$4),1,1)","v":685.27430453491354},{"$f":"INDEX(coordonnées_cadran_plat($D371,U$10,$C$3,$C$2,$C$5,$C$6,0,0,$C$4),1,2)","v":682.18613387324626},{"$f":"INDEX(coordonnées_cadran_plat($D371,W$10,$C$3,$C$2,$C$5,$C$6,0,0,$C$4),1,1)","v":768.40995035333015},{"$f":"INDEX(coordonnées_cadran_plat($D371,W$10,$C$3,$C$2,$C$5,$C$6,0,0,$C$4),1,2)","v":1234.9210544000771}]
[null,6,4,"2010-04-06",{"$f":"INDEX(heures_limites_cadran($D372,$C$3,$C$2,$C$5),1,1)/24","v":"08:00:00"},{"$f":"INDEX(heures_limites_cadran($D372,$C$3,$C$2,$C$5),1,2)/24","v":"18:30:00"},{"$f":"INDEX(coordonnées_cadran_plat($D372,$G$10,$C$3,$C$2,$C$5,$C$6,0,0,$C$4),1,1)","v":791.52110009713658},{"$f":"INDEX(coordonnées_cadran_plat($D372,$G$10,$C$3,$C$2,$C$5,$C$6,0,0,$C$4),1,2)","v":-2183.5223908156149},{"$f":"INDEX(coordonnées_cadran_plat($D372,I$10,$C$3,$C$2,$C$5,$C$6,0,0,$C$4),1,1)","v":678.09860365423026},{"$f":"INDEX(coordonnées_cadran_plat($D372,I$10,$C$3,$C$2,$C$5,$C$6,0,0,$C$4),1,2)","v":-1094.8990108630087},{"$f":"INDEX(coordonnées_cadran_plat($D372,K$10,$C$3,$C$2,$C$5,$C$6,0,0,$C$4),1,1)","v":640.785147153087},{"$f":"INDEX(coordonnées_cadran_plat($D372,K$10,$C$3,$C$2,$C$5,$C$6,0,0,$C$4),1,2)","v":-626.3775021863122},{"$f":"INDEX(coordonnées_cadran_plat($D372,M$10,$C$3,$C$2,$C$5,$C$6,0,0,$C$4),1,1)","v":627.37597156189838},{"$f":"INDEX(coordonnées_cadran_plat($D372,M$10,$C$3,$C$2,$C$5,$C$6,0,0,$C$4),1,2)","v":-331.49377934494714},{"$f":"INDEX(coordonnées_cadran_plat($D372,O$10,$C$3,$C$2,$C$5,$C$6,0,0,$C$4),1,1)","v":626.41584102006755},{"$f":"INDEX(coordonnées_cadran_plat($D372,O$10,$C$3,$C$2,$C$5,$C$6,0,0,$C$4),1,2)","v":-98.85349799339869},{"$f":"INDEX(coordonnées_cadran_plat($D372,Q$10,$C$3,$C$2,$C$5,$C$6,0,0,$C$4),1,1)","v":635.37911135451066},{"$f":"INDEX(coordonnées_cadran_plat($D372,Q$10,$C$3,$C$2,$C$5,$C$6,0,0,$C$4),1,2)","v":120.15916519438979},{"$f":"INDEX(coordonnées_cadran_plat($D372,S$10,$C$3,$C$2,$C$5,$C$6,0,0,$C$4),1,1)","v":656.23440536987152},{"$f":"INDEX(coordonnées_cadran_plat($D372,S$10,$C$3,$C$2,$C$5,$C$6,0,0,$C$4),1,2)","v":363.74416522110801},{"$f":"INDEX(coordonnées_cadran_plat($D372,U$10,$C$3,$C$2,$C$5,$C$6,0,0,$C$4),1,1)","v":697.32441364694944},{"$f":"INDEX(coordonnées_cadran_plat($D372,U$10,$C$3,$C$2,$C$5,$C$6,0,0,$C$4),1,2)","v":690.12945097056684},{"$f":"INDEX(coordonnées_cadran_plat($D372,W$10,$C$3,$C$2,$C$5,$C$6,0,0,$C$4),1,1)","v":786.64546591554017},{"$f":"INDEX(coordonnées_cadran_plat($D372,W$10,$C$3,$C$2,$C$5,$C$6,0,0,$C$4),1,2)","v":1254.2970431467927}]
[null,7,4,"2010-04-07",{"$f":"INDEX(heures_limites_cadran($D373,$C$3,$C$2,$C$5),1,1)/24","v":"08:00:00"},{"$f":"INDEX(heures_limites_cadran($D373,$C$3,$C$2,$C$5),1,2)/24","v":"18:30:00"},{"$f":"INDEX(coordonnées_cadran_plat($D373,$G$10,$C$3,$C$2,$C$5,$C$6,0,0,$C$4),1,1)","v":817.99064126028929},{"$f":"INDEX(coordonnées_cadran_plat($D373,$G$10,$C$3,$C$2,$C$5,$C$6,0,0,$C$4),1,2)","v":-2217.8999329815265},{"$f":"INDEX(coordonnées_cadran_plat($D373,I$10,$C$3,$C$2,$C$5,$C$6,0,0,$C$4),1,1)","v":692.53357034081273},{"$f":"INDEX(coordonnées_cadran_plat($D373,I$10,$C$3,$C$2,$C$5,$C$6,0,0,$C$4),1,2)","v":-1104.6901655974143},{"$f":"INDEX(coordonnées_cadran_plat($D373,K$10,$C$3,$C$2,$C$5,$C$6,0,0,$C$4),1,1)","v":651.38084308793918},{"$f":"INDEX(coordonnées_cadran_plat($D373,K$10,$C$3,$C$2,$C$5,$C$6,0,0,$C$4),1,2)","v":-630.28003627698376},{"$f":"INDEX(coordonnées_cadran_plat($D373,M$10,$C$3,$C$2,$C$5,$C$6,0,0,$C$4),1,1)","v":636.37533307901765},{"$f":"INDEX(coordonnées_cadran_plat($D373,M$10,$C$3,$C$2,$C$5,$C$6,0,0,$C$4),1,2)","v":-332.88494514226852},{"$f":"INDEX(coordonnées_cadran_plat($D373,O$10,$C$3,$C$2,$C$5,$C$6,0,0,$C$4),1,1)","v":634.8681588906237},{"$f":"INDEX(coordonnées_cadran_plat($D373,O$10,$C$3,$C$2,$C$5,$C$6,0,0,$C$4),1,2)","v":-98.63990645230848},{"$f":"INDEX(coordonnées_cadran_plat($D373,Q$10,$C$3,$C$2,$C$5,$C$6,0,0,$C$4),1,1)","v":644.03848808987448},{"$f":"INDEX(coordonnées_cadran_plat($D373,Q$10,$C$3,$C$2,$C$5,$C$6,0,0,$C$4),1,2)","v":121.90485014633228},{"$f":"INDEX(coordonnées_cadran_plat($D373,S$10,$C$3,$C$2,$C$5,$C$6,0,0,$C$4),1,1)","v":665.95270956129878},{"$f":"INDEX(coordonnées_cadran_plat($D373,S$10,$C$3,$C$2,$C$5,$C$6,0,0,$C$4),1,2)","v":367.63101084867452},{"$f":"INDEX(coordonnées_cadran_plat($D373,U$10,$C$3,$C$2,$C$5,$C$6,0,0,$C$4),1,1)","v":709.5811048551443},{"$f":"INDEX(coordonnées_cadran_plat($D373,U$10,$C$3,$C$2,$C$5,$C$6,0,0,$C$4),1,2)","v":698.19369672688117},{"$f":"INDEX(coordonnées_cadran_plat($D373,W$10,$C$3,$C$2,$C$5,$C$6,0,0,$C$4),1,1)","v":805.36357405517708},{"$f":"INDEX(coordonnées_cadran_plat($D373,W$10,$C$3,$C$2,$C$5,$C$6,0,0,$C$4),1,2)","v":1274.1577886622035}]
[null,8,4,"2010-04-08",{"$f":"INDEX(heures_limites_cadran($D374,$C$3,$C$2,$C$5),1,1)/24","v":"08:00:00"},{"$f":"INDEX(heures_limites_cadran($D374,$C$3,$C$2,$C$5),1,2)/24","v":"18:30:00"},{"$f":"INDEX(coordonnées_cadran_plat($D374,$G$10,$C$3,$C$2,$C$5,$C$6,0,0,$C$4),1,1)","v":845.23916570735071},{"$f":"INDEX(coordonnées_cadran_plat($D374,$G$10,$C$3,$C$2,$C$5,$C$6,0,0,$C$4),1,2)","v":-2253.3637255534045},{"$f":"INDEX(coordonnées_cadran_plat($D374,I$10,$C$3,$C$2,$C$5,$C$6,0,0,$C$4),1,1)","v":707.20168085853732},{"$f":"INDEX(coordonnées_cadran_plat($D374,I$10,$C$3,$C$2,$C$5,$C$6,0,0,$C$4),1,2)","v":-1114.666646917301},{"$f":"INDEX(coordonnées_cadran_plat($D374,K$10,$C$3,$C$2,$C$5,$C$6,0,0,$C$4),1,1)","v":662.1013314493822},{"$f":"INDEX(coordonnées_cadran_plat($D374,K$10,$C$3,$C$2,$C$5,$C$6,0,0,$C$4),1,2)","v":-634.24416701096914},{"$f":"INDEX(coordonnées_cadran_plat($D374,M$10,$C$3,$C$2,$C$5,$C$6,0,0,$C$4),1,1)","v":645.46584590558871},{"$f":"INDEX(coordonnées_cadran_plat($D374,M$10,$C$3,$C$2,$C$5,$C$6,0,0,$C$4),1,2)","v":-334.30167673960591},{"$f":"INDEX(coordonnées_cadran_plat($D374,O$10,$C$3,$C$2,$C$5,$C$6,0,0,$C$4),1,1)","v":643.40387765651326},{"$f":"INDEX(coordonnées_cadran_plat($D374,O$10,$C$3,$C$2,$C$5,$C$6,0,0,$C$4),1,2)","v":-98.434229210506601},{"$f":"INDEX(coordonnées_cadran_plat($D374,Q$10,$C$3,$C$2,$C$5,$C$6,0,0,$C$4),1,1)","v":652.79039747371098},{"$f":"INDEX(coordonnées_cadran_plat($D374,Q$10,$C$3,$C$2,$C$5,$C$6,0,0,$C$4),1,2)","v":123.65902208831787},{"$f":"INDEX(coordonnées_cadran_plat($D374,S$10,$C$3,$C$2,$C$5,$C$6,0,0,$C$4),1,1)","v":675.79519389634424},{"$f":"INDEX(coordonnées_cadran_plat($D374,S$10,$C$3,$C$2,$C$5,$C$6,0,0,$C$4),1,2)","v":371.55551784660577},{"$f":"INDEX(coordonnées_cadran_plat($D374,U$10,$C$3,$C$2,$C$5,$C$6,0,0,$C$4),1,1)","v":722.04657743793598},{"$f":"INDEX(coordonnées_cadran_plat($D374,U$10,$C$3,$C$2,$C$5,$C$6,0,0,$C$4),1,2)","v":706.37831867109014},{"$f":"INDEX(coordonnées_cadran_plat($D374,W$10,$C$3,$C$2,$C$5,$C$6,0,0,$C$4),1,1)","v":824.57818850691149},{"$f":"INDEX(coordonnées_cadran_plat($D374,W$10,$C$3,$C$2,$C$5,$C$6,0,0,$C$4),1,2)","v":1294.5139915120642}]
[null,9,4,"2010-04-09",{"$f":"INDEX(heures_limites_cadran($D375,$C$3,$C$2,$C$5),1,1)/24","v":"08:00:00"},{"$f":"INDEX(heures_limites_cadran($D375,$C$3,$C$2,$C$5),1,2)/24","v":"18:30:00"},{"$f":"INDEX(coordonnées_cadran_plat($D375,$G$10,$C$3,$C$2,$C$5,$C$6,0,0,$C$4),1,1)","v":873.29934826401802},{"$f":"INDEX(coordonnées_cadran_plat($D375,$G$10,$C$3,$C$2,$C$5,$C$6,0,0,$C$4),1,2)","v":-2289.9668023155914},{"$f":"INDEX(coordonnées_cadran_plat($D375,I$10,$C$3,$C$2,$C$5,$C$6,0,0,$C$4),1,1)","v":722.10653902455351},{"$f":"INDEX(coordonnées_cadran_plat($D375,I$10,$C$3,$C$2,$C$5,$C$6,0,0,$C$4),1,2)","v":-1124.8341871745836},{"$f":"INDEX(coordonnées_cadran_plat($D375,K$10,$C$3,$C$2,$C$5,$C$6,0,0,$C$4),1,1)","v":672.94698524068156},{"$f":"INDEX(coordonnées_cadran_plat($D375,K$10,$C$3,$C$2,$C$5,$C$6,0,0,$C$4),1,2)","v":-638.27181039312518},{"$f":"INDEX(coordonnées_cadran_plat($D375,M$10,$C$3,$C$2,$C$5,$C$6,0,0,$C$4),1,1)","v":654.6471550725887},{"$f":"INDEX(coordonnées_cadran_plat($D375,M$10,$C$3,$C$2,$C$5,$C$6,0,0,$C$4),1,2)","v":-335.74519127030709},{"$f":"INDEX(coordonnées_cadran_plat($D375,O$10,$C$3,$C$2,$C$5,$C$6,0,0,$C$4),1,1)","v":652.02245448782719},{"$f":"INDEX(coordonnées_cadran_plat($D375,O$10,$C$3,$C$2,$C$5,$C$6,0,0,$C$4),1,2)","v":-98.237583331216513},{"$f":"INDEX(coordonnées_cadran_plat($D375,Q$10,$C$3,$C$2,$C$5,$C$6,0,0,$C$4),1,1)","v":661.63435897534737},{"$f":"INDEX(coordonnées_cadran_plat($D375,Q$10,$C$3,$C$2,$C$5,$C$6,0,0,$C$4),1,2)","v":125.42045528088859},{"$f":"INDEX(coordonnées_cadran_plat($D375,S$10,$C$3,$C$2,$C$5,$C$6,0,0,$C$4),1,1)","v":685.76185531246153},{"$f":"INDEX(coordonnées_cadran_plat($D375,S$10,$C$3,$C$2,$C$5,$C$6,0,0,$C$4),1,2)","v":375.51631673632136},{"$f":"INDEX(coordonnées_cadran_plat($D375,U$10,$C$3,$C$2,$C$5,$C$6,0,0,$C$4),1,1)","v":734.72287298186814},{"$f":"INDEX(coordonnées_cadran_plat($D375,U$10,$C$3,$C$2,$C$5,$C$6,0,0,$C$4),1,2)","v":714.68261504300028},{"$f":"INDEX(coordonnées_cadran_plat($D375,W$10,$C$3,$C$2,$C$5,$C$6,0,0,$C$4),1,1)","v":844.30343603194535},{"$f":"INDEX(coordonnées_cadran_plat($D375,W$10,$C$3,$C$2,$C$5,$C$6,0,0,$C$4),1,2)","v":1315.3764034125709}]
[null,10,4,"2010-04-10",{"$f":"INDEX(heures_limites_cadran($D376,$C$3,$C$2,$C$5),1,1)/24","v":"08:00:00"},{"$f":"INDEX(heures_limites_cadran($D376,$C$3,$C$2,$C$5),1,2)/24","v":"18:30:00"},{"$f":"INDEX(coordonnées_cadran_plat($D376,$G$10,$C$3,$C$2,$C$5,$C$6,0,0,$C$4),1,1)","v":902.20582757757177},{"$f":"INDEX(coordonnées_cadran_plat($D376,$G$10,$C$3,$C$2,$C$5,$C$6,0,0,$C$4),1,2)","v":-2327.7652883881865},{"$f":"INDEX(coordonnées_cadran_plat($D376,I$10,$C$3,$C$2,$C$5,$C$6,0,0,$C$4),1,1)","v":737.25178523775139},{"$f":"INDEX(coordonnées_cadran_plat($D376,I$10,$C$3,$C$2,$C$5,$C$6,0,0,$C$4),1,2)","v":-1135.1986129122552},{"$f":"INDEX(coordonnées_cadran_plat($D376,K$10,$C$3,$C$2,$C$5,$C$6,0,0,$C$4),1,1)","v":683.91810683094513},{"$f":"INDEX(coordonnées_cadran_plat($D376,K$10,$C$3,$C$2,$C$5,$C$6,0,0,$C$4),1,2)","v":-642.36487624494009},{"$f":"INDEX(coordonnées_cadran_plat($D376,M$10,$C$3,$C$2,$C$5,$C$6,0,0,$C$4),1,1)","v":663.91881794159087},{"$f":"INDEX(coordonnées_cadran_plat($D376,M$10,$C$3,$C$2,$C$5,$C$6,0,0,$C$4),1,2)","v":-337.21670158826129},{"$f":"INDEX(coordonnées_cadran_plat($D376,O$10,$C$3,$C$2,$C$5,$C$6,0,0,$C$4),1,1)","v":660.72324723287386},{"$f":"INDEX(coordonnées_cadran_plat($D376,O$10,$C$3,$C$2,$C$5,$C$6,0,0,$C$4),1,2)","v":-98.051095586671423},{"$f":"INDEX(coordonnées_cadran_plat($D376,Q$10,$C$3,$C$2,$C$5,$C$6,0,0,$C$4),1,1)","v":670.56977404456154},{"$f":"INDEX(coordonnées_cadran_plat($D376,Q$10,$C$3,$C$2,$C$5,$C$6,0,0,$C$4),1,2)","v":127.18789098644473},{"$f":"INDEX(coordonnées_cadran_plat($D376,S$10,$C$3,$C$2,$C$5,$C$6,0,0,$C$4),1,1)","v":695.85254208092897},{"$f":"INDEX(coordonnées_cadran_plat($D376,S$10,$C$3,$C$2,$C$5,$C$6,0,0,$C$4),1,2)","v":379.51196135191856},{"$f":"INDEX(coordonnées_cadran_plat($D376,U$10,$C$3,$C$2,$C$5,$C$6,0,0,$C$4),1,1)","v":747.61185647543607},{"$f":"INDEX(coordonnées_cadran_plat($D376,U$10,$C$3,$C$2,$C$5,$C$6,0,0,$C$4),1,2)","v":723.10572334498102},{"$f":"INDEX(coordonnées_cadran_plat($D376,W$10,$C$3,$C$2,$C$5,$C$6,0,0,$C$4),1,1)","v":864.55363279543315},{"$f":"INDEX(coordonnées_cadran_plat($D376,W$10,$C$3,$C$2,$C$5,$C$6,0,0,$C$4),1,2)","v":1336.7557968403748}]
[null,11,4,"2010-04-11",{"$f":"INDEX(heures_limites_cadran($D377,$C$3,$C$2,$C$5),1,1)/24","v":"08:00:00"},{"$f":"INDEX(heures_limites_cadran($D377,$C$3,$C$2,$C$5),1,2)/24","v":"18:30:00"},{"$f":"INDEX(coordonnées_cadran_plat($D377,$G$10,$C$3,$C$2,$C$5,$C$6,0,0,$C$4),1,1)","v":931.99533908417038},{"$f":"INDEX(coordonnées_cadran_plat($D377,$G$10,$C$3,$C$2,$C$5,$C$6,0,0,$C$4),1,2)","v":-2366.8186080430478},{"$f":"INDEX(coordonnées_cadran_plat($D377,I$10,$C$3,$C$2,$C$5,$C$6,0,0,$C$4),1,1)","v":752.64108799339658},{"$f":"INDEX(coordonnées_cadran_plat($D377,I$10,$C$3,$C$2,$C$5,$C$6,0,0,$C$4),1,2)","v":-1145.7658388442128},{"$f":"INDEX(coordonnées_cadran_plat($D377,K$10,$C$3,$C$2,$C$5,$C$6,0,0,$C$4),1,1)","v":695.01491947881789},{"$f":"INDEX(coordonnées_cadran_plat($D377,K$10,$C$3,$C$2,$C$5,$C$6,0,0,$C$4),1,2)","v":-646.52526369359441},{"$f":"INDEX(coordonnées_cadran_plat($D377,M$10,$C$3,$C$2,$C$5,$C$6,0,0,$C$4),1,1)","v":673.2802969957288},{"$f":"INDEX(coordonnées_cadran_plat($D377,M$10,$C$3,$C$2,$C$5,$C$6,0,0,$C$4),1,2)","v":-338.71741384105053},{"$f":"INDEX(coordonnées_cadran_plat($D377,O$10,$C$3,$C$2,$C$5,$C$6,0,0,$C$4),1,1)","v":669.5055073741039},{"$f":"INDEX(coordonnées_cadran_plat($D377,O$10,$C$3,$C$2,$C$5,$C$6,0,0,$C$4),1,2)","v":-97.875901381144132},{"$f":"INDEX(coordonnées_cadran_plat($D377,Q$10,$C$3,$C$2,$C$5,$C$6,0,0,$C$4),1,1)","v":679.59591794955861},{"$f":"INDEX(coordonnées_cadran_plat($D377,Q$10,$C$3,$C$2,$C$5,$C$6,0,0,$C$4),1,2)","v":128.96003712639845},{"$f":"INDEX(coordonnées_cadran_plat($D377,S$10,$C$3,$C$2,$C$5,$C$6,0,0,$C$4),1,1)","v":706.06694229748814},{"$f":"INDEX(coordonnées_cadran_plat($D377,S$10,$C$3,$C$2,$C$5,$C$6,0,0,$C$4),1,2)","v":383.54092566472758},{"$f":"INDEX(coordonnées_cadran_plat($D377,U$10,$C$3,$C$2,$C$5,$C$6,0,0,$C$4),1,1)","v":760.71519623852282},{"$f":"INDEX(coordonnées_cadran_plat($D377,U$10,$C$3,$C$2,$C$5,$C$6,0,0,$C$4),1,2)","v":731.64660836680105},{"$f":"INDEX(coordonnées_cadran_plat($D377,W$10,$C$3,$C$2,$C$5,$C$6,0,0,$C$4),1,1)","v":885.34325686405964},{"$f":"INDEX(coordonnées_cadran_plat($D377,W$10,$C$3,$C$2,$C$5,$C$6,0,0,$C$4),1,2)","v":1358.6629306969448}]
[null,12,4,"2010-04-12",{"$f":"INDEX(heures_limites_cadran($D378,$C$3,$C$2,$C$5),1,1)/24","v":"08:00:00"},{"$f":"INDEX(heures_limites_cadran($D378,$C$3,$C$2,$C$5),1,2)/24","v":"18:30:00"},{"$f":"INDEX(coordonnées_cadran_plat($D378,$G$10,$C$3,$C$2,$C$5,$C$6,0,0,$C$4),1,1)","v":962.70685824720454},{"$f":"INDEX(coordonnées_cadran_plat($D378,$G$10,$C$3,$C$2,$C$5,$C$6,0,0,$C$4),1,2)","v":-2407.1897090417551},{"$f":"INDEX(coordonnées_cadran_plat($D378,I$10,$C$3,$C$2,$C$5,$C$6,0,0,$C$4),1,1)","v":768.27813439370004},{"$f":"INDEX(coordonnées_cadran_plat($D378,I$10,$C$3,$C$2,$C$5,$C$6,0,0,$C$4),1,2)","v":-1156.5418610380157},{"$f":"INDEX(coordonnées_cadran_plat($D378,K$10,$C$3,$C$2,$C$5,$C$6,0,0,$C$4),1,1)","v":706.23755833894813},{"$f":"INDEX(coordonnées_cadran_plat($D378,K$10,$C$3,$C$2,$C$5,$C$6,0,0,$C$4),1,2)","v":-650.75485635507312},{"$f":"INDEX(coordonnées_cadran_plat($D378,M$10,$C$3,$C$2,$C$5,$C$6,0,0,$C$4),1,1)","v":682.73095231908849},{"$f":"INDEX(coordonnées_cadran_plat($D378,M$10,$C$3,$C$2,$C$5,$C$6,0,0,$C$4),1,2)","v":-340.24852490046163},{"$f":"INDEX(coordonnées_cadran_plat($D378,O$10,$C$3,$C$2,$C$5,$C$6,0,0,$C$4),1,1)","v":678.36837274057734},{"$f":"INDEX(coordonnées_cadran_plat($D378,O$10,$C$3,$C$2,$C$5,$C$6,0,0,$C$4),1,2)","v":-97.713143588722275},{"$f":"INDEX(coordonnées_cadran_plat($D378,Q$10,$C$3,$C$2,$C$5,$C$6,0,0,$C$4),1,1)","v":688.71193134874477},{"$f":"INDEX(coordonnées_cadran_plat($D378,Q$10,$C$3,$C$2,$C$5,$C$6,0,0,$C$4),1,2)","v":130.73556799125225},{"$f":"INDEX(coordonnées_cadran_plat($D378,S$10,$C$3,$C$2,$C$5,$C$6,0,0,$C$4),1,1)","v":716.40457192590316},{"$f":"INDEX(coordonnées_cadran_plat($D378,S$10,$C$3,$C$2,$C$5,$C$6,0,0,$C$4),1,2)","v":387.60160058221851},{"$f":"INDEX(coordonnées_cadran_plat($D378,U$10,$C$3,$C$2,$C$5,$C$6,0,0,$C$4),1,1)","v":774.03434265694773},{"$f":"INDEX(coordonnées_cadran_plat($D378,U$10,$C$3,$C$2,$C$5,$C$6,0,0,$C$4),1,2)","v":740.30404968609457},{"$f":"INDEX(coordonnées_cadran_plat($D378,W$10,$C$3,$C$2,$C$5,$C$6,0,0,$C$4),1,1)","v":906.68691642948124},{"$f":"INDEX(coordonnées_cadran_plat($D378,W$10,$C$3,$C$2,$C$5,$C$6,0,0,$C$4),1,2)","v":1381.1085116720185}]
[null,13,4,{"$f":"DATE($C$7,C379,B379)","v":"2010-04-13"},{"$f":"INDEX(heures_limites_cadran($D379,$C$3,$C$2,$C$5),1,1)/24","v":"08:00:00"},{"$f":"INDEX(heures_limites_cadran($D379,$C$3,$C$2,$C$5),1,2)/24","v":"18:30:00"},{"$f":"INDEX(coordonnées_cadran_plat($D379,$G$10,$C$3,$C$2,$C$5,$C$6,0,0,$C$4),1,1)","v":994.38175497646091},{"$f":"INDEX(coordonnées_cadran_plat($D379,$G$10,$C$3,$C$2,$C$5,$C$6,0,0,$C$4),1,2)","v":-2448.945304971161},{"$f":"INDEX(coordonnées_cadran_plat($D379,I$10,$C$3,$C$2,$C$5,$C$6,0,0,$C$4),1,1)","v":784.16661957655924},{"$f":"INDEX(coordonnées_cadran_plat($D379,I$10,$C$3,$C$2,$C$5,$C$6,0,0,$C$4),1,2)","v":-1167.5327492276256},{"$f":"INDEX(coordonnées_cadran_plat($D379,K$10,$C$3,$C$2,$C$5,$C$6,0,0,$C$4),1,1)","v":717.58606093358082},{"$f":"INDEX(coordonnées_cadran_plat($D379,K$10,$C$3,$C$2,$C$5,$C$6,0,0,$C$4),1,2)","v":-655.05551719380003},{"$f":"INDEX(coordonnées_cadran_plat($D379,M$10,$C$3,$C$2,$C$5,$C$6,0,0,$C$4),1,1)","v":692.27003376403798},{"$f":"INDEX(coordonnées_cadran_plat($D379,M$10,$C$3,$C$2,$C$5,$C$6,0,0,$C$4),1,2)","v":-341.81121964501415},{"$f":"INDEX(coordonnées_cadran_plat($D379,O$10,$C$3,$C$2,$C$5,$C$6,0,0,$C$4),1,1)","v":687.31085998229059},{"$f":"INDEX(coordonnées_cadran_plat($D379,O$10,$C$3,$C$2,$C$5,$C$6,0,0,$C$4),1,2)","v":-97.56397130145119},{"$f":"INDEX(coordonnées_cadran_plat($D379,Q$10,$C$3,$C$2,$C$5,$C$6,0,0,$C$4),1,1)","v":697.9168116048163},{"$f":"INDEX(coordonnées_cadran_plat($D379,Q$10,$C$3,$C$2,$C$5,$C$6,0,0,$C$4),1,2)","v":132.51312401168866},{"$f":"INDEX(coordonnées_cadran_plat($D379,S$10,$C$3,$C$2,$C$5,$C$6,0,0,$C$4),1,1)","v":726.86476240234947},{"$f":"INDEX(coordonnées_cadran_plat($D379,S$10,$C$3,$C$2,$C$5,$C$6,0,0,$C$4),1,2)","v":391.69229073370281},{"$f":"INDEX(coordonnées_cadran_plat($D379,U$10,$C$3,$C$2,$C$5,$C$6,0,0,$C$4),1,1)","v":787.57050569653313},{"$f":"INDEX(coordonnées_cadran_plat($D379,U$10,$C$3,$C$2,$C$5,$C$6,0,0,$C$4),1,2)","v":749.07662865103714},{"$f":"INDEX(coordonnées_cadran_plat($D379,W$10,$C$3,$C$2,$C$5,$C$6,0,0,$C$4),1,1)","v":928.59931333394843},{"$f":"INDEX(coordonnées_cadran_plat($D379,W$10,$C$3,$C$2,$C$5,$C$6,0,0,$C$4),1,2)","v":1404.1031509290638}]
[null,14,4,"2010-04-14",{"$f":"INDEX(heures_limites_cadran($D380,$C$3,$C$2,$C$5),1,1)/24","v":"08:00:00"},{"$f":"INDEX(heures_limites_cadran($D380,$C$3,$C$2,$C$5),1,2)/24","v":"18:30:00"},{"$f":"INDEX(coordonnées_cadran_plat($D380,$G$10,$C$3,$C$2,$C$5,$C$6,0,0,$C$4),1,1)","v":1027.0639602248527},{"$f":"INDEX(coordonnées_cadran_plat($D380,$G$10,$C$3,$C$2,$C$5,$C$6,0,0,$C$4),1,2)","v":-2492.1561371936905},{"$f":"INDEX(coordonnées_cadran_plat($D380,I$10,$C$3,$C$2,$C$5,$C$6,0,0,$C$4),1,1)","v":800.31023498101558},{"$f":"INDEX(coordonnées_cadran_plat($D380,I$10,$C$3,$C$2,$C$5,$C$6,0,0,$C$4),1,2)","v":-1178.7446381793015},{"$f":"INDEX(coordonnées_cadran_plat($D380,K$10,$C$3,$C$2,$C$5,$C$6,0,0,$C$4),1,1)","v":729.06035707337753},{"$f":"INDEX(coordonnées_cadran_plat($D380,K$10,$C$3,$C$2,$C$5,$C$6,0,0,$C$4),1,2)","v":-659.42908304293223},{"$f":"INDEX(coordonnées_cadran_plat($D380,M$10,$C$3,$C$2,$C$5,$C$6,0,0,$C$4),1,1)","v":701.89667280670403},{"$f":"INDEX(coordonnées_cadran_plat($D380,M$10,$C$3,$C$2,$C$5,$C$6,0,0,$C$4),1,2)","v":-343.40666808765923},{"$f":"INDEX(coordonnées_cadran_plat($D380,O$10,$C$3,$C$2,$C$5,$C$6,0,0,$C$4),1,1)","v":696.33185681353825},{"$f":"INDEX(coordonnées_cadran_plat($D380,O$10,$C$3,$C$2,$C$5,$C$6,0,0,$C$4),1,2)","v":-97.429538482086713},{"$f":"INDEX(coordonnées_cadran_plat($D380,Q$10,$C$3,$C$2,$C$5,$C$6,0,0,$C$4),1,1)","v":707.20940385222229},{"$f":"INDEX(coordonnées_cadran_plat($D380,Q$10,$C$3,$C$2,$C$5,$C$6,0,0,$C$4),1,2)","v":134.29131159818556},{"$f":"INDEX(coordonnées_cadran_plat($D380,S$10,$C$3,$C$2,$C$5,$C$6,0,0,$C$4),1,1)","v":737.44664781226822},{"$f":"INDEX(coordonnées_cadran_plat($D380,S$10,$C$3,$C$2,$C$5,$C$6,0,0,$C$4),1,2)","v":395.81121125754845},{"$f":"INDEX(coordonnées_cadran_plat($D380,U$10,$C$3,$C$2,$C$5,$C$6,0,0,$C$4),1,1)","v":801.3246311759026},{"$f":"INDEX(coordonnées_cadran_plat($D380,U$10,$C$3,$C$2,$C$5,$C$6,0,0,$C$4),1,2)","v":757.9627148570504},{"$f":"INDEX(coordonnées_cadran_plat($D380,W$10,$C$3,$C$2,$C$5,$C$6,0,0,$C$4),1,1)","v":951.09520144604016},{"$f":"INDEX(coordonnées_cadran_plat($D380,W$10,$C$3,$C$2,$C$5,$C$6,0,0,$C$4),1,2)","v":1427.6573157141522}]

{"sheet":"Courbes diurnes","index":2,"n_rows":16,"n_cols":39,"rows_kept":16,"cut":false,"hidden":false,"merged":[]}
[null,"latitude du lieu",{"$f":"'Courbes en 8'!C2","v":47.650555555555556}]
[null,"Longitude du lieu",{"$f":"'Courbes en 8'!C3","v":-7.4441666666666668}]
[null,"Longueur gnomon",{"$f":"'Courbes en 8'!C4","v":550}]
[null,"déclinaison du mur",{"$f":"'Courbes en 8'!C5","v":-2.0666913999999998}]
[null,"inclinaison",{"$f":"'Courbes en 8'!C6","v":90}]
[null,"année",{"$f":"'Courbes en 8'!C7","v":2010}]
[null,"première heure ",{"$f":"'Courbes en 8'!C8","v":8}]
[null,"jour","mois","date",null,null,{"$f":"9.5/24","v":"09:30:00"},{"$f":"G8+0.25/24","v":"09:45:00"},{"$f":"H8+0.25/24","v":"10:00:00"},"10:15:00","10:30:00","10:45:00","11:00:00","11:15:00","11:30:00","11:45:00","12:00:00","12:15:00","12:30:00","12:45:00","13:00:00","13:15:00","13:30:00","13:45:00","14:00:00","14:15:00","14:30:00","14:45:00","15:00:00","15:15:00","15:30:00","15:45:00","16:00:00","16:15:00","16:30:00","16:45:00","17:00:00","17:15:00","17:30:00"]
[null,20,3,{"$f":"DATE($C$6,C9,B9)","v":"2010-03-20"},null,null,{"$f":"INDEX(coordonnées_cadran_plat($D9,$G$8,$C$2,$C$1,$C$4,$C$5,0,0,$C$3),1,1)","v":454.01012236595534},{"$f":"INDEX(coordonnées_cadran_plat($D9,H$8,$C$2,$C$1,$C$4,$C$5,0,0,$C$3),1,1)","v":460.12973459561834},{"$f":"INDEX(coordonnées_cadran_plat($D9,I$8,$C$2,$C$1,$C$4,$C$5,0,0,$C$3),1,1)","v":465.17389452665805},{"$f":"INDEX(coordonnées_cadran_plat($D9,J$8,$C$2,$C$1,$C$4,$C$5,0,0,$C$3),1,1)","v":469.43271988766003},{"$f":"INDEX(coordonnées_cadran_plat($D9,K$8,$C$2,$C$1,$C$4,$C$5,0,0,$C$3),1,1)","v":473.10231731620206},{"$f":"INDEX(coordonnées_cadran_plat($D9,L$8,$C$2,$C$1,$C$4,$C$5,0,0,$C$3),1,1)","v":476.32024665443635},{"$f":"INDEX(coordonnées_cadran_plat($D9,M$8,$C$2,$C$1,$C$4,$C$5,0,0,$C$3),1,1)","v":479.18609060214328},{"$f":"INDEX(coordonnées_cadran_plat($D9,N$8,$C$2,$C$1,$C$4,$C$5,0,0,$C$3),1,1)","v":481.77395688718491},{"$f":"INDEX(coordonnées_cadran_plat($D9,O$8,$C$2,$C$1,$C$4,$C$5,0,0,$C$3),1,1)","v":484.14038492371395},{"$f":"INDEX(coordonnées_cadran_plat($D9,P$8,$C$2,$C$1,$C$4,$C$5,0,0,$C$3),1,1)","v":486.32952175683096},{"$f":"INDEX(coordonnées_cadran_plat($D9,Q$8,$C$2,$C$1,$C$4,$C$5,0,0,$C$3),1,1)","v":488.37661652689633},{"$f":"INDEX(coordonnées_cadran_plat($D9,R$8,$C$2,$C$1,$C$4,$C$5,0,0,$C$3),1,1)","v":490.31044811628976},{"$f":"INDEX(coordonnées_cadran_plat($D9,S$8,$C$2,$C$1,$C$4,$C$5,0,0,$C$3),1,1)","v":492.15505923845348},{"$f":"INDEX(coordonnées_cadran_plat($D9,T$8,$C$2,$C$1,$C$4,$C$5,0,0,$C$3),1,1)","v":493.93103129602423},{"$f":"INDEX(coordonnées_cadran_plat($D9,U$8,$C$2,$C$1,$C$4,$C$5,0,0,$C$3),1,1)","v":495.6564520043629},{"$f":"INDEX(coordonnées_cadran_plat($D9,V$8,$C$2,$C$1,$C$4,$C$5,0,0,$C$3),1,1)","v":497.34767791602195},{"$f":"INDEX(coordonnées_cadran_plat($D9,W$8,$C$2,$C$1,$C$4,$C$5,0,0,$C$3),1,1)","v":499.01996346861745},{"$f":"INDEX(coordonnées_cadran_plat($D9,X$8,$C$2,$C$1,$C$4,$C$5,0,0,$C$3),1,1)","v":500.68800972256082},{"$f":"INDEX(coordonnées_cadran_plat($D9,Y$8,$C$2,$C$1,$C$4,$C$5,0,0,$C$3),1,1)","v":502.36647549832537},{"$f":"INDEX(coordonnées_cadran_plat($D9,Z$8,$C$2,$C$1,$C$4,$C$5,0,0,$C$3),1,1)","v":504.07048900722731},{"$f":"INDEX(coordonnées_cadran_plat($D9,AA$8,$C$2,$C$1,$C$4,$C$5,0,0,$C$3),1,1)","v":505.81619839607328},{"$f":"INDEX(coordonnées_cadran_plat($D9,AB$8,$C$2,$C$1,$C$4,$C$5,0,0,$C$3),1,1)","v":507.62140499846186},{"$f":"INDEX(coordonnées_cadran_plat($D9,AC$8,$C$2,$C$1,$C$4,$C$5,0,0,$C$3),1,1)","v":509.50633463354387},{"$f":"INDEX(coordonnées_cadran_plat($D9,AD$8,$C$2,$C$1,$C$4,$C$5,0,0,$C$3),1,1)","v":511.49462253099057},{"$f":"INDEX(coordonnées_cadran_plat($D9,AE$8,$C$2,$C$1,$C$4,$C$5,0,0,$C$3),1,1)","v":513.61462108444675},{"$f":"INDEX(coordonnées_cadran_plat($D9,AF$8,$C$2,$C$1,$C$4,$C$5,0,0,$C$3),1,1)","v":515.90119511771263},{"$f":"INDEX(coordonnées_cadran_plat($D9,AG$8,$C$2,$C$1,$C$4,$C$5,0,0,$C$3),1,1)","v":518.39826214318509},{"$f":"INDEX(coordonnées_cadran_plat($D9,AH$8,$C$2,$C$1,$C$4,$C$5,0,0,$C$3),1,1)","v":521.1624941170935},{"$f":"INDEX(coordonnées_cadran_plat($D9,AI$8,$C$2,$C$1,$C$4,$C$5,0,0,$C$3),1,1)","v":524.26887850344121},{"$f":"INDEX(coordonnées_cadran_plat($D9,AJ$8,$C$2,$C$1,$C$4,$C$5,0,0,$C$3),1,1)","v":527.81935345338343},{"$f":"INDEX(coordonnées_cadran_plat($D9,AK$8,$C$2,$C$1,$C$4,$C$5,0,0,$C$3),1,1)","v":531.95672581751819},{"$f":"INDEX(coordonnées_cadran_plat($D9,AL$8,$C$2,$C$1,$C$4,$C$5,0,0,$C$3),1,1)","v":536.88809553235046},{"$f":"INDEX(coordonnées_cadran_plat($D9,AM$8,$C$2,$C$1,$C$4,$C$5,0,0,$C$3),1,1)","v":542.92636034986231}]
[null,null,null,null,null,null,{"$f":"INDEX(coordonnées_cadran_plat($D9,$G$8,$C$2,$C$1,$C$4,$C$5,0,0,$C$3),1,2)","v":-1254.0278884409795},{"$f":"INDEX(coordonnées_cadran_plat($D9,H$8,$C$2,$C$1,$C$4,$C$5,0,0,$C$3),1,2)","v":-1088.6431483857893},{"$f":"INDEX(coordonnées_cadran_plat($D9,I$8,$C$2,$C$1,$C$4,$C$5,0,0,$C$3),1,2)","v":-951.78368991124523},{"$f":"INDEX(coordonnées_cadran_plat($D9,J$8,$C$2,$C$1,$C$4,$C$5,0,0,$C$3),1,2)","v":-835.74349737258353},{"$f":"INDEX(coordonnées_cadran_plat($D9,K$8,$C$2,$C$1,$C$4,$C$5,0,0,$C$3),1,2)","v":-735.31112991419934},{"$f":"INDEX(coordonnées_cadran_plat($D9,L$8,$C$2,$C$1,$C$4,$C$5,0,0,$C$3),1,2)","v":-646.82847561075096},{"$f":"INDEX(coordonnées_cadran_plat($D9,M$8,$C$2,$C$1,$C$4,$C$5,0,0,$C$3),1,2)","v":-567.64477467927793},{"$f":"INDEX(coordonnées_cadran_plat($D9,N$8,$C$2,$C$1,$C$4,$C$5,0,0,$C$3),1,2)","v":-495.78472726864385},{"$f":"INDEX(coordonnées_cadran_plat($D9,O$8,$C$2,$C$1,$C$4,$C$5,0,0,$C$3),1,2)","v":-429.73854195984507},{"$f":"INDEX(coordonnées_cadran_plat($D9,P$8,$C$2,$C$1,$C$4,$C$5,0,0,$C$3),1,2)","v":-368.32443212109968},{"$f":"INDEX(coordonnées_cadran_plat($D9,Q$8,$C$2,$C$1,$C$4,$C$5,0,0,$C$3),1,2)","v":-310.59570997009803},{"$f":"INDEX(coordonnées_cadran_plat($D9,R$8,$C$2,$C$1,$C$4,$C$5,0,0,$C$3),1,2)","v":-255.77615954854684},{"$f":"INDEX(coordonnées_cadran_plat($D9,S$8,$C$2,$C$1,$C$4,$C$5,0,0,$C$3),1,2)","v":-203.21377444238362},{"$f":"INDEX(coordonnées_cadran_plat($D9,T$8,$C$2,$C$1,$C$4,$C$5,0,0,$C$3),1,2)","v":-152.34663062571397},{"$f":"INDEX(coordonnées_cadran_plat($D9,U$8,$C$2,$C$1,$C$4,$C$5,0,0,$C$3),1,2)","v":-102.67684631754362},{"$f":"INDEX(coordonnées_cadran_plat($D9,V$8,$C$2,$C$1,$C$4,$C$5,0,0,$C$3),1,2)","v":-53.749899391076383},{"$f":"INDEX(coordonnées_cadran_plat($D9,W$8,$C$2,$C$1,$C$4,$C$5,0,0,$C$3),1,2)","v":-5.1373762834242171},{"$f":"INDEX(coordonnées_cadran_plat($D9,X$8,$C$2,$C$1,$C$4,$C$5,0,0,$C$3),1,2)","v":43.578292760799201},{"$f":"INDEX(coordonnées_cadran_plat($D9,Y$8,$C$2,$C$1,$C$4,$C$5,0,0,$C$3),1,2)","v":92.818292282112665},{"$f":"INDEX(coordonnées_cadran_plat($D9,Z$8,$C$2,$C$1,$C$4,$C$5,0,0,$C$3),1,2)","v":143.02214969573723},{"$f":"INDEX(coordonnées_cadran_plat($D9,AA$8,$C$2,$C$1,$C$4,$C$5,0,0,$C$3),1,2)","v":194.66384341547385},{"$f":"INDEX(coordonnées_cadran_plat($D9,AB$8,$C$2,$C$1,$C$4,$C$5,0,0,$C$3),1,2)","v":248.27058281098448},{"$f":"INDEX(coordonnées_cadran_plat($D9,AC$8,$C$2,$C$1,$C$4,$C$5,0,0,$C$3),1,2)","v":304.44591662207154},{"$f":"INDEX(coordonnées_cadran_plat($D9,AD$8,$C$2,$C$1,$C$4,$C$5,0,0,$C$3),1,2)","v":363.89945324977299},{"$f":"INDEX(coordonnées_cadran_plat($D9,AE$8,$C$2,$C$1,$C$4,$C$5,0,0,$C$3),1,2)","v":427.48650949289976},{"$f":"INDEX(coordonnées_cadran_plat($D9,AF$8,$C$2,$C$1,$C$4,$C$5,0,0,$C$3),1,2)","v":496.26270345569958},{"$f":"INDEX(coordonnées_cadran_plat($D9,AG$8,$C$2,$C$1,$C$4,$C$5,0,0,$C$3),1,2)","v":571.56134501283179},{"$f":"INDEX(coordonnées_cadran_plat($D9,AH$8,$C$2,$C$1,$C$4,$C$5,0,0,$C$3),1,2)","v":655.10633686881226},{"$f":"INDEX(coordonnées_cadran_plat($D9,AI$8,$C$2,$C$1,$C$4,$C$5,0,0,$C$3),1,2)","v":749.18189319339012},{"$f":"INDEX(coordonnées_cadran_plat($D9,AJ$8,$C$2,$C$1,$C$4,$C$5,0,0,$C$3),1,2)","v":856.89617512628388},{"$f":"INDEX(coordonnées_cadran_plat($D9,AK$8,$C$2,$C$1,$C$4,$C$5,0,0,$C$3),1,2)","v":982.60630096161572},{"$f":"INDEX(coordonnées_cadran_plat($D9,AL$8,$C$2,$C$1,$C$4,$C$5,0,0,$C$3),1,2)","v":1132.6337293468343},{"$f":"INDEX(coordonnées_cadran_plat($D9,AM$8,$C$2,$C$1,$C$4,$C$5,0,0,$C$3),1,2)","v":1316.5318917147156}]
[]
[null,21,6,{"$f":"DATE($C$6,C12,B12)","v":"2010-06-21"},null,null,{"$f":"INDEX(coordonnées_cadran_plat($D12,G8,$C$2,$C$1,$C$4,$C$5,0,0,$C$3),1,1)","v":3489.971775798635},{"$f":"INDEX(coordonnées_cadran_plat($D12,H8,$C$2,$C$1,$C$4,$C$5,0,0,$C$3),1,1)","v":2655.8003733228011},{"$f":"INDEX(coordonnées_cadran_plat($D12,I8,$C$2,$C$1,$C$4,$C$5,0,0,$C$3),1,1)","v":2204.8659182532283},{"$f":"INDEX(coordonnées_cadran_plat($D12,J8,$C$2,$C$1,$C$4,$C$5,0,0,$C$3),1,1)","v":1924.5428314214905},{"$f":"INDEX(coordonnées_cadran_plat($D12,K8,$C$2,$C$1,$C$4,$C$5,0,0,$C$3),1,1)","v":1735.1241191634078},{"$f":"INDEX(coordonnées_cadran_plat($D12,L8,$C$2,$C$1,$C$4,$C$5,0,0,$C$3),1,1)","v":1600.0213785570932},{"$f":"INDEX(coordonnées_cadran_plat($D12,M8,$C$2,$C$1,$C$4,$C$5,0,0,$C$3),1,1)","v":1500.1057569965835},{"$f":"INDEX(coordonnées_cadran_plat($D12,N8,$C$2,$C$1,$C$4,$C$5,0,0,$C$3),1,1)","v":1424.4275233444005},{"$f":"INDEX(coordonnées_cadran_plat($D12,O8,$C$2,$C$1,$C$4,$C$5,0,0,$C$3),1,1)","v":1366.2908845149398},{"$f":"INDEX(coordonnées_cadran_plat($D12,P8,$C$2,$C$1,$C$4,$C$5,0,0,$C$3),1,1)","v":1321.3962043770123},{"$f":"INDEX(coordonnées_cadran_plat($D12,Q8,$C$2,$C$1,$C$4,$C$5,0,0,$C$3),1,1)","v":1286.8830178092142},{"$f":"INDEX(coordonnées_cadran_plat($D12,R8,$C$2,$C$1,$C$4,$C$5,0,0,$C$3),1,1)","v":1260.8038410406346},{"$f":"INDEX(coordonnées_cadran_plat($D12,S8,$C$2,$C$1,$C$4,$C$5,0,0,$C$3),1,1)","v":1241.8200769389532},{"$f":"INDEX(coordonnées_cadran_plat($D12,T8,$C$2,$C$1,$C$4,$C$5,0,0,$C$3),1,1)","v":1229.0199896852737},{"$f":"INDEX(coordonnées_cadran_plat($D12,U8,$C$2,$C$1,$C$4,$C$5,0,0,$C$3),1,1)","v":1221.8078766666524},{"$f":"INDEX(coordonnées_cadran_plat($D12,V8,$C$2,$C$1,$C$4,$C$5,0,0,$C$3),1,1)","v":1219.8374636591163},{"$f":"INDEX(coordonnées_cadran_plat($D12,W8,$C$2,$C$1,$C$4,$C$5,0,0,$C$3),1,1)","v":1222.9750103835145},{"$f":"INDEX(coordonnées_cadran_plat($D12,X8,$C$2,$C$1,$C$4,$C$5,0,0,$C$3),1,1)","v":1231.2846800655479},{"$f":"INDEX(coordonnées_cadran_plat($D12,Y8,$C$2,$C$1,$C$4,$C$5,0,0,$C$3),1,1)","v":1245.0332845983562},{"$f":"INDEX(coordonnées_cadran_plat($D12,Z8,$C$2,$C$1,$C$4,$C$5,0,0,$C$3),1,1)","v":1264.7151471079394},{"$f":"INDEX(coordonnées_cadran_plat($D12,AA8,$C$2,$C$1,$C$4,$C$5,0,0,$C$3),1,1)","v":1291.1016558348631},{"$f":"INDEX(coordonnées_cadran_plat($D12,AB8,$C$2,$C$1,$C$4,$C$5,0,0,$C$3),1,1)","v":1325.325333114276},{"$f":"INDEX(coordonnées_cadran_plat($D12,AC8,$C$2,$C$1,$C$4,$C$5,0,0,$C$3),1,1)","v":1369.0168043050735},{"$f":"INDEX(coordonnées_cadran_plat($D12,AD8,$C$2,$C$1,$C$4,$C$5,0,0,$C$3),1,1)","v":1424.5285590342805},{"$f":"INDEX(coordonnées_cadran_plat($D12,AE8,$C$2,$C$1,$C$4,$C$5,0,0,$C$3),1,1)","v":1495.3096488956962},{"$f":"INDEX(coordonnées_cadran_plat($D12,AF8,$C$2,$C$1,$C$4,$C$5,0,0,$C$3),1,1)","v":1586.5585974309588},{"$f":"INDEX(coordonnées_cadran_plat($D12,AG8,$C$2,$C$1,$C$4,$C$5,0,0,$C$3),1,1)","v":1706.4235514873944},{"$f":"INDEX(coordonnées_cadran_plat($D12,AH8,$C$2,$C$1,$C$4,$C$5,0,0,$C$3),1,1)","v":1868.3658330634146},{"$f":"INDEX(coordonnées_cadran_plat($D12,AI8,$C$2,$C$1,$C$4,$C$5,0,0,$C$3),1,1)","v":2096.2500588451157},{"$f":"INDEX(coordonnées_cadran_plat($D12,AJ8,$C$2,$C$1,$C$4,$C$5,0,0,$C$3),1,1)","v":2436.6968893935746},{"$f":"INDEX(coordonnées_cadran_plat($D12,AK8,$C$2,$C$1,$C$4,$C$5,0,0,$C$3),1,1)","v":2994.5506722511554},{"$f":"INDEX(coordonnées_cadran_plat($D12,AL8,$C$2,$C$1,$C$4,$C$5,0,0,$C$3),1,1)","v":4064.7802297070907},{"$f":"INDEX(coordonnées_cadran_plat($D12,AM8,$C$2,$C$1,$C$4,$C$5,0,0,$C$3),1,1)","v":6920.1459561940792}]
[null,null,null,null,null,null,{"$f":"INDEX(coordonnées_cadran_plat($D12,G8,$C$2,$C$1,$C$4,$C$5,0,0,$C$3),1,2)","v":-4646.9213016591066},{"$f":"INDEX(coordonnées_cadran_plat($D12,H8,$C$2,$C$1,$C$4,$C$5,0,0,$C$3),1,2)","v":-3206.3316890340502},{"$f":"INDEX(coordonnées_cadran_plat($D12,I8,$C$2,$C$1,$C$4,$C$5,0,0,$C$3),1,2)","v":-2410.9879112982367},{"$f":"INDEX(coordonnées_cadran_plat($D12,J8,$C$2,$C$1,$C$4,$C$5,0,0,$C$3),1,2)","v":-1902.0438884403864},{"$f":"INDEX(coordonnées_cadran_plat($D12,K8,$C$2,$C$1,$C$4,$C$5,0,0,$C$3),1,2)","v":-1544.8648310826904},{"$f":"INDEX(coordonnées_cadran_plat($D12,L8,$C$2,$C$1,$C$4,$C$5,0,0,$C$3),1,2)","v":-1277.5333823734215},{"$f":"INDEX(coordonnées_cadran_plat($D12,M8,$C$2,$C$1,$C$4,$C$5,0,0,$C$3),1,2)","v":-1067.5591920696716},{"$f":"INDEX(coordonnées_cadran_plat($D12,N8,$C$2,$C$1,$C$4,$C$5,0,0,$C$3),1,2)","v":-896.21783530888763},{"$f":"INDEX(coordonnées_cadran_plat($D12,O8,$C$2,$C$1,$C$4,$C$5,0,0,$C$3),1,2)","v":-751.92266267606647},{"$f":"INDEX(coordonnées_cadran_plat($D12,P8,$C$2,$C$1,$C$4,$C$5,0,0,$C$3),1,2)","v":-627.08271412556292},{"$f":"INDEX(coordonnées_cadran_plat($D12,Q8,$C$2,$C$1,$C$4,$C$5,0,0,$C$3),1,2)","v":-516.47817825922618},{"$f":"INDEX(coordonnées_cadran_plat($D12,R8,$C$2,$C$1,$C$4,$C$5,0,0,$C$3),1,2)","v":-416.35986605273331},{"$f":"INDEX(coordonnées_cadran_plat($D12,S8,$C$2,$C$1,$C$4,$C$5,0,0,$C$3),1,2)","v":-323.91972374227612},{"$f":"INDEX(coordonnées_cadran_plat($D12,T8,$C$2,$C$1,$C$4,$C$5,0,0,$C$3),1,2)","v":-236.9623861658923},{"$f":"INDEX(coordonnées_cadran_plat($D12,U8,$C$2,$C$1,$C$4,$C$5,0,0,$C$3),1,2)","v":-153.69016847368394},{"$f":"INDEX(coordonnées_cadran_plat($D12,V8,$C$2,$C$1,$C$4,$C$5,0,0,$C$3),1,2)","v":-72.553426938342639},{"$f":"INDEX(coordonnées_cadran_plat($D12,W8,$C$2,$C$1,$C$4,$C$5,0,0,$C$3),1,2)","v":7.8619514245881614},{"$f":"INDEX(coordonnées_cadran_plat($D12,X8,$C$2,$C$1,$C$4,$C$5,0,0,$C$3),1,2)","v":88.928104264077263},{"$f":"INDEX(coordonnées_cadran_plat($D12,Y8,$C$2,$C$1,$C$4,$C$5,0,0,$C$3),1,2)","v":172.06323126689696},{"$f":"INDEX(coordonnées_cadran_plat($D12,Z8,$C$2,$C$1,$C$4,$C$5,0,0,$C$3),1,2)","v":258.8262489303267},{"$f":"INDEX(coordonnées_cadran_plat($D12,AA8,$C$2,$C$1,$C$4,$C$5,0,0,$C$3),1,2)","v":351.03184245500461},{"$f":"INDEX(coordonnées_cadran_plat($D12,AB8,$C$2,$C$1,$C$4,$C$5,0,0,$C$3),1,2)","v":450.9049257119284},{"$f":"INDEX(coordonnées_cadran_plat($D12,AC8,$C$2,$C$1,$C$4,$C$5,0,0,$C$3),1,2)","v":561.30447906783866},{"$f":"INDEX(coordonnées_cadran_plat($D12,AD8,$C$2,$C$1,$C$4,$C$5,0,0,$C$3),1,2)","v":686.06837295578703},{"$f":"INDEX(coordonnées_cadran_plat($D12,AE8,$C$2,$C$1,$C$4,$C$5,0,0,$C$3),1,2)","v":830.57427496628986},{"$f":"INDEX(coordonnées_cadran_plat($D12,AF8,$C$2,$C$1,$C$4,$C$5,0,0,$C$3),1,2)","v":1002.703419688457},{"$f":"INDEX(coordonnées_cadran_plat($D12,AG8,$C$2,$C$1,$C$4,$C$5,0,0,$C$3),1,2)","v":1214.6005627460806},{"$f":"INDEX(coordonnées_cadran_plat($D12,AH8,$C$2,$C$1,$C$4,$C$5,0,0,$C$3),1,2)","v":1486.1297530197505},{"$f":"INDEX(coordonnées_cadran_plat($D12,AI8,$C$2,$C$1,$C$4,$C$5,0,0,$C$3),1,2)","v":1852.3072525948796},{"$f":"INDEX(coordonnées_cadran_plat($D12,AJ8,$C$2,$C$1,$C$4,$C$5,0,0,$C$3),1,2)","v":2381.3307757558428},{"$f":"INDEX(coordonnées_cadran_plat($D12,AK8,$C$2,$C$1,$C$4,$C$5,0,0,$C$3),1,2)","v":3226.3363572820676},{"$f":"INDEX(coordonnées_cadran_plat($D12,AL8,$C$2,$C$1,$C$4,$C$5,0,0,$C$3),1,2)","v":4817.8665015239185},{"$f":"INDEX(coordonnées_cadran_plat($D12,AM8,$C$2,$C$1,$C$4,$C$5,0,0,$C$3),1,2)","v":9013.2095143285569}]
[]
[null,21,12,{"$f":"DATE($C$6,C15,B15)","v":"2010-12-21"},null,null,{"$f":"INDEX(coordonnées_cadran_plat($D15,$G$8,$C$2,$C$1,$C$4,$C$5,0,0,$C$3),1,1)","v":17.069278558786984},{"$f":"INDEX(coordonnées_cadran_plat($D15,H$8,$C$2,$C$1,$C$4,$C$5,0,0,$C$3),1,1)","v":43.908767704567182},{"$f":"INDEX(coordonnées_cadran_plat($D15,I$8,$C$2,$C$1,$C$4,$C$5,0,0,$C$3),1,1)","v":67.032434461382294},{"$f":"INDEX(coordonnées_cadran_plat($D15,J$8,$C$2,$C$1,$C$4,$C$5,0,0,$C$3),1,1)","v":87.034779355550654},{"$f":"INDEX(coordonnées_cadran_plat($D15,K$8,$C$2,$C$1,$C$4,$C$5,0,0,$C$3),1,1)","v":104.38183831437306},{"$f":"INDEX(coordonnées_cadran_plat($D15,L$8,$C$2,$C$1,$C$4,$C$5,0,0,$C$3),1,1)","v":119.44283988501013},{"$f":"INDEX(coordonnées_cadran_plat($D15,M$8,$C$2,$C$1,$C$4,$C$5,0,0,$C$3),1,1)","v":132.51279038146788},{"$f":"INDEX(coordonnées_cadran_plat($D15,N$8,$C$2,$C$1,$C$4,$C$5,0,0,$C$3),1,1)","v":143.82885303237219},{"$f":"INDEX(coordonnées_cadran_plat($D15,O$8,$C$2,$C$1,$C$4,$C$5,0,0,$C$3),1,1)","v":153.5823918066431},{"$f":"INDEX(coordonnées_cadran_plat($D15,P$8,$C$2,$C$1,$C$4,$C$5,0,0,$C$3),1,1)","v":161.92792666795998},{"$f":"INDEX(coordonnées_cadran_plat($D15,Q$8,$C$2,$C$1,$C$4,$C$5,0,0,$C$3),1,1)","v":168.9898463330392},{"$f":"INDEX(coordonnées_cadran_plat($D15,R$8,$C$2,$C$1,$C$4,$C$5,0,0,$C$3),1,1)","v":174.86746142464639},{"$f":"INDEX(coordonnées_cadran_plat($D15,S$8,$C$2,$C$1,$C$4,$C$5,0,0,$C$3),1,1)","v":179.63880423297965},{"$f":"INDEX(coordonnées_cadran_plat($D15,T$8,$C$2,$C$1,$C$4,$C$5,0,0,$C$3),1,1)","v":183.36346004322141},{"$f":"INDEX(coordonnées_cadran_plat($D15,U$8,$C$2,$C$1,$C$4,$C$5,0,0,$C$3),1,1)","v":186.08462972565221},{"$f":"INDEX(coordonnées_cadran_plat($D15,V$8,$C$2,$C$1,$C$4,$C$5,0,0,$C$3),1,1)","v":187.83056156348772},{"$f":"INDEX(coordonnées_cadran_plat($D15,W$8,$C$2,$C$1,$C$4,$C$5,0,0,$C$3),1,1)","v":188.61544389025227},{"$f":"INDEX(coordonnées_cadran_plat($D15,X$8,$C$2,$C$1,$C$4,$C$5,0,0,$C$3),1,1)","v":188.43981337301352},{"$f":"INDEX(coordonnées_cadran_plat($D15,Y$8,$C$2,$C$1,$C$4,$C$5,0,0,$C$3),1,1)","v":187.29050259792672},{"$f":"INDEX(coordonnées_cadran_plat($D15,Z$8,$C$2,$C$1,$C$4,$C$5,0,0,$C$3),1,1)","v":185.14012172327998},{"$f":"INDEX(coordonnées_cadran_plat($D15,AA$8,$C$2,$C$1,$C$4,$C$5,0,0,$C$3),1,1)","v":181.94603942805995},{"$f":"INDEX(coordonnées_cadran_plat($D15,AB$8,$C$2,$C$1,$C$4,$C$5,0,0,$C$3),1,1)","v":177.6487951587263},{"$f":"INDEX(coordonnées_cadran_plat($D15,AC$8,$C$2,$C$1,$C$4,$C$5,0,0,$C$3),1,1)","v":172.16983414550083},{"$f":"INDEX(coordonnées_cadran_plat($D15,AD$8,$C$2,$C$1,$C$4,$C$5,0,0,$C$3),1,1)","v":165.4084040362923},{"$f":"INDEX(coordonnées_cadran_plat($D15,AE$8,$C$2,$C$1,$C$4,$C$5,0,0,$C$3),1,1)","v":157.23738047465093},{"$f":"INDEX(coordonnées_cadran_plat($D15,AF$8,$C$2,$C$1,$C$4,$C$5,0,0,$C$3),1,1)","v":147.49768836550399},{"$f":"INDEX(coordonnées_cadran_plat($D15,AG$8,$C$2,$C$1,$C$4,$C$5,0,0,$C$3),1,1)","v":135.99084022770109},{"$f":"INDEX(coordonnées_cadran_plat($D15,AH$8,$C$2,$C$1,$C$4,$C$5,0,0,$C$3),1,1)","v":122.46889798866813},{"$f":"INDEX(coordonnées_cadran_plat($D15,AI$8,$C$2,$C$1,$C$4,$C$5,0,0,$C$3),1,1)","v":106.62083920978205},{"$f":"INDEX(coordonnées_cadran_plat($D15,AJ$8,$C$2,$C$1,$C$4,$C$5,0,0,$C$3),1,1)","v":88.053805163139202},{"$f":"INDEX(coordonnées_cadran_plat($D15,AK$8,$C$2,$C$1,$C$4,$C$5,0,0,$C$3),1,1)","v":66.266909926187154},{"$f":"INDEX(coordonnées_cadran_plat($D15,AL$8,$C$2,$C$1,$C$4,$C$5,0,0,$C$3),1,1)","v":40.613990894308138},{"$f":"INDEX(coordonnées_cadran_plat($D15,AM$8,$C$2,$C$1,$C$4,$C$5,0,0,$C$3),1,1)","v":10.249506249278481}]
[null,null,null,null,null,null,{"$f":"INDEX(coordonnées_cadran_plat($D15,$G$8,$C$2,$C$1,$C$4,$C$5,0,0,$C$3),1,2)","v":-659.56690063184715},{"$f":"INDEX(coordonnées_cadran_plat($D15,H$8,$C$2,$C$1,$C$4,$C$5,0,0,$C$3),1,2)","v":-596.98992067355084},{"$f":"INDEX(coordonnées_cadran_plat($D15,I$8,$C$2,$C$1,$C$4,$C$5,0,0,$C$3),1,2)","v":-539.64946329627026},{"$f":"INDEX(coordonnées_cadran_plat($D15,J$8,$C$2,$C$1,$C$4,$C$5,0,0,$C$3),1,2)","v":-486.62448457798621},{"$f":"INDEX(coordonnées_cadran_plat($D15,K$8,$C$2,$C$1,$C$4,$C$5,0,0,$C$3),1,2)","v":-437.17929051447243},{"$f":"INDEX(coordonnées_cadran_plat($D15,L$8,$C$2,$C$1,$C$4,$C$5,0,0,$C$3),1,2)","v":-390.71679855698892},{"$f":"INDEX(coordonnées_cadran_plat($D15,M$8,$C$2,$C$1,$C$4,$C$5,0,0,$C$3),1,2)","v":-346.74498663400703},{"$f":"INDEX(coordonnées_cadran_plat($D15,N$8,$C$2,$C$1,$C$4,$C$5,0,0,$C$3),1,2)","v":-304.85233366674447},{"$f":"INDEX(coordonnées_cadran_plat($D15,O$8,$C$2,$C$1,$C$4,$C$5,0,0,$C$3),1,2)","v":-264.68950594734969},{"$f":"INDEX(coordonnées_cadran_plat($D15,P$8,$C$2,$C$1,$C$4,$C$5,0,0,$C$3),1,2)","v":-225.95545133159359},{"$f":"INDEX(coordonnées_cadran_plat($D15,Q$8,$C$2,$C$1,$C$4,$C$5,0,0,$C$3),1,2)","v":-188.38664414176577},{"$f":"INDEX(coordonnées_cadran_plat($D15,R$8,$C$2,$C$1,$C$4,$C$5,0,0,$C$3),1,2)","v":-151.74860290630883},{"$f":"INDEX(coordonnées_cadran_plat($D15,S$8,$C$2,$C$1,$C$4,$C$5,0,0,$C$3),1,2)","v":-115.82905468509412},{"$f":"INDEX(coordonnées_cadran_plat($D15,T$8,$C$2,$C$1,$C$4,$C$5,0,0,$C$3),1,2)","v":-80.432288691609827},{"$f":"INDEX(coordonnées_cadran_plat($D15,U$8,$C$2,$C$1,$C$4,$C$5,0,0,$C$3),1,2)","v":-45.37435601718002},{"$f":"INDEX(coordonnées_cadran_plat($D15,V$8,$C$2,$C$1,$C$4,$C$5,0,0,$C$3),1,2)","v":-10.478848905179431},{"$f":"INDEX(coordonnées_cadran_plat($D15,W$8,$C$2,$C$1,$C$4,$C$5,0,0,$C$3),1,2)","v":24.426956843755345},{"$f":"INDEX(coordonnées_cadran_plat($D15,X$8,$C$2,$C$1,$C$4,$C$5,0,0,$C$3),1,2)","v":59.515782345128791},{"$f":"INDEX(coordonnées_cadran_plat($D15,Y$8,$C$2,$C$1,$C$4,$C$5,0,0,$C$3),1,2)","v":94.964020349563427},{"$f":"INDEX(coordonnées_cadran_plat($D15,Z$8,$C$2,$C$1,$C$4,$C$5,0,0,$C$3),1,2)","v":130.95557484420246},{"$f":"INDEX(coordonnées_cadran_plat($D15,AA$8,$C$2,$C$1,$C$4,$C$5,0,0,$C$3),1,2)","v":167.68604923883476},{"$f":"INDEX(coordonnées_cadran_plat($D15,AB$8,$C$2,$C$1,$C$4,$C$5,0,0,$C$3),1,2)","v":205.36749531322107},{"$f":"INDEX(coordonnées_cadran_plat($D15,AC$8,$C$2,$C$1,$C$4,$C$5,0,0,$C$3),1,2)","v":244.23398261635069},{"$f":"INDEX(coordonnées_cadran_plat($D15,AD$8,$C$2,$C$1,$C$4,$C$5,0,0,$C$3),1,2)","v":284.54832087712862},{"$f":"INDEX(coordonnées_cadran_plat($D15,AE$8,$C$2,$C$1,$C$4,$C$5,0,0,$C$3),1,2)","v":326.61037642560512},{"$f":"INDEX(coordonnées_cadran_plat($D15,AF$8,$C$2,$C$1,$C$4,$C$5,0,0,$C$3),1,2)","v":370.76758386529832},{"$f":"INDEX(coordonnées_cadran_plat($D15,AG$8,$C$2,$C$1,$C$4,$C$5,0,0,$C$3),1,2)","v":417.42849209920598},{"$f":"INDEX(coordonnées_cadran_plat($D15,AH$8,$C$2,$C$1,$C$4,$C$5,0,0,$C$3),1,2)","v":467.08054086617079},{"$f":"INDEX(coordonnées_cadran_plat($D15,AI$8,$C$2,$C$1,$C$4,$C$5,0,0,$C$3),1,2)","v":520.31380835895379},{"$f":"INDEX(coordonnées_cadran_plat($D15,AJ$8,$C$2,$C$1,$C$4,$C$5,0,0,$C$3),1,2)","v":577.85331651125307},{"$f":"INDEX(coordonnées_cadran_plat($D15,AK$8,$C$2,$C$1,$C$4,$C$5,0,0,$C$3),1,2)","v":640.60382445631933},{"$f":"INDEX(coordonnées_cadran_plat($D15,AL$8,$C$2,$C$1,$C$4,$C$5,0,0,$C$3),1,2)","v":709.7132295564752},{"$f":"INDEX(coordonnées_cadran_plat($D15,AM$8,$C$2,$C$1,$C$4,$C$5,0,0,$C$3),1,2)","v":786.6643627735333}]